{"text_format":"1","workbook":"xlsx","n_sheets":4,"sheets":["DCF (2012)","Strompreise","Gaspreise","Load point"],"not_rendered":{"charts":2,"images":0,"macros":1,"external_links":6,"defined_names":88,"comments":1,"pivot_tables":0},"unopened":[],"bounds":{"document_bytes":16777216,"sheet_cells":100000,"rows_first":2000,"rows_last":500,"rows_between":2000,"halvings":0,"cell_chars":16384,"cell_head_chars":4096},"cells_cut":0,"cells_raw":0,"read":"whole","date_system":"1900"}

{"sheet":"DCF (2012)","index":0,"n_rows":107,"n_cols":70,"rows_kept":107,"cut":false,"hidden":false,"merged":[]}
["DCF-Rechnung",{"$f":"[4]Brst!$B$4","v":"Frankreich"}]
["Jahr",null,null,null,null,null,"2007-12-31","2008-12-31","2009-12-31","2010-12-31","2011-12-31","2012-12-31","2013-12-31","2014-12-31","2015-12-31","2016-12-31","2017-12-31","2018-12-31","2019-12-31","2020-12-31","2021-12-31","2022-12-31","2023-12-31","2024-12-31","2025-12-31","2026-12-31","2027-12-31","2028-12-31","2029-12-31","2030-12-31","2031-12-31","2032-12-31","2033-12-31","2034-12-31","2035-12-31","2036-12-31","2037-12-31","2038-12-31","2039-12-31","2040-12-31","2041-12-31","2042-12-31","2043-12-31","2044-12-31","2045-12-31","2046-12-31","2047-12-31","2048-12-31","2049-12-31","2050-12-31","2051-12-31","2052-12-31","2053-12-31","2054-12-31","2055-12-31","2056-12-31","2057-12-31","2058-12-31","2059-12-31","2060-12-31","2061-12-31","2062-12-31","2063-12-31","2064-12-31","2065-12-31","2066-12-31","2067-12-31","2068-12-31","2069-12-31","2070-12-31"]
["Nominalzins n. St.",6.9000000000000006E-2,null,null,null,null,{"$f":"IF(YEAR(G$2)>=YEAR($B$6),(1+$B3)^-(YEARFRAC($B$6-1,G$2,4)),(1+$B3)^(YEARFRAC($B$6-1,G$2,4)))","v":1.1551118540078855},{"$f":"IF(YEAR(H$2)>=YEAR($B$6),(1+$B3)^-(YEARFRAC($B$6-1,H$2,4)),(1+$B3)^(YEARFRAC($B$6-1,H$2,4)))","v":1.0805536520186021},1.0108079064720319,0.94556399108702704,0.88453132936111045,0.82743810043134758,0.77403002846711655,0.72406925020310253,0.67733325556885182,0.63361389669677448,0.59271646089501817,0.55445880345651843,0.51867053644201921,0.48519226982415264,0.45387490161286492,0.42457895380062205,0.39717395116989906,0.37153784019635083,0.34755644545963599,0.32512296114091299,0.30413747534229468,0.28450652510972374,0.26614268017747778,0.24896415358042825,0.23289443739983937,0.21786196202042973,0.20379977738113167,0.19064525479993605,0.17833980804484198,0.16682863240864546,0.15606046062548687,0.14598733454208315,{"$f":"IF(YEAR(AM$2)>=YEAR($B$6),(1+$B3)^-(YEARFRAC($B$6-1,AM$2,4)),(1+$B3)^(YEARFRAC($B$6-1,AM$2,4)))","v":0.13656439152673822},0.12774966466486271,0.11950389585113441,0.11179036094586946,0.10457470621690311,9.782479533854363E-2,9.1510566266177373E-2,8.5603897349090158E-2,8.0078482085210637E-2,7.4909711959972522E-2,7.007456684749537E-2,6.5551512485963859E-2,6.1320404570592957E-2,5.7362399037037368E-2,5.3659868135675762E-2,5.0196321922989479E-2,4.6956334820383042E-2,4.3925476913361135E-2,4.1090249685089925E-2,3.8438025898119677E-2,3.5956993356519806E-2,3.3636102297960539E-2,3.1465016181441097E-2,2.9434065651488397E-2,2.7534205473796449E-2,2.5756974250511173E-2,2.4094456735744792E-2,2.2539248583484366E-2,2.1084423370892773E-2,1.9723501750133553E-2,1.8450422591331672E-2,1.7259515988149357E-2]
["Inflation ab 2030",2.4E-2,null,null,null,null,1,{"$f":"(1+[5]Sonstiges!H$6)*G4","v":1.02},{"$f":"(1+[5]Sonstiges!I$6)*H4","v":1.04142},{"$f":"(1+[5]Sonstiges!J$6)*I4","v":1.0612069799999999},{"$f":"(1+[5]Sonstiges!K$6)*J4","v":1.08207738394},{"$f":"(1+[5]Sonstiges!L$6)*K4","v":1.1040796240801132},{"$f":"(1+[5]Sonstiges!M$6)*L4","v":1.1272652961857954},{"$f":"(1+[5]Sonstiges!N$6)*M4","v":1.1509378674056969},{"$f":"(1+[5]Sonstiges!O$6)*N4","v":1.1762585004886223},{"$f":"(1+[5]Sonstiges!P$6)*O4","v":1.2009599289988833},{"$f":"(1+[5]Sonstiges!Q$6)*P4","v":1.2261800875078597},{"$f":"(1+[5]Sonstiges!R$6)*Q4","v":1.2522609379691518},{"$f":"(1+[5]Sonstiges!S$6)*R4","v":1.2792346385730071},{"$f":"(1+[5]Sonstiges!T$6)*S4","v":1.3071347460402845},{"$f":"(1+[5]Sonstiges!U$6)*T4","v":1.3359962812328541},{"$f":"(1+[5]Sonstiges!V$6)*U4","v":1.3658557981184085},{"$f":"(1+[5]Sonstiges!W$6)*V4","v":1.396751456271847},{"$f":"(1+[5]Sonstiges!X$6)*W4","v":1.4287230971059097},{"$f":"(1+[5]Sonstiges!Y$6)*X4","v":1.4618123240348826},{"$f":"(1+[5]Sonstiges!Z$6)*Y4","v":1.4960625867870201},{"$f":"(1+[5]Sonstiges!AA$6)*Z4","v":1.5315192700938725},{"$f":"(1+[5]Sonstiges!AB$6)*AA4","v":1.5682297869980226},{"$f":"(1+[5]Sonstiges!AC$6)*AB4","v":1.6058673018859753},{"$f":"(1+[5]Sonstiges!AD$6)*AC4","v":1.6444081171312388},{"$f":"(1+$B$4)*AD4","v":1.6838739119423887},{"$f":"(1+$B$4)*AE4","v":1.7242868858290061},1.7656697710889022,1.8080458455950359,1.8514389458893168,1.8958734805906605,1.9413744441248364,1.9879674307838324,2.0356786491226444,2.084534936701588,2.1345637751824262,2.1857933057868046,2.2382523451256882,2.2919704014087046,2.3469776910425133,2.4033051556275336,2.4609844793625943,2.5200481068672969,2.5805292614321123,2.642461963706483,2.7058810508354387,2.7708221960554895,2.8373219287608213,2.9054176550510813,2.9751476787723075,3.0465512230628429,3.1196684524163514,3.1945404952743437,3.271209467160928,3.3497184943727905,3.4301117382377373,3.5124344199554431,3.5967328460343739,3.6830544343391991,3.7714477407633398,3.86196248654166,3.9546495862186597,4.0495611762879076,4.1467506445188178,4.2462726599872695]
["GuD",null,null,null,null,null,{"$f":"1/G4","v":1},{"$f":"1/H4","v":0.98039215686274506},0.96022738184402068,0.94232324027872494,0.92414832325471552,{"$f":"1/L4","v":0.90573177711994346},0.88710262205675172,0.86885663276861103,0.85015326102603817,0.83266724880121279,0.8155408901089255,0.79855561223665195,0.78171741903073011,0.7650320695929087,0.74850507748210382,0.73214171025784103,0.7159469893585505,0.69992569030741381,0.6840823432380212,0.6684212337316876,0.65294640395788572,0.63766165410889553,0.62271645909071827,0.60812154208077951]
["IBN","2010-03-01"]
["Abschlag für DB nach 15a Betrieb",{"$f":"VLOOKUP($A$5,[4]Sonstiges!$A$16:$B$28,2,FALSE)","v":0.01}]
["Efficiency [%]",null,null,null,{"$f":"56.9%","v":0.56899999999999995},{"$f":"E8","v":0.56899999999999995},0.56899999999999995,0.56899999999999995,0.56899999999999995,0.56899999999999995,0.56899999999999995,0.56899999999999995,0.56899999999999995,0.56899999999999995,0.56899999999999995,0.56899999999999995,0.56899999999999995,0.56899999999999995,0.56899999999999995,0.56899999999999995,0.56899999999999995,0.56899999999999995,0.56899999999999995,0.56899999999999995,0.56899999999999995,0.56899999999999995,0.56899999999999995,0.56899999999999995,0.56899999999999995,0.56899999999999995]
["Availability",0.92100000000000004]
[null,null,null,null,null,null,null,null,null,null,{"$f":"4200*K33","v":4200},{"$f":"4200*L33","v":4200}]
["Anteil CO2 Freizertifikate (%)",null,null,null,null,null,{"$f":"\nIF(ISNUMBER('[5]CO2 frei'!H10),'[5]CO2 frei'!H10,\nIF(G34=0,\"\",G$12*G36/1000000/G$37))","v":1},{"$f":"\nIF(ISNUMBER('[5]CO2 frei'!I10),'[5]CO2 frei'!I10,\nIF(H34=0,\"\",H$12*H36/1000000/H$37))","v":1},{"$f":"\nIF(ISNUMBER('[5]CO2 frei'!J10),'[5]CO2 frei'!J10,\nIF(I34=0,\"\",I$12*I36/1000000/I$37))","v":1},{"$f":"\nIF(ISNUMBER('[5]CO2 frei'!K10),'[5]CO2 frei'!K10,\nIF(J34=0,\"\",J$12*J36/1000000/J$37))","v":1},{"$f":"K10/K35","v":0.7070171451657703},{"$f":"L10/L35","v":0.68688968012038232},{"$f":"\nIF(ISNUMBER('[5]CO2 frei'!N10),'[5]CO2 frei'!N10,\nIF(M34=0,\"\",M$12*M36/1000000/M$37))","v":0.875},{"$f":"\nIF(ISNUMBER('[5]CO2 frei'!O10),'[5]CO2 frei'!O10,\nIF(N34=0,\"\",N$12*N36/1000000/N$37))","v":0.75},{"$f":"\nIF(ISNUMBER('[5]CO2 frei'!P10),'[5]CO2 frei'!P10,\nIF(O34=0,\"\",O$12*O36/1000000/O$37))","v":0.625},{"$f":"\nIF(ISNUMBER('[5]CO2 frei'!Q10),'[5]CO2 frei'!Q10,\nIF(P34=0,\"\",P$12*P36/1000000/P$37))","v":0.5},{"$f":"\nIF(ISNUMBER('[5]CO2 frei'!R10),'[5]CO2 frei'!R10,\nIF(Q34=0,\"\",Q$12*Q36/1000000/Q$37))","v":0.375},{"$f":"\nIF(ISNUMBER('[5]CO2 frei'!S10),'[5]CO2 frei'!S10,\nIF(R34=0,\"\",R$12*R36/1000000/R$37))","v":0.25},{"$f":"\nIF(ISNUMBER('[5]CO2 frei'!T10),'[5]CO2 frei'!T10,\nIF(S34=0,\"\",S$12*S36/1000000/S$37))","v":0.125},{"$f":"\nIF(ISNUMBER('[5]CO2 frei'!U10),'[5]CO2 frei'!U10,\nIF(T34=0,\"\",T$12*T36/1000000/T$37))","v":0},{"$f":"\nIF(ISNUMBER('[5]CO2 frei'!V10),'[5]CO2 frei'!V10,\nIF(U34=0,\"\",U$12*U36/1000000/U$37))","v":0},{"$f":"\nIF(ISNUMBER('[5]CO2 frei'!W10),'[5]CO2 frei'!W10,\nIF(V34=0,\"\",V$12*V36/1000000/V$37))","v":0},{"$f":"\nIF(ISNUMBER('[5]CO2 frei'!X10),'[5]CO2 frei'!X10,\nIF(W34=0,\"\",W$12*W36/1000000/W$37))","v":0},{"$f":"\nIF(ISNUMBER('[5]CO2 frei'!Y10),'[5]CO2 frei'!Y10,\nIF(X34=0,\"\",X$12*X36/1000000/X$37))","v":0},{"$f":"\nIF(ISNUMBER('[5]CO2 frei'!Z10),'[5]CO2 frei'!Z10,\nIF(Y34=0,\"\",Y$12*Y36/1000000/Y$37))","v":0},{"$f":"\nIF(ISNUMBER('[5]CO2 frei'!AA10),'[5]CO2 frei'!AA10,\nIF(Z34=0,\"\",Z$12*Z36/1000000/Z$37))","v":0},{"$f":"\nIF(ISNUMBER('[5]CO2 frei'!AB10),'[5]CO2 frei'!AB10,\nIF(AA34=0,\"\",AA$12*AA36/1000000/AA$37))","v":0},{"$f":"\nIF(ISNUMBER('[5]CO2 frei'!AC10),'[5]CO2 frei'!AC10,\nIF(AB34=0,\"\",AB$12*AB36/1000000/AB$37))","v":0},{"$f":"\nIF(ISNUMBER('[5]CO2 frei'!AD10),'[5]CO2 frei'!AD10,\nIF(AC34=0,\"\",AC$12*AC36/1000000/AC$37))","v":0},{"$f":"\nIF(ISNUMBER('[5]CO2 frei'!AE10),'[5]CO2 frei'!AE10,\nIF(AD34=0,\"\",AD$12*AD36/1000000/AD$37))","v":0}]
["Allokation nach Benchmark für GuD Anlagen [g CO2/KWh el]",null,null,null,null,null,{"$f":"'[5]CO2 frei'!H13","v":{"$error":"#REF!"}},{"$f":"'[5]CO2 frei'!I13","v":{"$error":"#REF!"}},{"$f":"'[5]CO2 frei'!J13","v":{"$error":"#REF!"}},{"$f":"'[5]CO2 frei'!K13","v":{"$error":"#REF!"}},{"$f":"'[5]CO2 frei'!L13","v":{"$error":"#REF!"}},{"$f":"'[5]CO2 frei'!M13","v":{"$error":"#REF!"}},{"$f":"'[5]CO2 frei'!N13","v":{"$error":"#REF!"}},{"$f":"'[5]CO2 frei'!O13","v":{"$error":"#REF!"}},{"$f":"'[5]CO2 frei'!P13","v":{"$error":"#REF!"}},{"$f":"'[5]CO2 frei'!Q13","v":{"$error":"#REF!"}},{"$f":"'[5]CO2 frei'!R13","v":{"$error":"#REF!"}},{"$f":"'[5]CO2 frei'!S13","v":{"$error":"#REF!"}},{"$f":"'[5]CO2 frei'!T13","v":{"$error":"#REF!"}},{"$f":"'[5]CO2 frei'!U13","v":{"$error":"#REF!"}},{"$f":"'[5]CO2 frei'!V13","v":{"$error":"#REF!"}},{"$f":"'[5]CO2 frei'!W13","v":{"$error":"#REF!"}},{"$f":"'[5]CO2 frei'!X13","v":{"$error":"#REF!"}},{"$f":"'[5]CO2 frei'!Y13","v":{"$error":"#REF!"}},{"$f":"'[5]CO2 frei'!Z13","v":{"$error":"#REF!"}},{"$f":"'[5]CO2 frei'!AA13","v":{"$error":"#REF!"}},{"$f":"'[5]CO2 frei'!AB13","v":{"$error":"#REF!"}},{"$f":"'[5]CO2 frei'!AC13","v":{"$error":"#REF!"}},{"$f":"'[5]CO2 frei'!AD13","v":{"$error":"#REF!"}},{"$f":"'[5]CO2 frei'!AE13","v":{"$error":"#REF!"}}]
[]
["Capacity [MW]",{"$f":"413.6*2","v":827.2}]
["Invest costs [€/kW]",{"$f":"$D$100","v":557.6031235685972}]
["Lifetime [years]",25]
["Depreciation [yeras]",25]
["Clean Spark spread [€/MWh]",null,null,null,null,null,null,null,{"$f":"I38-I22*0.375-I20*3.6/I8","v":12.791002057554927},{"$f":"J38-J22*0.375-J20*3.6/J8","v":14.19423907830928},{"$f":"K38-K22*0.375-K20*3.6/K8","v":15.696777730807185},16.911335028812047,18.761083024425943,19.567719754178228,21.833504721305566,22.62007915941436,22.870239126620042,22.598906712429269,23.590262684252977,23.653996573343974,24.668348433495247,24.046887735438133,24.803544404065931,26.486377891064961,26.808465051891893,27.321696288282119,27.258196170451093,27.458789953332413,27.758771308525638,27.273447621665959]
[null,null,null,null,{"$f":"IF($B$20=\"Gas\",\"Prix de gaz moyen pondéré pour les points de charge, dans lesquels la centrale électrique produit :\",\"\")","v":"Prix de gaz moyen pondéré pour les points de charge, dans lesquels la centrale électrique produit :"}]
["Fuel Costs [€/GJ]",{"$f":"VLOOKUP($A$5,'[4]LTMP-GENKWDaten'!$E$5:$F$134,2,0)","v":"Gas"},1,null,null,null,null,null,{"$f":"Gaspreis_Durchschnitt(SUM(I26,I28)+(SUM(I23:I24)+I21)*3.6/I8,I$8*(1-$B$27),$B$20)","v":5.2542149267568856},{"$f":"Gaspreis_Durchschnitt(SUM(J26,J28)+(SUM(J23:J24)+J21)*3.6/J8,J$8*(1-$B$27),$B$20)","v":6.2204442458739395},6.6789014095158832,6.6007431533142018,6.5382753365703516,6.4187836326251988,6.2742426261011772,6.2013902165893029,6.2137408521258379,6.2372576191239233,6.1404937581628127,6.0562245027092256,5.9299534120412218,6.0884668119243894,6.2391906802666215,6.7374732913104927,7.1910861087679407,7.6169099697747873,7.7451668425064977,7.9101824529700551,8.103791202236172,8.2418594219945369]
["Transport costs [€/GJ]"]
["Certificate pricess [€/tCO2]",null,null,null,null,null,null,null,12.5,14.375,16.25,18.125,20,20,20,20,20,20,20,20,24,28,32,36,40,40,40,40,40,40]
["CO2 Belastung [€/GJ]",{"$f":"IF($B$20=\"Gas\",0.2,\nIF($B$20=\"Kohle\",0.3384,\nIF($B$20=\"CCS Kohle\",0.04,0.4)))","v":0.2},null,null,null,null,null,null,{"$f":"I22*$B$23/3.6","v":0.69444444444444442},0.79861111111111105,0.90277777777777779,1.0069444444444444,1.1111111111111112,1.1111111111111112,1.1111111111111112,1.1111111111111112,1.1111111111111112,1.1111111111111112,1.1111111111111112,1.1111111111111112,1.3333333333333335,1.5555555555555556,1.7777777777777779,2,2.2222222222222223,2.2222222222222223,2.2222222222222223,2.2222222222222223,2.2222222222222223,2.2222222222222223]
["Taxes [€/GJ]",null,null,null,null,null,null,null,{"$f":"IF($B$20=\"Gas\",[5]Brst!J$53,IF($B$20=\"Kohle\",[5]Brst!J$29,0))","v":0},{"$f":"IF($B$20=\"Gas\",[5]Brst!K$53,IF($B$20=\"Kohle\",[5]Brst!K$29,0))","v":0},{"$f":"IF($B$20=\"Gas\",[5]Brst!L$53,IF($B$20=\"Kohle\",[5]Brst!L$29,0))","v":0},{"$f":"IF($B$20=\"Gas\",[5]Brst!M$53,IF($B$20=\"Kohle\",[5]Brst!M$29,0))","v":0},{"$f":"IF($B$20=\"Gas\",[5]Brst!N$53,IF($B$20=\"Kohle\",[5]Brst!N$29,0))","v":0},{"$f":"IF($B$20=\"Gas\",[5]Brst!O$53,IF($B$20=\"Kohle\",[5]Brst!O$29,0))","v":0},{"$f":"IF($B$20=\"Gas\",[5]Brst!P$53,IF($B$20=\"Kohle\",[5]Brst!P$29,0))","v":0},{"$f":"IF($B$20=\"Gas\",[5]Brst!Q$53,IF($B$20=\"Kohle\",[5]Brst!Q$29,0))","v":0},{"$f":"IF($B$20=\"Gas\",[5]Brst!R$53,IF($B$20=\"Kohle\",[5]Brst!R$29,0))","v":0},{"$f":"IF($B$20=\"Gas\",[5]Brst!S$53,IF($B$20=\"Kohle\",[5]Brst!S$29,0))","v":0},{"$f":"IF($B$20=\"Gas\",[5]Brst!T$53,IF($B$20=\"Kohle\",[5]Brst!T$29,0))","v":0},{"$f":"IF($B$20=\"Gas\",[5]Brst!U$53,IF($B$20=\"Kohle\",[5]Brst!U$29,0))","v":0},{"$f":"IF($B$20=\"Gas\",[5]Brst!V$53,IF($B$20=\"Kohle\",[5]Brst!V$29,0))","v":0},{"$f":"IF($B$20=\"Gas\",[5]Brst!W$53,IF($B$20=\"Kohle\",[5]Brst!W$29,0))","v":0},{"$f":"IF($B$20=\"Gas\",[5]Brst!X$53,IF($B$20=\"Kohle\",[5]Brst!X$29,0))","v":0},{"$f":"IF($B$20=\"Gas\",[5]Brst!Y$53,IF($B$20=\"Kohle\",[5]Brst!Y$29,0))","v":0},{"$f":"IF($B$20=\"Gas\",[5]Brst!Z$53,IF($B$20=\"Kohle\",[5]Brst!Z$29,0))","v":0},{"$f":"IF($B$20=\"Gas\",[5]Brst!AA$53,IF($B$20=\"Kohle\",[5]Brst!AA$29,0))","v":0},{"$f":"IF($B$20=\"Gas\",[5]Brst!AB$53,IF($B$20=\"Kohle\",[5]Brst!AB$29,0))","v":0},{"$f":"IF($B$20=\"Gas\",[5]Brst!AC$53,IF($B$20=\"Kohle\",[5]Brst!AC$29,0))","v":0},{"$f":"IF($B$20=\"Gas\",[5]Brst!AD$53,IF($B$20=\"Kohle\",[5]Brst!AD$29,0))","v":0},{"$f":"IF($B$20=\"Gas\",[5]Brst!AE$53,IF($B$20=\"Kohle\",[5]Brst!AE$29,0))","v":0}]
["Fuel Price [€/MWh Hu]",null,null,null,null,null,null,null,{"$f":"SUM(I20:I21,I23:I24)*3600/1000","v":21.415173736324789},25.26859928514618,27.294045074257177,27.387675351931129,27.537791211653268,27.107621077450716,26.587273453964237,26.325004779721489,26.369467067653016,26.454127428846121,26.105777529386128,25.80240820975321,26.1478322833484,27.518480522927803,28.861086448959835,31.454903848717773,33.887909991564584,35.420875891189233,35.882600633023394,36.4766568306922,37.17364832805022,37.67069391918033]
["Variable O&M (€/MWh)",{"$f":"([6]LTM_Hornaing!$B$26)/$H$4","v":3.3870653633193175},null,null,null,null,null,null,{"$f":"$B26*I$4","v":3.5273576106680036},3.5943774052706954,3.6650668275743525,3.739589853068364,3.8181212399827991,3.8983017860224374,3.9840644253149313,4.0677297782465445,4.1531521035897212,4.2414896488330749,4.3328513358689378,4.4273508235042396,4.5251067296872138,4.6262428650957235,4.7308884787041894,4.8391785159817289,4.9512538904118655,5.0672617690642161,5.1873558729910378,5.3116967932666332,5.4391775163050333,5.5697177766963542]
["Variable Starts/Stops",0.05,{"$f":"SUMPRODUCT(H27:AD27,H5:AD5)/26","v":1.370786075477489},null,null,null,null,null,{"$f":"$B$27*I20*3.6/I8","v":1.6621418045979606},{"$f":"$B$27*J20*3.6/J8","v":1.9678031006279602},2.1128334863143396,2.0881085546512419,2.0683472066479145,2.0305466676142987,1.9848219203835009,1.9617754639474074,1.9656825191259246,1.9731219181762853,1.9425112064486931,1.9158530940029188,1.8759079335104043,1.9260527700288055,1.9737334313672974,2.1313623768644794,2.2748602804538303,2.4095673015104779,2.4501406531655001,2.5023424280045874,2.5635894840114433,2.607266600982455]
["Einsatzmarge [€/MWh]",null,null,null,null,null,null,null,{"$f":"[5]Sonstiges!I$9","v":0},{"$f":"[5]Sonstiges!J$9","v":0},{"$f":"[5]Sonstiges!K$9","v":0},{"$f":"[5]Sonstiges!L$9","v":0.5},{"$f":"[5]Sonstiges!M$9","v":1},{"$f":"[5]Sonstiges!N$9","v":1.5},{"$f":"[5]Sonstiges!O$9","v":3},{"$f":"[5]Sonstiges!P$9","v":4},{"$f":"[5]Sonstiges!Q$9","v":5},{"$f":"[5]Sonstiges!R$9","v":6},{"$f":"[5]Sonstiges!S$9","v":7},{"$f":"[5]Sonstiges!T$9","v":7.1},{"$f":"[5]Sonstiges!U$9","v":7.2},{"$f":"[5]Sonstiges!V$9","v":7.3},{"$f":"[5]Sonstiges!W$9","v":7.4},{"$f":"[5]Sonstiges!X$9","v":7.5},{"$f":"[5]Sonstiges!Y$9","v":7.6},{"$f":"[5]Sonstiges!Z$9","v":7.7},{"$f":"[5]Sonstiges!AA$9","v":7.8},{"$f":"[5]Sonstiges!AB$9","v":7.9},{"$f":"[5]Sonstiges!AC$9","v":8},{"$f":"[5]Sonstiges!AD$9","v":8.1}]
["EP ohne Brst [€/MWh]",null,null,null,null,null,null,null,{"$f":"SUM(I26:I28)+(SUM(I23:I24)+I21)*3.6/I8","v":9.5831725259865266},10.614904583227304,11.489675357825423,12.698524418264421,13.916345423783614,14.458725430789636,15.998763322851334,17.059382219346851,18.148711599868548,19.244488544162259,20.305239519470533,20.473080894660058,22.0368670357811,23.69412340313859,25.35242507351613,27.12431945172143,28.885868125171498,29.236583024880495,29.497250480462338,29.773793175577023,30.062520954622276,30.336738331984609]
["EP [€/MWh]",null,null,null,null,null,null,null,{"$f":"I29+I20*3.6/I8","v":42.826008617945739},49.970966595786507,53.746345084112207,54.460695511289252,55.283289556741906,55.069658783075603,55.695201730521354,56.294891498294994,57.46236198238703,58.706926907687965,59.155463648444396,58.790142774718433,59.555025705989188,62.215178803714693,64.827093700862065,69.751566989011025,74.383073734248114,77.427929055090047,78.500063543772342,79.820641735668772,81.334310634851136,82.482070351633709]
[]
[]
["Part Year [%]",null,null,null,null,null,null,null,{"$f":"IF(YEAR(I$2)=YEAR($B$6),YEARFRAC($B6-1,I$2,4),\n  IF(YEAR(I$2)=YEAR($B$6)+$B$16,\n                                                                 100%-(YEARFRAC($B6-1,I$2,4)-$B$16),100%))","v":1},0.83888888888888891,1,{"$f":"IF(YEAR(L$2)=YEAR($B$6),YEARFRAC($B6-1,L$2,4),\n  IF(YEAR(L$2)=YEAR($B$6)+$B$16,\n                                                                 100%-(YEARFRAC($B6-1,L$2,4)-$B$16),100%))","v":1},1,1,1,1,1,1,1,1,1,1,1,1,1,1,1,1,1,1,1,1,1,1,0.16111111111111143,1,1,1,1,1,1,1,1,1,{"$f":"IF(YEAR(AS$2)=YEAR($B$6),YEARFRAC($B6-1,AS$2,4),\n  IF(YEAR(AS$2)=YEAR($B$6)+$B$16,\n                                                                 100%-(YEARFRAC($B6-1,AS$2,4)-$B$16),100%))","v":1},1,1,1,1,1,1,1,1,1,1,1,1,1,1,1,1,1,1,1,1,1]
["Capacity [MW]",0.96,null,null,null,null,null,null,{"$f":"IF(OR(I$2<$B$6,YEAR(I$2)>YEAR($B$6)+$B$16),0,$B$14)*$B$34","v":0},794.11199999999997,794.11199999999997,{"$f":"IF(OR(L$2<$B$6,YEAR(L$2)>YEAR($B$6)+$B$16),0,$B$14)*$B$34","v":794.11199999999997},794.11199999999997,{"$f":"IF(OR(N$2<$B$6,YEAR(N$2)>YEAR($B$6)+$B$16),0,$B$14)*$B$34","v":794.11199999999997},794.11199999999997,794.11199999999997,794.11199999999997,794.11199999999997,794.11199999999997,794.11199999999997,794.11199999999997,794.11199999999997,794.11199999999997,794.11199999999997,794.11199999999997,794.11199999999997,794.11199999999997,794.11199999999997,794.11199999999997,794.11199999999997,794.11199999999997,794.11199999999997,794.11199999999997,794.11199999999997,794.11199999999997,0,0,0,0,{"$f":"IF(OR(AN$2<$B$6,YEAR(AN$2)>YEAR($B$6)+$B$16),0,$B$14)*$B$34","v":0},0,0,0,0,0,0,0,0,0,0,0,0,0,0,0,0,0,0,0,0,0,0,0,0,0,0,0,0,0,0]
["Full load hours [h/a]",null,null,null,null,null,null,null,{"$f":"$B$9*vbh(I$29,I$8,$B$20)*I$33","v":5567.4450000000006},4670.4677500000007,5940.45,6114.5190000000002,5887.9530000000004,{"$f":"$B$9*vbh(N$29,N$8,$B$20)*N$33","v":6031.6289999999999},5722.1730000000007,5805.0630000000001,5548.1040000000003,5257.9890000000005,5257.9890000000005,5548.1040000000003,5465.2139999999999,5722.1730000000007,5257.9890000000005,5257.9890000000005,5133.6540000000005,4926.4290000000001,4926.4290000000001,4752.3600000000006,4752.3600000000006,4669.47]
["Production [GWh/a]",null,null,null,null,null,null,null,{"$f":"I35*I34/1000","v":0},3708.8744858880004,4717.3826303999995,{"$f":"L35*L34/1000","v":4855.6129121279992},4675.694132736,4789.7889684479997,4544.0462453760001,4609.8701890559996,4405.8159636479995,4175.4321607680004,4175.4321607680004,4405.8159636479995,4339.9920199679991,4544.0462453760001,4175.4321607680004,4175.4321607680004,4076.6962452480002,3912.1363860479996,3912.1363860479996,3773.9061043200004,3773.9061043200004,3708.08216064]
["Actual CO2 Emissionen [Mio t CO2]",null,null,null,null,null,null,null,{"$f":"IF(I34=0,\"\",$B$23/I8*$B$14*I35/1000000)","v":""},1.3579651749736386,1.7272197680140602,1.7778313240070303,1.7119559654130059,1.7537305830579968,1.6637544835149389,1.6878552244639722,1.6131429275219686,1.5287903342003519,1.5287903342003519,1.6131429275219686,1.5890421865729354,1.6637544835149389,1.5287903342003519,1.5287903342003519,1.4926392227768017,1.4323873704042183,1.4323873704042183,1.3817758144112484,1.3817758144112484,1.3576750734622147]
["Marktpreis [€/MWh]",1.5,1,null,null,null,null,null,{"$f":"Strompreis_Durchschnitt(I$29,I$8,$B$20)","v":50.721338149514139},{"$f":"Strompreis_Durchschnitt(J$29,J$8,$B$20)","v":58.94092609086848},{"$f":"Strompreis_Durchschnitt(K$29,K$8,$B$20)","v":64.047197457093972},{"$f":"Strompreis_Durchschnitt(L$29,L$8,$B$20)","v":65.47038112183688},{"$f":"Strompreis_Durchschnitt(M$29,M$8,$B$20)+($B$38+$C$38)/3","v":67.628027157384238},{"$f":"Strompreis_Durchschnitt(N$29,N$8,$B$20)+($B$38+$C$38)/3*2","v":67.678653106464196},{"$f":"Strompreis_Durchschnitt(O$29,O$8,$B$20)+$B$38+$C$38","v":69.029943128975589},69.355588438362503,{"$f":"Strompreis_Durchschnitt(Q$29,Q$8,$B$20)+$B$38+$C$38","v":69.683889509138524},69.561345075954975,69.94048681322684,{"$f":"Strompreis_Durchschnitt(T$29,T$8,$B$20)+$B$38+$C$38","v":69.47105845340235},{"$f":"Strompreis_Durchschnitt(U$29,U$8,$B$20)+$B$38+$C$38-$C$38/10","v":71.186507103703335},{"$f":"Strompreis_Durchschnitt(V$29,V$8,$B$20)+$B$38+$C$38-$C$38/10*2","v":73.067943136014236},{"$f":"Strompreis_Durchschnitt(W$29,W$8,$B$20)+$B$38+$C$38-$C$38/10*3","v":76.278213031411866},{"$f":"Strompreis_Durchschnitt(X$29,X$8,$B$20)+$B$38+$C$38-$C$38/10*4","v":82.613625428354553},{"$f":"Strompreis_Durchschnitt(Y$29,Y$8,$B$20)+$B$38+$C$38-$C$38/10*5","v":87.305670660968502},{"$f":"Strompreis_Durchschnitt(Z$29,Z$8,$B$20)+$B$38+$C$38-$C$38/10*6","v":90.513042318491671},{"$f":"Strompreis_Durchschnitt(AA$29,AA$8,$B$20)+$B$38+$C$38-$C$38/10*7","v":91.261009233761101},{"$f":"Strompreis_Durchschnitt(AB$29,AB$8,$B$20)+$B$38+$C$38-$C$38/10*8","v":92.505638513424159},{"$f":"Strompreis_Durchschnitt(AC$29,AC$8,$B$20)+$B$38+$C$38-$C$38/10*9","v":94.030560988754502},{"$f":"Strompreis_Durchschnitt(AD$29,AD$8,$B$20)+$B$38+$C$38-$C$38/10*10","v":94.418779641315055}]
["Income from Electricity [Mio €]",null,null,null,null,null,null,null,{"$f":"I36*I38/1000","v":0},218.60449695303248,302.13513680989411,{"$f":"L36*L38/1000","v":317.89882793713235},316.20796978829236,324.16646604876115,313.67525389374038,319.72025958644423,307.01439280844585,290.44867737642323,292.03175797971755,306.07669834552337,308.94887275946775,332.0241126645526,318.49450385726988,344.94758853119271,355.91869977242879,354.09936626607367,357.02551485085928,349.10759386983079,354.86250810809469,350.11259241735956]
[]
["spec. var. expenditure [€/MWh]",null,null,null,null,null,null,null,{"$f":"I30","v":42.826008617945739},49.970966595786507,53.746345084112207,54.460695511289252,55.283289556741906,55.069658783075603,55.695201730521354,56.294891498294994,57.46236198238703,58.706926907687965,59.155463648444396,58.790142774718433,59.555025705989188,62.215178803714693,64.827093700862065,69.751566989011025,74.383073734248114,77.427929055090047,78.500063543772342,79.820641735668772,81.334310634851136,82.482070351633709]
["variable expenditure [Mio €]",null,null,null,null,null,null,null,{"$f":"I41*I36/1000","v":0},{"$f":"J41*J36/1000","v":185.33604304227413},253.54207474727534,{"$f":"L41*L36/1000","v":264.44005632808745},258.48775261880354,263.772044135371,253.08157230903447,259.51214211413213,253.1685917309207,245.12679067021662,246.99962540285708,259.01854954199956,258.46833631298216,282.70864964841627,270.68113192770011,291.24293606988022,303.23719740241444,302.90861855276086,307.10295489667186,301.23560709698017,306.94805139552381,305.85029364354642]
["Credit Einsatzmarge [Mio €]",null,null,null,null,null,null,null,{"$f":"I$28*I$35*I34/1000000","v":0},0,0,{"$f":"L$28*L$35*L34/1000000","v":2.4278064560639998},4.675694132736,7.1846834526719991,13.632138736127999,18.439480756224,22.02907981824,25.052592964607999,29.228025125376,31.281293341900795,31.2479425437696,33.171537591244807,30.898197989683208,31.315741205760002,30.982891463884801,30.123450172569601,30.514663811174401,29.813858224128005,30.191248834560003,30.035465501184003]
["SDL=Service Systemes + Ajustement [Mio. €]",{"$f":"[6]LTM_Hornaing!B43/$H$4+0.7/250*846","v":5.0405665649949949},null,null,null,null,null,null,{"$f":"IF(I34=0,0,$B$44*I$4)","v":0},5.3490844219273121,5.4542830822252162,5.5651868382304617,5.6820557618333005,5.8013789328317991,5.9290092693540988,6.0535184640105344,6.1806423517547548,6.3121046145765778,6.4480673479745567,6.5886996968338813,6.7341781861399745,6.8846870686002033,7.0404186900919408,7.2015738739081456,7.3683623248278582,7.5410030540985762,7.7197248264807126,7.904766630571455,8.0944810297051717,8.2887485744180953]
["CO2 free certificates [Mio €]",null,null,null,null,null,null,null,{"$f":"IF(I34=0,0,I$11*I$37*I$22)","v":0},19.520749390246053,19.844077328646755,22.133778558875225,29.9592293947276,26.305958745869951,20.796931043936734,16.878552244639721,12.098571956414766,7.6439516710017594,3.8219758355008797,0,0,0,0,0,0,0,0,0,0,0]
["Gross margin [Mio €]",null,null,null,null,null,null,null,{"$f":"I39-I42+SUM(I43:I45)","v":0},58.138287722931722,73.891422473490735,83.585543462214588,98.037196458785729,99.686443044763905,100.95176063412474,101.57966893718636,94.154095203934673,84.33053595639295,84.530200885711906,84.928141842258484,88.462657176395169,89.371687675981349,85.75198860934492,92.221967540980643,91.032756158727011,88.855200939980989,88.156948591842536,85.590611627550075,86.20018657683606,{"$f":"AD39-AD42+SUM(AD43:AD45)","v":82.586512849415243},{"$f":"IF(AE$34>0,(AD46*(IF(YEAR(AE$2)>=YEAR($B$6)+15,(1+2.25%)/(1+$B$7),1+2.25%))))*IF((YEAR(AE2)-YEAR($B$6))>=$B$16+1,0,1)*AE$33","v":83.608623156957506},84.643383344543608,85.690949970094891,86.751481529130714,14.149605643798425,0,0,0,0,0,0,0,0,0,0,0,0,0,0,0,0,0,0,0,0,0,0,0,0,0,0,0,0,0,0,0,0,0,0,0]
["Fixed costs [Mio €]",15.18,null,null,null,null,null,null,{"$f":"IF(I34>0,$B$47*$B$14/1000*I$4*I33,0)","v":0},11.178585100180255,13.58753317408665,13.863813015293077,14.15495308861423,14.452207103475127,14.77015565975158,15.080328928606361,15.397015836107093,15.724510362941091,16.06321631615884,16.413555064014265,16.775966359827702,17.15090920796985,17.538862774254131,17.94032734315681,18.35582532442432,18.785902311775587,19.231128196564665,19.692098339436324,20.164708699582796,20.648661708372785,21.144229589373733,21.651691099518704,22.171331685907152,22.703443646368925,3.7455636806809607,0,0,0,0,{"$f":"IF(AN34>0,$B$47*$B$14/1000*AN$4*AN33,0)","v":0},0,0,0,0,0,0,0,0,0,0,0,0,0,0,0,0,0,0,0,0,0,0,0,0,0,0,0,0,0,0]
["Fixed gas costs [Mio. €]",{"$f":"2.3-2.0525","v":0.24749999999999961},null,{"$f":"1700/423*E8","v":2.2867612293144206},{"$f":"1525.875/423*E8","v":2.0525363475177301},null,null,null,{"$f":"IF(AND(I34>0,$A$5=\"GuD\"),$B$48/I$8*$B$14/1000,0)*I$33*I$4","v":0},0.32031553546019637,0.38934247270440026,0.39725910298272304,0.40560154414536015,0.41411917657241265,0.42322979845700576,0.43211762422460281,0.44119209433331946,0.45057625017978914,0.46028166260866171,0.47032040567015665,0.48070508022735375,0.49144883877043516,0.50256541150342249,0.51406913377273578,0.52597497491091239,0.53829856857307512,0.55105624464825698,0.56426506283247579,0.57780742434045518,0.59167480252462612,{"$f":"IF(AE34>0,$AD48*AE$4/$AD$4,0)*AE33","v":0.60587499778521725},0.62041599773206246,0.63530598167763186,0.65055332523789511,0.10732684192369206,0,0,0,0,0,0,0,0,0,0,0,0,0,0,0,0,0,0,0,0,0,0,0,0,0,0,0,0,0,0,0,0,0,0,0]
["Cash Flow before tax [Mio €] w/o invest",null,null,null,null,null,null,null,{"$f":"I46-I47-I48","v":0},46.639387087291269,59.914546826699684,69.324471343938782,83.476641826026139,84.82011676471636,85.758375175916157,86.067222384355389,78.315887273494269,68.155449343272068,68.006702906944398,68.044266372574072,71.205985736340111,71.729329629241064,67.710560423587367,73.767571064051097,72.150955859391786,69.531000059632333,68.374764150629616,65.334248225281272,65.457670452912822,61.346176338517829,61.858518569798555,62.371276247292847,62.884312302510111,63.397484557523896,10.296715121193772,0,0,0,0,{"$f":"AN46-AN47-AN48","v":0},0,0,0,0,0,0,0,0,0,0,0,0,0,0,0,0,0,0,0,0,0,0,0,0,0,0,0,0,0,0]
[]
["Invest [Mio €]",null,null,null,null,{"$f":"F92","v":6.4567764192893202},92.031799103109748,213.1359894270401,160.17443245445526,0,0,0,0,0,0,0,0,0,0,0,0,0,0,0,0,0,0,0,0,0,0,0,0,0,0,0,0,0,{"$f":"AM92","v":0},0,0,0,0,0,0,0,0,0,0,0,0,0,0,0,0,0,0,0,0,0,0,0,0,0,0,0,0,0,0,0]
["Sunk Kosten [Mio €]"]
["Grid Connection [Mio €]",null,null,null,null,null,{"$f":"IF($B$6=G$2,$B53*G$4,0)","v":0},0,0,0,0,0,0,0,0,0,0,0,0,0,0,0,0,0,0,0,0,0,0,0,0,0,0,0,0,0,0,0,{"$f":"IF($B$6=AM$2,$B53*AM$4,0)","v":0},0,0,0,0,0,0,0,0,0,0,0,0,0,0,0,0,0,0,0,0,0,0,0,0,0,0,0,0,0,0,0]
["Demolition [Mio €]",{"$f":"IF($A$5=\"GuD\",0.8%,1%)*$B$15*$B$14/1000","v":3.6899944305275492},null,null,null,null,{"$f":"IF(YEAR($B$6)+$B$16+1=YEAR(G$2),$B54*G$4,0)","v":0},0,0,0,0,0,0,0,0,0,0,0,0,0,0,0,0,0,0,0,0,0,0,0,0,0,0,0,0,6.9957625843644173,0,0,0,0,0,0,0,0,0,0,0,0,0,0,0,0,0,0,0,0,0,0,0,0,0,0,0,0,0,0,0,0,0,0]
["Cash Flow before tax [Mio €] with invest",null,null,null,null,null,{"$f":"G49-SUM(G51:G54)","v":-92.031799103109748},{"$f":"H49-SUM(H51:H54)","v":-213.1359894270401},-160.17443245445526,46.639387087291269,59.914546826699684,69.324471343938782,83.476641826026139,84.82011676471636,85.758375175916157,86.067222384355389,78.315887273494269,68.155449343272068,68.006702906944398,68.044266372574072,71.205985736340111,71.729329629241064,67.710560423587367,73.767571064051097,72.150955859391786,69.531000059632333,68.374764150629616,65.334248225281272,65.457670452912822,61.346176338517829,61.858518569798555,62.371276247292847,62.884312302510111,63.397484557523896,10.296715121193772,-6.9957625843644173,0,0,{"$f":"AM49-SUM(AM51:AM54)","v":0},0,0,0,0,0,0,0,0,0,0,0,0,0,0,0,0,0,0,0,0,0,0,0,0,0,0,0,0,0,0,0]
[]
[{"$f":"B20","v":"Gas"},null,null,null,null,null,{"$f":"IF(AND((G$2)>=($B$6),YEAR(G$2)<YEAR($B$6)+$B$17),SUM($C$51:$AJ$51)/$B$17,0)*IF(AND((H$2)>=($B$6),YEAR(H$2)=YEAR($B$6)+$B$17),G$33-75%,G33)","v":0},0,0,15.83147746844179,18.871959896155776,18.871959896155776,18.871959896155776,18.871959896155776,18.871959896155776,18.871959896155776,18.871959896155776,18.871959896155776,18.871959896155776,18.871959896155776,18.871959896155776,18.871959896155776,18.871959896155776,18.871959896155776,18.871959896155776,18.871959896155776,18.871959896155776,18.871959896155776,18.871959896155776,18.871959896155776,18.871959896155776,18.871959896155776,18.871959896155776,4.7179899740389439,0,0,0,0,{"$f":"IF(AND((AM$2)>=($B$6),YEAR(AM$2)<YEAR($B$6)+$B$17),SUM($C$51:$AJ$51)/$B$17,0)*IF(AND((AN$2)>=($B$6),YEAR(AN$2)=YEAR($B$6)+$B$17),AM$33-75%,AM33)","v":0},0,0,0,0,0,0,0,0,0,0,0,0,0,0,0,0,0,0,0,0,0,0,0,0,0,0,0,0,0,0,0]
[]
["EBIT  [Mio €]",null,null,null,null,null,{"$f":"G49-G57","v":0},0,0,30.807909618849479,41.042586930543905,50.45251144778301,64.604681929870367,65.948156868560588,66.886415279760385,67.195262488199617,59.443927377338497,49.283489447116295,49.134743010788625,49.172306476418299,52.334025840184339,52.857369733085292,48.838600527431595,54.895611167895325,53.278995963236014,50.659040163476561,49.502804254473844,46.462288329125499,46.58571055675705,42.474216442362049,42.986558673642776,43.499316351137068,44.012352406354339,58.679494583484953,10.296715121193772,0,0,0,{"$f":"AM49-AM57","v":0},0,0,0,0,0,0,0,0,0,0,0,0,0,0,0,0,0,0,0,0,0,0,0,0,0,0,0,0,0,0,0]
["Carryover [Mio €]",null,null,null,null,null,{"$f":"IF(AND(G59>0,F60>0),0,IF(AND(G59<=0,F60<=0),G59+F60,IF(AND(G59>0,F60<0,G59+F60<0),G59+F60,0)))","v":0},0,{"$f":"IF(AND(I59>0,H60>0),0,IF(AND(I59<=0,H60<=0),I59+H60,IF(AND(I59>0,H60<0,I59+H60<0),I59+H60,0)))","v":0},{"$f":"IF(AND(J59>0,I60>0),0,IF(AND(J59<=0,I60<=0),J59+I60,IF(AND(J59>0,I60<0,J59+I60<0),J59+I60,0)))","v":0},0,0,0,0,0,0,0,0,0,0,0,0,0,0,0,0,0,0,0,0,0,0,0,0,0,0,0,0,{"$f":"IF(AND(AM59>0,AL60>0),0,IF(AND(AM59<=0,AL60<=0),AM59+AL60,IF(AND(AM59>0,AL60<0,AM59+AL60<0),AM59+AL60,0)))","v":0},0,0,0,0,0,0,0,0,0,0,0,0,0,0,0,0,0,0,0,0,0,0,0,0,0,0,0,0,0,0,0]
["EBIT for taxes with loss carryover [Mio €]",null,null,null,null,null,{"$f":"IF(G59<0,0,IF(AND(G59>=0,F60>=0),G59,IF(G59+F60<0,0,G59+F60)))","v":0},0,0,30.807909618849479,41.042586930543905,50.45251144778301,64.604681929870367,65.948156868560588,66.886415279760385,67.195262488199617,59.443927377338497,49.283489447116295,49.134743010788625,49.172306476418299,52.334025840184339,52.857369733085292,48.838600527431595,54.895611167895325,53.278995963236014,50.659040163476561,49.502804254473844,46.462288329125499,46.58571055675705,42.474216442362049,42.986558673642776,43.499316351137068,44.012352406354339,58.679494583484953,10.296715121193772,0,0,0,{"$f":"IF(AM59<0,0,IF(AND(AM59>=0,AL60>=0),AM59,IF(AM59+AL60<0,0,AM59+AL60)))","v":0},0,0,0,0,0,0,0,0,0,0,0,0,0,0,0,0,0,0,0,0,0,0,0,0,0,0,0,0,0,0,0]
["Carryover ja=1 (für IPP); nein=0 (für Portfolio KW)",0]
["Taxes",0.34399999999999997,null,null,null,null,{"$f":"IF($B$62=0,G59,G61)*$B$63","v":0},0,0,10.59792090888422,14.118649904107102,17.355663938037353,22.224010583875405,22.686165962784841,23.008926856237572,23.115170295940665,20.448711017804442,16.953520369808004,16.902351595711284,16.915273427887893,18.002904889023412,18.182935188181339,16.800478581436469,18.884090241755992,18.327974611353188,17.426709816235935,17.028964663539,15.98302718521917,16.025484431524426,14.611130456172544,14.787376183733114,14.96376482479115,15.14024922778589,20.185746136718823,3.5420700016906572,0,0,0,{"$f":"IF($B$62=0,AM59,AM61)*$B$63","v":0},0,0,0,0,0,0,0,0,0,0,0,0,0,0,0,0,0,0,0,0,0,0,0,0,0,0,0,0,0,0,0]
["Cash Flow after taxes [Mio €] w/o invest",null,null,null,null,null,{"$f":"G49-G63","v":0},0,0,36.041466178407049,45.795896922592583,51.96880740590143,61.252631242150734,62.133950801931519,62.749448319678585,{"$f":"P49-P63","v":62.952052088414725},57.867176255689827,51.201928973464064,51.104351311233117,51.128992944686175,53.203080847316699,53.546394441059725,50.910081842150902,54.883480822295105,53.822981248038602,52.104290243396399,51.345799487090616,49.3512210400621,49.432186021388397,46.735045882345283,47.071142386065439,47.407511422501699,47.744063074724224,43.211738420805077,6.754645119503115,0,0,0,{"$f":"AM49-AM63","v":0},0,0,0,0,0,0,0,0,0,0,0,0,0,0,0,0,0,0,0,0,0,0,0,0,0,0,0,0,0,0,0]
["Discounted Cash Flow at start of operation",null,null,null,null,null,{"$f":"G64*G$3","v":0},0,0,34.079512604282669,40.507905584225206,43.000971281621624,47.411375904047723,44.989283169311015,42.502288115517317,{"$f":"P64*P$3","v":39.887295028798775},34.298827912260705,28.389360273292528,26.50632130911869,24.80739214065537,24.147543085077164,22.734672131580581,20.220158359630009,20.391289927173364,18.706524046608937,16.94030113207862,15.616181825435429,14.040744408029955,13.156014474763959,11.635351140640571,10.962607223770442,10.328293453012154,9.7302294258995055,8.2381128815825697,1.2046221140232143,0,0,0,{"$f":"AM64*AM$3","v":0},0,0,0,0,0,0,0,0,0,0,0,0,0,0,0,0,0,0,0,0,0,0,0,0,0,0,0,0,0,0,0]
[]
["Cash Flow after taxes [Mio €] with invest",null,null,null,null,null,{"$f":"G64-SUM(G$51:G$54)","v":-92.031799103109748},{"$f":"H64-SUM(H$51:H$54)","v":-213.1359894270401},{"$f":"I64-SUM(I$51:I$54)","v":-160.17443245445526},{"$f":"J64-SUM(J$51:J$54)","v":36.041466178407049},45.795896922592583,51.96880740590143,61.252631242150734,62.133950801931519,62.749448319678585,{"$f":"P64-SUM(P$51:P$54)","v":62.952052088414725},57.867176255689827,51.201928973464064,51.104351311233117,51.128992944686175,53.203080847316699,53.546394441059725,50.910081842150902,54.883480822295105,53.822981248038602,52.104290243396399,51.345799487090616,49.3512210400621,49.432186021388397,46.735045882345283,47.071142386065439,47.407511422501699,47.744063074724224,43.211738420805077,6.754645119503115,-6.9957625843644173,0,0,{"$f":"AM64-SUM(AM$51:AM$54)","v":0},0,0,0,0,0,0,0,0,0,0,0,0,0,0,0,0,0,0,0,0,0,0,0,0,0,0,0,0,0,0,0]
["Discounted Cash Flow at start of operation",null,null,null,null,null,{"$f":"G67*G$3","v":-106.30702208967436},-230.30487175198635,-161.90558273963379,34.079512604282669,40.507905584225206,43.000971281621624,47.411375904047723,44.989283169311015,42.502288115517317,{"$f":"P67*P$3","v":39.887295028798775},34.298827912260705,28.389360273292528,26.50632130911869,24.80739214065537,24.147543085077164,22.734672131580581,20.220158359630009,20.391289927173364,18.706524046608937,16.94030113207862,15.616181825435429,14.040744408029955,13.156014474763959,11.635351140640571,10.962607223770442,10.328293453012154,9.7302294258995055,8.2381128815825697,1.2046221140232143,-1.167093504605087,0,0,{"$f":"AM67*AM$3","v":0},0,0,0,0,0,0,0,0,0,0,0,0,0,0,0,0,0,0,0,0,0,0,0,0,0,0,0,0,0,0,0]
[]
[]
[null,"n.St"]
["Net Present Value at start of operation"]
["NPV from operation at start of operation",{"$f":"SUM(C65:BR65)","v":624.4331789524382}]
["NPV Invest at start of operation",{"$f":"SUMPRODUCT($C$51:$BR$51,$C$3:$BR$3)+SUMPRODUCT($C$52:$BR$52,$C$3:$BR$3)+SUMPRODUCT($C$54:$BR$54,$C$3:$BR$3)","v":499.68457008589962}]
["Net Present Value at start of operation",{"$f":"B73-B74","v":124.74860886653858}]
[null,{"$f":"SUM(C68:BR68)","v":124.74860886653848}]
["2009-01-01"]
["NPV from operation at 1.1.2009",{"$f":"B73*(1+$B$3)^(($A$77-$B$6)/365)","v":577.86208256026612}]
["NPV Invest at 1.1.2009",{"$f":"B74*(1+$B$3)^(($A$77-$B$6)/365)","v":462.41739873188681}]
["Net Present Value at 01.01.2009",{"$f":"B75*(1+$B$3)^(($A$77-$B$6)/365)","v":115.44468382837937}]
[]
["IRR",{"$f":"IRR($D$67:$BR$67,-0.1)","v":9.2983186157567968E-2}]
["VAN @ 6%",{"$f":"NPV(6%,G67:BR67)","v":151.42582516332845}]
[]
["IBN=0",null,-5,-4,-3,-2,-1,0,1]
["Variable Payment Schedule","SK",0.1,0.215,0.26,0.23499999999999999,0.14000000000000001,0.05,0]
[null,"GuD",0,{"$f":"F98/$C$98","v":1.3998452389785771E-2},{"$f":"G98/$C$98","v":0.1995272368797634},0.45302366995622168,0.33345064077422909,{"$f":"J98/G98","v":0},0]
[null,"BK",0.1,0.215,0.26,0.23499999999999999,0.14000000000000001,0.05,0]
["NPV of invest at start of operation"]
["Order Value",null,null,null,null,{"$f":"G90","v":461.24930381594368},{"$f":"$B$15*$B$14/1000*G$4","v":461.24930381594368},{"$f":"$B$15*$B$14/1000*H$4","v":470.47428989226256},480.35424998000008,489.48098072962,499.10744001730257,509.255957964321,519.95033308157167,530.86929007628464,542.54841445796285,553.9419311615801,565.57471171597319,577.6044858341719,590.04608645903988,602.91499160471153,616.2273546193436,630.00003599508602,644.25063680929497,658.99753388585975,674.25991677065622,690.05782662059278,706.41219711150086,723.34489747626355,740.70517501569395,758.48209921607065,776.68566959725638,795.32612566759065,814.41395268361282,833.95988754801954,853.974924849172,874.47032304555216,895.45761079864542,916.94859345781288,938.95535970080039,961.49028833361967,984.56605525362659,1008.1956405797138,1032.392335953627,1057.1697520165139,1082.5418260649103,1108.5228298904681,1135.1273778078391,1162.3704348752276,1190.2673253122332,1218.8337411197267,1248.0857509066002,1278.0398089283588,1308.7127643426393,1340.1218706868628,1372.2847955833477,1405.2196306773481,1438.9449018136045,1473.479579457131,1508.8430893641021,1545.0553235088407,1582.1366512730528,1620.1079309036061,1658.9905212452927,1698.8062937551799,1739.5776448053041,1781.3275082806315,1824.0793684793666,1867.8572733228714,1912.6858478826205,1958.5903082318034]
["Payment schedule",null,null,null,null,{"$f":"D87","v":1.3998452389785771E-2},{"$f":"G$106+IF(OR(YEAR(G$2)-YEAR($B$6)<=-6,YEAR(G$2)-YEAR($B$6)>=2),0,\nHLOOKUP(YEAR(G$2)-YEAR($B$6),$C$85:$I$88,           IF($B16=\"Kohle\",2,\n                                                               IF($B$20=\"Gas\",3,\n                                                                                                   4))))","v":0.1995272368797634},{"$f":"H$106+IF(OR(YEAR(H$2)-YEAR($B$6)<=-6,YEAR(H$2)-YEAR($B$6)>=2),0,\nHLOOKUP(YEAR(H$2)-YEAR($B$6),$C$85:$I$88,           IF($B16=\"Kohle\",2,\n                                                               IF($B$20=\"Gas\",3,\n                                                                                                   4))))","v":0.45302366995622168},{"$f":"I$106+IF(OR(YEAR(I$2)-YEAR($B$6)<=-6,YEAR(I$2)-YEAR($B$6)>=2),0,\nHLOOKUP(YEAR(I$2)-YEAR($B$6),$C$85:$I$88,           IF($B16=\"Kohle\",2,\n                                                               IF($B$20=\"Gas\",3,\n                                                                                                   4))))","v":0.33345064077422909},{"$f":"IF(OR(YEAR(J$2)-YEAR($B$6)<=-6,YEAR(J$2)-YEAR($B$6)>=2),0,\nHLOOKUP(YEAR(J$2)-YEAR($B$6),$C$85:$I$88,           IF($B16=\"Kohle\",2,\n                                                               IF($B$20=\"Gas\",3,\n                                                                                                   4))))","v":0},{"$f":"IF(OR(YEAR(K$2)-YEAR($B$6)<=-6,YEAR(K$2)-YEAR($B$6)>=2),0,\nHLOOKUP(YEAR(K$2)-YEAR($B$6),$C$85:$I$88,           IF($B16=\"Kohle\",2,\n                                                               IF($B$20=\"Gas\",3,\n                                                                                                   4))))","v":0},0,0,0,0,0,0,0,0,0,0,0,0,0,0,0,0,0,0,0,0,0,0,0,0,0,0,0,0,0,0,0,0,0,0,0,0,0,0,0,0,0,0,0,0,0,0,0,0,0,0,0,0,0,0,0,0,0,0,0]
["Expenditure nominal",null,null,null,null,{"$f":"F91*F90","v":6.4567764192893202},{"$f":"G91*G90","v":92.031799103109748},{"$f":"H91*H90","v":213.1359894270401},160.17443245445526,0,0,0,0,0,0,0,0,0,0,0,0,0,0,0,0,0,0,0,0,0,0,0,0,0,0,0,0,0,0,0,0,0,0,0,0,0,0,0,0,0,0,0,0,0,0,0,0,0,0,0,0,0,0,0,0,{"$f":"BN91*BN90","v":0},{"$f":"BO91*BO90","v":0},{"$f":"BP91*BP90","v":0},{"$f":"BQ91*BQ90","v":0},{"$f":"BR91*BR90","v":0}]
[null,null,null,null,"Invest",{"$f":"SUM(C92:AX92)","v":471.79899740389442}]
[null,null,null,null,"Abschreibung",{"$f":"F93/$B$17","v":18.871959896155776}]
[]
["Ursprüngliches Invest nominal",null,null,null,null,6.6029999999999998,94.116,213.68899999999999,157.28700000000001,0,0,0]
["Zusatz Invest nominal (Siemens & CMI)"]
["Gesamt Invest","Mio €",{"$f":"SUM(F98:P98)","v":471.69500000000005},null,null,{"$f":"SUM(F96:F97)","v":6.6029999999999998},94.116,213.68899999999999,157.28700000000001,0,0,{"$f":"SUM(L96:L97)","v":0},0,{"$f":"SUM(N96:N97)","v":0},0,0]
["gesamt Invest GW 2007","Mio €",{"$f":"SUM(F99:P99)","v":461.24930381594362},null,null,{"$f":"F98","v":6.6029999999999998},{"$f":"G98/G4","v":94.116},{"$f":"H98/H4","v":209.49901960784314},{"$f":"I98/I4","v":151.03128420810049},{"$f":"J98/J4","v":0},{"$f":"K98/K4","v":0},{"$f":"L98/L4","v":0},{"$f":"M98/M4","v":0},{"$f":"N98/N4","v":0},0,0]
[null,null,null,{"$f":"C99/413.6/2*1000","v":557.6031235685972}]
["Invest Fix",null,null,null,null,{"$f":"-F52","v":0},{"$f":"-G52","v":0},{"$f":"-H52/H$4","v":0},{"$f":"-I52/I$4","v":0}]
["Zahlplan Fix",null,null,null,null,{"$f":"F101/SUM($F$99:$M$99)","v":0},{"$f":"G101/SUM($F$99:$M$99)","v":0},0,0]
["Zahlplan Variable",null,null,null,null,{"$f":"(F99-F101)/SUM($F$99:$P$99)","v":1.4315468761411623E-2},0.20404583643026145,{"$f":"(H99-H101)/SUM($F$99:$P$99)","v":0.45419910203580793},{"$f":"(I99-I101)/SUM($F$99:$P$99)","v":0.32743959277251905},0,0,0,0,0,0,0,{"$f":"SUM(F103:P103)","v":1}]
[]
[]
[null,"Mio €",{"$f":"$B$15*413.6/1000*2","v":461.24930381594368},null,null,{"$f":"F101/$C$106","v":0},{"$f":"G101/$C$106","v":0},{"$f":"H101/$C$106","v":0},0]
[null,null,null,null,null,{"$f":"F103/$Q$103*(100%-SUM($G$106:$I$106))","v":1.4315468761411623E-2},0.20404583643026145,{"$f":"H103/$Q$103*(100%-SUM($G$106:$I$106))","v":0.45419910203580793},0.32743959277251905,0,0,0,0,0,0,0,{"$f":"SUM(F107:P107)","v":1}]

{"sheet":"Strompreise","index":1,"n_rows":110,"n_cols":33,"rows_kept":110,"cut":false,"hidden":false,"merged":[]}
["Strompreise"]
["[EUR/MWh]",null,"Base price Poyry",null,null,null,44.568283081054688,51.790744781494141,56.942958831787109,58.590843200683594,59.422615051269531,58.994434356689453,58.985645294189453,59.387447357177734,59.135913848876953,58.368965148925781,58.698963165283203,58.948577880859375,60.497428894042969,62.743068695068359,64.476318359375,70.077583312988281,73.899978637695312,76.445236206054687,77.176765441894531,77.828773498535156,79.221481323242188,79.142959594726562]
[]
["Lastpunkt","Dauer [h]","LowCut","Peak",2007,2008,2009,2010,2011,2012,2013,2014,2015,2016,2017,2018,2019,2020,2021,2022,2023,2024,2025,2026,2027,2028,2029,2030,2031,2032,2033,2034,2035]
[]
[]
["Peakprices LTM",null,null,null,null,null,102.16,102.90000000000003,103.16,87.181378219833249,71.20275643966643,55.224134659499683,58.945504223249884,65.406944771981401,66.76374957116505,71.244802028503869,80.758397609601332,84.808481982924306,87.28995148972038,89.253686526136974,96.804759379945125,99.806638038708812,104.92533442602307,108.01184607260464,109.43959385126881,112.12565821232168,113.26658191157013,116.72463121750367]
["Baseprices LTM",null,null,null,null,null,73.350000000000023,72.159999999999982,72.750000000000028,63.565898076358764,54.381796152717492,45.197694229076262,48.150955251464659,51.954693341561423,53.561229504045222,57.279538967781612,62.970586313407352,65.586803698826643,66.837374336500446,69.026430780603633,74.805662075105644,77.600918304240963,80.469018357710411,82.990985094051666,83.513666579235249,84.830450941846692,85.40365683110889,87.599797847672193]
[1,{"$f":"[4]Strompreise!B4","v":164},{"$f":"[4]Strompreise!C4","v":0.86},{"$f":"[4]Strompreise!D4","v":0},null,null,{"$f":"G$2*'Load point'!$G3/'Load point'!$D$1","v":40.027928889734177},{"$f":"H$2*'Load point'!$G3/'Load point'!$D$1","v":46.514608729481267},{"$f":"I$2*'Load point'!$G3/'Load point'!$D$1","v":51.141945556766025},{"$f":"J$2*'Load point'!$G3/'Load point'!$D$1","v":52.621953171524957},{"$f":"K$2*'Load point'!$G3/'Load point'!$D$1","v":53.368989004769553},{"$f":"L$2*'Load point'!$G3/'Load point'!$D$1","v":52.984428837543945},{"$f":"M$2*'Load point'!$G3/'Load point'!$D$1","v":52.976535152967458},{"$f":"N$2*'Load point'!$G3/'Load point'!$D$1","v":53.337403988228473},{"$f":"O$2*'Load point'!$G3/'Load point'!$D$1","v":53.11149523232379},{"$f":"P$2*'Load point'!$G3/'Load point'!$D$1","v":52.422678748909163},{"$f":"Q$2*'Load point'!$G3/'Load point'!$D$1","v":52.719058510913577},{"$f":"R$2*'Load point'!$G3/'Load point'!$D$1","v":52.94324394939553},{"$f":"S$2*'Load point'!$G3/'Load point'!$D$1","v":54.334307143455611},{"$f":"T$2*'Load point'!$G3/'Load point'!$D$1","v":56.351174387453426},{"$f":"U$2*'Load point'!$G3/'Load point'!$D$1","v":57.907850784092844},{"$f":"V$2*'Load point'!$G3/'Load point'!$D$1","v":62.938491853393977},{"$f":"W$2*'Load point'!$G3/'Load point'!$D$1","v":66.37148405476654},{"$f":"X$2*'Load point'!$G3/'Load point'!$D$1","v":68.657445772588588},{"$f":"Y$2*'Load point'!$G3/'Load point'!$D$1","v":69.314451118289369},{"$f":"Z$2*'Load point'!$G3/'Load point'!$D$1","v":69.900036434180493},{"$f":"AA$2*'Load point'!$G3/'Load point'!$D$1","v":71.150863388186423},{"$f":"AB$2*'Load point'!$G3/'Load point'!$D$1","v":71.080340990911068}]
[2,{"$f":"[4]Strompreise!B5","v":82},{"$f":"[4]Strompreise!C5","v":1},{"$f":"[4]Strompreise!D5","v":0},null,null,{"$f":"G$2*'Load point'!$G4/'Load point'!$D$1","v":34.441293672214094},{"$f":"H$2*'Load point'!$G4/'Load point'!$D$1","v":40.022637786564651},{"$f":"I$2*'Load point'!$G4/'Load point'!$D$1","v":44.004144474752032},{"$f":"J$2*'Load point'!$G4/'Load point'!$D$1","v":45.277589749361248},{"$f":"K$2*'Load point'!$G4/'Load point'!$D$1","v":45.920362963716663},{"$f":"L$2*'Load point'!$G4/'Load point'!$D$1","v":45.589475255523254},{"$f":"M$2*'Load point'!$G4/'Load point'!$D$1","v":45.582683280115191},{"$f":"N$2*'Load point'!$G4/'Load point'!$D$1","v":45.893186218366445},{"$f":"O$2*'Load point'!$G4/'Load point'!$D$1","v":45.698807192994657},{"$f":"P$2*'Load point'!$G4/'Load point'!$D$1","v":45.10612774517967},{"$f":"Q$2*'Load point'!$G4/'Load point'!$D$1","v":45.361142248923151},{"$f":"R$2*'Load point'!$G4/'Load point'!$D$1","v":45.55403847758042},{"$f":"S$2*'Load point'!$G4/'Load point'!$D$1","v":46.750953164703255},{"$f":"T$2*'Load point'!$G4/'Load point'!$D$1","v":48.486329412616321},{"$f":"U$2*'Load point'!$G4/'Load point'!$D$1","v":49.825742927538705},{"$f":"V$2*'Load point'!$G4/'Load point'!$D$1","v":54.154265317607646},{"$f":"W$2*'Load point'!$G4/'Load point'!$D$1","v":57.10812018498293},{"$f":"X$2*'Load point'!$G4/'Load point'!$D$1","v":59.075033813310576},{"$f":"Y$2*'Load point'!$G4/'Load point'!$D$1","v":59.640341953979799},{"$f":"Z$2*'Load point'!$G4/'Load point'!$D$1","v":60.144198046317243},{"$f":"AA$2*'Load point'!$G4/'Load point'!$D$1","v":61.220449045331279},{"$f":"AB$2*'Load point'!$G4/'Load point'!$D$1","v":61.159769348369693}]
[3,{"$f":"[4]Strompreise!B6","v":82},{"$f":"[4]Strompreise!C6","v":1},{"$f":"[4]Strompreise!D6","v":0},null,null,{"$f":"G$2*'Load point'!$G5/'Load point'!$D$1","v":46.258005311202815},{"$f":"H$2*'Load point'!$G5/'Load point'!$D$1","v":53.754292998374389},{"$f":"I$2*'Load point'!$G5/'Load point'!$D$1","v":59.101843507992676},{"$f":"J$2*'Load point'!$G5/'Load point'!$D$1","v":60.81220429864797},{"$f":"K$2*'Load point'!$G5/'Load point'!$D$1","v":61.675511207108819},{"$f":"L$2*'Load point'!$G5/'Load point'!$D$1","v":61.231096850647788},{"$f":"M$2*'Load point'!$G5/'Load point'!$D$1","v":61.221974567452229},{"$f":"N$2*'Load point'!$G5/'Load point'!$D$1","v":61.639010196353652},{"$f":"O$2*'Load point'!$G5/'Load point'!$D$1","v":61.377940270420851},{"$f":"P$2*'Load point'!$G5/'Load point'!$D$1","v":60.581914159851593},{"$f":"Q$2*'Load point'!$G5/'Load point'!$D$1","v":60.924423427385776},{"$f":"R$2*'Load point'!$G5/'Load point'!$D$1","v":61.183501813193843},{"$f":"S$2*'Load point'!$G5/'Load point'!$D$1","v":62.791074585602587},{"$f":"T$2*'Load point'!$G5/'Load point'!$D$1","v":65.121853575988197},{"$f":"U$2*'Load point'!$G5/'Load point'!$D$1","v":66.92081612591015},{"$f":"V$2*'Load point'!$G5/'Load point'!$D$1","v":72.734442455254609},{"$f":"W$2*'Load point'!$G5/'Load point'!$D$1","v":76.701756675330031},{"$f":"X$2*'Load point'!$G5/'Load point'!$D$1","v":79.343512874495701},{"$f":"Y$2*'Load point'!$G5/'Load point'!$D$1","v":80.102776658905753},{"$f":"Z$2*'Load point'!$G5/'Load point'!$D$1","v":80.7795043688823},{"$f":"AA$2*'Load point'!$G5/'Load point'!$D$1","v":82.225014078894844},{"$f":"AB$2*'Load point'!$G5/'Load point'!$D$1","v":82.143515347428902}]
[4,{"$f":"[4]Strompreise!B7","v":82},{"$f":"[4]Strompreise!C7","v":1},{"$f":"[4]Strompreise!D7","v":1},null,null,{"$f":"G$2*'Load point'!$G6/'Load point'!$D$1","v":63.346012767558989},{"$f":"H$2*'Load point'!$G6/'Load point'!$D$1","v":73.611477790233948},{"$f":"I$2*'Load point'!$G6/'Load point'!$D$1","v":80.934448172949715},{"$f":"J$2*'Load point'!$G6/'Load point'!$D$1","v":83.276627342870455},{"$f":"K$2*'Load point'!$G6/'Load point'!$D$1","v":84.458845427670553},{"$f":"L$2*'Load point'!$G6/'Load point'!$D$1","v":83.850261522915602},{"$f":"M$2*'Load point'!$G6/'Load point'!$D$1","v":83.837769409088224},{"$f":"N$2*'Load point'!$G6/'Load point'!$D$1","v":84.408860706587774},{"$f":"O$2*'Load point'!$G6/'Load point'!$D$1","v":84.051349855220394},{"$f":"P$2*'Load point'!$G6/'Load point'!$D$1","v":82.961266531821707},{"$f":"Q$2*'Load point'!$G6/'Load point'!$D$1","v":83.43030094626009},{"$f":"R$2*'Load point'!$G6/'Load point'!$D$1","v":83.785084569652128},{"$f":"S$2*'Load point'!$G6/'Load point'!$D$1","v":85.986505160114163},{"$f":"T$2*'Load point'!$G6/'Load point'!$D$1","v":89.178289040331947},{"$f":"U$2*'Load point'!$G6/'Load point'!$D$1","v":91.641800034570977},{"$f":"V$2*'Load point'!$G6/'Load point'!$D$1","v":99.603017670457319},{"$f":"W$2*'Load point'!$G6/'Load point'!$D$1","v":105.03588351815422},{"$f":"X$2*'Load point'!$G6/'Load point'!$D$1","v":108.65352160685492},{"$f":"Y$2*'Load point'!$G6/'Load point'!$D$1","v":109.69326236216017},{"$f":"Z$2*'Load point'!$G6/'Load point'!$D$1","v":110.61997768133443},{"$f":"AA$2*'Load point'!$G6/'Load point'!$D$1","v":112.59946806208174},{"$f":"AB$2*'Load point'!$G6/'Load point'!$D$1","v":112.48786317014468}]
[5,{"$f":"[4]Strompreise!B8","v":82},{"$f":"[4]Strompreise!C8","v":1},{"$f":"[4]Strompreise!D8","v":1},null,null,{"$f":"G$2*'Load point'!$G7/'Load point'!$D$1","v":68.086485618314541},{"$f":"H$2*'Load point'!$G7/'Load point'!$D$1","v":79.120162500178438},{"$f":"I$2*'Load point'!$G7/'Load point'!$D$1","v":86.991144364114504},{"$f":"J$2*'Load point'!$G7/'Load point'!$D$1","v":89.508599550338843},{"$f":"K$2*'Load point'!$G7/'Load point'!$D$1","v":90.779288440006027},{"$f":"L$2*'Load point'!$G7/'Load point'!$D$1","v":90.125161408669726},{"$f":"M$2*'Load point'!$G7/'Load point'!$D$1","v":90.111734452634281},{"$f":"N$2*'Load point'!$G7/'Load point'!$D$1","v":90.725563132848578},{"$f":"O$2*'Load point'!$G7/'Load point'!$D$1","v":90.341298103740343},{"$f":"P$2*'Load point'!$G7/'Load point'!$D$1","v":89.169638842506473},{"$f":"Q$2*'Load point'!$G7/'Load point'!$D$1","v":89.673773254728047},{"$f":"R$2*'Load point'!$G7/'Load point'!$D$1","v":90.055106964875407},{"$f":"S$2*'Load point'!$G7/'Load point'!$D$1","v":92.421269961153456},{"$f":"T$2*'Load point'!$G7/'Load point'!$D$1","v":95.85190967725741},{"$f":"U$2*'Load point'!$G7/'Load point'!$D$1","v":98.499776505044792},{"$f":"V$2*'Load point'!$G7/'Load point'!$D$1","v":107.05676859322946},{"$f":"W$2*'Load point'!$G7/'Load point'!$D$1","v":112.89620072548965},{"$f":"X$2*'Load point'!$G7/'Load point'!$D$1","v":116.78456327488013},{"$f":"Y$2*'Load point'!$G7/'Load point'!$D$1","v":117.90211260261177},{"$f":"Z$2*'Load point'!$G7/'Load point'!$D$1","v":118.89817828211645},{"$f":"AA$2*'Load point'!$G7/'Load point'!$D$1","v":121.02580301257724},{"$f":"AB$2*'Load point'!$G7/'Load point'!$D$1","v":120.90584621438555}]
[6,{"$f":"[4]Strompreise!B9","v":82},{"$f":"[4]Strompreise!C9","v":1},{"$f":"[4]Strompreise!D9","v":1},null,null,{"$f":"G$2*'Load point'!$G8/'Load point'!$D$1","v":63.874364012584678},{"$f":"H$2*'Load point'!$G8/'Load point'!$D$1","v":74.225450386762859},{"$f":"I$2*'Load point'!$G8/'Load point'!$D$1","v":81.609499602225213},{"$f":"J$2*'Load point'!$G8/'Load point'!$D$1","v":83.971214228703303},{"$f":"K$2*'Load point'!$G8/'Load point'!$D$1","v":85.163292861463816},{"$f":"L$2*'Load point'!$G8/'Load point'!$D$1","v":84.549632929825236},{"$f":"M$2*'Load point'!$G8/'Load point'!$D$1","v":84.537036622795995},{"$f":"N$2*'Load point'!$G8/'Load point'!$D$1","v":85.112891231905479},{"$f":"O$2*'Load point'!$G8/'Load point'!$D$1","v":84.752398483253984},{"$f":"P$2*'Load point'!$G8/'Load point'!$D$1","v":83.653223081981167},{"$f":"Q$2*'Load point'!$G8/'Load point'!$D$1","v":84.126169580321928},{"$f":"R$2*'Load point'!$G8/'Load point'!$D$1","v":84.483912353957905},{"$f":"S$2*'Load point'!$G8/'Load point'!$D$1","v":86.70369437332414},{"$f":"T$2*'Load point'!$G8/'Load point'!$D$1","v":89.922100023615329},{"$f":"U$2*'Load point'!$G8/'Load point'!$D$1","v":92.406158468973615},{"$f":"V$2*'Load point'!$G8/'Load point'!$D$1","v":100.43377837812183},{"$f":"W$2*'Load point'!$G8/'Load point'!$D$1","v":105.91195822916761},{"$f":"X$2*'Load point'!$G8/'Load point'!$D$1","v":109.5597700179121},{"$f":"Y$2*'Load point'!$G8/'Load point'!$D$1","v":110.60818295791483},{"$f":"Z$2*'Load point'!$G8/'Load point'!$D$1","v":111.54262774846823},{"$f":"AA$2*'Load point'!$G8/'Load point'!$D$1","v":113.5386285007684},{"$f":"AB$2*'Load point'!$G8/'Load point'!$D$1","v":113.42609274387189}]
[7,{"$f":"[4]Strompreise!B10","v":123},{"$f":"[4]Strompreise!C10","v":1},{"$f":"[4]Strompreise!D10","v":1},null,null,{"$f":"G$2*'Load point'!$G9/'Load point'!$D$1","v":54.679627840249871},{"$f":"H$2*'Load point'!$G9/'Load point'!$D$1","v":63.540671851127712},{"$f":"I$2*'Load point'!$G9/'Load point'!$D$1","v":69.861784699719394},{"$f":"J$2*'Load point'!$G9/'Load point'!$D$1","v":71.883529711775452},{"$f":"K$2*'Load point'!$G9/'Load point'!$D$1","v":72.904008224607566},{"$f":"L$2*'Load point'!$G9/'Load point'!$D$1","v":72.378684846423155},{"$f":"M$2*'Load point'!$G9/'Load point'!$D$1","v":72.367901782025314},{"$f":"N$2*'Load point'!$G9/'Load point'!$D$1","v":72.860861926567722},{"$f":"O$2*'Load point'!$G9/'Load point'!$D$1","v":72.552262230271907},{"$f":"P$2*'Load point'!$G9/'Load point'!$D$1","v":71.61131349752344},{"$f":"Q$2*'Load point'!$G9/'Load point'!$D$1","v":72.01617918843705},{"$f":"R$2*'Load point'!$G9/'Load point'!$D$1","v":72.322424769545307},{"$f":"S$2*'Load point'!$G9/'Load point'!$D$1","v":74.222668420996925},{"$f":"T$2*'Load point'!$G9/'Load point'!$D$1","v":76.977783495993336},{"$f":"U$2*'Load point'!$G9/'Load point'!$D$1","v":79.104260893073317},{"$f":"V$2*'Load point'!$G9/'Load point'!$D$1","v":85.976302217644829},{"$f":"W$2*'Load point'!$G9/'Load point'!$D$1","v":90.665896237526141},{"$f":"X$2*'Load point'!$G9/'Load point'!$D$1","v":93.788604292991494},{"$f":"Y$2*'Load point'!$G9/'Load point'!$D$1","v":94.686097837834552},{"$f":"Z$2*'Load point'!$G9/'Load point'!$D$1","v":95.486028986654361},{"$f":"AA$2*'Load point'!$G9/'Load point'!$D$1","v":97.194704759662898},{"$f":"AB$2*'Load point'!$G9/'Load point'!$D$1","v":97.098368562802932}]
[8,{"$f":"[4]Strompreise!B11","v":123},{"$f":"[4]Strompreise!C11","v":1},{"$f":"[4]Strompreise!D11","v":1},null,null,{"$f":"G$2*'Load point'!$G10/'Load point'!$D$1","v":67.800116433060381},{"$f":"H$2*'Load point'!$G10/'Load point'!$D$1","v":78.787386086965256},{"$f":"I$2*'Load point'!$G10/'Load point'!$D$1","v":86.625262898657041},{"$f":"J$2*'Load point'!$G10/'Load point'!$D$1","v":89.132129763512651},{"$f":"K$2*'Load point'!$G10/'Load point'!$D$1","v":90.397474183734246},{"$f":"L$2*'Load point'!$G10/'Load point'!$D$1","v":89.746098385969717},{"$f":"M$2*'Load point'!$G10/'Load point'!$D$1","v":89.73272790320388},{"$f":"N$2*'Load point'!$G10/'Load point'!$D$1","v":90.343974843188207},{"$f":"O$2*'Load point'!$G10/'Load point'!$D$1","v":89.961326018269503},{"$f":"P$2*'Load point'!$G10/'Load point'!$D$1","v":88.794594711606763},{"$f":"Q$2*'Load point'!$G10/'Load point'!$D$1","v":89.296608753543765},{"$f":"R$2*'Load point'!$G10/'Load point'!$D$1","v":89.676338588518348},{"$f":"S$2*'Load point'!$G10/'Load point'!$D$1","v":92.032549592660672},{"$f":"T$2*'Load point'!$G10/'Load point'!$D$1","v":95.448760167776072},{"$f":"U$2*'Load point'!$G10/'Load point'!$D$1","v":98.085490167759119},{"$f":"V$2*'Load point'!$G10/'Load point'!$D$1","v":106.60649187062332},{"$f":"W$2*'Load point'!$G10/'Load point'!$D$1","v":112.42136357203034},{"$f":"X$2*'Load point'!$G10/'Load point'!$D$1","v":116.29337181549462},{"$f":"Y$2*'Load point'!$G10/'Load point'!$D$1","v":117.40622077299042},{"$f":"Z$2*'Load point'!$G10/'Load point'!$D$1","v":118.39809703789234},{"$f":"AA$2*'Load point'!$G10/'Load point'!$D$1","v":120.51677305914814},{"$f":"AB$2*'Load point'!$G10/'Load point'!$D$1","v":120.39732079471601}]
[9,{"$f":"[4]Strompreise!B12","v":82},{"$f":"[4]Strompreise!C12","v":1},{"$f":"[4]Strompreise!D12","v":0},null,null,{"$f":"G$2*'Load point'!$G11/'Load point'!$D$1","v":55.420018227733642},{"$f":"H$2*'Load point'!$G11/'Load point'!$D$1","v":64.401045348735991},{"$f":"I$2*'Load point'!$G11/'Load point'!$D$1","v":70.807749328360444},{"$f":"J$2*'Load point'!$G11/'Load point'!$D$1","v":72.856869811537905},{"$f":"K$2*'Load point'!$G11/'Load point'!$D$1","v":73.891166130221606},{"$f":"L$2*'Load point'!$G11/'Load point'!$D$1","v":73.358729602315989},{"$f":"M$2*'Load point'!$G11/'Load point'!$D$1","v":73.347800529659793},{"$f":"N$2*'Load point'!$G11/'Load point'!$D$1","v":73.847435609033482},{"$f":"O$2*'Load point'!$G11/'Load point'!$D$1","v":73.534657313545566},{"$f":"P$2*'Load point'!$G11/'Load point'!$D$1","v":72.580967649222401},{"$f":"Q$2*'Load point'!$G11/'Load point'!$D$1","v":72.991315430589339},{"$f":"R$2*'Load point'!$G11/'Load point'!$D$1","v":73.301707734954832},{"$f":"S$2*'Load point'!$G11/'Load point'!$D$1","v":75.227681666384257},{"$f":"T$2*'Load point'!$G11/'Load point'!$D$1","v":78.020102421732005},{"$f":"U$2*'Load point'!$G11/'Load point'!$D$1","v":80.175373420491212},{"$f":"V$2*'Load point'!$G11/'Load point'!$D$1","v":87.140465732058615},{"$f":"W$2*'Load point'!$G11/'Load point'!$D$1","v":91.89355927581498},{"$f":"X$2*'Load point'!$G11/'Load point'!$D$1","v":95.058550410344807},{"$f":"Y$2*'Load point'!$G11/'Load point'!$D$1","v":95.968196481086039},{"$f":"Z$2*'Load point'!$G11/'Load point'!$D$1","v":96.778959110598507},{"$f":"AA$2*'Load point'!$G11/'Load point'!$D$1","v":98.51077123562024},{"$f":"AB$2*'Load point'!$G11/'Load point'!$D$1","v":98.413130596924447}]
[10,{"$f":"[4]Strompreise!B13","v":82},{"$f":"[4]Strompreise!C13","v":0.83},{"$f":"[4]Strompreise!D13","v":0},null,null,{"$f":"G$2*'Load point'!$G12/'Load point'!$D$1","v":49.130979346309772},{"$f":"H$2*'Load point'!$G12/'Load point'!$D$1","v":57.092843526459085},{"$f":"I$2*'Load point'!$G12/'Load point'!$D$1","v":62.772517603926836},{"$f":"J$2*'Load point'!$G12/'Load point'!$D$1","v":64.589104811159316},{"$f":"K$2*'Load point'!$G12/'Load point'!$D$1","v":65.506029646196353},{"$f":"L$2*'Load point'!$G12/'Load point'!$D$1","v":65.034013777340846},{"$f":"M$2*'Load point'!$G12/'Load point'!$D$1","v":65.024324930961555},{"$f":"N$2*'Load point'!$G12/'Load point'!$D$1","v":65.467261644993812},{"$f":"O$2*'Load point'!$G12/'Load point'!$D$1","v":65.18997729058519},{"$f":"P$2*'Load point'!$G12/'Load point'!$D$1","v":64.344511902823868},{"$f":"Q$2*'Load point'!$G12/'Load point'!$D$1","v":64.708293601492713},{"$f":"R$2*'Load point'!$G12/'Load point'!$D$1","v":64.983462725984324},{"$f":"S$2*'Load point'!$G12/'Load point'!$D$1","v":66.690877997082822},{"$f":"T$2*'Load point'!$G12/'Load point'!$D$1","v":69.166416094046895},{"$f":"U$2*'Load point'!$G12/'Load point'!$D$1","v":71.077107903829585},{"$f":"V$2*'Load point'!$G12/'Load point'!$D$1","v":77.25180465507519},{"$f":"W$2*'Load point'!$G12/'Load point'!$D$1","v":81.465519269346302},{"$f":"X$2*'Load point'!$G12/'Load point'!$D$1","v":84.271348625498021},{"$f":"Y$2*'Load point'!$G12/'Load point'!$D$1","v":85.077768466978242},{"$f":"Z$2*'Load point'!$G12/'Load point'!$D$1","v":85.796526115913892},{"$f":"AA$2*'Load point'!$G12/'Load point'!$D$1","v":87.33181297555538},{"$f":"AB$2*'Load point'!$G12/'Load point'!$D$1","v":87.245252552868209}]
[11,{"$f":"[4]Strompreise!B14","v":96},{"$f":"[4]Strompreise!C14","v":0.52300000000000002},{"$f":"[4]Strompreise!D14","v":0},null,null,{"$f":"G$2*'Load point'!$G13/'Load point'!$D$1","v":41.681967168530704},{"$f":"H$2*'Load point'!$G13/'Load point'!$D$1","v":48.436690273438863},{"$f":"I$2*'Load point'!$G13/'Load point'!$D$1","v":53.255238398772484},{"$f":"J$2*'Load point'!$G13/'Load point'!$D$1","v":54.796403043525785},{"$f":"K$2*'Load point'!$G13/'Load point'!$D$1","v":55.574307969878419},{"$f":"L$2*'Load point'!$G13/'Load point'!$D$1","v":55.173856967060402},{"$f":"M$2*'Load point'!$G13/'Load point'!$D$1","v":55.16563709882135},{"$f":"N$2*'Load point'!$G13/'Load point'!$D$1","v":55.541417793968762},{"$f":"O$2*'Load point'!$G13/'Load point'!$D$1","v":55.306174012741856},{"$f":"P$2*'Load point'!$G13/'Load point'!$D$1","v":54.588894182303392},{"$f":"Q$2*'Load point'!$G13/'Load point'!$D$1","v":54.897520979940509},{"$f":"R$2*'Load point'!$G13/'Load point'!$D$1","v":55.130970232641275},{"$f":"S$2*'Load point'!$G13/'Load point'!$D$1","v":56.579515086008243},{"$f":"T$2*'Load point'!$G13/'Load point'!$D$1","v":58.679723529947047},{"$f":"U$2*'Load point'!$G13/'Load point'!$D$1","v":60.300725072032634},{"$f":"V$2*'Load point'!$G13/'Load point'!$D$1","v":65.539242819600872},{"$f":"W$2*'Load point'!$G13/'Load point'!$D$1","v":69.114093485035426},{"$f":"X$2*'Load point'!$G13/'Load point'!$D$1","v":71.494515952889188},{"$f":"Y$2*'Load point'!$G13/'Load point'!$D$1","v":72.1786701424424},{"$f":"Z$2*'Load point'!$G13/'Load point'!$D$1","v":72.788453076218104},{"$f":"AA$2*'Load point'!$G13/'Load point'!$D$1","v":74.090966832900619},{"$f":"AB$2*'Load point'!$G13/'Load point'!$D$1","v":74.017530301723241}]
[12,{"$f":"[4]Strompreise!B15","v":48},{"$f":"[4]Strompreise!C15","v":1},{"$f":"[4]Strompreise!D15","v":0},null,null,{"$f":"G$2*'Load point'!$G14/'Load point'!$D$1","v":61.639125874287224},{"$f":"H$2*'Load point'!$G14/'Load point'!$D$1","v":71.627983310548842},{"$f":"I$2*'Load point'!$G14/'Load point'!$D$1","v":78.753632952463747},{"$f":"J$2*'Load point'!$G14/'Load point'!$D$1","v":81.032701047951107},{"$f":"K$2*'Load point'!$G14/'Load point'!$D$1","v":82.183063733085589},{"$f":"L$2*'Load point'!$G14/'Load point'!$D$1","v":81.590878396213583},{"$f":"M$2*'Load point'!$G14/'Load point'!$D$1","v":81.578722888029219},{"$f":"N$2*'Load point'!$G14/'Load point'!$D$1","v":82.134425872863531},{"$f":"O$2*'Load point'!$G14/'Load point'!$D$1","v":81.786548312681205},{"$f":"P$2*'Load point'!$G14/'Load point'!$D$1","v":80.725837776234556},{"$f":"Q$2*'Load point'!$G14/'Load point'!$D$1","v":81.182233846765868},{"$f":"R$2*'Load point'!$G14/'Load point'!$D$1","v":81.527457665361084},{"$f":"S$2*'Load point'!$G14/'Load point'!$D$1","v":83.669559984818036},{"$f":"T$2*'Load point'!$G14/'Load point'!$D$1","v":86.775339808374966},{"$f":"U$2*'Load point'!$G14/'Load point'!$D$1","v":89.17247038743416},{"$f":"V$2*'Load point'!$G14/'Load point'!$D$1","v":96.919169422330711},{"$f":"W$2*'Load point'!$G14/'Load point'!$D$1","v":102.20564424866427},{"$f":"X$2*'Load point'!$G14/'Load point'!$D$1","v":105.72580344692776},{"$f":"Y$2*'Load point'!$G14/'Load point'!$D$1","v":106.73752791849083},{"$f":"Z$2*'Load point'!$G14/'Load point'!$D$1","v":107.63927247529213},{"$f":"AA$2*'Load point'!$G14/'Load point'!$D$1","v":109.56542459466138},{"$f":"AB$2*'Load point'!$G14/'Load point'!$D$1","v":109.45682694688932}]
[13,{"$f":"[4]Strompreise!B16","v":32},{"$f":"[4]Strompreise!C16","v":1},{"$f":"[4]Strompreise!D16","v":0},null,null,{"$f":"G$2*'Load point'!$G15/'Load point'!$D$1","v":79.806861257186114},{"$f":"H$2*'Load point'!$G15/'Load point'!$D$1","v":92.739870092505868},{"$f":"I$2*'Load point'!$G15/'Load point'!$D$1","v":101.96575907573759},{"$f":"J$2*'Load point'!$G15/'Load point'!$D$1","v":104.91656781470631},{"$f":"K$2*'Load point'!$G15/'Load point'!$D$1","v":106.40599249271376},{"$f":"L$2*'Load point'!$G15/'Load point'!$D$1","v":105.63926434159313},{"$f":"M$2*'Load point'!$G15/'Load point'!$D$1","v":105.62352607565539},{"$f":"N$2*'Load point'!$G15/'Load point'!$D$1","v":106.34301893642902},{"$f":"O$2*'Load point'!$G15/'Load point'!$D$1","v":105.89260670578543},{"$f":"P$2*'Load point'!$G15/'Load point'!$D$1","v":104.5192585699134},{"$f":"Q$2*'Load point'!$G15/'Load point'!$D$1","v":105.11017444295},{"$f":"R$2*'Load point'!$G15/'Load point'!$D$1","v":105.55715075876431},{"$f":"S$2*'Load point'!$G15/'Load point'!$D$1","v":108.33062394130518},{"$f":"T$2*'Load point'!$G15/'Load point'!$D$1","v":112.35181236599976},{"$f":"U$2*'Load point'!$G15/'Load point'!$D$1","v":115.45548174522663},{"$f":"V$2*'Load point'!$G15/'Load point'!$D$1","v":125.48547043033655},{"$f":"W$2*'Load point'!$G15/'Load point'!$D$1","v":132.3300996657554},{"$f":"X$2*'Load point'!$G15/'Load point'!$D$1","v":136.8878031171636},{"$f":"Y$2*'Load point'!$G15/'Load point'!$D$1","v":138.19772686100785},{"$f":"Z$2*'Load point'!$G15/'Load point'!$D$1","v":139.36525481850742},{"$f":"AA$2*'Load point'!$G15/'Load point'!$D$1","v":141.85912787024807},{"$f":"AB$2*'Load point'!$G15/'Load point'!$D$1","v":141.71852176518621}]
[14,{"$f":"[4]Strompreise!B17","v":32},{"$f":"[4]Strompreise!C17","v":1},{"$f":"[4]Strompreise!D17","v":0},null,null,{"$f":"G$2*'Load point'!$G16/'Load point'!$D$1","v":76.521500574365348},{"$f":"H$2*'Load point'!$G16/'Load point'!$D$1","v":88.92210407424399},{"$f":"I$2*'Load point'!$G16/'Load point'!$D$1","v":97.768196477932264},{"$f":"J$2*'Load point'!$G16/'Load point'!$D$1","v":100.5975310621627},{"$f":"K$2*'Load point'!$G16/'Load point'!$D$1","v":102.02564149725839},{"$f":"L$2*'Load point'!$G16/'Load point'!$D$1","v":101.29047677918629},{"$f":"M$2*'Load point'!$G16/'Load point'!$D$1","v":101.27538640090272},{"$f":"N$2*'Load point'!$G16/'Load point'!$D$1","v":101.9652603351941},{"$f":"O$2*'Load point'!$G16/'Load point'!$D$1","v":101.53338995183414},{"$f":"P$2*'Load point'!$G16/'Load point'!$D$1","v":100.21657760622305},{"$f":"Q$2*'Load point'!$G16/'Load point'!$D$1","v":100.78316760369522},{"$f":"R$2*'Load point'!$G16/'Load point'!$D$1","v":101.21174351644902},{"$f":"S$2*'Load point'!$G16/'Load point'!$D$1","v":103.87104280961195},{"$f":"T$2*'Load point'!$G16/'Load point'!$D$1","v":107.72669340785158},{"$f":"U$2*'Load point'!$G16/'Load point'!$D$1","v":110.70259591101843},{"$f":"V$2*'Load point'!$G16/'Load point'!$D$1","v":120.31968613155892},{"$f":"W$2*'Load point'!$G16/'Load point'!$D$1","v":126.88254666408315},{"$f":"X$2*'Load point'!$G16/'Load point'!$D$1","v":131.2526259001377},{"$f":"Y$2*'Load point'!$G16/'Load point'!$D$1","v":132.50862480722324},{"$f":"Z$2*'Load point'!$G16/'Load point'!$D$1","v":133.628089848988},{"$f":"AA$2*'Load point'!$G16/'Load point'!$D$1","v":136.01929914045709},{"$f":"AB$2*'Load point'!$G16/'Load point'!$D$1","v":135.8844812816946}]
[15,{"$f":"[4]Strompreise!B18","v":64},{"$f":"[4]Strompreise!C18","v":1},{"$f":"[4]Strompreise!D18","v":0},null,null,{"$f":"G$2*'Load point'!$G17/'Load point'!$D$1","v":68.569185686414656},{"$f":"H$2*'Load point'!$G17/'Load point'!$D$1","v":79.681085970968581},{"$f":"I$2*'Load point'!$G17/'Load point'!$D$1","v":87.607869268144071},{"$f":"J$2*'Load point'!$G17/'Load point'!$D$1","v":90.143171987234794},{"$f":"K$2*'Load point'!$G17/'Load point'!$D$1","v":91.422869443110187},{"$f":"L$2*'Load point'!$G17/'Load point'!$D$1","v":90.764104969266683},{"$f":"M$2*'Load point'!$G17/'Load point'!$D$1","v":90.750582822643338},{"$f":"N$2*'Load point'!$G17/'Load point'!$D$1","v":91.368763249655132},{"$f":"O$2*'Load point'!$G17/'Load point'!$D$1","v":90.981773968383862},{"$f":"P$2*'Load point'!$G17/'Load point'!$D$1","v":89.801808212842758},{"$f":"Q$2*'Load point'!$G17/'Load point'!$D$1","v":90.309516692853279},{"$f":"R$2*'Load point'!$G17/'Load point'!$D$1","v":90.693553873537937},{"$f":"S$2*'Load point'!$G17/'Load point'!$D$1","v":93.076491814638985},{"$f":"T$2*'Load point'!$G17/'Load point'!$D$1","v":96.531453097784492},{"$f":"U$2*'Load point'!$G17/'Load point'!$D$1","v":99.198092013549214},{"$f":"V$2*'Load point'!$G17/'Load point'!$D$1","v":107.81574901381134},{"$f":"W$2*'Load point'!$G17/'Load point'!$D$1","v":113.69657987978952},{"$f":"X$2*'Load point'!$G17/'Load point'!$D$1","v":117.61250902848889},{"$f":"Y$2*'Load point'!$G17/'Load point'!$D$1","v":118.73798123741645},{"$f":"Z$2*'Load point'!$G17/'Load point'!$D$1","v":119.74110853813657},{"$f":"AA$2*'Load point'!$G17/'Load point'!$D$1","v":121.88381709313258},{"$f":"AB$2*'Load point'!$G17/'Load point'!$D$1","v":121.76300985958457}]
[16,{"$f":"[4]Strompreise!B19","v":48},{"$f":"[4]Strompreise!C19","v":1},{"$f":"[4]Strompreise!D19","v":0},null,null,{"$f":"G$2*'Load point'!$G18/'Load point'!$D$1","v":83.895965436589634},{"$f":"H$2*'Load point'!$G18/'Load point'!$D$1","v":97.491629332485473},{"$f":"I$2*'Load point'!$G18/'Load point'!$D$1","v":107.19022981703125},{"$f":"J$2*'Load point'!$G18/'Load point'!$D$1","v":110.29223062341198},{"$f":"K$2*'Load point'!$G18/'Load point'!$D$1","v":111.85796970070547},{"$f":"L$2*'Load point'!$G18/'Load point'!$D$1","v":111.0519563147338},{"$f":"M$2*'Load point'!$G18/'Load point'!$D$1","v":111.03541165937028},{"$f":"N$2*'Load point'!$G18/'Load point'!$D$1","v":111.79176953673137},{"$f":"O$2*'Load point'!$G18/'Load point'!$D$1","v":111.31827930871053},{"$f":"P$2*'Load point'!$G18/'Load point'!$D$1","v":109.87456424556302},{"$f":"Q$2*'Load point'!$G18/'Load point'!$D$1","v":110.49575717157533},{"$f":"R$2*'Load point'!$G18/'Load point'!$D$1","v":110.96563543707542},{"$f":"S$2*'Load point'!$G18/'Load point'!$D$1","v":113.88121445617641},{"$f":"T$2*'Load point'!$G18/'Load point'!$D$1","v":118.10843852911681},{"$f":"U$2*'Load point'!$G18/'Load point'!$D$1","v":121.37113217305175},{"$f":"V$2*'Load point'!$G18/'Load point'!$D$1","v":131.91503241921757},{"$f":"W$2*'Load point'!$G18/'Load point'!$D$1","v":139.11036335587016},{"$f":"X$2*'Load point'!$G18/'Load point'!$D$1","v":143.9015921450507},{"$f":"Y$2*'Load point'!$G18/'Load point'!$D$1","v":145.27863310878399},{"$f":"Z$2*'Load point'!$G18/'Load point'!$D$1","v":146.50598228184543},{"$f":"AA$2*'Load point'!$G18/'Load point'!$D$1","v":149.12763515800381},{"$f":"AB$2*'Load point'!$G18/'Load point'!$D$1","v":148.97982474741235}]
[17,{"$f":"[4]Strompreise!B20","v":64},{"$f":"[4]Strompreise!C20","v":0.77300000000000002},{"$f":"[4]Strompreise!D20","v":0},null,null,{"$f":"G$2*'Load point'!$G19/'Load point'!$D$1","v":56.404388465447987},{"$f":"H$2*'Load point'!$G19/'Load point'!$D$1","v":65.544936569747236},{"$f":"I$2*'Load point'!$G19/'Load point'!$D$1","v":72.065436410886434},{"$f":"J$2*'Load point'!$G19/'Load point'!$D$1","v":74.150953367425601},{"$f":"K$2*'Load point'!$G19/'Load point'!$D$1","v":75.203620854969387},{"$f":"L$2*'Load point'!$G19/'Load point'!$D$1","v":74.661727190666056},{"$f":"M$2*'Load point'!$G19/'Load point'!$D$1","v":74.650603995846197},{"$f":"N$2*'Load point'!$G19/'Load point'!$D$1","v":75.159113592363354},{"$f":"O$2*'Load point'!$G19/'Load point'!$D$1","v":74.840779729502373},{"$f":"P$2*'Load point'!$G19/'Load point'!$D$1","v":73.870150631530564},{"$f":"Q$2*'Load point'!$G19/'Load point'!$D$1","v":74.287787009256846},{"$f":"R$2*'Load point'!$G19/'Load point'!$D$1","v":74.603692501026515},{"$f":"S$2*'Load point'!$G19/'Load point'!$D$1","v":76.563875577045593},{"$f":"T$2*'Load point'!$G19/'Load point'!$D$1","v":79.405895303498781},{"$f":"U$2*'Load point'!$G19/'Load point'!$D$1","v":81.59944822083601},{"$f":"V$2*'Load point'!$G19/'Load point'!$D$1","v":88.688254486200151},{"$f":"W$2*'Load point'!$G19/'Load point'!$D$1","v":93.525772466670333},{"$f":"X$2*'Load point'!$G19/'Load point'!$D$1","v":96.746980166533262},{"$f":"Y$2*'Load point'!$G19/'Load point'!$D$1","v":97.672783368714107},{"$f":"Z$2*'Load point'!$G19/'Load point'!$D$1","v":98.497946762208002},{"$f":"AA$2*'Load point'!$G19/'Load point'!$D$1","v":100.26051933025555},{"$f":"AB$2*'Load point'!$G19/'Load point'!$D$1","v":100.16114439875732}]
[18,{"$f":"[4]Strompreise!B21","v":180},{"$f":"[4]Strompreise!C21","v":0.84599999999999997},{"$f":"[4]Strompreise!D21","v":0},null,null,{"$f":"G$2*'Load point'!$G20/'Load point'!$D$1","v":29.684069793852007},{"$f":"H$2*'Load point'!$G20/'Load point'!$D$1","v":34.494487480558959},{"$f":"I$2*'Load point'!$G20/'Load point'!$D$1","v":37.926046223434859},{"$f":"J$2*'Load point'!$G20/'Load point'!$D$1","v":39.023596122980223},{"$f":"K$2*'Load point'!$G20/'Load point'!$D$1","v":39.577585910301643},{"$f":"L$2*'Load point'!$G20/'Load point'!$D$1","v":39.292402260772683},{"$f":"M$2*'Load point'!$G20/'Load point'!$D$1","v":39.286548430949402},{"$f":"N$2*'Load point'!$G20/'Load point'!$D$1","v":39.554162968834255},{"$f":"O$2*'Load point'!$G20/'Load point'!$D$1","v":39.386632660289195},{"$f":"P$2*'Load point'!$G20/'Load point'!$D$1","v":38.87581740863925},{"$f":"Q$2*'Load point'!$G20/'Load point'!$D$1","v":39.095607884560692},{"$f":"R$2*'Load point'!$G20/'Load point'!$D$1","v":39.261860208556669},{"$f":"S$2*'Load point'!$G20/'Load point'!$D$1","v":40.293450352875325},{"$f":"T$2*'Load point'!$G20/'Load point'!$D$1","v":41.789126739247628},{"$f":"U$2*'Load point'!$G20/'Load point'!$D$1","v":42.94353297724156},{"$f":"V$2*'Load point'!$G20/'Load point'!$D$1","v":46.674175674751979},{"$f":"W$2*'Load point'!$G20/'Load point'!$D$1","v":49.220027606986918},{"$f":"X$2*'Load point'!$G20/'Load point'!$D$1","v":50.915260137374133},{"$f":"Y$2*'Load point'!$G20/'Load point'!$D$1","v":51.402484759723194},{"$f":"Z$2*'Load point'!$G20/'Load point'!$D$1","v":51.836745433940223},{"$f":"AA$2*'Load point'!$G20/'Load point'!$D$1","v":52.764338632804566},{"$f":"AB$2*'Load point'!$G20/'Load point'!$D$1","v":52.712040354556954}]
[19,{"$f":"[4]Strompreise!B22","v":90},{"$f":"[4]Strompreise!C22","v":1},{"$f":"[4]Strompreise!D22","v":0},null,null,{"$f":"G$2*'Load point'!$G21/'Load point'!$D$1","v":26.388855648114795},{"$f":"H$2*'Load point'!$G21/'Load point'!$D$1","v":30.665271207814747},{"$f":"I$2*'Load point'!$G21/'Load point'!$D$1","v":33.715894284187307},{"$f":"J$2*'Load point'!$G21/'Load point'!$D$1","v":34.691605703370946},{"$f":"K$2*'Load point'!$G21/'Load point'!$D$1","v":35.184097353932373},{"$f":"L$2*'Load point'!$G21/'Load point'!$D$1","v":34.930571802588297},{"$f":"M$2*'Load point'!$G21/'Load point'!$D$1","v":34.925367803565656},{"$f":"N$2*'Load point'!$G21/'Load point'!$D$1","v":35.163274581801403},{"$f":"O$2*'Load point'!$G21/'Load point'!$D$1","v":35.014341731300036},{"$f":"P$2*'Load point'!$G21/'Load point'!$D$1","v":34.560231832210746},{"$f":"Q$2*'Load point'!$G21/'Load point'!$D$1","v":34.755623474333973},{"$f":"R$2*'Load point'!$G21/'Load point'!$D$1","v":34.903420208729266},{"$f":"S$2*'Load point'!$G21/'Load point'!$D$1","v":35.820494033022769},{"$f":"T$2*'Load point'!$G21/'Load point'!$D$1","v":37.15013611142966},{"$f":"U$2*'Load point'!$G21/'Load point'!$D$1","v":38.176392274592793},{"$f":"V$2*'Load point'!$G21/'Load point'!$D$1","v":41.492898141308068},{"$f":"W$2*'Load point'!$G21/'Load point'!$D$1","v":43.756136289169334},{"$f":"X$2*'Load point'!$G21/'Load point'!$D$1","v":45.263181881133328},{"$f":"Y$2*'Load point'!$G21/'Load point'!$D$1","v":45.696319935202986},{"$f":"Z$2*'Load point'!$G21/'Load point'!$D$1","v":46.082373543254384},{"$f":"AA$2*'Load point'!$G21/'Load point'!$D$1","v":46.90699507241122},{"$f":"AB$2*'Load point'!$G21/'Load point'!$D$1","v":46.860502400587379}]
[20,{"$f":"[4]Strompreise!B23","v":90},{"$f":"[4]Strompreise!C23","v":1},{"$f":"[4]Strompreise!D23","v":0},null,null,{"$f":"G$2*'Load point'!$G22/'Load point'!$D$1","v":36.232248793908063},{"$f":"H$2*'Load point'!$G22/'Load point'!$D$1","v":42.103824074447274},{"$f":"I$2*'Load point'!$G22/'Load point'!$D$1","v":46.292370017987039},{"$f":"J$2*'Load point'!$G22/'Load point'!$D$1","v":47.63203473715209},{"$f":"K$2*'Load point'!$G22/'Load point'!$D$1","v":48.308232305171259},{"$f":"L$2*'Load point'!$G22/'Load point'!$D$1","v":47.96013836072742},{"$f":"M$2*'Load point'!$G22/'Load point'!$D$1","v":47.952993201049942},{"$f":"N$2*'Load point'!$G22/'Load point'!$D$1","v":48.27964236286801},{"$f":"O$2*'Load point'!$G22/'Load point'!$D$1","v":48.075155583869055},{"$f":"P$2*'Load point'!$G22/'Load point'!$D$1","v":47.451656669669077},{"$f":"Q$2*'Load point'!$G22/'Load point'!$D$1","v":47.719931985736622},{"$f":"R$2*'Load point'!$G22/'Load point'!$D$1","v":47.922858862253911},{"$f":"S$2*'Load point'!$G22/'Load point'!$D$1","v":49.182013385938482},{"$f":"T$2*'Load point'!$G22/'Load point'!$D$1","v":51.007629594314274},{"$f":"U$2*'Load point'!$G22/'Load point'!$D$1","v":52.416692917325953},{"$f":"V$2*'Load point'!$G22/'Load point'!$D$1","v":56.970299458345785},{"$f":"W$2*'Load point'!$G22/'Load point'!$D$1","v":60.07775545214259},{"$f":"X$2*'Load point'!$G22/'Load point'!$D$1","v":62.146949037492433},{"$f":"Y$2*'Load point'!$G22/'Load point'!$D$1","v":62.741653330335915},{"$f":"Z$2*'Load point'!$G22/'Load point'!$D$1","v":63.271710054326654},{"$f":"AA$2*'Load point'!$G22/'Load point'!$D$1","v":64.403926350616018},{"$f":"AB$2*'Load point'!$G22/'Load point'!$D$1","v":64.340091295580763}]
[21,{"$f":"[4]Strompreise!B24","v":90},{"$f":"[4]Strompreise!C24","v":1},{"$f":"[4]Strompreise!D24","v":1},null,null,{"$f":"G$2*'Load point'!$G23/'Load point'!$D$1","v":51.998863111114524},{"$f":"H$2*'Load point'!$G23/'Load point'!$D$1","v":60.425478886359933},{"$f":"I$2*'Load point'!$G23/'Load point'!$D$1","v":66.436688082664588},{"$f":"J$2*'Load point'!$G23/'Load point'!$D$1","v":68.359313496916144},{"$f":"K$2*'Load point'!$G23/'Load point'!$D$1","v":69.329761259501865},{"$f":"L$2*'Load point'!$G23/'Load point'!$D$1","v":68.83019278198617},{"$f":"M$2*'Load point'!$G23/'Load point'!$D$1","v":68.819938376246967},{"$f":"N$2*'Load point'!$G23/'Load point'!$D$1","v":69.28873028445426},{"$f":"O$2*'Load point'!$G23/'Load point'!$D$1","v":68.995260229926842},{"$f":"P$2*'Load point'!$G23/'Load point'!$D$1","v":68.100443160364648},{"$f":"Q$2*'Load point'!$G23/'Load point'!$D$1","v":68.485459600156616},{"$f":"R$2*'Load point'!$G23/'Load point'!$D$1","v":68.776690954125527},{"$f":"S$2*'Load point'!$G23/'Load point'!$D$1","v":70.583771825236767},{"$f":"T$2*'Load point'!$G23/'Load point'!$D$1","v":73.203812547874065},{"$f":"U$2*'Load point'!$G23/'Load point'!$D$1","v":75.226035658146344},{"$f":"V$2*'Load point'!$G23/'Load point'!$D$1","v":81.761163094900354},{"$f":"W$2*'Load point'!$G23/'Load point'!$D$1","v":86.220841536731456},{"$f":"X$2*'Load point'!$G23/'Load point'!$D$1","v":89.190453348767079},{"$f":"Y$2*'Load point'!$G23/'Load point'!$D$1","v":90.043945697283959},{"$f":"Z$2*'Load point'!$G23/'Load point'!$D$1","v":90.804658817485162},{"$f":"AA$2*'Load point'!$G23/'Load point'!$D$1","v":92.429563761635976},{"$f":"AB$2*'Load point'!$G23/'Load point'!$D$1","v":92.337950615917393}]
[22,{"$f":"[4]Strompreise!B25","v":90},{"$f":"[4]Strompreise!C25","v":1},{"$f":"[4]Strompreise!D25","v":1},null,null,{"$f":"G$2*'Load point'!$G24/'Load point'!$D$1","v":53.305151383362634},{"$f":"H$2*'Load point'!$G24/'Load point'!$D$1","v":61.943456197624577},{"$f":"I$2*'Load point'!$G24/'Load point'!$D$1","v":68.105675850799869},{"$f":"J$2*'Load point'!$G24/'Load point'!$D$1","v":70.076600456231745},{"$f":"K$2*'Load point'!$G24/'Load point'!$D$1","v":71.071427300498272},{"$f":"L$2*'Load point'!$G24/'Load point'!$D$1","v":70.5593089246902},{"$f":"M$2*'Load point'!$G24/'Load point'!$D$1","v":70.548796913127447},{"$f":"N$2*'Load point'!$G24/'Load point'!$D$1","v":71.029365566732181},{"$f":"O$2*'Load point'!$G24/'Load point'!$D$1","v":70.728523110818486},{"$f":"P$2*'Load point'!$G24/'Load point'!$D$1","v":69.811226914332323},{"$f":"Q$2*'Load point'!$G24/'Load point'!$D$1","v":70.20591553597275},{"$f":"R$2*'Load point'!$G24/'Load point'!$D$1","v":70.504463051862103},{"$f":"S$2*'Load point'!$G24/'Load point'!$D$1","v":72.35694046450719},{"$f":"T$2*'Load point'!$G24/'Load point'!$D$1","v":75.042800481337125},{"$f":"U$2*'Load point'!$G24/'Load point'!$D$1","v":77.115824824074295},{"$f":"V$2*'Load point'!$G24/'Load point'!$D$1","v":83.815124318014199},{"$f":"W$2*'Load point'!$G24/'Load point'!$D$1","v":88.386836471699979},{"$f":"X$2*'Load point'!$G24/'Load point'!$D$1","v":91.431049320202533},{"$f":"Y$2*'Load point'!$G24/'Load point'!$D$1","v":92.3059826575914},{"$f":"Z$2*'Load point'!$G24/'Load point'!$D$1","v":93.085806015363389},{"$f":"AA$2*'Load point'!$G24/'Load point'!$D$1","v":94.751530972588839},{"$f":"AB$2*'Load point'!$G24/'Load point'!$D$1","v":94.657616369286842}]
[23,{"$f":"[4]Strompreise!B26","v":90},{"$f":"[4]Strompreise!C26","v":1},{"$f":"[4]Strompreise!D26","v":1},null,null,{"$f":"G$2*'Load point'!$G25/'Load point'!$D$1","v":49.939286954745256},{"$f":"H$2*'Load point'!$G25/'Load point'!$D$1","v":58.032140491910674},{"$f":"I$2*'Load point'!$G25/'Load point'!$D$1","v":63.805257114821913},{"$f":"J$2*'Load point'!$G25/'Load point'!$D$1","v":65.651730989906923},{"$f":"K$2*'Load point'!$G25/'Load point'!$D$1","v":66.583741160721601},{"$f":"L$2*'Load point'!$G25/'Load point'!$D$1","v":66.103959641289322},{"$f":"M$2*'Load point'!$G25/'Load point'!$D$1","v":66.094111393075394},{"$f":"N$2*'Load point'!$G25/'Load point'!$D$1","v":66.544335344626049},{"$f":"O$2*'Load point'!$G25/'Load point'!$D$1","v":66.262489081288464},{"$f":"P$2*'Load point'!$G25/'Load point'!$D$1","v":65.40311401546478},{"$f":"Q$2*'Load point'!$G25/'Load point'!$D$1","v":65.772880685708685},{"$f":"R$2*'Load point'!$G25/'Load point'!$D$1","v":66.05257691916276},{"$f":"S$2*'Load point'!$G25/'Load point'!$D$1","v":67.788082750896351},{"$f":"T$2*'Load point'!$G25/'Load point'!$D$1","v":70.304348639273712},{"$f":"U$2*'Load point'!$G25/'Load point'!$D$1","v":72.246475334901774},{"$f":"V$2*'Load point'!$G25/'Load point'!$D$1","v":78.522758792340085},{"$f":"W$2*'Load point'!$G25/'Load point'!$D$1","v":82.805797845647589},{"$f":"X$2*'Load point'!$G25/'Load point'!$D$1","v":85.657788976848863},{"$f":"Y$2*'Load point'!$G25/'Load point'!$D$1","v":86.477476115300036},{"$f":"Z$2*'Load point'!$G25/'Load point'!$D$1","v":87.20805883436428},{"$f":"AA$2*'Load point'!$G25/'Load point'!$D$1","v":88.768604381422364},{"$f":"AB$2*'Load point'!$G25/'Load point'!$D$1","v":88.680619858316703}]
[24,{"$f":"[4]Strompreise!B27","v":135},{"$f":"[4]Strompreise!C27","v":1},{"$f":"[4]Strompreise!D27","v":1},null,null,{"$f":"G$2*'Load point'!$G26/'Load point'!$D$1","v":46.089498116715518},{"$f":"H$2*'Load point'!$G26/'Load point'!$D$1","v":53.558478564875429},{"$f":"I$2*'Load point'!$G26/'Load point'!$D$1","v":58.88654918711655},{"$f":"J$2*'Load point'!$G26/'Load point'!$D$1","v":60.590679529734672},{"$f":"K$2*'Load point'!$G26/'Load point'!$D$1","v":61.450841611172663},{"$f":"L$2*'Load point'!$G26/'Load point'!$D$1","v":61.008046153232947},{"$f":"M$2*'Load point'!$G26/'Load point'!$D$1","v":60.998957100401256},{"$f":"N$2*'Load point'!$G26/'Load point'!$D$1","v":61.414473565141698},{"$f":"O$2*'Load point'!$G26/'Load point'!$D$1","v":61.154354656454181},{"$f":"P$2*'Load point'!$G26/'Load point'!$D$1","v":60.361228284551316},{"$f":"Q$2*'Load point'!$G26/'Load point'!$D$1","v":60.702489870189801},{"$f":"R$2*'Load point'!$G26/'Load point'!$D$1","v":60.960624493471769},{"$f":"S$2*'Load point'!$G26/'Load point'!$D$1","v":62.562341250775873},{"$f":"T$2*'Load point'!$G26/'Load point'!$D$1","v":64.884629753385425},{"$f":"U$2*'Load point'!$G26/'Load point'!$D$1","v":66.677039099591909},{"$f":"V$2*'Load point'!$G26/'Load point'!$D$1","v":72.469487735346604},{"$f":"W$2*'Load point'!$G26/'Load point'!$D$1","v":76.422349949020585},{"$f":"X$2*'Load point'!$G26/'Load point'!$D$1","v":79.054482842497961},{"$f":"Y$2*'Load point'!$G26/'Load point'!$D$1","v":79.810980804877289},{"$f":"Z$2*'Load point'!$G26/'Load point'!$D$1","v":80.485243352617104},{"$f":"AA$2*'Load point'!$G26/'Load point'!$D$1","v":81.925487405708196},{"$f":"AB$2*'Load point'!$G26/'Load point'!$D$1","v":81.844285555236183}]
[25,{"$f":"[4]Strompreise!B28","v":135},{"$f":"[4]Strompreise!C28","v":1},{"$f":"[4]Strompreise!D28","v":1},null,null,{"$f":"G$2*'Load point'!$G27/'Load point'!$D$1","v":47.334880938558129},{"$f":"H$2*'Load point'!$G27/'Load point'!$D$1","v":55.00568046323005},{"$f":"I$2*'Load point'!$G27/'Load point'!$D$1","v":60.477720707568146},{"$f":"J$2*'Load point'!$G27/'Load point'!$D$1","v":62.227898300462314},{"$f":"K$2*'Load point'!$G27/'Load point'!$D$1","v":63.111302793382208},{"$f":"L$2*'Load point'!$G27/'Load point'!$D$1","v":62.656542573849485},{"$f":"M$2*'Load point'!$G27/'Load point'!$D$1","v":62.647207926018368},{"$f":"N$2*'Load point'!$G27/'Load point'!$D$1","v":63.073952047568383},{"$f":"O$2*'Load point'!$G27/'Load point'!$D$1","v":62.806804474353108},{"$f":"P$2*'Load point'!$G27/'Load point'!$D$1","v":61.992247060684136},{"$f":"Q$2*'Load point'!$G27/'Load point'!$D$1","v":62.342729864471544},{"$f":"R$2*'Load point'!$G27/'Load point'!$D$1","v":62.607839534970218},{"$f":"S$2*'Load point'!$G27/'Load point'!$D$1","v":64.25283622840972},{"$f":"T$2*'Load point'!$G27/'Load point'!$D$1","v":66.637875212727465},{"$f":"U$2*'Load point'!$G27/'Load point'!$D$1","v":68.478717193279905},{"$f":"V$2*'Load point'!$G27/'Load point'!$D$1","v":74.427683394253179},{"$f":"W$2*'Load point'!$G27/'Load point'!$D$1","v":78.487355768574901},{"$f":"X$2*'Load point'!$G27/'Load point'!$D$1","v":81.190611438916591},{"$f":"Y$2*'Load point'!$G27/'Load point'!$D$1","v":81.96755070800576},{"$f":"Z$2*'Load point'!$G27/'Load point'!$D$1","v":82.660032482004908},{"$f":"AA$2*'Load point'!$G27/'Load point'!$D$1","v":84.139193322569767},{"$f":"AB$2*'Load point'!$G27/'Load point'!$D$1","v":84.05579731955082}]
[26,{"$f":"[4]Strompreise!B29","v":90},{"$f":"[4]Strompreise!C29","v":1},{"$f":"[4]Strompreise!D29","v":0},null,null,{"$f":"G$2*'Load point'!$G28/'Load point'!$D$1","v":43.564995244454927},{"$f":"H$2*'Load point'!$G28/'Load point'!$D$1","v":50.624870291933583},{"$f":"I$2*'Load point'!$G28/'Load point'!$D$1","v":55.661101555121732},{"$f":"J$2*'Load point'!$G28/'Load point'!$D$1","v":57.271889984279412},{"$f":"K$2*'Load point'!$G28/'Load point'!$D$1","v":58.084937609411092},{"$f":"L$2*'Load point'!$G28/'Load point'!$D$1","v":57.666395798203695},{"$f":"M$2*'Load point'!$G28/'Load point'!$D$1","v":57.657804588501513},{"$f":"N$2*'Load point'!$G28/'Load point'!$D$1","v":58.05056158413138},{"$f":"O$2*'Load point'!$G28/'Load point'!$D$1","v":57.804690409937486},{"$f":"P$2*'Load point'!$G28/'Load point'!$D$1","v":57.055006685183088},{"$f":"Q$2*'Load point'!$G28/'Load point'!$D$1","v":57.377576033146191},{"$f":"R$2*'Load point'!$G28/'Load point'!$D$1","v":57.621571609041382},{"$f":"S$2*'Load point'!$G28/'Load point'!$D$1","v":59.135556047279593},{"$f":"T$2*'Load point'!$G28/'Load point'!$D$1","v":61.330643685600947},{"$f":"U$2*'Load point'!$G28/'Load point'!$D$1","v":63.02487573052057},{"$f":"V$2*'Load point'!$G28/'Load point'!$D$1","v":68.500049199135148},{"$f":"W$2*'Load point'!$G28/'Load point'!$D$1","v":72.236397620734436},{"$f":"X$2*'Load point'!$G28/'Load point'!$D$1","v":74.724358255426779},{"$f":"Y$2*'Load point'!$G28/'Load point'!$D$1","v":75.439419852540212},{"$f":"Z$2*'Load point'!$G28/'Load point'!$D$1","v":76.076750391731878},{"$f":"AA$2*'Load point'!$G28/'Load point'!$D$1","v":77.438106620104705},{"$f":"AB$2*'Load point'!$G28/'Load point'!$D$1","v":77.361352513980648}]
[27,{"$f":"[4]Strompreise!B30","v":90},{"$f":"[4]Strompreise!C30","v":0.80400000000000005},{"$f":"[4]Strompreise!D30","v":0},null,null,{"$f":"G$2*'Load point'!$G29/'Load point'!$D$1","v":37.537319540999654},{"$f":"H$2*'Load point'!$G29/'Load point'!$D$1","v":43.620386555920696},{"$f":"I$2*'Load point'!$G29/'Load point'!$D$1","v":47.959802207130444},{"$f":"J$2*'Load point'!$G29/'Load point'!$D$1","v":49.347721100245273},{"$f":"K$2*'Load point'!$G29/'Load point'!$D$1","v":50.048275027437619},{"$f":"L$2*'Load point'!$G29/'Load point'!$D$1","v":49.687642881826157},{"$f":"M$2*'Load point'!$G29/'Load point'!$D$1","v":49.680240356426467},{"$f":"N$2*'Load point'!$G29/'Load point'!$D$1","v":50.018655287133889},{"$f":"O$2*'Load point'!$G29/'Load point'!$D$1","v":49.806802978190703},{"$f":"P$2*'Load point'!$G29/'Load point'!$D$1","v":49.160845888722754},{"$f":"Q$2*'Load point'!$G29/'Load point'!$D$1","v":49.438784371687795},{"$f":"R$2*'Load point'!$G29/'Load point'!$D$1","v":49.649020591101447},{"$f":"S$2*'Load point'!$G29/'Load point'!$D$1","v":50.953529344502087},{"$f":"T$2*'Load point'!$G29/'Load point'!$D$1","v":52.844903500239084},{"$f":"U$2*'Load point'!$G29/'Load point'!$D$1","v":54.304720706459115},{"$f":"V$2*'Load point'!$G29/'Load point'!$D$1","v":59.022346288202947},{"$f":"W$2*'Load point'!$G29/'Load point'!$D$1","v":62.241731572904278},{"$f":"X$2*'Load point'!$G29/'Load point'!$D$1","v":64.385456662872286},{"$f":"Y$2*'Load point'!$G29/'Load point'!$D$1","v":65.001581960527659},{"$f":"Z$2*'Load point'!$G29/'Load point'!$D$1","v":65.550731110404357},{"$f":"AA$2*'Load point'!$G29/'Load point'!$D$1","v":66.72372937350103},{"$f":"AB$2*'Load point'!$G29/'Load point'!$D$1","v":66.657595005954462}]
[28,{"$f":"[4]Strompreise!B31","v":108},{"$f":"[4]Strompreise!C31","v":0.496},{"$f":"[4]Strompreise!D31","v":0},null,null,{"$f":"G$2*'Load point'!$G30/'Load point'!$D$1","v":30.738232498628445},{"$f":"H$2*'Load point'!$G30/'Load point'!$D$1","v":35.719481306369005},{"$f":"I$2*'Load point'!$G30/'Load point'!$D$1","v":39.272904108691989},{"$f":"J$2*'Load point'!$G30/'Load point'!$D$1","v":40.409431014381283},{"$f":"K$2*'Load point'!$G30/'Load point'!$D$1","v":40.983094497953822},{"$f":"L$2*'Load point'!$G30/'Load point'!$D$1","v":40.687783195126869},{"$f":"M$2*'Load point'!$G30/'Load point'!$D$1","v":40.681721479756803},{"$f":"N$2*'Load point'!$G30/'Load point'!$D$1","v":40.958839743614995},{"$f":"O$2*'Load point'!$G30/'Load point'!$D$1","v":40.785359974486717},{"$f":"P$2*'Load point'!$G30/'Load point'!$D$1","v":40.256404272721284},{"$f":"Q$2*'Load point'!$G30/'Load point'!$D$1","v":40.484000111053952},{"$f":"R$2*'Load point'!$G30/'Load point'!$D$1","v":40.656156510897887},{"$f":"S$2*'Load point'!$G30/'Load point'!$D$1","v":41.724381249606999},{"$f":"T$2*'Load point'!$G30/'Load point'!$D$1","v":43.273173205235068},{"$f":"U$2*'Load point'!$G30/'Load point'!$D$1","v":44.468575573837299},{"$f":"V$2*'Load point'!$G30/'Load point'!$D$1","v":48.331703622038297},{"$f":"W$2*'Load point'!$G30/'Load point'!$D$1","v":50.967965736484878},{"$f":"X$2*'Load point'!$G30/'Load point'!$D$1","v":52.723400621935546},{"$f":"Y$2*'Load point'!$G30/'Load point'!$D$1","v":53.227927926473953},{"$f":"Z$2*'Load point'!$G30/'Load point'!$D$1","v":53.677610387868064},{"$f":"AA$2*'Load point'!$G30/'Load point'!$D$1","v":54.638144964455819},{"$f":"AB$2*'Load point'!$G30/'Load point'!$D$1","v":54.583989430958638}]
[29,{"$f":"[4]Strompreise!B32","v":54},{"$f":"[4]Strompreise!C32","v":1},{"$f":"[4]Strompreise!D32","v":0},null,null,{"$f":"G$2*'Load point'!$G31/'Load point'!$D$1","v":49.431898579578032},{"$f":"H$2*'Load point'!$G31/'Load point'!$D$1","v":57.442527878932253},{"$f":"I$2*'Load point'!$G31/'Load point'!$D$1","v":63.15698903354248},{"$f":"J$2*'Load point'!$G31/'Load point'!$D$1","v":64.984702541061225},{"$f":"K$2*'Load point'!$G31/'Load point'!$D$1","v":65.907243391125732},{"$f":"L$2*'Load point'!$G31/'Load point'!$D$1","v":65.432336502078158},{"$f":"M$2*'Load point'!$G31/'Load point'!$D$1","v":65.422588313095432},{"$f":"N$2*'Load point'!$G31/'Load point'!$D$1","v":65.868237942240441},{"$f":"O$2*'Load point'!$G31/'Load point'!$D$1","v":65.589255266397245},{"$f":"P$2*'Load point'!$G31/'Load point'!$D$1","v":64.738611541065112},{"$f":"Q$2*'Load point'!$G31/'Load point'!$D$1","v":65.104621343290958},{"$f":"R$2*'Load point'!$G31/'Load point'!$D$1","v":65.381475833778978},{"$f":"S$2*'Load point'!$G31/'Load point'!$D$1","v":67.099348744865239},{"$f":"T$2*'Load point'!$G31/'Load point'!$D$1","v":69.590049108813929},{"$f":"U$2*'Load point'!$G31/'Load point'!$D$1","v":71.512443594221281},{"$f":"V$2*'Load point'!$G31/'Load point'!$D$1","v":77.724959355728245},{"$f":"W$2*'Load point'!$G31/'Load point'!$D$1","v":81.964482284586381},{"$f":"X$2*'Load point'!$G31/'Load point'!$D$1","v":84.787496887801524},{"$f":"Y$2*'Load point'!$G31/'Load point'!$D$1","v":85.598855919251463},{"$f":"Z$2*'Load point'!$G31/'Load point'!$D$1","v":86.322015841528753},{"$f":"AA$2*'Load point'!$G31/'Load point'!$D$1","v":87.866706082718849},{"$f":"AB$2*'Load point'!$G31/'Load point'!$D$1","v":87.779615491564172}]
[30,{"$f":"[4]Strompreise!B33","v":36},{"$f":"[4]Strompreise!C33","v":1},{"$f":"[4]Strompreise!D33","v":0},null,null,{"$f":"G$2*'Load point'!$G32/'Load point'!$D$1","v":64.452861849870459},{"$f":"H$2*'Load point'!$G32/'Load point'!$D$1","v":74.897696023711106},{"$f":"I$2*'Load point'!$G32/'Load point'!$D$1","v":82.348621153596895},{"$f":"J$2*'Load point'!$G32/'Load point'!$D$1","v":84.731725375491308},{"$f":"K$2*'Load point'!$G32/'Load point'!$D$1","v":85.934600435293973},{"$f":"L$2*'Load point'!$G32/'Load point'!$D$1","v":85.315382703608861},{"$f":"M$2*'Load point'!$G32/'Load point'!$D$1","v":85.302672314248056},{"$f":"N$2*'Load point'!$G32/'Load point'!$D$1","v":85.883742327864653},{"$f":"O$2*'Load point'!$G32/'Load point'!$D$1","v":85.519984665680553},{"$f":"P$2*'Load point'!$G32/'Load point'!$D$1","v":84.410854244075807},{"$f":"Q$2*'Load point'!$G32/'Load point'!$D$1","v":84.888084127944879},{"$f":"R$2*'Load point'!$G32/'Load point'!$D$1","v":85.249066909118341},{"$f":"S$2*'Load point'!$G32/'Load point'!$D$1","v":87.488953067559777},{"$f":"T$2*'Load point'!$G32/'Load point'!$D$1","v":90.736507199201569},{"$f":"U$2*'Load point'!$G32/'Load point'!$D$1","v":93.243063284427521},{"$f":"V$2*'Load point'!$G32/'Load point'!$D$1","v":101.34338780406829},{"$f":"W$2*'Load point'!$G32/'Load point'!$D$1","v":106.87118247703962},{"$f":"X$2*'Load point'!$G32/'Load point'!$D$1","v":110.5520317959926},{"$f":"Y$2*'Load point'!$G32/'Load point'!$D$1","v":111.60994001047283},{"$f":"Z$2*'Load point'!$G32/'Load point'!$D$1","v":112.55284788788047},{"$f":"AA$2*'Load point'!$G32/'Load point'!$D$1","v":114.56692603533401},{"$f":"AB$2*'Load point'!$G32/'Load point'!$D$1","v":114.45337106371829}]
[31,{"$f":"[4]Strompreise!B34","v":36},{"$f":"[4]Strompreise!C34","v":1},{"$f":"[4]Strompreise!D34","v":0},null,null,{"$f":"G$2*'Load point'!$G33/'Load point'!$D$1","v":64.186047524389963},{"$f":"H$2*'Load point'!$G33/'Load point'!$D$1","v":74.587643410513621},{"$f":"I$2*'Load point'!$G33/'Load point'!$D$1","v":82.007724082827195},{"$f":"J$2*'Load point'!$G33/'Load point'!$D$1","v":84.380963012052433},{"$f":"K$2*'Load point'!$G33/'Load point'!$D$1","v":85.578858552117623},{"$f":"L$2*'Load point'!$G33/'Load point'!$D$1","v":84.962204184675187},{"$f":"M$2*'Load point'!$G33/'Load point'!$D$1","v":84.949546412279204},{"$f":"N$2*'Load point'!$G33/'Load point'!$D$1","v":85.528210981059217},{"$f":"O$2*'Load point'!$G33/'Load point'!$D$1","v":85.165959159771674},{"$f":"P$2*'Load point'!$G33/'Load point'!$D$1","v":84.061420184951686},{"$f":"Q$2*'Load point'!$G33/'Load point'!$D$1","v":84.53667448905739},{"$f":"R$2*'Load point'!$G33/'Load point'!$D$1","v":84.89616291645811},{"$f":"S$2*'Load point'!$G33/'Load point'!$D$1","v":87.126776659410694},{"$f":"T$2*'Load point'!$G33/'Load point'!$D$1","v":90.360886951008368},{"$f":"U$2*'Load point'!$G33/'Load point'!$D$1","v":92.857066692159535},{"$f":"V$2*'Load point'!$G33/'Load point'!$D$1","v":100.92385844753119},{"$f":"W$2*'Load point'!$G33/'Load point'!$D$1","v":106.42876981067374},{"$f":"X$2*'Load point'!$G33/'Load point'!$D$1","v":110.09438158547361},{"$f":"Y$2*'Load point'!$G33/'Load point'!$D$1","v":111.14791039679676},{"$f":"Z$2*'Load point'!$G33/'Load point'!$D$1","v":112.08691493582531},{"$f":"AA$2*'Load point'!$G33/'Load point'!$D$1","v":114.09265544105547},{"$f":"AB$2*'Load point'!$G33/'Load point'!$D$1","v":113.97957055086495}]
[32,{"$f":"[4]Strompreise!B35","v":72},{"$f":"[4]Strompreise!C35","v":1},{"$f":"[4]Strompreise!D35","v":0},null,null,{"$f":"G$2*'Load point'!$G34/'Load point'!$D$1","v":56.338275909834493},{"$f":"H$2*'Load point'!$G34/'Load point'!$D$1","v":65.46811022020168},{"$f":"I$2*'Load point'!$G34/'Load point'!$D$1","v":71.980967271123589},{"$f":"J$2*'Load point'!$G34/'Load point'!$D$1","v":74.064039757302851},{"$f":"K$2*'Load point'!$G34/'Load point'!$D$1","v":75.115473395146168},{"$f":"L$2*'Load point'!$G34/'Load point'!$D$1","v":74.574214893744056},{"$f":"M$2*'Load point'!$G34/'Load point'!$D$1","v":74.563104736612502},{"$f":"N$2*'Load point'!$G34/'Load point'!$D$1","v":75.071018300269557},{"$f":"O$2*'Load point'!$G34/'Load point'!$D$1","v":74.753057562014376},{"$f":"P$2*'Load point'!$G34/'Load point'!$D$1","v":73.783566155133016},{"$f":"Q$2*'Load point'!$G34/'Load point'!$D$1","v":74.20071301406476},{"$f":"R$2*'Load point'!$G34/'Load point'!$D$1","v":74.516248227564219},{"$f":"S$2*'Load point'!$G34/'Load point'!$D$1","v":76.474133739224357},{"$f":"T$2*'Load point'!$G34/'Load point'!$D$1","v":79.312822285385877},{"$f":"U$2*'Load point'!$G34/'Load point'!$D$1","v":81.503804101551992},{"$f":"V$2*'Load point'!$G34/'Load point'!$D$1","v":88.584301454946655},{"$f":"W$2*'Load point'!$G34/'Load point'!$D$1","v":93.416149297237595},{"$f":"X$2*'Load point'!$G34/'Load point'!$D$1","v":96.633581364051508},{"$f":"Y$2*'Load point'!$G34/'Load point'!$D$1","v":97.558299416346742},{"$f":"Z$2*'Load point'!$G34/'Load point'!$D$1","v":98.382495621608882},{"$f":"AA$2*'Load point'!$G34/'Load point'!$D$1","v":100.14300224797887},{"$f":"AB$2*'Load point'!$G34/'Load point'!$D$1","v":100.04374379555016}]
[33,{"$f":"[4]Strompreise!B36","v":54},{"$f":"[4]Strompreise!C36","v":1},{"$f":"[4]Strompreise!D36","v":0},null,null,{"$f":"G$2*'Load point'!$G35/'Load point'!$D$1","v":56.270128788501687},{"$f":"H$2*'Load point'!$G35/'Load point'!$D$1","v":65.38891959573624},{"$f":"I$2*'Load point'!$G35/'Load point'!$D$1","v":71.893898655141655},{"$f":"J$2*'Load point'!$G35/'Load point'!$D$1","v":73.974451444167101},{"$f":"K$2*'Load point'!$G35/'Load point'!$D$1","v":75.024613261484603},{"$f":"L$2*'Load point'!$G35/'Load point'!$D$1","v":74.484009469659071},{"$f":"M$2*'Load point'!$G35/'Load point'!$D$1","v":74.4729127514412},{"$f":"N$2*'Load point'!$G35/'Load point'!$D$1","v":74.980211939761219},{"$f":"O$2*'Load point'!$G35/'Load point'!$D$1","v":74.662635808749684},{"$f":"P$2*'Load point'!$G35/'Load point'!$D$1","v":73.694317104573003},{"$f":"Q$2*'Load point'!$G35/'Load point'!$D$1","v":74.110959380126033},{"$f":"R$2*'Load point'!$G35/'Load point'!$D$1","v":74.426112920311368},{"$f":"S$2*'Load point'!$G35/'Load point'!$D$1","v":76.381630161743757},{"$f":"T$2*'Load point'!$G35/'Load point'!$D$1","v":79.216885012967737},{"$f":"U$2*'Load point'!$G35/'Load point'!$D$1","v":81.405216604197932},{"$f":"V$2*'Load point'!$G35/'Load point'!$D$1","v":88.477149344912377},{"$f":"W$2*'Load point'!$G35/'Load point'!$D$1","v":93.303152554653735},{"$f":"X$2*'Load point'!$G35/'Load point'!$D$1","v":96.516692796063026},{"$f":"Y$2*'Load point'!$G35/'Load point'!$D$1","v":97.440292303775735},{"$f":"Z$2*'Load point'!$G35/'Load point'!$D$1","v":98.263491556293147},{"$f":"AA$2*'Load point'!$G35/'Load point'!$D$1","v":100.021868663136},{"$f":"AB$2*'Load point'!$G35/'Load point'!$D$1","v":99.922730274335294}]
[34,{"$f":"[4]Strompreise!B37","v":72},{"$f":"[4]Strompreise!C37","v":0.76700000000000002},{"$f":"[4]Strompreise!D37","v":0},null,null,{"$f":"G$2*'Load point'!$G36/'Load point'!$D$1","v":43.045514103156627},{"$f":"H$2*'Load point'!$G36/'Load point'!$D$1","v":50.021205233558987},{"$f":"I$2*'Load point'!$G36/'Load point'!$D$1","v":54.997383071978859},{"$f":"J$2*'Load point'!$G36/'Load point'!$D$1","v":56.588964011112189},{"$f":"K$2*'Load point'!$G36/'Load point'!$D$1","v":57.392316629831875},{"$f":"L$2*'Load point'!$G36/'Load point'!$D$1","v":56.978765627794715},{"$f":"M$2*'Load point'!$G36/'Load point'!$D$1","v":56.970276862070683},{"$f":"N$2*'Load point'!$G36/'Load point'!$D$1","v":57.358350513855392},{"$f":"O$2*'Load point'!$G36/'Load point'!$D$1","v":57.115411176046791},{"$f":"P$2*'Load point'!$G36/'Load point'!$D$1","v":56.374666888901942},{"$f":"Q$2*'Load point'!$G36/'Load point'!$D$1","v":56.693389830086211},{"$f":"R$2*'Load point'!$G36/'Load point'!$D$1","v":56.934475934752811},{"$f":"S$2*'Load point'!$G36/'Load point'!$D$1","v":58.430407200725753},{"$f":"T$2*'Load point'!$G36/'Load point'!$D$1","v":60.599320002456253},{"$f":"U$2*'Load point'!$G36/'Load point'!$D$1","v":62.273349552428257},{"$f":"V$2*'Load point'!$G36/'Load point'!$D$1","v":67.683235527119734},{"$f":"W$2*'Load point'!$G36/'Load point'!$D$1","v":71.375030689124955},{"$f":"X$2*'Load point'!$G36/'Load point'!$D$1","v":73.833324188017954},{"$f":"Y$2*'Load point'!$G36/'Load point'!$D$1","v":74.539859191418174},{"$f":"Z$2*'Load point'!$G36/'Load point'!$D$1","v":75.169590023688585},{"$f":"AA$2*'Load point'!$G36/'Load point'!$D$1","v":76.514713061095591},{"$f":"AB$2*'Load point'!$G36/'Load point'!$D$1","v":76.438874192318067}]
[35,{"$f":"[4]Strompreise!B38","v":180},{"$f":"[4]Strompreise!C38","v":0.83399999999999996},{"$f":"[4]Strompreise!D38","v":0},null,null,{"$f":"G$2*'Load point'!$G37/'Load point'!$D$1","v":22.820312319875189},{"$f":"H$2*'Load point'!$G37/'Load point'!$D$1","v":26.518431707212031},{"$f":"I$2*'Load point'!$G37/'Load point'!$D$1","v":29.156521524419155},{"$f":"J$2*'Load point'!$G37/'Load point'!$D$1","v":30.000288287811561},{"$f":"K$2*'Load point'!$G37/'Load point'!$D$1","v":30.426180695978399},{"$f":"L$2*'Load point'!$G37/'Load point'!$D$1","v":30.206939197222702},{"$f":"M$2*'Load point'!$G37/'Load point'!$D$1","v":30.202438930724124},{"$f":"N$2*'Load point'!$G37/'Load point'!$D$1","v":30.408173770262074},{"$f":"O$2*'Load point'!$G37/'Load point'!$D$1","v":30.279380987109565},{"$f":"P$2*'Load point'!$G37/'Load point'!$D$1","v":29.886679997610425},{"$f":"Q$2*'Load point'!$G37/'Load point'!$D$1","v":30.055648988058632},{"$f":"R$2*'Load point'!$G37/'Load point'!$D$1","v":30.183459291155241},{"$f":"S$2*'Load point'!$G37/'Load point'!$D$1","v":30.976517973571244},{"$f":"T$2*'Load point'!$G37/'Load point'!$D$1","v":32.12635364312446},{"$f":"U$2*'Load point'!$G37/'Load point'!$D$1","v":33.013830026180599},{"$f":"V$2*'Load point'!$G37/'Load point'!$D$1","v":35.881847521836868},{"$f":"W$2*'Load point'!$G37/'Load point'!$D$1","v":37.839029829290951},{"$f":"X$2*'Load point'!$G37/'Load point'!$D$1","v":39.142278880614121},{"$f":"Y$2*'Load point'!$G37/'Load point'!$D$1","v":39.516844030512864},{"$f":"Z$2*'Load point'!$G37/'Load point'!$D$1","v":39.850691925450931},{"$f":"AA$2*'Load point'!$G37/'Load point'!$D$1","v":40.563800560853096},{"$f":"AB$2*'Load point'!$G37/'Load point'!$D$1","v":40.523595054947386}]
[36,{"$f":"[4]Strompreise!B39","v":90},{"$f":"[4]Strompreise!C39","v":1},{"$f":"[4]Strompreise!D39","v":0},null,null,{"$f":"G$2*'Load point'!$G38/'Load point'!$D$1","v":19.030504155947202},{"$f":"H$2*'Load point'!$G38/'Load point'!$D$1","v":22.114470553226017},{"$f":"I$2*'Load point'!$G38/'Load point'!$D$1","v":24.314448297895055},{"$f":"J$2*'Load point'!$G38/'Load point'!$D$1","v":25.018089276699907},{"$f":"K$2*'Load point'!$G38/'Load point'!$D$1","v":25.373253006713647},{"$f":"L$2*'Load point'!$G38/'Load point'!$D$1","v":25.190421317350985},{"$f":"M$2*'Load point'!$G38/'Load point'!$D$1","v":25.186668417780478},{"$f":"N$2*'Load point'!$G38/'Load point'!$D$1","v":25.358236521843633},{"$f":"O$2*'Load point'!$G38/'Load point'!$D$1","v":25.250832575715119},{"$f":"P$2*'Load point'!$G38/'Load point'!$D$1","v":24.92334810889653},{"$f":"Q$2*'Load point'!$G38/'Load point'!$D$1","v":25.064256131095256},{"$f":"R$2*'Load point'!$G38/'Load point'!$D$1","v":25.170840759305381},{"$f":"S$2*'Load point'!$G38/'Load point'!$D$1","v":25.832194834572935},{"$f":"T$2*'Load point'!$G38/'Load point'!$D$1","v":26.791075334601452},{"$f":"U$2*'Load point'!$G38/'Load point'!$D$1","v":27.531167002029914},{"$f":"V$2*'Load point'!$G38/'Load point'!$D$1","v":29.922887943678909},{"$f":"W$2*'Load point'!$G38/'Load point'!$D$1","v":31.555037649338804},{"$f":"X$2*'Load point'!$G38/'Load point'!$D$1","v":32.641853909335353},{"$f":"Y$2*'Load point'!$G38/'Load point'!$D$1","v":32.954214386348312},{"$f":"Z$2*'Load point'!$G38/'Load point'!$D$1","v":33.232619592334025},{"$f":"AA$2*'Load point'!$G38/'Load point'!$D$1","v":33.827301061169287},{"$f":"AB$2*'Load point'!$G38/'Load point'!$D$1","v":33.793772552159162}]
[37,{"$f":"[4]Strompreise!B40","v":90},{"$f":"[4]Strompreise!C40","v":1},{"$f":"[4]Strompreise!D40","v":0},null,null,{"$f":"G$2*'Load point'!$G39/'Load point'!$D$1","v":27.844340148700248},{"$f":"H$2*'Load point'!$G39/'Load point'!$D$1","v":32.356622570086202},{"$f":"I$2*'Load point'!$G39/'Load point'!$D$1","v":35.575503590796934},{"$f":"J$2*'Load point'!$G39/'Load point'!$D$1","v":36.605030638312584},{"$f":"K$2*'Load point'!$G39/'Load point'!$D$1","v":37.124685799623336},{"$f":"L$2*'Load point'!$G39/'Load point'!$D$1","v":36.857176977636371},{"$f":"M$2*'Load point'!$G39/'Load point'!$D$1","v":36.851685950634213},{"$f":"N$2*'Load point'!$G39/'Load point'!$D$1","v":37.10271454183993},{"$f":"O$2*'Load point'!$G39/'Load point'!$D$1","v":36.945567259518441},{"$f":"P$2*'Load point'!$G39/'Load point'!$D$1","v":36.466410805606898},{"$f":"Q$2*'Load point'!$G39/'Load point'!$D$1","v":36.672579326820546},{"$f":"R$2*'Load point'!$G39/'Load point'!$D$1","v":36.828527830243566},{"$f":"S$2*'Load point'!$G39/'Load point'!$D$1","v":37.796183110396719},{"$f":"T$2*'Load point'!$G39/'Load point'!$D$1","v":39.199161958773999},{"$f":"U$2*'Load point'!$G39/'Load point'!$D$1","v":40.28202155935147},{"$f":"V$2*'Load point'!$G39/'Load point'!$D$1","v":43.781450207921054},{"$f":"W$2*'Load point'!$G39/'Load point'!$D$1","v":46.169517870531706},{"$f":"X$2*'Load point'!$G39/'Load point'!$D$1","v":47.759684971439803},{"$f":"Y$2*'Load point'!$G39/'Load point'!$D$1","v":48.216712872523615},{"$f":"Z$2*'Load point'!$G39/'Load point'!$D$1","v":48.624059372180717},{"$f":"AA$2*'Load point'!$G39/'Load point'!$D$1","v":49.494163125748543},{"$f":"AB$2*'Load point'!$G39/'Load point'!$D$1","v":49.44510613798267}]
[38,{"$f":"[4]Strompreise!B41","v":90},{"$f":"[4]Strompreise!C41","v":1},{"$f":"[4]Strompreise!D41","v":1},null,null,{"$f":"G$2*'Load point'!$G40/'Load point'!$D$1","v":40.254000273947874},{"$f":"H$2*'Load point'!$G40/'Load point'!$D$1","v":46.777315851066312},{"$f":"I$2*'Load point'!$G40/'Load point'!$D$1","v":51.430787141731592},{"$f":"J$2*'Load point'!$G40/'Load point'!$D$1","v":52.919153604409864},{"$f":"K$2*'Load point'!$G40/'Load point'!$D$1","v":53.670408577379227},{"$f":"L$2*'Load point'!$G40/'Load point'!$D$1","v":53.28367647541382},{"$f":"M$2*'Load point'!$G40/'Load point'!$D$1","v":53.275738208560703},{"$f":"N$2*'Load point'!$G40/'Load point'!$D$1","v":53.638645173681795},{"$f":"O$2*'Load point'!$G40/'Load point'!$D$1","v":53.411460521007776},{"$f":"P$2*'Load point'!$G40/'Load point'!$D$1","v":52.718753711508484},{"$f":"Q$2*'Load point'!$G40/'Load point'!$D$1","v":53.016807379330857},{"$f":"R$2*'Load point'!$G40/'Load point'!$D$1","v":53.242258981559068},{"$f":"S$2*'Load point'!$G40/'Load point'!$D$1","v":54.641178679578573},{"$f":"T$2*'Load point'!$G40/'Load point'!$D$1","v":56.669436869405288},{"$f":"U$2*'Load point'!$G40/'Load point'!$D$1","v":58.234905127065808},{"$f":"V$2*'Load point'!$G40/'Load point'!$D$1","v":63.293958458044337},{"$f":"W$2*'Load point'!$G40/'Load point'!$D$1","v":66.746339654063533},{"$f":"X$2*'Load point'!$G40/'Load point'!$D$1","v":69.045212120558858},{"$f":"Y$2*'Load point'!$G40/'Load point'!$D$1","v":69.705928128091486},{"$f":"Z$2*'Load point'!$G40/'Load point'!$D$1","v":70.294820736830644},{"$f":"AA$2*'Load point'!$G40/'Load point'!$D$1","v":71.552712162787714},{"$f":"AB$2*'Load point'!$G40/'Load point'!$D$1","v":71.481791466214545}]
[39,{"$f":"[4]Strompreise!B42","v":90},{"$f":"[4]Strompreise!C42","v":1},{"$f":"[4]Strompreise!D42","v":1},null,null,{"$f":"G$2*'Load point'!$G41/'Load point'!$D$1","v":46.566484388568362},{"$f":"H$2*'Load point'!$G41/'Load point'!$D$1","v":54.112762296758945},{"$f":"I$2*'Load point'!$G41/'Load point'!$D$1","v":59.49597382194144},{"$f":"J$2*'Load point'!$G41/'Load point'!$D$1","v":61.217740433386332},{"$f":"K$2*'Load point'!$G41/'Load point'!$D$1","v":62.086804445224502},{"$f":"L$2*'Load point'!$G41/'Load point'!$D$1","v":61.639426438910291},{"$f":"M$2*'Load point'!$G41/'Load point'!$D$1","v":61.630243322276613},{"$f":"N$2*'Load point'!$G41/'Load point'!$D$1","v":62.050060021506653},{"$f":"O$2*'Load point'!$G41/'Load point'!$D$1","v":61.787249108055306},{"$f":"P$2*'Load point'!$G41/'Load point'!$D$1","v":60.985914567118257},{"$f":"Q$2*'Load point'!$G41/'Load point'!$D$1","v":61.330707913745933},{"$f":"R$2*'Load point'!$G41/'Load point'!$D$1","v":61.591514006161368},{"$f":"S$2*'Load point'!$G41/'Load point'!$D$1","v":63.209807140641374},{"$f":"T$2*'Load point'!$G41/'Load point'!$D$1","v":65.556129312097156},{"$f":"U$2*'Load point'!$G41/'Load point'!$D$1","v":67.367088538137793},{"$f":"V$2*'Load point'!$G41/'Load point'!$D$1","v":73.219483985911808},{"$f":"W$2*'Load point'!$G41/'Load point'!$D$1","v":77.213254890013999},{"$f":"X$2*'Load point'!$G41/'Load point'!$D$1","v":79.87262807265013},{"$f":"Y$2*'Load point'!$G41/'Load point'!$D$1","v":80.63695513184075},{"$f":"Z$2*'Load point'!$G41/'Load point'!$D$1","v":81.318195711280595},{"$f":"AA$2*'Load point'!$G41/'Load point'!$D$1","v":82.773345039315288},{"$f":"AB$2*'Load point'!$G41/'Load point'!$D$1","v":82.69130282022337}]
[40,{"$f":"[4]Strompreise!B43","v":90},{"$f":"[4]Strompreise!C43","v":1},{"$f":"[4]Strompreise!D43","v":1},null,null,{"$f":"G$2*'Load point'!$G42/'Load point'!$D$1","v":45.234288406888325},{"$f":"H$2*'Load point'!$G42/'Load point'!$D$1","v":52.56467883209767},{"$f":"I$2*'Load point'!$G42/'Load point'!$D$1","v":57.793884899136934},{"$f":"J$2*'Load point'!$G42/'Load point'!$D$1","v":59.466394398062477},{"$f":"K$2*'Load point'!$G42/'Load point'!$D$1","v":60.310595816136157},{"$f":"L$2*'Load point'!$G42/'Load point'!$D$1","v":59.876016611151478},{"$f":"M$2*'Load point'!$G42/'Load point'!$D$1","v":59.867096209456214},{"$f":"N$2*'Load point'!$G42/'Load point'!$D$1","v":60.274902594248736},{"$f":"O$2*'Load point'!$G42/'Load point'!$D$1","v":60.019610299551601},{"$f":"P$2*'Load point'!$G42/'Load point'!$D$1","v":59.241200715682602},{"$f":"Q$2*'Load point'!$G42/'Load point'!$D$1","v":59.576130051382286},{"$f":"R$2*'Load point'!$G42/'Load point'!$D$1","v":59.829474879910698},{"$f":"S$2*'Load point'!$G42/'Load point'!$D$1","v":61.401471119977444},{"$f":"T$2*'Load point'!$G42/'Load point'!$D$1","v":63.680668598436057},{"$f":"U$2*'Load point'!$G42/'Load point'!$D$1","v":65.439819047507683},{"$f":"V$2*'Load point'!$G42/'Load point'!$D$1","v":71.124786401855758},{"$f":"W$2*'Load point'!$G42/'Load point'!$D$1","v":75.004301621423139},{"$f":"X$2*'Load point'!$G42/'Load point'!$D$1","v":77.587594199860476},{"$f":"Y$2*'Load point'!$G42/'Load point'!$D$1","v":78.330055029501835},{"$f":"Z$2*'Load point'!$G42/'Load point'!$D$1","v":78.991806356652106},{"$f":"AA$2*'Load point'!$G42/'Load point'!$D$1","v":80.405326085351433},{"$f":"AB$2*'Load point'!$G42/'Load point'!$D$1","v":80.325630968817038}]
[41,{"$f":"[4]Strompreise!B44","v":135},{"$f":"[4]Strompreise!C44","v":1},{"$f":"[4]Strompreise!D44","v":1},null,null,{"$f":"G$2*'Load point'!$G43/'Load point'!$D$1","v":39.997056075724039},{"$f":"H$2*'Load point'!$G43/'Load point'!$D$1","v":46.478732857211803},{"$f":"I$2*'Load point'!$G43/'Load point'!$D$1","v":51.102500703707555},{"$f":"J$2*'Load point'!$G43/'Load point'!$D$1","v":52.581366815493659},{"$f":"K$2*'Load point'!$G43/'Load point'!$D$1","v":53.327826473578092},{"$f":"L$2*'Load point'!$G43/'Load point'!$D$1","v":52.943562910619761},{"$f":"M$2*'Load point'!$G43/'Load point'!$D$1","v":52.935675314298706},{"$f":"N$2*'Load point'!$G43/'Load point'!$D$1","v":53.296265817986196},{"$f":"O$2*'Load point'!$G43/'Load point'!$D$1","v":53.070531301398852},{"$f":"P$2*'Load point'!$G43/'Load point'!$D$1","v":52.382246089618043},{"$f":"Q$2*'Load point'!$G43/'Load point'!$D$1","v":52.678397259298976},{"$f":"R$2*'Load point'!$G43/'Load point'!$D$1","v":52.902409787627001},{"$f":"S$2*'Load point'!$G43/'Load point'!$D$1","v":54.292400079929287},{"$f":"T$2*'Load point'!$G43/'Load point'!$D$1","v":56.307711750880117},{"$f":"U$2*'Load point'!$G43/'Load point'!$D$1","v":57.863187511308773},{"$f":"V$2*'Load point'!$G43/'Load point'!$D$1","v":62.889948538589444},{"$f":"W$2*'Load point'!$G43/'Load point'!$D$1","v":66.320292935474711},{"$f":"X$2*'Load point'!$G43/'Load point'!$D$1","v":68.604491532573135},{"$f":"Y$2*'Load point'!$G43/'Load point'!$D$1","v":69.260990141992437},{"$f":"Z$2*'Load point'!$G43/'Load point'!$D$1","v":69.846123806572933},{"$f":"AA$2*'Load point'!$G43/'Load point'!$D$1","v":71.095986020484119},{"$f":"AB$2*'Load point'!$G43/'Load point'!$D$1","v":71.025518015851972}]
[42,{"$f":"[4]Strompreise!B45","v":135},{"$f":"[4]Strompreise!C45","v":1},{"$f":"[4]Strompreise!D45","v":1},null,null,{"$f":"G$2*'Load point'!$G44/'Load point'!$D$1","v":36.657676067242541},{"$f":"H$2*'Load point'!$G44/'Load point'!$D$1","v":42.598193473786303},{"$f":"I$2*'Load point'!$G44/'Load point'!$D$1","v":46.835919960607612},{"$f":"J$2*'Load point'!$G44/'Load point'!$D$1","v":48.191314586903147},{"$f":"K$2*'Load point'!$G44/'Load point'!$D$1","v":48.875451846693423},{"$f":"L$2*'Load point'!$G44/'Load point'!$D$1","v":48.523270696443198},{"$f":"M$2*'Load point'!$G44/'Load point'!$D$1","v":48.51604164062622},{"$f":"N$2*'Load point'!$G44/'Load point'!$D$1","v":48.846526210592423},{"$f":"O$2*'Load point'!$G44/'Load point'!$D$1","v":48.639638414385914},{"$f":"P$2*'Load point'!$G44/'Load point'!$D$1","v":48.008818578856875},{"$f":"Q$2*'Load point'!$G44/'Load point'!$D$1","v":48.280243896373875},{"$f":"R$2*'Load point'!$G44/'Load point'!$D$1","v":48.485553474231452},{"$f":"S$2*'Load point'!$G44/'Load point'!$D$1","v":49.759492580533703},{"$f":"T$2*'Load point'!$G44/'Load point'!$D$1","v":51.606544580270452},{"$f":"U$2*'Load point'!$G44/'Load point'!$D$1","v":53.03215266623279},{"$f":"V$2*'Load point'!$G44/'Load point'!$D$1","v":57.639226173258606},{"$f":"W$2*'Load point'!$G44/'Load point'!$D$1","v":60.783168903994302},{"$f":"X$2*'Load point'!$G44/'Load point'!$D$1","v":62.876658286991805},{"$f":"Y$2*'Load point'!$G44/'Load point'!$D$1","v":63.478345404091762},{"$f":"Z$2*'Load point'!$G44/'Load point'!$D$1","v":64.014625881625449},{"$f":"AA$2*'Load point'!$G44/'Load point'!$D$1","v":65.160136293179221},{"$f":"AB$2*'Load point'!$G44/'Load point'!$D$1","v":65.095551707703251}]
[43,{"$f":"[4]Strompreise!B46","v":90},{"$f":"[4]Strompreise!C46","v":1},{"$f":"[4]Strompreise!D46","v":0},null,null,{"$f":"G$2*'Load point'!$G45/'Load point'!$D$1","v":33.869411226498642},{"$f":"H$2*'Load point'!$G45/'Load point'!$D$1","v":39.358079590836084},{"$f":"I$2*'Load point'!$G45/'Load point'!$D$1","v":43.273475121755588},{"$f":"J$2*'Load point'!$G45/'Load point'!$D$1","v":44.525775400910824},{"$f":"K$2*'Load point'!$G45/'Load point'!$D$1","v":45.157875650383886},{"$f":"L$2*'Load point'!$G45/'Load point'!$D$1","v":44.832482186211038},{"$f":"M$2*'Load point'!$G45/'Load point'!$D$1","v":44.825802988550087},{"$f":"N$2*'Load point'!$G45/'Load point'!$D$1","v":45.131150162868103},{"$f":"O$2*'Load point'!$G45/'Load point'!$D$1","v":44.939998715225627},{"$f":"P$2*'Load point'!$G45/'Load point'!$D$1","v":44.357160447459442},{"$f":"Q$2*'Load point'!$G45/'Load point'!$D$1","v":44.607940548178419},{"$f":"R$2*'Load point'!$G45/'Load point'!$D$1","v":44.797633820289867},{"$f":"S$2*'Load point'!$G45/'Load point'!$D$1","v":45.974674268509276},{"$f":"T$2*'Load point'!$G45/'Load point'!$D$1","v":47.68123536149993},{"$f":"U$2*'Load point'!$G45/'Load point'!$D$1","v":48.998408507520146},{"$f":"V$2*'Load point'!$G45/'Load point'!$D$1","v":53.255057698099954},{"$f":"W$2*'Load point'!$G45/'Load point'!$D$1","v":56.159865112092106},{"$f":"X$2*'Load point'!$G45/'Load point'!$D$1","v":58.094119009720181},{"$f":"Y$2*'Load point'!$G45/'Load point'!$D$1","v":58.650040458787579},{"$f":"Z$2*'Load point'!$G45/'Load point'!$D$1","v":59.145530243601364},{"$f":"AA$2*'Load point'!$G45/'Load point'!$D$1","v":60.203910570875315},{"$f":"AB$2*'Load point'!$G45/'Load point'!$D$1","v":60.14423843343905}]
[44,{"$f":"[4]Strompreise!B47","v":90},{"$f":"[4]Strompreise!C47","v":0.77500000000000002},{"$f":"[4]Strompreise!D47","v":0},null,null,{"$f":"G$2*'Load point'!$G46/'Load point'!$D$1","v":33.605184672459934},{"$f":"H$2*'Load point'!$G46/'Load point'!$D$1","v":39.051034107396106},{"$f":"I$2*'Load point'!$G46/'Load point'!$D$1","v":42.935884334120182},{"$f":"J$2*'Load point'!$G46/'Load point'!$D$1","v":44.178415001835454},{"$f":"K$2*'Load point'!$G46/'Load point'!$D$1","v":44.805584026800119},{"$f":"L$2*'Load point'!$G46/'Load point'!$D$1","v":44.482729065383346},{"$f":"M$2*'Load point'!$G46/'Load point'!$D$1","v":44.476101974367232},{"$f":"N$2*'Load point'!$G46/'Load point'!$D$1","v":44.779067033710881},{"$f":"O$2*'Load point'!$G46/'Load point'!$D$1","v":44.589406822156697},{"$f":"P$2*'Load point'!$G46/'Load point'!$D$1","v":44.011115469777501},{"$f":"Q$2*'Load point'!$G46/'Load point'!$D$1","v":44.259939151431745},{"$f":"R$2*'Load point'!$G46/'Load point'!$D$1","v":44.448152563167739},{"$f":"S$2*'Load point'!$G46/'Load point'!$D$1","v":45.616010526946617},{"$f":"T$2*'Load point'!$G46/'Load point'!$D$1","v":47.309258168639232},{"$f":"U$2*'Load point'!$G46/'Load point'!$D$1","v":48.616155608385192},{"$f":"V$2*'Load point'!$G46/'Load point'!$D$1","v":52.839597261347741},{"$f":"W$2*'Load point'!$G46/'Load point'!$D$1","v":55.721743305527092},{"$f":"X$2*'Load point'!$G46/'Load point'!$D$1","v":57.640907444476206},{"$f":"Y$2*'Load point'!$G46/'Load point'!$D$1","v":58.192491965221443},{"$f":"Z$2*'Load point'!$G46/'Load point'!$D$1","v":58.684116269247056},{"$f":"AA$2*'Load point'!$G46/'Load point'!$D$1","v":59.734239819192709},{"$f":"AB$2*'Load point'!$G46/'Load point'!$D$1","v":59.675033203968837}]
[45,{"$f":"[4]Strompreise!B48","v":108},{"$f":"[4]Strompreise!C48","v":0.372},{"$f":"[4]Strompreise!D48","v":0},null,null,{"$f":"G$2*'Load point'!$G47/'Load point'!$D$1","v":23.640374151237783},{"$f":"H$2*'Load point'!$G47/'Load point'!$D$1","v":27.47138771262744},{"$f":"I$2*'Load point'!$G47/'Load point'!$D$1","v":30.204278895235404},{"$f":"J$2*'Load point'!$G47/'Load point'!$D$1","v":31.078366931515383},{"$f":"K$2*'Load point'!$G47/'Load point'!$D$1","v":31.519564042935581},{"$f":"L$2*'Load point'!$G47/'Load point'!$D$1","v":31.292443967302404},{"$f":"M$2*'Load point'!$G47/'Load point'!$D$1","v":31.287781980984448},{"$f":"N$2*'Load point'!$G47/'Load point'!$D$1","v":31.500910027369073},{"$f":"O$2*'Load point'!$G47/'Load point'!$D$1","v":31.367488997059482},{"$f":"P$2*'Load point'!$G47/'Load point'!$D$1","v":30.960676058165763},{"$f":"Q$2*'Load point'!$G47/'Load point'!$D$1","v":31.135717052266159},{"$f":"R$2*'Load point'!$G47/'Load point'!$D$1","v":31.26812029650026},{"$f":"S$2*'Load point'!$G47/'Load point'!$D$1","v":32.089678026009224},{"$f":"T$2*'Load point'!$G47/'Load point'!$D$1","v":33.280833741130728},{"$f":"U$2*'Load point'!$G47/'Load point'!$D$1","v":34.200202128896464},{"$f":"V$2*'Load point'!$G47/'Load point'!$D$1","v":37.171283581211185},{"$f":"W$2*'Load point'!$G47/'Load point'!$D$1","v":39.198798427714848},{"$f":"X$2*'Load point'!$G47/'Load point'!$D$1","v":40.548880527980067},{"$f":"Y$2*'Load point'!$G47/'Load point'!$D$1","v":40.936905904824215},{"$f":"Z$2*'Load point'!$G47/'Load point'!$D$1","v":41.282750827335001},{"$f":"AA$2*'Load point'!$G47/'Load point'!$D$1","v":42.021485456164044},{"$f":"AB$2*'Load point'!$G47/'Load point'!$D$1","v":41.979835140899816}]
[46,{"$f":"[4]Strompreise!B49","v":54},{"$f":"[4]Strompreise!C49","v":1},{"$f":"[4]Strompreise!D49","v":0},null,null,{"$f":"G$2*'Load point'!$G48/'Load point'!$D$1","v":38.657669985785972},{"$f":"H$2*'Load point'!$G48/'Load point'!$D$1","v":44.922294099593316},{"$f":"I$2*'Load point'!$G48/'Load point'!$D$1","v":49.391225291986963},{"$f":"J$2*'Load point'!$G48/'Load point'!$D$1","v":50.820568441501614},{"$f":"K$2*'Load point'!$G48/'Load point'!$D$1","v":51.542031317801786},{"$f":"L$2*'Load point'!$G48/'Load point'!$D$1","v":51.170635633672383},{"$f":"M$2*'Load point'!$G48/'Load point'!$D$1","v":51.163012170210898},{"$f":"N$2*'Load point'!$G48/'Load point'!$D$1","v":51.511527537571141},{"$f":"O$2*'Load point'!$G48/'Load point'!$D$1","v":51.293352219114865},{"$f":"P$2*'Load point'!$G48/'Load point'!$D$1","v":50.628115694638034},{"$f":"Q$2*'Load point'!$G48/'Load point'!$D$1","v":50.914349615498494},{"$f":"R$2*'Load point'!$G48/'Load point'!$D$1","v":51.130860610117487},{"$f":"S$2*'Load point'!$G48/'Load point'!$D$1","v":52.474304135099345},{"$f":"T$2*'Load point'!$G48/'Load point'!$D$1","v":54.422128828662366},{"$f":"U$2*'Load point'!$G48/'Load point'!$D$1","v":55.925516190564643},{"$f":"V$2*'Load point'!$G48/'Load point'!$D$1","v":60.783945484013806},{"$f":"W$2*'Load point'!$G48/'Load point'!$D$1","v":64.099417537289924},{"$f":"X$2*'Load point'!$G48/'Load point'!$D$1","v":66.307124909088742},{"$f":"Y$2*'Load point'!$G48/'Load point'!$D$1","v":66.941639272871171},{"$f":"Z$2*'Load point'!$G48/'Load point'!$D$1","v":67.507178498060696},{"$f":"AA$2*'Load point'!$G48/'Load point'!$D$1","v":68.715186429984655},{"$f":"AB$2*'Load point'!$G48/'Load point'!$D$1","v":68.647078195656889}]
[47,{"$f":"[4]Strompreise!B50","v":36},{"$f":"[4]Strompreise!C50","v":1},{"$f":"[4]Strompreise!D50","v":0},null,null,{"$f":"G$2*'Load point'!$G49/'Load point'!$D$1","v":55.783757188989512},{"$f":"H$2*'Load point'!$G49/'Load point'!$D$1","v":64.823729607746543},{"$f":"I$2*'Load point'!$G49/'Load point'!$D$1","v":71.272482794952381},{"$f":"J$2*'Load point'!$G49/'Load point'!$D$1","v":73.335052298535714},{"$f":"K$2*'Load point'!$G49/'Load point'!$D$1","v":74.376137028349916},{"$f":"L$2*'Load point'!$G49/'Load point'!$D$1","v":73.840205952521217},{"$f":"M$2*'Load point'!$G49/'Load point'!$D$1","v":73.82920514893344},{"$f":"N$2*'Load point'!$G49/'Load point'!$D$1","v":74.332119490035836},{"$f":"O$2*'Load point'!$G49/'Load point'!$D$1","v":74.017288332496577},{"$f":"P$2*'Load point'!$G49/'Load point'!$D$1","v":73.057339303796525},{"$f":"Q$2*'Load point'!$G49/'Load point'!$D$1","v":73.470380326351773},{"$f":"R$2*'Load point'!$G49/'Load point'!$D$1","v":73.782809832760535},{"$f":"S$2*'Load point'!$G49/'Load point'!$D$1","v":75.72142453515373},{"$f":"T$2*'Load point'!$G49/'Load point'!$D$1","v":78.532172823718199},{"$f":"U$2*'Load point'!$G49/'Load point'!$D$1","v":80.701589542009472},{"$f":"V$2*'Load point'!$G49/'Load point'!$D$1","v":87.712395938910646},{"$f":"W$2*'Load point'!$G49/'Load point'!$D$1","v":92.496685526328591},{"$f":"X$2*'Load point'!$G49/'Load point'!$D$1","v":95.682449490324601},{"$f":"Y$2*'Load point'!$G49/'Load point'!$D$1","v":96.598065853524474},{"$f":"Z$2*'Load point'!$G49/'Load point'!$D$1","v":97.414149772457534},{"$f":"AA$2*'Load point'!$G49/'Load point'!$D$1","v":99.157328323611722},{"$f":"AB$2*'Load point'!$G49/'Load point'!$D$1","v":99.059046838780716}]
[48,{"$f":"[4]Strompreise!B51","v":36},{"$f":"[4]Strompreise!C51","v":1},{"$f":"[4]Strompreise!D51","v":0},null,null,{"$f":"G$2*'Load point'!$G50/'Load point'!$D$1","v":59.790389628025345},{"$f":"H$2*'Load point'!$G50/'Load point'!$D$1","v":69.479652244613135},{"$f":"I$2*'Load point'!$G50/'Load point'!$D$1","v":76.39158297691796},{"$f":"J$2*'Load point'!$G50/'Load point'!$D$1","v":78.602295206937342},{"$f":"K$2*'Load point'!$G50/'Load point'!$D$1","v":79.71815517708049},{"$f":"L$2*'Load point'!$G50/'Load point'!$D$1","v":79.143731196834679},{"$f":"M$2*'Load point'!$G50/'Load point'!$D$1","v":79.131940267613018},{"$f":"N$2*'Load point'!$G50/'Load point'!$D$1","v":79.670976107421382},{"$f":"O$2*'Load point'!$G50/'Load point'!$D$1","v":79.333532404722391},{"$f":"P$2*'Load point'!$G50/'Load point'!$D$1","v":78.304635655179879},{"$f":"Q$2*'Load point'!$G50/'Load point'!$D$1","v":78.74734308320896},{"$f":"R$2*'Load point'!$G50/'Load point'!$D$1","v":79.082212637731516},{"$f":"S$2*'Load point'!$G50/'Load point'!$D$1","v":81.160067092783976},{"$f":"T$2*'Load point'!$G50/'Load point'!$D$1","v":84.172695567237923},{"$f":"U$2*'Load point'!$G50/'Load point'!$D$1","v":86.497929244359099},{"$f":"V$2*'Load point'!$G50/'Load point'!$D$1","v":94.012282296220391},{"$f":"W$2*'Load point'!$G50/'Load point'!$D$1","v":99.140200402487437},{"$f":"X$2*'Load point'!$G50/'Load point'!$D$1","v":102.55477981177543},{"$f":"Y$2*'Load point'!$G50/'Load point'!$D$1","v":103.53615973066553},{"$f":"Z$2*'Load point'!$G50/'Load point'!$D$1","v":104.41085835157169},{"$f":"AA$2*'Load point'!$G50/'Load point'!$D$1","v":106.27923957967042},{"$f":"AB$2*'Load point'!$G50/'Load point'!$D$1","v":106.17389909047822}]
[49,{"$f":"[4]Strompreise!B52","v":72},{"$f":"[4]Strompreise!C52","v":1},{"$f":"[4]Strompreise!D52","v":0},null,null,{"$f":"G$2*'Load point'!$G51/'Load point'!$D$1","v":53.181971152345838},{"$f":"H$2*'Load point'!$G51/'Load point'!$D$1","v":61.800314136371874},{"$f":"I$2*'Load point'!$G51/'Load point'!$D$1","v":67.948293821725002},{"$f":"J$2*'Load point'!$G51/'Load point'!$D$1","v":69.914663915221112},{"$f":"K$2*'Load point'!$G51/'Load point'!$D$1","v":70.907191863465059},{"$f":"L$2*'Load point'!$G51/'Load point'!$D$1","v":70.396256916616522},{"$f":"M$2*'Load point'!$G51/'Load point'!$D$1","v":70.385769196740014},{"$f":"N$2*'Load point'!$G51/'Load point'!$D$1","v":70.865227328073743},{"$f":"O$2*'Load point'!$G51/'Load point'!$D$1","v":70.565080074073137},{"$f":"P$2*'Load point'!$G51/'Load point'!$D$1","v":69.64990361188022},{"$f":"Q$2*'Load point'!$G51/'Load point'!$D$1","v":70.04368016715685},{"$f":"R$2*'Load point'!$G51/'Load point'!$D$1","v":70.341537784396223},{"$f":"S$2*'Load point'!$G51/'Load point'!$D$1","v":72.189734398849751},{"$f":"T$2*'Load point'!$G51/'Load point'!$D$1","v":74.869387794954193},{"$f":"U$2*'Load point'!$G51/'Load point'!$D$1","v":76.937621688535614},{"$f":"V$2*'Load point'!$G51/'Load point'!$D$1","v":83.621440103482243},{"$f":"W$2*'Load point'!$G51/'Load point'!$D$1","v":88.18258771425576},{"$f":"X$2*'Load point'!$G51/'Load point'!$D$1","v":91.219765842244243},{"$f":"Y$2*'Load point'!$G51/'Load point'!$D$1","v":92.092677339570244},{"$f":"Z$2*'Load point'!$G51/'Load point'!$D$1","v":92.870698642214919},{"$f":"AA$2*'Load point'!$G51/'Load point'!$D$1","v":94.532574358237284},{"$f":"AB$2*'Load point'!$G51/'Load point'!$D$1","v":94.438876777534986}]
[50,{"$f":"[4]Strompreise!B53","v":54},{"$f":"[4]Strompreise!C53","v":1},{"$f":"[4]Strompreise!D53","v":0},null,null,{"$f":"G$2*'Load point'!$G52/'Load point'!$D$1","v":42.420595493969032},{"$f":"H$2*'Load point'!$G52/'Load point'!$D$1","v":49.295016160069672},{"$f":"I$2*'Load point'!$G52/'Load point'!$D$1","v":54.198951717298449},{"$f":"J$2*'Load point'!$G52/'Load point'!$D$1","v":55.767426682032003},{"$f":"K$2*'Load point'!$G52/'Load point'!$D$1","v":56.559116529110149},{"$f":"L$2*'Load point'!$G52/'Load point'!$D$1","v":56.151569305222829},{"$f":"M$2*'Load point'!$G52/'Load point'!$D$1","v":56.143203776211855},{"$f":"N$2*'Load point'!$G52/'Load point'!$D$1","v":56.525643520450366},{"$f":"O$2*'Load point'!$G52/'Load point'!$D$1","v":56.286231084718864},{"$f":"P$2*'Load point'!$G52/'Load point'!$D$1","v":55.556240644968589},{"$f":"Q$2*'Load point'!$G52/'Load point'!$D$1","v":55.870336486180406},{"$f":"R$2*'Load point'!$G52/'Load point'!$D$1","v":56.107922593312729},{"$f":"S$2*'Load point'!$G52/'Load point'!$D$1","v":57.582136490922224},{"$f":"T$2*'Load point'!$G52/'Load point'!$D$1","v":59.719561831072909},{"$f":"U$2*'Load point'!$G52/'Load point'!$D$1","v":61.369288448674304},{"$f":"V$2*'Load point'!$G52/'Load point'!$D$1","v":66.70063573031949},{"$f":"W$2*'Load point'!$G52/'Load point'!$D$1","v":70.338834796515115},{"$f":"X$2*'Load point'!$G52/'Load point'!$D$1","v":72.761439713535879},{"$f":"Y$2*'Load point'!$G52/'Load point'!$D$1","v":73.45771750707658},{"$f":"Z$2*'Load point'!$G52/'Load point'!$D$1","v":74.078306143602234},{"$f":"AA$2*'Load point'!$G52/'Load point'!$D$1","v":75.403901189876208},{"$f":"AB$2*'Load point'!$G52/'Load point'!$D$1","v":75.329163321316386}]
[51,{"$f":"[4]Strompreise!B54","v":72},{"$f":"[4]Strompreise!C54","v":0.75800000000000001},{"$f":"[4]Strompreise!D54","v":0},null,null,{"$f":"G$2*'Load point'!$G53/'Load point'!$D$1","v":36.830225803579538},{"$f":"H$2*'Load point'!$G53/'Load point'!$D$1","v":42.798705558590889},{"$f":"I$2*'Load point'!$G53/'Load point'!$D$1","v":47.056379261559449},{"$f":"J$2*'Load point'!$G53/'Load point'!$D$1","v":48.418153806346567},{"$f":"K$2*'Load point'!$G53/'Load point'!$D$1","v":49.105511338572519},{"$f":"L$2*'Load point'!$G53/'Load point'!$D$1","v":48.751672451904227},{"$f":"M$2*'Load point'!$G53/'Load point'!$D$1","v":48.744409368516244},{"$f":"N$2*'Load point'!$G53/'Load point'!$D$1","v":49.07644954788077},{"$f":"O$2*'Load point'!$G53/'Load point'!$D$1","v":48.86858791921906},{"$f":"P$2*'Load point'!$G53/'Load point'!$D$1","v":48.234798779359402},{"$f":"Q$2*'Load point'!$G53/'Load point'!$D$1","v":48.507501711062503},{"$f":"R$2*'Load point'!$G53/'Load point'!$D$1","v":48.713777692613036},{"$f":"S$2*'Load point'!$G53/'Load point'!$D$1","v":49.993713301707729},{"$f":"T$2*'Load point'!$G53/'Load point'!$D$1","v":51.849459478755968},{"$f":"U$2*'Load point'!$G53/'Load point'!$D$1","v":53.281777981900809},{"$f":"V$2*'Load point'!$G53/'Load point'!$D$1","v":57.910537242204171},{"$f":"W$2*'Load point'!$G53/'Load point'!$D$1","v":61.069278687627943},{"$f":"X$2*'Load point'!$G53/'Load point'!$D$1","v":63.172622242515615},{"$f":"Y$2*'Load point'!$G53/'Load point'!$D$1","v":63.77714153460731},{"$f":"Z$2*'Load point'!$G53/'Load point'!$D$1","v":64.315946314413495},{"$f":"AA$2*'Load point'!$G53/'Load point'!$D$1","v":65.466848707693629},{"$f":"AB$2*'Load point'!$G53/'Load point'!$D$1","v":65.401960118953099}]
[52,{"$f":"[4]Strompreise!B55","v":180},{"$f":"[4]Strompreise!C55","v":0.82699999999999996},{"$f":"[4]Strompreise!D55","v":0},null,null,{"$f":"G$2*'Load point'!$G54/'Load point'!$D$1","v":23.054350898929204},{"$f":"H$2*'Load point'!$G54/'Load point'!$D$1","v":26.790397138206227},{"$f":"I$2*'Load point'!$G54/'Load point'!$D$1","v":29.455542448063124},{"$f":"J$2*'Load point'!$G54/'Load point'!$D$1","v":30.307962641416935},{"$f":"K$2*'Load point'!$G54/'Load point'!$D$1","v":30.738222879990303},{"$f":"L$2*'Load point'!$G54/'Load point'!$D$1","v":30.516732903294464},{"$f":"M$2*'Load point'!$G54/'Load point'!$D$1","v":30.512186483353197},{"$f":"N$2*'Load point'!$G54/'Load point'!$D$1","v":30.720031280407611},{"$f":"O$2*'Load point'!$G54/'Load point'!$D$1","v":30.589917635404536},{"$f":"P$2*'Load point'!$G54/'Load point'!$D$1","v":30.193189217170538},{"$f":"Q$2*'Load point'!$G54/'Load point'!$D$1","v":30.363891105130154},{"$f":"R$2*'Load point'!$G54/'Load point'!$D$1","v":30.493012194043622},{"$f":"S$2*'Load point'!$G54/'Load point'!$D$1","v":31.294204258883905},{"$f":"T$2*'Load point'!$G54/'Load point'!$D$1","v":32.455832313329836},{"$f":"U$2*'Load point'!$G54/'Load point'!$D$1","v":33.352410399672195},{"$f":"V$2*'Load point'!$G54/'Load point'!$D$1","v":36.249841460312886},{"$f":"W$2*'Load point'!$G54/'Load point'!$D$1","v":38.227096068258106},{"$f":"X$2*'Load point'!$G54/'Load point'!$D$1","v":39.543710868123618},{"$f":"Y$2*'Load point'!$G54/'Load point'!$D$1","v":39.922117450787027},{"$f":"Z$2*'Load point'!$G54/'Load point'!$D$1","v":40.259389193999226},{"$f":"AA$2*'Load point'!$G54/'Load point'!$D$1","v":40.979811267070481},{"$f":"AB$2*'Load point'!$G54/'Load point'!$D$1","v":40.939193425025792}]
[53,{"$f":"[4]Strompreise!B56","v":90},{"$f":"[4]Strompreise!C56","v":1},{"$f":"[4]Strompreise!D56","v":0},null,null,{"$f":"G$2*'Load point'!$G55/'Load point'!$D$1","v":17.973210835989949},{"$f":"H$2*'Load point'!$G55/'Load point'!$D$1","v":20.885838784003532},{"$f":"I$2*'Load point'!$G55/'Load point'!$D$1","v":22.963590561644455},{"$f":"J$2*'Load point'!$G55/'Load point'!$D$1","v":23.628138781768708},{"$f":"K$2*'Load point'!$G55/'Load point'!$D$1","v":23.963570389282829},{"$f":"L$2*'Load point'!$G55/'Load point'!$D$1","v":23.790896429965343},{"$f":"M$2*'Load point'!$G55/'Load point'!$D$1","v":23.787352033312771},{"$f":"N$2*'Load point'!$G55/'Load point'!$D$1","v":23.949388187572751},{"$f":"O$2*'Load point'!$G55/'Load point'!$D$1","v":23.847951370525429},{"$f":"P$2*'Load point'!$G55/'Load point'!$D$1","v":23.538661226690596},{"$f":"Q$2*'Load point'!$G55/'Load point'!$D$1","v":23.671740706388384},{"$f":"R$2*'Load point'!$G55/'Load point'!$D$1","v":23.772403725034557},{"$f":"S$2*'Load point'!$G55/'Load point'!$D$1","v":24.397014409786713},{"$f":"T$2*'Load point'!$G55/'Load point'!$D$1","v":25.302621599817261},{"$f":"U$2*'Load point'!$G55/'Load point'!$D$1","v":26.00159538777622},{"$f":"V$2*'Load point'!$G55/'Load point'!$D$1","v":28.260437528417878},{"$f":"W$2*'Load point'!$G55/'Load point'!$D$1","v":29.801908554899157},{"$f":"X$2*'Load point'!$G55/'Load point'!$D$1","v":30.828343673003769},{"$f":"Y$2*'Load point'!$G55/'Load point'!$D$1","v":31.123350082932742},{"$f":"Z$2*'Load point'!$G55/'Load point'!$D$1","v":31.386287702662312},{"$f":"AA$2*'Load point'!$G55/'Load point'!$D$1","v":31.947929965633687},{"$f":"AB$2*'Load point'!$G55/'Load point'!$D$1","v":31.916264227484184}]
[54,{"$f":"[4]Strompreise!B57","v":90},{"$f":"[4]Strompreise!C57","v":1},{"$f":"[4]Strompreise!D57","v":0},null,null,{"$f":"G$2*'Load point'!$G56/'Load point'!$D$1","v":25.365225552453978},{"$f":"H$2*'Load point'!$G56/'Load point'!$D$1","v":29.475757917867949},{"$f":"I$2*'Load point'!$G56/'Load point'!$D$1","v":32.408046586976603},{"$f":"J$2*'Load point'!$G56/'Load point'!$D$1","v":33.345909924126126},{"$f":"K$2*'Load point'!$G56/'Load point'!$D$1","v":33.819297704398565},{"$f":"L$2*'Load point'!$G56/'Load point'!$D$1","v":33.575606470534389},{"$f":"M$2*'Load point'!$G56/'Load point'!$D$1","v":33.570604335893002},{"$f":"N$2*'Load point'!$G56/'Load point'!$D$1","v":33.799282652636848},{"$f":"O$2*'Load point'!$G56/'Load point'!$D$1","v":33.656126943442352},{"$f":"P$2*'Load point'!$G56/'Load point'!$D$1","v":33.219632077215564},{"$f":"Q$2*'Load point'!$G56/'Load point'!$D$1","v":33.407444430263702},{"$f":"R$2*'Load point'!$G56/'Load point'!$D$1","v":33.549508093570772},{"$f":"S$2*'Load point'!$G56/'Load point'!$D$1","v":34.431008402323947},{"$f":"T$2*'Load point'!$G56/'Load point'!$D$1","v":35.709073342788088},{"$f":"U$2*'Load point'!$G56/'Load point'!$D$1","v":36.695520781068282},{"$f":"V$2*'Load point'!$G56/'Load point'!$D$1","v":39.883378582749039},{"$f":"W$2*'Load point'!$G56/'Load point'!$D$1","v":42.058825175239697},{"$f":"X$2*'Load point'!$G56/'Load point'!$D$1","v":43.507412104045351},{"$f":"Y$2*'Load point'!$G56/'Load point'!$D$1","v":43.923748628195177},{"$f":"Z$2*'Load point'!$G56/'Load point'!$D$1","v":44.294827123380401},{"$f":"AA$2*'Load point'!$G56/'Load point'!$D$1","v":45.087461383895096},{"$f":"AB$2*'Load point'!$G56/'Load point'!$D$1","v":45.042772174060715}]
[55,{"$f":"[4]Strompreise!B58","v":90},{"$f":"[4]Strompreise!C58","v":1},{"$f":"[4]Strompreise!D58","v":1},null,null,{"$f":"G$2*'Load point'!$G57/'Load point'!$D$1","v":40.70103167082798},{"$f":"H$2*'Load point'!$G57/'Load point'!$D$1","v":47.296790405269498},{"$f":"I$2*'Load point'!$G57/'Load point'!$D$1","v":52.001939734322278},{"$f":"J$2*'Load point'!$G57/'Load point'!$D$1","v":53.506834903075791},{"$f":"K$2*'Load point'!$G57/'Load point'!$D$1","v":54.266432762657516},{"$f":"L$2*'Load point'!$G57/'Load point'!$D$1","v":53.875405897672699},{"$f":"M$2*'Load point'!$G57/'Load point'!$D$1","v":53.867379474251379},{"$f":"N$2*'Load point'!$G57/'Load point'!$D$1","v":54.234316617900106},{"$f":"O$2*'Load point'!$G57/'Load point'!$D$1","v":54.004609019135181},{"$f":"P$2*'Load point'!$G57/'Load point'!$D$1","v":53.304209515976346},{"$f":"Q$2*'Load point'!$G57/'Load point'!$D$1","v":53.605573149182661},{"$f":"R$2*'Load point'!$G57/'Load point'!$D$1","v":53.833528451514894},{"$f":"S$2*'Load point'!$G57/'Load point'!$D$1","v":55.247983525459098},{"$f":"T$2*'Load point'!$G57/'Load point'!$D$1","v":57.298766062820491},{"$f":"U$2*'Load point'!$G57/'Load point'!$D$1","v":58.881619262529775},{"$f":"V$2*'Load point'!$G57/'Load point'!$D$1","v":63.996854728502278},{"$f":"W$2*'Load point'!$G57/'Load point'!$D$1","v":67.487575537432392},{"$f":"X$2*'Load point'!$G57/'Load point'!$D$1","v":69.811977595097616},{"$f":"Y$2*'Load point'!$G57/'Load point'!$D$1","v":70.480031029911459},{"$f":"Z$2*'Load point'!$G57/'Load point'!$D$1","v":71.075463447954178},{"$f":"AA$2*'Load point'!$G57/'Load point'!$D$1","v":72.347324093304152},{"$f":"AB$2*'Load point'!$G57/'Load point'!$D$1","v":72.275615803501964}]
[56,{"$f":"[4]Strompreise!B59","v":90},{"$f":"[4]Strompreise!C59","v":1},{"$f":"[4]Strompreise!D59","v":1},null,null,{"$f":"G$2*'Load point'!$G58/'Load point'!$D$1","v":49.576159269893054},{"$f":"H$2*'Load point'!$G58/'Load point'!$D$1","v":57.610166568996206},{"$f":"I$2*'Load point'!$G58/'Load point'!$D$1","v":63.341304649531409},{"$f":"J$2*'Load point'!$G58/'Load point'!$D$1","v":65.174352105772925},{"$f":"K$2*'Load point'!$G58/'Load point'!$D$1","v":66.099585273626118},{"$f":"L$2*'Load point'!$G58/'Load point'!$D$1","v":65.623292429403477},{"$f":"M$2*'Load point'!$G58/'Load point'!$D$1","v":65.613515791574713},{"$f":"N$2*'Load point'!$G58/'Load point'!$D$1","v":66.060465992313908},{"$f":"O$2*'Load point'!$G58/'Load point'!$D$1","v":65.780669141119176},{"$f":"P$2*'Load point'!$G58/'Load point'!$D$1","v":64.927542920585466},{"$f":"Q$2*'Load point'!$G58/'Load point'!$D$1","v":65.294620875729734},{"$f":"R$2*'Load point'!$G58/'Load point'!$D$1","v":65.572283330731821},{"$f":"S$2*'Load point'!$G58/'Load point'!$D$1","v":67.295169634771781},{"$f":"T$2*'Load point'!$G58/'Load point'!$D$1","v":69.793138790011028},{"$f":"U$2*'Load point'!$G58/'Load point'!$D$1","v":71.721143538497316},{"$f":"V$2*'Load point'!$G58/'Load point'!$D$1","v":77.951789734766066},{"$f":"W$2*'Load point'!$G58/'Load point'!$D$1","v":82.203685170485087},{"$f":"X$2*'Load point'!$G58/'Load point'!$D$1","v":85.03493838170705},{"$f":"Y$2*'Load point'!$G58/'Load point'!$D$1","v":85.848665260990757},{"$f":"Z$2*'Load point'!$G58/'Load point'!$D$1","v":86.573935633252617},{"$f":"AA$2*'Load point'!$G58/'Load point'!$D$1","v":88.123133855866044},{"$f":"AB$2*'Load point'!$G58/'Load point'!$D$1","v":88.035789101930646}]
[57,{"$f":"[4]Strompreise!B60","v":90},{"$f":"[4]Strompreise!C60","v":1},{"$f":"[4]Strompreise!D60","v":1},null,null,{"$f":"G$2*'Load point'!$G59/'Load point'!$D$1","v":47.848776338758697},{"$f":"H$2*'Load point'!$G59/'Load point'!$D$1","v":55.602854589677051},{"$f":"I$2*'Load point'!$G59/'Load point'!$D$1","v":61.134302532006984},{"$f":"J$2*'Load point'!$G59/'Load point'!$D$1","v":62.903481085644877},{"$f":"K$2*'Load point'!$G59/'Load point'!$D$1","v":63.796476339044716},{"$f":"L$2*'Load point'!$G59/'Load point'!$D$1","v":63.336778974210716},{"$f":"M$2*'Load point'!$G59/'Load point'!$D$1","v":63.327342983934294},{"$f":"N$2*'Load point'!$G59/'Load point'!$D$1","v":63.758720091493338},{"$f":"O$2*'Load point'!$G59/'Load point'!$D$1","v":63.488672206577085},{"$f":"P$2*'Load point'!$G59/'Load point'!$D$1","v":62.665271476947787},{"$f":"Q$2*'Load point'!$G59/'Load point'!$D$1","v":63.01955932887612},{"$f":"R$2*'Load point'!$G59/'Load point'!$D$1","v":63.287547186401291},{"$f":"S$2*'Load point'!$G59/'Load point'!$D$1","v":64.950402934671857},{"$f":"T$2*'Load point'!$G59/'Load point'!$D$1","v":67.361335309635919},{"$f":"U$2*'Load point'!$G59/'Load point'!$D$1","v":69.22216255702638},{"$f":"V$2*'Load point'!$G59/'Load point'!$D$1","v":75.235714245614943},{"$f":"W$2*'Load point'!$G59/'Load point'!$D$1","v":79.339460818880852},{"$f":"X$2*'Load point'!$G59/'Load point'!$D$1","v":82.072064627994834},{"$f":"Y$2*'Load point'!$G59/'Load point'!$D$1","v":82.857438808267958},{"$f":"Z$2*'Load point'!$G59/'Load point'!$D$1","v":83.55743857304526},{"$f":"AA$2*'Load point'!$G59/'Load point'!$D$1","v":85.052658056561185},{"$f":"AB$2*'Load point'!$G59/'Load point'!$D$1","v":84.96835665732074}]
[58,{"$f":"[4]Strompreise!B61","v":135},{"$f":"[4]Strompreise!C61","v":1},{"$f":"[4]Strompreise!D61","v":1},null,null,{"$f":"G$2*'Load point'!$G60/'Load point'!$D$1","v":42.470460539177175},{"$f":"H$2*'Load point'!$G60/'Load point'!$D$1","v":49.352962027654378},{"$f":"I$2*'Load point'!$G60/'Load point'!$D$1","v":54.262662118959398},{"$f":"J$2*'Load point'!$G60/'Load point'!$D$1","v":55.832980812525918},{"$f":"K$2*'Load point'!$G60/'Load point'!$D$1","v":56.6256012842112},{"$f":"L$2*'Load point'!$G60/'Load point'!$D$1","v":56.217574992066886},{"$f":"M$2*'Load point'!$G60/'Load point'!$D$1","v":56.209199629448499},{"$f":"N$2*'Load point'!$G60/'Load point'!$D$1","v":56.59208892831758},{"$f":"O$2*'Load point'!$G60/'Load point'!$D$1","v":56.352395065326704},{"$f":"P$2*'Load point'!$G60/'Load point'!$D$1","v":55.621546528092033},{"$f":"Q$2*'Load point'!$G60/'Load point'!$D$1","v":55.936011586264136},{"$f":"R$2*'Load point'!$G60/'Load point'!$D$1","v":56.173876973822267},{"$f":"S$2*'Load point'!$G60/'Load point'!$D$1","v":57.64982379719094},{"$f":"T$2*'Load point'!$G60/'Load point'!$D$1","v":59.789761662448228},{"$f":"U$2*'Load point'!$G60/'Load point'!$D$1","v":61.441427519501815},{"$f":"V$2*'Load point'!$G60/'Load point'!$D$1","v":66.779041754029777},{"$f":"W$2*'Load point'!$G60/'Load point'!$D$1","v":70.421517491941088},{"$f":"X$2*'Load point'!$G60/'Load point'!$D$1","v":72.84697016020867},{"$f":"Y$2*'Load point'!$G60/'Load point'!$D$1","v":73.544066422308063},{"$f":"Z$2*'Load point'!$G60/'Load point'!$D$1","v":74.165384555439203},{"$f":"AA$2*'Load point'!$G60/'Load point'!$D$1","v":75.492537827290647},{"$f":"AB$2*'Load point'!$G60/'Load point'!$D$1","v":75.417712105009045}]
[59,{"$f":"[4]Strompreise!B62","v":135},{"$f":"[4]Strompreise!C62","v":1},{"$f":"[4]Strompreise!D62","v":1},null,null,{"$f":"G$2*'Load point'!$G61/'Load point'!$D$1","v":38.620665706941082},{"$f":"H$2*'Load point'!$G61/'Load point'!$D$1","v":44.87929313502859},{"$f":"I$2*'Load point'!$G61/'Load point'!$D$1","v":49.343946532716998},{"$f":"J$2*'Load point'!$G61/'Load point'!$D$1","v":50.771921472184616},{"$f":"K$2*'Load point'!$G61/'Load point'!$D$1","v":51.492693742624141},{"$f":"L$2*'Load point'!$G61/'Load point'!$D$1","v":51.121653569560522},{"$f":"M$2*'Load point'!$G61/'Load point'!$D$1","v":51.114037403506451},{"$f":"N$2*'Load point'!$G61/'Load point'!$D$1","v":51.462219161524992},{"$f":"O$2*'Load point'!$G61/'Load point'!$D$1","v":51.244252687014161},{"$f":"P$2*'Load point'!$G61/'Load point'!$D$1","v":50.579652946850992},{"$f":"Q$2*'Load point'!$G61/'Load point'!$D$1","v":50.865612876034604},{"$f":"R$2*'Load point'!$G61/'Load point'!$D$1","v":51.081916619848748},{"$f":"S$2*'Load point'!$G61/'Load point'!$D$1","v":52.424074160475392},{"$f":"T$2*'Load point'!$G61/'Load point'!$D$1","v":54.370034337937788},{"$f":"U$2*'Load point'!$G61/'Load point'!$D$1","v":55.871982612456563},{"$f":"V$2*'Load point'!$G61/'Load point'!$D$1","v":60.725761271959371},{"$f":"W$2*'Load point'!$G61/'Load point'!$D$1","v":64.038059656144554},{"$f":"X$2*'Load point'!$G61/'Load point'!$D$1","v":66.243653744364082},{"$f":"Y$2*'Load point'!$G61/'Load point'!$D$1","v":66.877560732004682},{"$f":"Z$2*'Load point'!$G61/'Load point'!$D$1","v":67.442558606119647},{"$f":"AA$2*'Load point'!$G61/'Load point'!$D$1","v":68.649410196692031},{"$f":"AB$2*'Load point'!$G61/'Load point'!$D$1","v":68.581367157604845}]
[60,{"$f":"[4]Strompreise!B63","v":90},{"$f":"[4]Strompreise!C63","v":1},{"$f":"[4]Strompreise!D63","v":0},null,null,{"$f":"G$2*'Load point'!$G62/'Load point'!$D$1","v":35.315663819190014},{"$f":"H$2*'Load point'!$G62/'Load point'!$D$1","v":41.038702979029672},{"$f":"I$2*'Load point'!$G62/'Load point'!$D$1","v":45.121289220768922},{"$f":"J$2*'Load point'!$G62/'Load point'!$D$1","v":46.427063784240595},{"$f":"K$2*'Load point'!$G62/'Load point'!$D$1","v":47.086155250612229},{"$f":"L$2*'Load point'!$G62/'Load point'!$D$1","v":46.746867209469691},{"$f":"M$2*'Load point'!$G62/'Load point'!$D$1","v":46.739902804402277},{"$f":"N$2*'Load point'!$G62/'Load point'!$D$1","v":47.058288562106796},{"$f":"O$2*'Load point'!$G62/'Load point'!$D$1","v":46.858974785485501},{"$f":"P$2*'Load point'!$G62/'Load point'!$D$1","v":46.251248829231329},{"$f":"Q$2*'Load point'!$G62/'Load point'!$D$1","v":46.512737453001819},{"$f":"R$2*'Load point'!$G62/'Load point'!$D$1","v":46.710530788759861},{"$f":"S$2*'Load point'!$G62/'Load point'!$D$1","v":47.937831862667629},{"$f":"T$2*'Load point'!$G62/'Load point'!$D$1","v":49.717264562100411},{"$f":"U$2*'Load point'!$G62/'Load point'!$D$1","v":51.090682118887493},{"$f":"V$2*'Load point'!$G62/'Load point'!$D$1","v":55.529093841059144},{"$f":"W$2*'Load point'!$G62/'Load point'!$D$1","v":58.557938995939693},{"$f":"X$2*'Load point'!$G62/'Load point'!$D$1","v":60.574787175932485},{"$f":"Y$2*'Load point'!$G62/'Load point'!$D$1","v":61.154446942494388},{"$f":"Z$2*'Load point'!$G62/'Load point'!$D$1","v":61.671094561471477},{"$f":"AA$2*'Load point'!$G62/'Load point'!$D$1","v":62.774668626603379},{"$f":"AB$2*'Load point'!$G62/'Load point'!$D$1","v":62.712448438275359}]
[61,{"$f":"[4]Strompreise!B64","v":90},{"$f":"[4]Strompreise!C64","v":0.77800000000000002},{"$f":"[4]Strompreise!D64","v":0},null,null,{"$f":"G$2*'Load point'!$G63/'Load point'!$D$1","v":34.172474972952941},{"$f":"H$2*'Load point'!$G63/'Load point'!$D$1","v":39.710255983105725},{"$f":"I$2*'Load point'!$G63/'Load point'!$D$1","v":43.660686502691412},{"$f":"J$2*'Load point'!$G63/'Load point'!$D$1","v":44.924192374165585},{"$f":"K$2*'Load point'!$G63/'Load point'!$D$1","v":45.561948661426221},{"$f":"L$2*'Load point'!$G63/'Load point'!$D$1","v":45.233643574088021},{"$f":"M$2*'Load point'!$G63/'Load point'!$D$1","v":45.226904610916151},{"$f":"N$2*'Load point'!$G63/'Load point'!$D$1","v":45.534984034047092},{"$f":"O$2*'Load point'!$G63/'Load point'!$D$1","v":45.34212216181308},{"$f":"P$2*'Load point'!$G63/'Load point'!$D$1","v":44.754068652842236},{"$f":"Q$2*'Load point'!$G63/'Load point'!$D$1","v":45.007092735789051},{"$f":"R$2*'Load point'!$G63/'Load point'!$D$1","v":45.198483384726423},{"$f":"S$2*'Load point'!$G63/'Load point'!$D$1","v":46.386055999731383},{"$f":"T$2*'Load point'!$G63/'Load point'!$D$1","v":48.107887414220578},{"$f":"U$2*'Load point'!$G63/'Load point'!$D$1","v":49.436846635460469},{"$f":"V$2*'Load point'!$G63/'Load point'!$D$1","v":53.73158435502036},{"$f":"W$2*'Load point'!$G63/'Load point'!$D$1","v":56.662384007605766},{"$f":"X$2*'Load point'!$G63/'Load point'!$D$1","v":58.613945623661216},{"$f":"Y$2*'Load point'!$G63/'Load point'!$D$1","v":59.174841462037072},{"$f":"Z$2*'Load point'!$G63/'Load point'!$D$1","v":59.674764893172934},{"$f":"AA$2*'Load point'!$G63/'Load point'!$D$1","v":60.742615615577527},{"$f":"AB$2*'Load point'!$G63/'Load point'!$D$1","v":60.68240953140657}]
[62,{"$f":"[4]Strompreise!B65","v":108},{"$f":"[4]Strompreise!C65","v":0.246},{"$f":"[4]Strompreise!D65","v":0},null,null,{"$f":"G$2*'Load point'!$G64/'Load point'!$D$1","v":21.539683248527702},{"$f":"H$2*'Load point'!$G64/'Load point'!$D$1","v":25.030271769049346},{"$f":"I$2*'Load point'!$G64/'Load point'!$D$1","v":27.520317402400188},{"$f":"J$2*'Load point'!$G64/'Load point'!$D$1","v":28.316733707503911},{"$f":"K$2*'Load point'!$G64/'Load point'!$D$1","v":28.718725908192447},{"$f":"L$2*'Load point'!$G64/'Load point'!$D$1","v":28.511787792187032},{"$f":"M$2*'Load point'!$G64/'Load point'!$D$1","v":28.507540071404133},{"$f":"N$2*'Load point'!$G64/'Load point'!$D$1","v":28.701729494174415},{"$f":"O$2*'Load point'!$G64/'Load point'!$D$1","v":28.580164297567304},{"$f":"P$2*'Load point'!$G64/'Load point'!$D$1","v":28.20950088128146},{"$f":"Q$2*'Load point'!$G64/'Load point'!$D$1","v":28.368987678923052},{"$f":"R$2*'Load point'!$G64/'Load point'!$D$1","v":28.489625530237713},{"$f":"S$2*'Load point'!$G64/'Load point'!$D$1","v":29.238179387752531},{"$f":"T$2*'Load point'!$G64/'Load point'!$D$1","v":30.323488640442484},{"$f":"U$2*'Load point'!$G64/'Load point'!$D$1","v":31.161161671101635},{"$f":"V$2*'Load point'!$G64/'Load point'!$D$1","v":33.868231913688462},{"$f":"W$2*'Load point'!$G64/'Load point'!$D$1","v":35.715581168653173},{"$f":"X$2*'Load point'!$G64/'Load point'!$D$1","v":36.945694559125776},{"$f":"Y$2*'Load point'!$G64/'Load point'!$D$1","v":37.299239881891999},{"$f":"Z$2*'Load point'!$G64/'Load point'!$D$1","v":37.614352918442805},{"$f":"AA$2*'Load point'!$G64/'Load point'!$D$1","v":38.287443361423932},{"$f":"AB$2*'Load point'!$G64/'Load point'!$D$1","v":38.249494105957268}]
[63,{"$f":"[4]Strompreise!B66","v":54},{"$f":"[4]Strompreise!C66","v":1},{"$f":"[4]Strompreise!D66","v":0},null,null,{"$f":"G$2*'Load point'!$G65/'Load point'!$D$1","v":35.821113480630771},{"$f":"H$2*'Load point'!$G65/'Load point'!$D$1","v":41.626062702265202},{"$f":"I$2*'Load point'!$G65/'Load point'!$D$1","v":45.767080291755818},{"$f":"J$2*'Load point'!$G65/'Load point'!$D$1","v":47.091543540067285},{"$f":"K$2*'Load point'!$G65/'Load point'!$D$1","v":47.760068145236524},{"$f":"L$2*'Load point'!$G65/'Load point'!$D$1","v":47.415924099506199},{"$f":"M$2*'Load point'!$G65/'Load point'!$D$1","v":47.408860017530507},{"$f":"N$2*'Load point'!$G65/'Load point'!$D$1","v":47.731802619310308},{"$f":"O$2*'Load point'!$G65/'Load point'!$D$1","v":47.52963619686507},{"$f":"P$2*'Load point'!$G65/'Load point'!$D$1","v":46.913212262274435},{"$f":"Q$2*'Load point'!$G65/'Load point'!$D$1","v":47.178443399198059},{"$f":"R$2*'Load point'!$G65/'Load point'!$D$1","v":47.379067619718917},{"$f":"S$2*'Load point'!$G65/'Load point'!$D$1","v":48.623934239483859},{"$f":"T$2*'Load point'!$G65/'Load point'!$D$1","v":50.428834778345895},{"$f":"U$2*'Load point'!$G65/'Load point'!$D$1","v":51.821909149249493},{"$f":"V$2*'Load point'!$G65/'Load point'!$D$1","v":56.323844913154915},{"$f":"W$2*'Load point'!$G65/'Load point'!$D$1","v":59.396039918853198},{"$f":"X$2*'Load point'!$G65/'Load point'!$D$1","v":61.441753908504097},{"$f":"Y$2*'Load point'!$G65/'Load point'!$D$1","v":62.029709960653598},{"$f":"Z$2*'Load point'!$G65/'Load point'!$D$1","v":62.553752014163564},{"$f":"AA$2*'Load point'!$G65/'Load point'!$D$1","v":63.673120802578929},{"$f":"AB$2*'Load point'!$G65/'Load point'!$D$1","v":63.610010097983505}]
[64,{"$f":"[4]Strompreise!B67","v":36},{"$f":"[4]Strompreise!C67","v":1},{"$f":"[4]Strompreise!D67","v":0},null,null,{"$f":"G$2*'Load point'!$G66/'Load point'!$D$1","v":55.688016503760132},{"$f":"H$2*'Load point'!$G66/'Load point'!$D$1","v":64.712473776219412},{"$f":"I$2*'Load point'!$G66/'Load point'!$D$1","v":71.150159081300941},{"$f":"J$2*'Load point'!$G66/'Load point'!$D$1","v":73.209188632977899},{"$f":"K$2*'Load point'!$G66/'Load point'!$D$1","v":74.248486567308305},{"$f":"L$2*'Load point'!$G66/'Load point'!$D$1","v":73.713475300596457},{"$f":"M$2*'Load point'!$G66/'Load point'!$D$1","v":73.702493377495173},{"$f":"N$2*'Load point'!$G66/'Load point'!$D$1","v":74.20454457552411},{"$f":"O$2*'Load point'!$G66/'Load point'!$D$1","v":73.890253757185263},{"$f":"P$2*'Load point'!$G66/'Load point'!$D$1","v":72.931952272186535},{"$f":"Q$2*'Load point'!$G66/'Load point'!$D$1","v":73.344284399670528},{"$f":"R$2*'Load point'!$G66/'Load point'!$D$1","v":73.656177688790663},{"$f":"S$2*'Load point'!$G66/'Load point'!$D$1","v":75.591465180731277},{"$f":"T$2*'Load point'!$G66/'Load point'!$D$1","v":78.397389431247475},{"$f":"U$2*'Load point'!$G66/'Load point'!$D$1","v":80.563082817629564},{"$f":"V$2*'Load point'!$G66/'Load point'!$D$1","v":87.561856690328824},{"$f":"W$2*'Load point'!$G66/'Load point'!$D$1","v":92.337935085340291},{"$f":"X$2*'Load point'!$G66/'Load point'!$D$1","v":95.518231378453919},{"$f":"Y$2*'Load point'!$G66/'Load point'!$D$1","v":96.432276285329621},{"$f":"Z$2*'Load point'!$G66/'Load point'!$D$1","v":97.246959573729001},{"$f":"AA$2*'Load point'!$G66/'Load point'!$D$1","v":98.987146338073288},{"$f":"AB$2*'Load point'!$G66/'Load point'!$D$1","v":98.889033532032954}]
[65,{"$f":"[4]Strompreise!B68","v":36},{"$f":"[4]Strompreise!C68","v":1},{"$f":"[4]Strompreise!D68","v":0},null,null,{"$f":"G$2*'Load point'!$G67/'Load point'!$D$1","v":60.566086699933216},{"$f":"H$2*'Load point'!$G67/'Load point'!$D$1","v":70.381054010659852},{"$f":"I$2*'Load point'!$G67/'Load point'!$D$1","v":77.382657422196814},{"$f":"J$2*'Load point'!$G67/'Load point'!$D$1","v":79.622050565893559},{"$f":"K$2*'Load point'!$G67/'Load point'!$D$1","v":80.752387265773436},{"$f":"L$2*'Load point'!$G67/'Load point'!$D$1","v":80.170510934032976},{"$f":"M$2*'Load point'!$G67/'Load point'!$D$1","v":80.158567033918686},{"$f":"N$2*'Load point'!$G67/'Load point'!$D$1","v":80.704596113362953},{"$f":"O$2*'Load point'!$G67/'Load point'!$D$1","v":80.362774548372954},{"$f":"P$2*'Load point'!$G67/'Load point'!$D$1","v":79.320529295820492},{"$f":"Q$2*'Load point'!$G67/'Load point'!$D$1","v":79.768980236440314},{"$f":"R$2*'Load point'!$G67/'Load point'!$D$1","v":80.108194257264728},{"$f":"S$2*'Load point'!$G67/'Load point'!$D$1","v":82.21300598131414},{"$f":"T$2*'Load point'!$G67/'Load point'!$D$1","v":85.264719116378572},{"$f":"U$2*'Load point'!$G67/'Load point'!$D$1","v":87.620119463529264},{"$f":"V$2*'Load point'!$G67/'Load point'!$D$1","v":95.231960785593756},{"$f":"W$2*'Load point'!$G67/'Load point'!$D$1","v":100.42640649077362},{"$f":"X$2*'Load point'!$G67/'Load point'!$D$1","v":103.88528531450027},{"$f":"Y$2*'Load point'!$G67/'Load point'!$D$1","v":104.87939727167023},{"$f":"Z$2*'Load point'!$G67/'Load point'!$D$1","v":105.76544388952473},{"$f":"AA$2*'Load point'!$G67/'Load point'!$D$1","v":107.65806476310598},{"$f":"AB$2*'Load point'!$G67/'Load point'!$D$1","v":107.55135762770978}]
[66,{"$f":"[4]Strompreise!B69","v":72},{"$f":"[4]Strompreise!C69","v":1},{"$f":"[4]Strompreise!D69","v":0},null,null,{"$f":"G$2*'Load point'!$G68/'Load point'!$D$1","v":53.408686310647433},{"$f":"H$2*'Load point'!$G68/'Load point'!$D$1","v":62.063769358111941},{"$f":"I$2*'Load point'!$G68/'Load point'!$D$1","v":68.237957928871126},{"$f":"J$2*'Load point'!$G68/'Load point'!$D$1","v":70.212710673430493},{"$f":"K$2*'Load point'!$G68/'Load point'!$D$1","v":71.209469776068104},{"$f":"L$2*'Load point'!$G68/'Load point'!$D$1","v":70.696356709551438},{"$f":"M$2*'Load point'!$G68/'Load point'!$D$1","v":70.6858242804432},{"$f":"N$2*'Load point'!$G68/'Load point'!$D$1","v":71.167326345534732},{"$f":"O$2*'Load point'!$G68/'Load point'!$D$1","v":70.865899561446582},{"$f":"P$2*'Load point'!$G68/'Load point'!$D$1","v":69.946821694849049},{"$f":"Q$2*'Load point'!$G68/'Load point'!$D$1","v":70.342276922655685},{"$f":"R$2*'Load point'!$G68/'Load point'!$D$1","v":70.641404309243214},{"$f":"S$2*'Load point'!$G68/'Load point'!$D$1","v":72.497479800296063},{"$f":"T$2*'Load point'!$G68/'Load point'!$D$1","v":75.188556579752557},{"$f":"U$2*'Load point'!$G68/'Load point'!$D$1","v":77.265607370572425},{"$f":"V$2*'Load point'!$G68/'Load point'!$D$1","v":83.977918955613532},{"$f":"W$2*'Load point'!$G68/'Load point'!$D$1","v":88.558510774268171},{"$f":"X$2*'Load point'!$G68/'Load point'!$D$1","v":91.608636416332502},{"$f":"Y$2*'Load point'!$G68/'Load point'!$D$1","v":92.48526914218786},{"$f":"Z$2*'Load point'!$G68/'Load point'!$D$1","v":93.266607155721005},{"$f":"AA$2*'Load point'!$G68/'Load point'!$D$1","v":94.935567460897772},{"$f":"AB$2*'Load point'!$G68/'Load point'!$D$1","v":94.841470446677292}]
[67,{"$f":"[4]Strompreise!B70","v":54},{"$f":"[4]Strompreise!C70","v":1},{"$f":"[4]Strompreise!D70","v":0},null,null,{"$f":"G$2*'Load point'!$G69/'Load point'!$D$1","v":45.230541276897306},{"$f":"H$2*'Load point'!$G69/'Load point'!$D$1","v":52.560324465278676},{"$f":"I$2*'Load point'!$G69/'Load point'!$D$1","v":57.789097353957608},{"$f":"J$2*'Load point'!$G69/'Load point'!$D$1","v":59.461468305097299},{"$f":"K$2*'Load point'!$G69/'Load point'!$D$1","v":60.305599790989795},{"$f":"L$2*'Load point'!$G69/'Load point'!$D$1","v":59.871056585792658},{"$f":"M$2*'Load point'!$G69/'Load point'!$D$1","v":59.862136923048006},{"$f":"N$2*'Load point'!$G69/'Load point'!$D$1","v":60.269909525866964},{"$f":"O$2*'Load point'!$G69/'Load point'!$D$1","v":60.014638379140706},{"$f":"P$2*'Load point'!$G69/'Load point'!$D$1","v":59.236293277371459},{"$f":"Q$2*'Load point'!$G69/'Load point'!$D$1","v":59.571194868105913},{"$f":"R$2*'Load point'!$G69/'Load point'!$D$1","v":59.824518709988176},{"$f":"S$2*'Load point'!$G69/'Load point'!$D$1","v":61.396384728613072},{"$f":"T$2*'Load point'!$G69/'Load point'!$D$1","v":63.675393402305929},{"$f":"U$2*'Load point'!$G69/'Load point'!$D$1","v":65.434398126405682},{"$f":"V$2*'Load point'!$G69/'Load point'!$D$1","v":71.118894547918899},{"$f":"W$2*'Load point'!$G69/'Load point'!$D$1","v":74.998088395174662},{"$f":"X$2*'Load point'!$G69/'Load point'!$D$1","v":77.581166978135627},{"$f":"Y$2*'Load point'!$G69/'Load point'!$D$1","v":78.323566303609681},{"$f":"Z$2*'Load point'!$G69/'Load point'!$D$1","v":78.985262812427834},{"$f":"AA$2*'Load point'!$G69/'Load point'!$D$1","v":80.398665447604657},{"$f":"AB$2*'Load point'!$G69/'Load point'!$D$1","v":80.318976932875472}]
[68,{"$f":"[4]Strompreise!B71","v":72},{"$f":"[4]Strompreise!C71","v":0.76100000000000001},{"$f":"[4]Strompreise!D71","v":0},null,null,{"$f":"G$2*'Load point'!$G70/'Load point'!$D$1","v":38.275945678655141},{"$f":"H$2*'Load point'!$G70/'Load point'!$D$1","v":44.478709900230029},{"$f":"I$2*'Load point'!$G70/'Load point'!$D$1","v":48.903512730421326},{"$f":"J$2*'Load point'!$G70/'Load point'!$D$1","v":50.318741862624506},{"$f":"K$2*'Load point'!$G70/'Load point'!$D$1","v":51.033080669712071},{"$f":"L$2*'Load point'!$G70/'Load point'!$D$1","v":50.665352324049984},{"$f":"M$2*'Load point'!$G70/'Load point'!$D$1","v":50.657804138309814},{"$f":"N$2*'Load point'!$G70/'Load point'!$D$1","v":51.002878098384542},{"$f":"O$2*'Load point'!$G70/'Load point'!$D$1","v":50.786857147284124},{"$f":"P$2*'Load point'!$G70/'Load point'!$D$1","v":50.128189486152593},{"$f":"Q$2*'Load point'!$G70/'Load point'!$D$1","v":50.41159699649328},{"$f":"R$2*'Load point'!$G70/'Load point'!$D$1","v":50.625970058085315},{"$f":"S$2*'Load point'!$G70/'Load point'!$D$1","v":51.956147779697979},{"$f":"T$2*'Load point'!$G70/'Load point'!$D$1","v":53.88473872141212},{"$f":"U$2*'Load point'!$G70/'Load point'!$D$1","v":55.373280918065618},{"$f":"V$2*'Load point'!$G70/'Load point'!$D$1","v":60.183735758929629},{"$f":"W$2*'Load point'!$G70/'Load point'!$D$1","v":63.466469256757009},{"$f":"X$2*'Load point'!$G70/'Load point'!$D$1","v":65.652376670949536},{"$f":"Y$2*'Load point'!$G70/'Load point'!$D$1","v":66.280625536682862},{"$f":"Z$2*'Load point'!$G70/'Load point'!$D$1","v":66.840580357303509},{"$f":"AA$2*'Load point'!$G70/'Load point'!$D$1","v":68.036659841625948},{"$f":"AB$2*'Load point'!$G70/'Load point'!$D$1","v":67.969224140551432}]
[69,{"$f":"[4]Strompreise!B72","v":160},{"$f":"[4]Strompreise!C72","v":0.84899999999999998},{"$f":"[4]Strompreise!D72","v":0},null,null,{"$f":"G$2*'Load point'!$G71/'Load point'!$D$1","v":26.237740386524752},{"$f":"H$2*'Load point'!$G71/'Load point'!$D$1","v":30.489667136835276},{"$f":"I$2*'Load point'!$G71/'Load point'!$D$1","v":33.522820880306632},{"$f":"J$2*'Load point'!$G71/'Load point'!$D$1","v":34.492944907285306},{"$f":"K$2*'Load point'!$G71/'Load point'!$D$1","v":34.982616314119682},{"$f":"L$2*'Load point'!$G71/'Load point'!$D$1","v":34.730542571846904},{"$f":"M$2*'Load point'!$G71/'Load point'!$D$1","v":34.725368373422064},{"$f":"N$2*'Load point'!$G71/'Load point'!$D$1","v":34.961912783182783},{"$f":"O$2*'Load point'!$G71/'Load point'!$D$1","v":34.813832793713473},{"$f":"P$2*'Load point'!$G71/'Load point'!$D$1","v":34.362323346008154},{"$f":"Q$2*'Load point'!$G71/'Load point'!$D$1","v":34.556596081745077},{"$f":"R$2*'Load point'!$G71/'Load point'!$D$1","v":34.703546461054792},{"$f":"S$2*'Load point'!$G71/'Load point'!$D$1","v":35.615368680174377},{"$f":"T$2*'Load point'!$G71/'Load point'!$D$1","v":36.9373965894343},{"$f":"U$2*'Load point'!$G71/'Load point'!$D$1","v":37.957775916912595},{"$f":"V$2*'Load point'!$G71/'Load point'!$D$1","v":41.255289878169883},{"$f":"W$2*'Load point'!$G71/'Load point'!$D$1","v":43.505567637399096},{"$f":"X$2*'Load point'!$G71/'Load point'!$D$1","v":45.003983162493412},{"$f":"Y$2*'Load point'!$G71/'Load point'!$D$1","v":45.434640860036126},{"$f":"Z$2*'Load point'!$G71/'Load point'!$D$1","v":45.818483739712384},{"$f":"AA$2*'Load point'!$G71/'Load point'!$D$1","v":46.638383089940618},{"$f":"AB$2*'Load point'!$G71/'Load point'!$D$1","v":46.59215665748534}]
[70,{"$f":"[4]Strompreise!B73","v":80},{"$f":"[4]Strompreise!C73","v":1},{"$f":"[4]Strompreise!D73","v":0},null,null,{"$f":"G$2*'Load point'!$G72/'Load point'!$D$1","v":19.797583829969849},{"$f":"H$2*'Load point'!$G72/'Load point'!$D$1","v":23.005858438914309},{"$f":"I$2*'Load point'!$G72/'Load point'!$D$1","v":25.29451266831591},{"$f":"J$2*'Load point'!$G72/'Load point'!$D$1","v":26.026515937905465},{"$f":"K$2*'Load point'!$G72/'Load point'!$D$1","v":26.39599557232253},{"$f":"L$2*'Load point'!$G72/'Load point'!$D$1","v":26.205794321358763},{"$f":"M$2*'Load point'!$G72/'Load point'!$D$1","v":26.201890150284591},{"$f":"N$2*'Load point'!$G72/'Load point'!$D$1","v":26.380373804469752},{"$f":"O$2*'Load point'!$G72/'Load point'!$D$1","v":26.268640630733294},{"$f":"P$2*'Load point'!$G72/'Load point'!$D$1","v":25.927955952506952},{"$f":"Q$2*'Load point'!$G72/'Load point'!$D$1","v":26.074543681288834},{"$f":"R$2*'Load point'!$G72/'Load point'!$D$1","v":26.185424512121514},{"$f":"S$2*'Load point'!$G72/'Load point'!$D$1","v":26.87343638186012},{"$f":"T$2*'Load point'!$G72/'Load point'!$D$1","v":27.870967341979501},{"$f":"U$2*'Load point'!$G72/'Load point'!$D$1","v":28.640890550934444},{"$f":"V$2*'Load point'!$G72/'Load point'!$D$1","v":31.129016743082275},{"$f":"W$2*'Load point'!$G72/'Load point'!$D$1","v":32.826954977197019},{"$f":"X$2*'Load point'!$G72/'Load point'!$D$1","v":33.957578519208226},{"$f":"Y$2*'Load point'!$G72/'Load point'!$D$1","v":34.282529591347895},{"$f":"Z$2*'Load point'!$G72/'Load point'!$D$1","v":34.572156726763524},{"$f":"AA$2*'Load point'!$G72/'Load point'!$D$1","v":35.190808557262528},{"$f":"AB$2*'Load point'!$G72/'Load point'!$D$1","v":35.155928584436673}]
[71,{"$f":"[4]Strompreise!B74","v":80},{"$f":"[4]Strompreise!C74","v":1},{"$f":"[4]Strompreise!D74","v":0},null,null,{"$f":"G$2*'Load point'!$G73/'Load point'!$D$1","v":35.956163920864114},{"$f":"H$2*'Load point'!$G73/'Load point'!$D$1","v":41.78299858579549},{"$f":"I$2*'Load point'!$G73/'Load point'!$D$1","v":45.939628371394349},{"$f":"J$2*'Load point'!$G73/'Load point'!$D$1","v":47.269085025197072},{"$f":"K$2*'Load point'!$G73/'Load point'!$D$1","v":47.940130058501069},{"$f":"L$2*'Load point'!$G73/'Load point'!$D$1","v":47.594688543195865},{"$f":"M$2*'Load point'!$G73/'Load point'!$D$1","v":47.587597828676174},{"$f":"N$2*'Load point'!$G73/'Load point'!$D$1","v":47.911757967721087},{"$f":"O$2*'Load point'!$G73/'Load point'!$D$1","v":47.708829350533733},{"$f":"P$2*'Load point'!$G73/'Load point'!$D$1","v":47.090081414379561},{"$f":"Q$2*'Load point'!$G73/'Load point'!$D$1","v":47.356312508544171},{"$f":"R$2*'Load point'!$G73/'Load point'!$D$1","v":47.557693109497407},{"$f":"S$2*'Load point'!$G73/'Load point'!$D$1","v":48.807253044703863},{"$f":"T$2*'Load point'!$G73/'Load point'!$D$1","v":50.618958302589576},{"$f":"U$2*'Load point'!$G73/'Load point'!$D$1","v":52.017284752191671},{"$f":"V$2*'Load point'!$G73/'Load point'!$D$1","v":56.53619342251293},{"$f":"W$2*'Load point'!$G73/'Load point'!$D$1","v":59.619971018691722},{"$f":"X$2*'Load point'!$G73/'Load point'!$D$1","v":61.673397626629701},{"$f":"Y$2*'Load point'!$G73/'Load point'!$D$1","v":62.26357035257756},{"$f":"Z$2*'Load point'!$G73/'Load point'!$D$1","v":62.78958811547092},{"$f":"AA$2*'Load point'!$G73/'Load point'!$D$1","v":63.913177075538421},{"$f":"AB$2*'Load point'!$G73/'Load point'!$D$1","v":63.849828435055166}]
[72,{"$f":"[4]Strompreise!B75","v":80},{"$f":"[4]Strompreise!C75","v":1},{"$f":"[4]Strompreise!D75","v":1},null,null,{"$f":"G$2*'Load point'!$G74/'Load point'!$D$1","v":48.497197838145674},{"$f":"H$2*'Load point'!$G74/'Load point'!$D$1","v":56.356355287123925},{"$f":"I$2*'Load point'!$G74/'Load point'!$D$1","v":61.962762508310938},{"$f":"J$2*'Load point'!$G74/'Load point'!$D$1","v":63.755916041001825},{"$f":"K$2*'Load point'!$G74/'Load point'!$D$1","v":64.661012697310184},{"$f":"L$2*'Load point'!$G74/'Load point'!$D$1","v":64.195085755099754},{"$f":"M$2*'Load point'!$G74/'Load point'!$D$1","v":64.185521893236384},{"$f":"N$2*'Load point'!$G74/'Load point'!$D$1","v":64.622744796911604},{"$f":"O$2*'Load point'!$G74/'Load point'!$D$1","v":64.349037364816894},{"$f":"P$2*'Load point'!$G74/'Load point'!$D$1","v":63.514478340732524},{"$f":"Q$2*'Load point'!$G74/'Load point'!$D$1","v":63.873567315651655},{"$f":"R$2*'Load point'!$G74/'Load point'!$D$1","v":64.145186803945464},{"$f":"S$2*'Load point'!$G74/'Load point'!$D$1","v":65.830576700423379},{"$f":"T$2*'Load point'!$G74/'Load point'!$D$1","v":68.274180765347239},{"$f":"U$2*'Load point'!$G74/'Load point'!$D$1","v":70.160224966778699},{"$f":"V$2*'Load point'!$G74/'Load point'!$D$1","v":76.255269151119904},{"$f":"W$2*'Load point'!$G74/'Load point'!$D$1","v":80.414627543741503},{"$f":"X$2*'Load point'!$G74/'Load point'!$D$1","v":83.184262165233889},{"$f":"Y$2*'Load point'!$G74/'Load point'!$D$1","v":83.980279324126727},{"$f":"Z$2*'Load point'!$G74/'Load point'!$D$1","v":84.689765118261036},{"$f":"AA$2*'Load point'!$G74/'Load point'!$D$1","v":86.205247031322699},{"$f":"AB$2*'Load point'!$G74/'Load point'!$D$1","v":86.119803223772607}]
[73,{"$f":"[4]Strompreise!B76","v":80},{"$f":"[4]Strompreise!C76","v":1},{"$f":"[4]Strompreise!D76","v":1},null,null,{"$f":"G$2*'Load point'!$G75/'Load point'!$D$1","v":54.842514590987186},{"$f":"H$2*'Load point'!$G75/'Load point'!$D$1","v":63.729955026348541},{"$f":"I$2*'Load point'!$G75/'Load point'!$D$1","v":70.069898023820514},{"$f":"J$2*'Load point'!$G75/'Load point'!$D$1","v":72.097665671524268},{"$f":"K$2*'Load point'!$G75/'Load point'!$D$1","v":73.121184117796261},{"$f":"L$2*'Load point'!$G75/'Load point'!$D$1","v":72.594295838358164},{"$f":"M$2*'Load point'!$G75/'Load point'!$D$1","v":72.583480651972806},{"$f":"N$2*'Load point'!$G75/'Load point'!$D$1","v":73.077909289980866},{"$f":"O$2*'Load point'!$G75/'Load point'!$D$1","v":72.768390296978154},{"$f":"P$2*'Load point'!$G75/'Load point'!$D$1","v":71.824638544389543},{"$f":"Q$2*'Load point'!$G75/'Load point'!$D$1","v":72.230710301611253},{"$f":"R$2*'Load point'!$G75/'Load point'!$D$1","v":72.537868166683481},{"$f":"S$2*'Load point'!$G75/'Load point'!$D$1","v":74.443772509808028},{"$f":"T$2*'Load point'!$G75/'Load point'!$D$1","v":77.207094878090786},{"$f":"U$2*'Load point'!$G75/'Load point'!$D$1","v":79.339906901198944},{"$f":"V$2*'Load point'!$G75/'Load point'!$D$1","v":86.232419551682923},{"$f":"W$2*'Load point'!$G75/'Load point'!$D$1","v":90.935983541045516},{"$f":"X$2*'Load point'!$G75/'Load point'!$D$1","v":94.067993923332523},{"$f":"Y$2*'Load point'!$G75/'Load point'!$D$1","v":94.96816103807906},{"$f":"Z$2*'Load point'!$G75/'Load point'!$D$1","v":95.770475125312885},{"$f":"AA$2*'Load point'!$G75/'Load point'!$D$1","v":97.484240922809931},{"$f":"AB$2*'Load point'!$G75/'Load point'!$D$1","v":97.387617747221228}]
[74,{"$f":"[4]Strompreise!B77","v":80},{"$f":"[4]Strompreise!C77","v":1},{"$f":"[4]Strompreise!D77","v":1},null,null,{"$f":"G$2*'Load point'!$G76/'Load point'!$D$1","v":52.564661041942578},{"$f":"H$2*'Load point'!$G76/'Load point'!$D$1","v":61.082966548160158},{"$f":"I$2*'Load point'!$G76/'Load point'!$D$1","v":67.15958351535734},{"$f":"J$2*'Load point'!$G76/'Load point'!$D$1","v":69.103128953933606},{"$f":"K$2*'Load point'!$G76/'Load point'!$D$1","v":70.084136126921706},{"$f":"L$2*'Load point'!$G76/'Load point'!$D$1","v":69.579131861121908},{"$f":"M$2*'Load point'!$G76/'Load point'!$D$1","v":69.568765877528861},{"$f":"N$2*'Load point'!$G76/'Load point'!$D$1","v":70.042658695175007},{"$f":"O$2*'Load point'!$G76/'Load point'!$D$1","v":69.745995402571268},{"$f":"P$2*'Load point'!$G76/'Load point'!$D$1","v":68.841441857706783},{"$f":"Q$2*'Load point'!$G76/'Load point'!$D$1","v":69.230647648802531},{"$f":"R$2*'Load point'!$G76/'Load point'!$D$1","v":69.525047881620111},{"$f":"S$2*'Load point'!$G76/'Load point'!$D$1","v":71.35179154065672},{"$f":"T$2*'Load point'!$G76/'Load point'!$D$1","v":74.000340840806288},{"$f":"U$2*'Load point'!$G76/'Load point'!$D$1","v":76.04456769468004},{"$f":"V$2*'Load point'!$G76/'Load point'!$D$1","v":82.650803639585703},{"$f":"W$2*'Load point'!$G76/'Load point'!$D$1","v":87.159007696854857},{"$f":"X$2*'Load point'!$G76/'Load point'!$D$1","v":90.160931758006811},{"$f":"Y$2*'Load point'!$G76/'Load point'!$D$1","v":91.02371092888626},{"$f":"Z$2*'Load point'!$G76/'Load point'!$D$1","v":91.792701343697615},{"$f":"AA$2*'Load point'!$G76/'Load point'!$D$1","v":93.435286825463791},{"$f":"AB$2*'Load point'!$G76/'Load point'!$D$1","v":93.342676840099443}]
[75,{"$f":"[4]Strompreise!B78","v":120},{"$f":"[4]Strompreise!C78","v":1},{"$f":"[4]Strompreise!D78","v":1},null,null,{"$f":"G$2*'Load point'!$G77/'Load point'!$D$1","v":45.942906395400819},{"$f":"H$2*'Load point'!$G77/'Load point'!$D$1","v":53.38813109127225},{"$f":"I$2*'Load point'!$G77/'Load point'!$D$1","v":58.699255314101009},{"$f":"J$2*'Load point'!$G77/'Load point'!$D$1","v":60.397965519584282},{"$f":"K$2*'Load point'!$G77/'Load point'!$D$1","v":61.255391779516728},{"$f":"L$2*'Load point'!$G77/'Load point'!$D$1","v":60.81400467165723},{"$f":"M$2*'Load point'!$G77/'Load point'!$D$1","v":60.804944527361201},{"$f":"N$2*'Load point'!$G77/'Load point'!$D$1","v":61.219139405269715},{"$f":"O$2*'Load point'!$G77/'Load point'!$D$1","v":60.95984782775588},{"$f":"P$2*'Load point'!$G77/'Load point'!$D$1","v":60.169244064360981},{"$f":"Q$2*'Load point'!$G77/'Load point'!$D$1","v":60.509420237371828},{"$f":"R$2*'Load point'!$G77/'Load point'!$D$1","v":60.766733840675187},{"$f":"S$2*'Load point'!$G77/'Load point'!$D$1","v":62.363356196301993},{"$f":"T$2*'Load point'!$G77/'Load point'!$D$1","v":64.678258455127221},{"$f":"U$2*'Load point'!$G77/'Load point'!$D$1","v":66.464966885027451},{"$f":"V$2*'Load point'!$G77/'Load point'!$D$1","v":72.238992126064502},{"$f":"W$2*'Load point'!$G77/'Load point'!$D$1","v":76.179281912185587},{"$f":"X$2*'Load point'!$G77/'Load point'!$D$1","v":78.803043074415058},{"$f":"Y$2*'Load point'!$G77/'Load point'!$D$1","v":79.557134928179465},{"$f":"Z$2*'Load point'!$G77/'Load point'!$D$1","v":80.22925292430709},{"$f":"AA$2*'Load point'!$G77/'Load point'!$D$1","v":81.664916153924665},{"$f":"AB$2*'Load point'!$G77/'Load point'!$D$1","v":81.583972573113215}]
[76,{"$f":"[4]Strompreise!B79","v":120},{"$f":"[4]Strompreise!C79","v":1},{"$f":"[4]Strompreise!D79","v":1},null,null,{"$f":"G$2*'Load point'!$G78/'Load point'!$D$1","v":48.103312402805578},{"$f":"H$2*'Load point'!$G78/'Load point'!$D$1","v":55.89863920194859},{"$f":"I$2*'Load point'!$G78/'Load point'!$D$1","v":61.459512201624889},{"$f":"J$2*'Load point'!$G78/'Load point'!$D$1","v":63.238102066901156},{"$f":"K$2*'Load point'!$G78/'Load point'!$D$1","v":64.13584769250285},{"$f":"L$2*'Load point'!$G78/'Load point'!$D$1","v":63.673704924319999},{"$f":"M$2*'Load point'!$G78/'Load point'!$D$1","v":63.664218738406205},{"$f":"N$2*'Load point'!$G78/'Load point'!$D$1","v":64.097890597043119},{"$f":"O$2*'Load point'!$G78/'Load point'!$D$1","v":63.826406167015584},{"$f":"P$2*'Load point'!$G78/'Load point'!$D$1","v":62.998625279796272},{"$f":"Q$2*'Load point'!$G78/'Load point'!$D$1","v":63.354797799259899},{"$f":"R$2*'Load point'!$G78/'Load point'!$D$1","v":63.624211243386988},{"$f":"S$2*'Load point'!$G78/'Load point'!$D$1","v":65.295912709137255},{"$f":"T$2*'Load point'!$G78/'Load point'!$D$1","v":67.719670265524201},{"$f":"U$2*'Load point'!$G78/'Load point'!$D$1","v":69.590396358395424},{"$f":"V$2*'Load point'!$G78/'Load point'!$D$1","v":75.635937700531628},{"$f":"W$2*'Load point'!$G78/'Load point'!$D$1","v":79.7615145394915},{"$f":"X$2*'Load point'!$G78/'Load point'!$D$1","v":82.508654691462979},{"$f":"Y$2*'Load point'!$G78/'Load point'!$D$1","v":83.298206743521902},{"$f":"Z$2*'Load point'!$G78/'Load point'!$D$1","v":84.001930222855634},{"$f":"AA$2*'Load point'!$G78/'Load point'!$D$1","v":85.505103666981242},{"$f":"AB$2*'Load point'!$G78/'Load point'!$D$1","v":85.420353818522273}]
[77,{"$f":"[4]Strompreise!B80","v":80},{"$f":"[4]Strompreise!C80","v":1},{"$f":"[4]Strompreise!D80","v":0},null,null,{"$f":"G$2*'Load point'!$G79/'Load point'!$D$1","v":47.384071786170999},{"$f":"H$2*'Load point'!$G79/'Load point'!$D$1","v":55.062842876905933},{"$f":"I$2*'Load point'!$G79/'Load point'!$D$1","v":60.540569716255021},{"$f":"J$2*'Load point'!$G79/'Load point'!$D$1","v":62.292566109948098},{"$f":"K$2*'Load point'!$G79/'Load point'!$D$1","v":63.176888645016412},{"$f":"L$2*'Load point'!$G79/'Load point'!$D$1","v":62.721655834442664},{"$f":"M$2*'Load point'!$G79/'Load point'!$D$1","v":62.712311485958878},{"$f":"N$2*'Load point'!$G79/'Load point'!$D$1","v":63.139499083960864},{"$f":"O$2*'Load point'!$G79/'Load point'!$D$1","v":62.872073888507963},{"$f":"P$2*'Load point'!$G79/'Load point'!$D$1","v":62.056669979214341},{"$f":"Q$2*'Load point'!$G79/'Load point'!$D$1","v":62.40751700798446},{"$f":"R$2*'Load point'!$G79/'Load point'!$D$1","v":62.672902182913354},{"$f":"S$2*'Load point'!$G79/'Load point'!$D$1","v":64.319608372184803},{"$f":"T$2*'Load point'!$G79/'Load point'!$D$1","v":66.707125911151934},{"$f":"U$2*'Load point'!$G79/'Load point'!$D$1","v":68.549880911776455},{"$f":"V$2*'Load point'!$G79/'Load point'!$D$1","v":74.50502933364146},{"$f":"W$2*'Load point'!$G79/'Load point'!$D$1","v":78.568920557174678},{"$f":"X$2*'Load point'!$G79/'Load point'!$D$1","v":81.274985475899427},{"$f":"Y$2*'Load point'!$G79/'Load point'!$D$1","v":82.052732147488243},{"$f":"Z$2*'Load point'!$G79/'Load point'!$D$1","v":82.745933554974229},{"$f":"AA$2*'Load point'!$G79/'Load point'!$D$1","v":84.226631553213522},{"$f":"AB$2*'Load point'!$G79/'Load point'!$D$1","v":84.143148884294192}]
[78,{"$f":"[4]Strompreise!B81","v":80},{"$f":"[4]Strompreise!C81","v":0.78800000000000003},{"$f":"[4]Strompreise!D81","v":0},null,null,{"$f":"G$2*'Load point'!$G80/'Load point'!$D$1","v":38.510883643179881},{"$f":"H$2*'Load point'!$G80/'Load point'!$D$1","v":44.751720465569875},{"$f":"I$2*'Load point'!$G80/'Load point'!$D$1","v":49.203682759803563},{"$f":"J$2*'Load point'!$G80/'Load point'!$D$1","v":50.627598576182947},{"$f":"K$2*'Load point'!$G80/'Load point'!$D$1","v":51.346321998786678},{"$f":"L$2*'Load point'!$G80/'Load point'!$D$1","v":50.976336534521877},{"$f":"M$2*'Load point'!$G80/'Load point'!$D$1","v":50.968742017976226},{"$f":"N$2*'Load point'!$G80/'Load point'!$D$1","v":51.315934043910673},{"$f":"O$2*'Load point'!$G80/'Load point'!$D$1","v":51.098587155027488},{"$f":"P$2*'Load point'!$G80/'Load point'!$D$1","v":50.435876588179049},{"$f":"Q$2*'Load point'!$G80/'Load point'!$D$1","v":50.72102365537274},{"$f":"R$2*'Load point'!$G80/'Load point'!$D$1","v":50.936712539992698},{"$f":"S$2*'Load point'!$G80/'Load point'!$D$1","v":52.275054899756832},{"$f":"T$2*'Load point'!$G80/'Load point'!$D$1","v":54.215483543249817},{"$f":"U$2*'Load point'!$G80/'Load point'!$D$1","v":55.713162420071249},{"$f":"V$2*'Load point'!$G80/'Load point'!$D$1","v":60.553143859134522},{"$f":"W$2*'Load point'!$G80/'Load point'!$D$1","v":63.856026793177847},{"$f":"X$2*'Load point'!$G80/'Load point'!$D$1","v":66.05535131906872},{"$f":"Y$2*'Load point'!$G80/'Load point'!$D$1","v":66.687456379785942},{"$f":"Z$2*'Load point'!$G80/'Load point'!$D$1","v":67.250848206166992},{"$f":"AA$2*'Load point'!$G80/'Load point'!$D$1","v":68.454269232924872},{"$f":"AB$2*'Load point'!$G80/'Load point'!$D$1","v":68.386419611147275}]
[79,{"$f":"[4]Strompreise!B82","v":96},{"$f":"[4]Strompreise!C82","v":0.42599999999999999},{"$f":"[4]Strompreise!D82","v":0},null,null,{"$f":"G$2*'Load point'!$G81/'Load point'!$D$1","v":26.907939391720706},{"$f":"H$2*'Load point'!$G81/'Load point'!$D$1","v":31.268474468672338},{"$f":"I$2*'Load point'!$G81/'Load point'!$D$1","v":34.379105029565245},{"$f":"J$2*'Load point'!$G81/'Load point'!$D$1","v":35.37400924524232},{"$f":"K$2*'Load point'!$G81/'Load point'!$D$1","v":35.876188485636249},{"$f":"L$2*'Load point'!$G81/'Load point'!$D$1","v":35.617675943039266},{"$f":"M$2*'Load point'!$G81/'Load point'!$D$1","v":35.612369578407048},{"$f":"N$2*'Load point'!$G81/'Load point'!$D$1","v":35.854956117778428},{"$f":"O$2*'Load point'!$G81/'Load point'!$D$1","v":35.703093673716239},{"$f":"P$2*'Load point'!$G81/'Load point'!$D$1","v":35.240051175594573},{"$f":"Q$2*'Load point'!$G81/'Load point'!$D$1","v":35.439286282035283},{"$f":"R$2*'Load point'!$G81/'Load point'!$D$1","v":35.589990261943825},{"$f":"S$2*'Load point'!$G81/'Load point'!$D$1","v":36.525103448012807},{"$f":"T$2*'Load point'!$G81/'Load point'!$D$1","v":37.880900339531671},{"$f":"U$2*'Load point'!$G81/'Load point'!$D$1","v":38.927343542943035},{"$f":"V$2*'Load point'!$G81/'Load point'!$D$1","v":42.309086959324802},{"$f":"W$2*'Load point'!$G81/'Load point'!$D$1","v":44.61684428399802},{"$f":"X$2*'Load point'!$G81/'Load point'!$D$1","v":46.153534316709766},{"$f":"Y$2*'Load point'!$G81/'Load point'!$D$1","v":46.595192441736749},{"$f":"Z$2*'Load point'!$G81/'Load point'!$D$1","v":46.988839943012316},{"$f":"AA$2*'Load point'!$G81/'Load point'!$D$1","v":47.829682244912036},{"$f":"AB$2*'Load point'!$G81/'Load point'!$D$1","v":47.782275035888773}]
[80,{"$f":"[4]Strompreise!B83","v":48},{"$f":"[4]Strompreise!C83","v":1},{"$f":"[4]Strompreise!D83","v":0},null,null,{"$f":"G$2*'Load point'!$G82/'Load point'!$D$1","v":51.206379758121813},{"$f":"H$2*'Load point'!$G82/'Load point'!$D$1","v":59.504570557811938},{"$f":"I$2*'Load point'!$G82/'Load point'!$D$1","v":65.424166535395855},{"$f":"J$2*'Load point'!$G82/'Load point'!$D$1","v":67.317490373734501},{"$f":"K$2*'Load point'!$G82/'Load point'!$D$1","v":68.273148126485694},{"$f":"L$2*'Load point'!$G82/'Load point'!$D$1","v":67.781193271238322},{"$f":"M$2*'Load point'!$G82/'Load point'!$D$1","v":67.771095146720612},{"$f":"N$2*'Load point'!$G82/'Load point'!$D$1","v":68.232742479815244},{"$f":"O$2*'Load point'!$G82/'Load point'!$D$1","v":67.943745025627507},{"$f":"P$2*'Load point'!$G82/'Load point'!$D$1","v":67.062565324060955},{"$f":"Q$2*'Load point'!$G82/'Load point'!$D$1","v":67.441713960195159},{"$f":"R$2*'Load point'!$G82/'Load point'!$D$1","v":67.728506832511172},{"$f":"S$2*'Load point'!$G82/'Load point'!$D$1","v":69.508047072497334},{"$f":"T$2*'Load point'!$G82/'Load point'!$D$1","v":72.088157332570162},{"$f":"U$2*'Load point'!$G82/'Load point'!$D$1","v":74.07956095843366},{"$f":"V$2*'Load point'!$G82/'Load point'!$D$1","v":80.515090454127957},{"$f":"W$2*'Load point'!$G82/'Load point'!$D$1","v":84.906801622957332},{"$f":"X$2*'Load point'!$G82/'Load point'!$D$1","v":87.831155370006798},{"$f":"Y$2*'Load point'!$G82/'Load point'!$D$1","v":88.671640155710989},{"$f":"Z$2*'Load point'!$G82/'Load point'!$D$1","v":89.420759705435955},{"$f":"AA$2*'Load point'!$G82/'Load point'!$D$1","v":91.020900452037239},{"$f":"AB$2*'Load point'!$G82/'Load point'!$D$1","v":90.930683527092583}]
[81,{"$f":"[4]Strompreise!B84","v":32},{"$f":"[4]Strompreise!C84","v":1},{"$f":"[4]Strompreise!D84","v":0},null,null,{"$f":"G$2*'Load point'!$G83/'Load point'!$D$1","v":63.809329735503219},{"$f":"H$2*'Load point'!$G83/'Load point'!$D$1","v":74.149877054932915},{"$f":"I$2*'Load point'!$G83/'Load point'!$D$1","v":81.5264081320923},{"$f":"J$2*'Load point'!$G83/'Load point'!$D$1","v":83.885718156884238},{"$f":"K$2*'Load point'!$G83/'Load point'!$D$1","v":85.076583063710984},{"$f":"L$2*'Load point'!$G83/'Load point'!$D$1","v":84.463547935632391},{"$f":"M$2*'Load point'!$G83/'Load point'!$D$1","v":84.450964453650187},{"$f":"N$2*'Load point'!$G83/'Load point'!$D$1","v":85.026232751039984},{"$f":"O$2*'Load point'!$G83/'Load point'!$D$1","v":84.666107041429342},{"$f":"P$2*'Load point'!$G83/'Load point'!$D$1","v":83.568050775802121},{"$f":"Q$2*'Load point'!$G83/'Load point'!$D$1","v":84.040515739272166},{"$f":"R$2*'Load point'!$G83/'Load point'!$D$1","v":84.397894273779897},{"$f":"S$2*'Load point'!$G83/'Load point'!$D$1","v":86.615416201462409},{"$f":"T$2*'Load point'!$G83/'Load point'!$D$1","v":89.830545002143324},{"$f":"U$2*'Load point'!$G83/'Load point'!$D$1","v":92.312074280319777},{"$f":"V$2*'Load point'!$G83/'Load point'!$D$1","v":100.33152079368476},{"$f":"W$2*'Load point'!$G83/'Load point'!$D$1","v":105.80412298502557},{"$f":"X$2*'Load point'!$G83/'Load point'!$D$1","v":109.44822072031093},{"$f":"Y$2*'Load point'!$G83/'Load point'!$D$1","v":110.49556620893954},{"$f":"Z$2*'Load point'!$G83/'Load point'!$D$1","v":111.42905958584889},{"$f":"AA$2*'Load point'!$G83/'Load point'!$D$1","v":113.42302809144122},{"$f":"AB$2*'Load point'!$G83/'Load point'!$D$1","v":113.31060691387101}]
[82,{"$f":"[4]Strompreise!B85","v":32},{"$f":"[4]Strompreise!C85","v":1},{"$f":"[4]Strompreise!D85","v":0},null,null,{"$f":"G$2*'Load point'!$G84/'Load point'!$D$1","v":66.077973013971402},{"$f":"H$2*'Load point'!$G84/'Load point'!$D$1","v":76.786162702771648},{"$f":"I$2*'Load point'!$G84/'Load point'!$D$1","v":84.424955078019835},{"$f":"J$2*'Load point'!$G84/'Load point'!$D$1","v":86.86814676794998},{"$f":"K$2*'Load point'!$G84/'Load point'!$D$1","v":88.101351058024193},{"$f":"L$2*'Load point'!$G84/'Load point'!$D$1","v":87.466520402104379},{"$f":"M$2*'Load point'!$G84/'Load point'!$D$1","v":87.45348953363596},{"$f":"N$2*'Load point'!$G84/'Load point'!$D$1","v":88.049210616873808},{"$f":"O$2*'Load point'!$G84/'Load point'!$D$1","v":87.676281187589296},{"$f":"P$2*'Load point'!$G84/'Load point'!$D$1","v":86.539185208228659},{"$f":"Q$2*'Load point'!$G84/'Load point'!$D$1","v":87.028447941995466},{"$f":"R$2*'Load point'!$G84/'Load point'!$D$1","v":87.398532524561404},{"$f":"S$2*'Load point'!$G84/'Load point'!$D$1","v":89.694895058107434},{"$f":"T$2*'Load point'!$G84/'Load point'!$D$1","v":93.024332853622013},{"$f":"U$2*'Load point'!$G84/'Load point'!$D$1","v":95.594089115855354},{"$f":"V$2*'Load point'!$G84/'Load point'!$D$1","v":103.89865480387701},{"$f":"W$2*'Load point'!$G84/'Load point'!$D$1","v":109.56582700917309},{"$f":"X$2*'Load point'!$G84/'Load point'!$D$1","v":113.33948507470335},{"$f":"Y$2*'Load point'!$G84/'Load point'!$D$1","v":114.42406733282726},{"$f":"Z$2*'Load point'!$G84/'Load point'!$D$1","v":115.39074964125805},{"$f":"AA$2*'Load point'!$G84/'Load point'!$D$1","v":117.4556106521696},{"$f":"AB$2*'Load point'!$G84/'Load point'!$D$1","v":117.33919251130405}]
[83,{"$f":"[4]Strompreise!B86","v":64},{"$f":"[4]Strompreise!C86","v":1},{"$f":"[4]Strompreise!D86","v":0},null,null,{"$f":"G$2*'Load point'!$G85/'Load point'!$D$1","v":59.488201246424374},{"$f":"H$2*'Load point'!$G85/'Load point'!$D$1","v":69.128493073438307},{"$f":"I$2*'Load point'!$G85/'Load point'!$D$1","v":76.005490011621234},{"$f":"J$2*'Load point'!$G85/'Load point'!$D$1","v":78.205029015389201},{"$f":"K$2*'Load point'!$G85/'Load point'!$D$1","v":79.315249284560849},{"$f":"L$2*'Load point'!$G85/'Load point'!$D$1","v":78.743728517590995},{"$f":"M$2*'Load point'!$G85/'Load point'!$D$1","v":78.731997181254442},{"$f":"N$2*'Load point'!$G85/'Load point'!$D$1","v":79.268308664037036},{"$f":"O$2*'Load point'!$G85/'Load point'!$D$1","v":78.932570445564437},{"$f":"P$2*'Load point'!$G85/'Load point'!$D$1","v":77.908873873600825},{"$f":"Q$2*'Load point'!$G85/'Load point'!$D$1","v":78.349343800887212},{"$f":"R$2*'Load point'!$G85/'Load point'!$D$1","v":78.68252088126205},{"$f":"S$2*'Load point'!$G85/'Load point'!$D$1","v":80.7498735904841},{"$f":"T$2*'Load point'!$G85/'Load point'!$D$1","v":83.747275850010794},{"$f":"U$2*'Load point'!$G85/'Load point'!$D$1","v":86.06075749463804},{"$f":"V$2*'Load point'!$G85/'Load point'!$D$1","v":93.537132031864331},{"$f":"W$2*'Load point'!$G85/'Load point'!$D$1","v":98.639132975136533},{"$f":"X$2*'Load point'!$G85/'Load point'!$D$1","v":102.03645465735568},{"$f":"Y$2*'Load point'!$G85/'Load point'!$D$1","v":103.01287455488999},{"$f":"Z$2*'Load point'!$G85/'Load point'!$D$1","v":103.88315233555268},{"$f":"AA$2*'Load point'!$G85/'Load point'!$D$1","v":105.74209052267034},{"$f":"AB$2*'Load point'!$G85/'Load point'!$D$1","v":105.63728243796895}]
[84,{"$f":"[4]Strompreise!B87","v":48},{"$f":"[4]Strompreise!C87","v":1},{"$f":"[4]Strompreise!D87","v":0},null,null,{"$f":"G$2*'Load point'!$G86/'Load point'!$D$1","v":58.11017669702256},{"$f":"H$2*'Load point'!$G86/'Load point'!$D$1","v":67.527154345381248},{"$f":"I$2*'Load point'!$G86/'Load point'!$D$1","v":74.244847919057975},{"$f":"J$2*'Load point'!$G86/'Load point'!$D$1","v":76.393435327701994},{"$f":"K$2*'Load point'!$G86/'Load point'!$D$1","v":77.477937710736455},{"$f":"L$2*'Load point'!$G86/'Load point'!$D$1","v":76.919656033718496},{"$f":"M$2*'Load point'!$G86/'Load point'!$D$1","v":76.908196449916559},{"$f":"N$2*'Load point'!$G86/'Load point'!$D$1","v":77.432084454195589},{"$f":"O$2*'Load point'!$G86/'Load point'!$D$1","v":77.104123500752593},{"$f":"P$2*'Load point'!$G86/'Load point'!$D$1","v":76.104140522035166},{"$f":"Q$2*'Load point'!$G86/'Load point'!$D$1","v":76.534407108821156},{"$f":"R$2*'Load point'!$G86/'Load point'!$D$1","v":76.859866252085169},{"$f":"S$2*'Load point'!$G86/'Load point'!$D$1","v":78.879329418071933},{"$f":"T$2*'Load point'!$G86/'Load point'!$D$1","v":81.807297843468234},{"$f":"U$2*'Load point'!$G86/'Load point'!$D$1","v":84.067188449299721},{"$f":"V$2*'Load point'!$G86/'Load point'!$D$1","v":91.370375237746345},{"$f":"W$2*'Load point'!$G86/'Load point'!$D$1","v":96.35419001294504},{"$f":"X$2*'Load point'!$G86/'Load point'!$D$1","v":99.672813859589681},{"$f":"Y$2*'Load point'!$G86/'Load point'!$D$1","v":100.62661531243859},{"$f":"Z$2*'Load point'!$G86/'Load point'!$D$1","v":101.47673339552389},{"$f":"AA$2*'Load point'!$G86/'Load point'!$D$1","v":103.29260989302921},{"$f":"AB$2*'Load point'!$G86/'Load point'!$D$1","v":103.19022965302085}]
[85,{"$f":"[4]Strompreise!B88","v":64},{"$f":"[4]Strompreise!C88","v":0.77200000000000002},{"$f":"[4]Strompreise!D88","v":0},null,null,{"$f":"G$2*'Load point'!$G87/'Load point'!$D$1","v":47.219456973474365},{"$f":"H$2*'Load point'!$G87/'Load point'!$D$1","v":54.871551600638462},{"$f":"I$2*'Load point'!$G87/'Load point'!$D$1","v":60.33024852247155},{"$f":"J$2*'Load point'!$G87/'Load point'!$D$1","v":62.076158386507693},{"$f":"K$2*'Load point'!$G87/'Load point'!$D$1","v":62.957408737549045},{"$f":"L$2*'Load point'!$G87/'Load point'!$D$1","v":62.503757430232007},{"$f":"M$2*'Load point'!$G87/'Load point'!$D$1","v":62.494445544517198},{"$f":"N$2*'Load point'!$G87/'Load point'!$D$1","v":62.920149069838629},{"$f":"O$2*'Load point'!$G87/'Load point'!$D$1","v":62.65365292389118},{"$f":"P$2*'Load point'!$G87/'Load point'!$D$1","v":61.841081771613595},{"$f":"Q$2*'Load point'!$G87/'Load point'!$D$1","v":62.190709938944657},{"$f":"R$2*'Load point'!$G87/'Load point'!$D$1","v":62.455173151509051},{"$f":"S$2*'Load point'!$G87/'Load point'!$D$1","v":64.096158594954005},{"$f":"T$2*'Load point'!$G87/'Load point'!$D$1","v":66.475381769640649},{"$f":"U$2*'Load point'!$G87/'Load point'!$D$1","v":68.311734940328677},{"$f":"V$2*'Load point'!$G87/'Load point'!$D$1","v":74.246194856434414},{"$f":"W$2*'Load point'!$G87/'Load point'!$D$1","v":78.295967903387094},{"$f":"X$2*'Load point'!$G87/'Load point'!$D$1","v":80.992631807109362},{"$f":"Y$2*'Load point'!$G87/'Load point'!$D$1","v":81.767676544950334},{"$f":"Z$2*'Load point'!$G87/'Load point'!$D$1","v":82.458469733481024},{"$f":"AA$2*'Load point'!$G87/'Load point'!$D$1","v":83.93402370727388},{"$f":"AB$2*'Load point'!$G87/'Load point'!$D$1","v":83.85083106163431}]
[86,{"$f":"[4]Strompreise!B89","v":180},{"$f":"[4]Strompreise!C89","v":0.86799999999999999},{"$f":"[4]Strompreise!D89","v":0},null,null,{"$f":"G$2*'Load point'!$G88/'Load point'!$D$1","v":31.630746038212813},{"$f":"H$2*'Load point'!$G88/'Load point'!$D$1","v":36.756630098001295},{"$f":"I$2*'Load point'!$G88/'Load point'!$D$1","v":40.413229879126909},{"$f":"J$2*'Load point'!$G88/'Load point'!$D$1","v":41.5827569142633},{"$f":"K$2*'Load point'!$G88/'Load point'!$D$1","v":42.173077257539028},{"$f":"L$2*'Load point'!$G88/'Load point'!$D$1","v":41.869191312816938},{"$f":"M$2*'Load point'!$G88/'Load point'!$D$1","v":41.862953589830255},{"$f":"N$2*'Load point'!$G88/'Load point'!$D$1","v":42.148118243557178},{"$f":"O$2*'Load point'!$G88/'Load point'!$D$1","v":41.969601325894153},{"$f":"P$2*'Load point'!$G88/'Load point'!$D$1","v":41.425286896990229},{"$f":"Q$2*'Load point'!$G88/'Load point'!$D$1","v":41.659491194910615},{"$f":"R$2*'Load point'!$G88/'Load point'!$D$1","v":41.836646318015347},{"$f":"S$2*'Load point'!$G88/'Load point'!$D$1","v":42.935887968404707},{"$f":"T$2*'Load point'!$G88/'Load point'!$D$1","v":44.529650557606423},{"$f":"U$2*'Load point'!$G88/'Load point'!$D$1","v":45.759762560188953},{"$f":"V$2*'Load point'!$G88/'Load point'!$D$1","v":49.735060170784969},{"$f":"W$2*'Load point'!$G88/'Load point'!$D$1","v":52.447868639389739},{"$f":"X$2*'Load point'!$G88/'Load point'!$D$1","v":54.254274230563105},{"$f":"Y$2*'Load point'!$G88/'Load point'!$D$1","v":54.773450960712125},{"$f":"Z$2*'Load point'!$G88/'Load point'!$D$1","v":55.236190376025952},{"$f":"AA$2*'Load point'!$G88/'Load point'!$D$1","v":56.224614978980114},{"$f":"AB$2*'Load point'!$G88/'Load point'!$D$1","v":56.168886988547044}]
[87,{"$f":"[4]Strompreise!B90","v":90},{"$f":"[4]Strompreise!C90","v":1},{"$f":"[4]Strompreise!D90","v":0},null,null,{"$f":"G$2*'Load point'!$G89/'Load point'!$D$1","v":23.839531425654052},{"$f":"H$2*'Load point'!$G89/'Load point'!$D$1","v":27.70281918940011},{"$f":"I$2*'Load point'!$G89/'Load point'!$D$1","v":30.458733491512128},{"$f":"J$2*'Load point'!$G89/'Load point'!$D$1","v":31.340185243348881},{"$f":"K$2*'Load point'!$G89/'Load point'!$D$1","v":31.785099200095999},{"$f":"L$2*'Load point'!$G89/'Load point'!$D$1","v":31.556065761546527},{"$f":"M$2*'Load point'!$G89/'Load point'!$D$1","v":31.551364500533406},{"$f":"N$2*'Load point'!$G89/'Load point'!$D$1","v":31.766288034609897},{"$f":"O$2*'Load point'!$G89/'Load point'!$D$1","v":31.631743004799439},{"$f":"P$2*'Load point'!$G89/'Load point'!$D$1","v":31.221502888501966},{"$f":"Q$2*'Load point'!$G89/'Load point'!$D$1","v":31.398018507626194},{"$f":"R$2*'Load point'!$G89/'Load point'!$D$1","v":31.531537177067904},{"$f":"S$2*'Load point'!$G89/'Load point'!$D$1","v":32.360016082914342},{"$f":"T$2*'Load point'!$G89/'Load point'!$D$1","v":33.561206636068079},{"$f":"U$2*'Load point'!$G89/'Load point'!$D$1","v":34.48832020168593},{"$f":"V$2*'Load point'!$G89/'Load point'!$D$1","v":37.484431396775712},{"$f":"W$2*'Load point'!$G89/'Load point'!$D$1","v":39.529026951396972},{"$f":"X$2*'Load point'!$G89/'Load point'!$D$1","v":40.890482757916033},{"$f":"Y$2*'Load point'!$G89/'Load point'!$D$1","v":41.281777037187958},{"$f":"Z$2*'Load point'!$G89/'Load point'!$D$1","v":41.630535514776057},{"$f":"AA$2*'Load point'!$G89/'Load point'!$D$1","v":42.375493580436228},{"$f":"AB$2*'Load point'!$G89/'Load point'!$D$1","v":42.333492383954408}]
[88,{"$f":"[4]Strompreise!B91","v":90},{"$f":"[4]Strompreise!C91","v":1},{"$f":"[4]Strompreise!D91","v":0},null,null,{"$f":"G$2*'Load point'!$G90/'Load point'!$D$1","v":44.819388305604299},{"$f":"H$2*'Load point'!$G90/'Load point'!$D$1","v":52.082542573531526},{"$f":"I$2*'Load point'!$G90/'Load point'!$D$1","v":57.263785066846935},{"$f":"J$2*'Load point'!$G90/'Load point'!$D$1","v":58.920953894238956},{"$f":"K$2*'Load point'!$G90/'Load point'!$D$1","v":59.757412087732376},{"$f":"L$2*'Load point'!$G90/'Load point'!$D$1","v":59.326818950894541},{"$f":"M$2*'Load point'!$G90/'Load point'!$D$1","v":59.317980369333903},{"$f":"N$2*'Load point'!$G90/'Load point'!$D$1","v":59.722046252920059},{"$f":"O$2*'Load point'!$G90/'Load point'!$D$1","v":59.469095562405442},{"$f":"P$2*'Load point'!$G90/'Load point'!$D$1","v":58.69782574411169},{"$f":"Q$2*'Load point'!$G90/'Load point'!$D$1","v":59.02968302495654},{"$f":"R$2*'Load point'!$G90/'Load point'!$D$1","v":59.280704111944679},{"$f":"S$2*'Load point'!$G90/'Load point'!$D$1","v":60.838281612993022},{"$f":"T$2*'Load point'!$G90/'Load point'!$D$1","v":63.096573727446511},{"$f":"U$2*'Load point'!$G90/'Load point'!$D$1","v":64.839588812722241},{"$f":"V$2*'Load point'!$G90/'Load point'!$D$1","v":70.472412237892101},{"$f":"W$2*'Load point'!$G90/'Load point'!$D$1","v":74.316343582610997},{"$f":"X$2*'Load point'!$G90/'Load point'!$D$1","v":76.875941561438438},{"$f":"Y$2*'Load point'!$G90/'Load point'!$D$1","v":77.611592356385614},{"$f":"Z$2*'Load point'!$G90/'Load point'!$D$1","v":78.267273936396492},{"$f":"AA$2*'Load point'!$G90/'Load point'!$D$1","v":79.667828511906535},{"$f":"AB$2*'Load point'!$G90/'Load point'!$D$1","v":79.588864378727592}]
[89,{"$f":"[4]Strompreise!B92","v":90},{"$f":"[4]Strompreise!C92","v":1},{"$f":"[4]Strompreise!D92","v":1},null,null,{"$f":"G$2*'Load point'!$G91/'Load point'!$D$1","v":60.842605538225619},{"$f":"H$2*'Load point'!$G91/'Load point'!$D$1","v":70.702383790297802},{"$f":"I$2*'Load point'!$G91/'Load point'!$D$1","v":77.735953527331986},{"$f":"J$2*'Load point'!$G91/'Load point'!$D$1","v":79.985570781984464},{"$f":"K$2*'Load point'!$G91/'Load point'!$D$1","v":81.121068115614364},{"$f":"L$2*'Load point'!$G91/'Load point'!$D$1","v":80.536535185502601},{"$f":"M$2*'Load point'!$G91/'Load point'!$D$1","v":80.524536754650654},{"$f":"N$2*'Load point'!$G91/'Load point'!$D$1","v":81.073058769249712},{"$f":"O$2*'Load point'!$G91/'Load point'!$D$1","v":80.729676593244463},{"$f":"P$2*'Load point'!$G91/'Load point'!$D$1","v":79.682672894800007},{"$f":"Q$2*'Load point'!$G91/'Load point'!$D$1","v":80.13317127054215},{"$f":"R$2*'Load point'!$G91/'Load point'!$D$1","v":80.473933997450814},{"$f":"S$2*'Load point'!$G91/'Load point'!$D$1","v":82.588355391275357},{"$f":"T$2*'Load point'!$G91/'Load point'!$D$1","v":85.654001342819925},{"$f":"U$2*'Load point'!$G91/'Load point'!$D$1","v":88.020155440182904},{"$f":"V$2*'Load point'!$G91/'Load point'!$D$1","v":95.666749172949963},{"$f":"W$2*'Load point'!$G91/'Load point'!$D$1","v":100.88491049474355},{"$f":"X$2*'Load point'!$G91/'Load point'!$D$1","v":104.35958107927638},{"$f":"Y$2*'Load point'!$G91/'Load point'!$D$1","v":105.35823172630575},{"$f":"Z$2*'Load point'!$G91/'Load point'!$D$1","v":106.24832365391678},{"$f":"AA$2*'Load point'!$G91/'Load point'!$D$1","v":108.1495854246371},{"$f":"AB$2*'Load point'!$G91/'Load point'!$D$1","v":108.04239111011601}]
[90,{"$f":"[4]Strompreise!B93","v":90},{"$f":"[4]Strompreise!C93","v":1},{"$f":"[4]Strompreise!D93","v":1},null,null,{"$f":"G$2*'Load point'!$G92/'Load point'!$D$1","v":66.302819051776112},{"$f":"H$2*'Load point'!$G92/'Load point'!$D$1","v":77.047445905848932},{"$f":"I$2*'Load point'!$G92/'Load point'!$D$1","v":84.712231091119079},{"$f":"J$2*'Load point'!$G92/'Load point'!$D$1","v":87.163736322552097},{"$f":"K$2*'Load point'!$G92/'Load point'!$D$1","v":88.401136883876461},{"$f":"L$2*'Load point'!$G92/'Load point'!$D$1","v":87.764146065482677},{"$f":"M$2*'Load point'!$G92/'Load point'!$D$1","v":87.751070856381347},{"$f":"N$2*'Load point'!$G92/'Load point'!$D$1","v":88.348819022459267},{"$f":"O$2*'Load point'!$G92/'Load point'!$D$1","v":87.974620611988883},{"$f":"P$2*'Load point'!$G92/'Load point'!$D$1","v":86.833655392790803},{"$f":"Q$2*'Load point'!$G92/'Load point'!$D$1","v":87.324582959513521},{"$f":"R$2*'Load point'!$G92/'Load point'!$D$1","v":87.69592684299694},{"$f":"S$2*'Load point'!$G92/'Load point'!$D$1","v":90.000103296878009},{"$f":"T$2*'Load point'!$G92/'Load point'!$D$1","v":93.340870297304491},{"$f":"U$2*'Load point'!$G92/'Load point'!$D$1","v":95.919370767135803},{"$f":"V$2*'Load point'!$G92/'Load point'!$D$1","v":104.25219471741143},{"$f":"W$2*'Load point'!$G92/'Load point'!$D$1","v":109.93865082561491},{"$f":"X$2*'Load point'!$G92/'Load point'!$D$1","v":113.72514966130444},{"$f":"Y$2*'Load point'!$G92/'Load point'!$D$1","v":114.81342246882463},{"$f":"Z$2*'Load point'!$G92/'Load point'!$D$1","v":115.78339414399825},{"$f":"AA$2*'Load point'!$G92/'Load point'!$D$1","v":117.85528133618843},{"$f":"AB$2*'Load point'!$G92/'Load point'!$D$1","v":117.73846705487686}]
[91,{"$f":"[4]Strompreise!B94","v":90},{"$f":"[4]Strompreise!C94","v":1},{"$f":"[4]Strompreise!D94","v":1},null,null,{"$f":"G$2*'Load point'!$G93/'Load point'!$D$1","v":64.506901069773349},{"$f":"H$2*'Load point'!$G93/'Load point'!$D$1","v":74.960492507055378},{"$f":"I$2*'Load point'!$G93/'Load point'!$D$1","v":82.417664716900347},{"$f":"J$2*'Load point'!$G93/'Load point'!$D$1","v":84.802767005124181},{"$f":"K$2*'Load point'!$G93/'Load point'!$D$1","v":86.006650591592816},{"$f":"L$2*'Load point'!$G93/'Load point'!$D$1","v":85.386913689118231},{"$f":"M$2*'Load point'!$G93/'Load point'!$D$1","v":85.374192642984298},{"$f":"N$2*'Load point'!$G93/'Load point'!$D$1","v":85.955749843195008},{"$f":"O$2*'Load point'!$G93/'Load point'!$D$1","v":85.591687195635032},{"$f":"P$2*'Load point'!$G93/'Load point'!$D$1","v":84.481626845691409},{"$f":"Q$2*'Load point'!$G93/'Load point'!$D$1","v":84.95925685346343},{"$f":"R$2*'Load point'!$G93/'Load point'!$D$1","v":85.320542293469003},{"$f":"S$2*'Load point'!$G93/'Load point'!$D$1","v":87.562306439903523},{"$f":"T$2*'Load point'!$G93/'Load point'!$D$1","v":90.812583418705685},{"$f":"U$2*'Load point'!$G93/'Load point'!$D$1","v":93.321241076020144},{"$f":"V$2*'Load point'!$G93/'Load point'!$D$1","v":101.42835715162038},{"$f":"W$2*'Load point'!$G93/'Load point'!$D$1","v":106.96078649407478},{"$f":"X$2*'Load point'!$G93/'Load point'!$D$1","v":110.6447219479187},{"$f":"Y$2*'Load point'!$G93/'Load point'!$D$1","v":111.70351714449713},{"$f":"Z$2*'Load point'!$G93/'Load point'!$D$1","v":112.64721558425799},{"$f":"AA$2*'Load point'!$G93/'Load point'!$D$1","v":114.66298239546964},{"$f":"AB$2*'Load point'!$G93/'Load point'!$D$1","v":114.54933221594685}]
[92,{"$f":"[4]Strompreise!B95","v":135},{"$f":"[4]Strompreise!C95","v":1},{"$f":"[4]Strompreise!D95","v":1},null,null,{"$f":"G$2*'Load point'!$G94/'Load point'!$D$1","v":55.74658752523829},{"$f":"H$2*'Load point'!$G94/'Load point'!$D$1","v":64.780536457015302},{"$f":"I$2*'Load point'!$G94/'Load point'!$D$1","v":71.224992730573476},{"$f":"J$2*'Load point'!$G94/'Load point'!$D$1","v":73.286187909106388},{"$f":"K$2*'Load point'!$G94/'Load point'!$D$1","v":74.326578946503773},{"$f":"L$2*'Load point'!$G94/'Load point'!$D$1","v":73.791004970642618},{"$f":"M$2*'Load point'!$G94/'Load point'!$D$1","v":73.780011497076899},{"$f":"N$2*'Load point'!$G94/'Load point'!$D$1","v":74.28259073782219},{"$f":"O$2*'Load point'!$G94/'Load point'!$D$1","v":73.967969357624114},{"$f":"P$2*'Load point'!$G94/'Load point'!$D$1","v":73.008659959246813},{"$f":"Q$2*'Load point'!$G94/'Load point'!$D$1","v":73.421425765561764},{"$f":"R$2*'Load point'!$G94/'Load point'!$D$1","v":73.73364709489023},{"$f":"S$2*'Load point'!$G94/'Load point'!$D$1","v":75.670970065419837},{"$f":"T$2*'Load point'!$G94/'Load point'!$D$1","v":78.479845504717062},{"$f":"U$2*'Load point'!$G94/'Load point'!$D$1","v":80.647816703846161},{"$f":"V$2*'Load point'!$G94/'Load point'!$D$1","v":87.653951681511188},{"$f":"W$2*'Load point'!$G94/'Load point'!$D$1","v":92.43505341561459},{"$f":"X$2*'Load point'!$G94/'Load point'!$D$1","v":95.618694651036918},{"$f":"Y$2*'Load point'!$G94/'Load point'!$D$1","v":96.53370092352111},{"$f":"Z$2*'Load point'!$G94/'Load point'!$D$1","v":97.349241071894653},{"$f":"AA$2*'Load point'!$G94/'Load point'!$D$1","v":99.091258113608291},{"$f":"AB$2*'Load point'!$G94/'Load point'!$D$1","v":98.993042115397884}]
[93,{"$f":"[4]Strompreise!B96","v":135},{"$f":"[4]Strompreise!C96","v":1},{"$f":"[4]Strompreise!D96","v":1},null,null,{"$f":"G$2*'Load point'!$G95/'Load point'!$D$1","v":62.252330824634733},{"$f":"H$2*'Load point'!$G95/'Load point'!$D$1","v":72.340560481727692},{"$f":"I$2*'Load point'!$G95/'Load point'!$D$1","v":79.53709827419452},{"$f":"J$2*'Load point'!$G95/'Load point'!$D$1","v":81.838839238878322},{"$f":"K$2*'Load point'!$G95/'Load point'!$D$1","v":83.000646085220708},{"$f":"L$2*'Load point'!$G95/'Load point'!$D$1","v":82.402569506788382},{"$f":"M$2*'Load point'!$G95/'Load point'!$D$1","v":82.390293071876272},{"$f":"N$2*'Load point'!$G95/'Load point'!$D$1","v":82.951524360631041},{"$f":"O$2*'Load point'!$G95/'Load point'!$D$1","v":82.600186007665016},{"$f":"P$2*'Load point'!$G95/'Load point'!$D$1","v":81.528923197113102},{"$f":"Q$2*'Load point'!$G95/'Load point'!$D$1","v":81.989859635889403},{"$f":"R$2*'Load point'!$G95/'Load point'!$D$1","v":82.338517847032179},{"$f":"S$2*'Load point'!$G95/'Load point'!$D$1","v":84.501930458090598},{"$f":"T$2*'Load point'!$G95/'Load point'!$D$1","v":87.638607532954737},{"$f":"U$2*'Load point'!$G95/'Load point'!$D$1","v":90.059585503047785},{"$f":"V$2*'Load point'!$G95/'Load point'!$D$1","v":97.883351078549381},{"$f":"W$2*'Load point'!$G95/'Load point'!$D$1","v":103.2224173796551},{"$f":"X$2*'Load point'!$G95/'Load point'!$D$1","v":106.77759620247961},{"$f":"Y$2*'Load point'!$G95/'Load point'!$D$1","v":107.79938561973343},{"$f":"Z$2*'Load point'!$G95/'Load point'!$D$1","v":108.71010100826436},{"$f":"AA$2*'Load point'!$G95/'Load point'!$D$1","v":110.6554150803376},{"$f":"AB$2*'Load point'!$G95/'Load point'!$D$1","v":110.54573706982087}]
[94,{"$f":"[4]Strompreise!B97","v":90},{"$f":"[4]Strompreise!C97","v":1},{"$f":"[4]Strompreise!D97","v":0},null,null,{"$f":"G$2*'Load point'!$G96/'Load point'!$D$1","v":58.807393925798586},{"$f":"H$2*'Load point'!$G96/'Load point'!$D$1","v":68.337358307852242},{"$f":"I$2*'Load point'!$G96/'Load point'!$D$1","v":75.135652078661849},{"$f":"J$2*'Load point'!$G96/'Load point'!$D$1","v":77.31001865790877},{"$f":"K$2*'Load point'!$G96/'Load point'!$D$1","v":78.407533111962096},{"$f":"L$2*'Load point'!$G96/'Load point'!$D$1","v":77.842553062544468},{"$f":"M$2*'Load point'!$G96/'Load point'!$D$1","v":77.83095598442199},{"$f":"N$2*'Load point'!$G96/'Load point'!$D$1","v":78.361129699110009},{"$f":"O$2*'Load point'!$G96/'Load point'!$D$1","v":78.02923380621057},{"$f":"P$2*'Load point'!$G96/'Load point'!$D$1","v":77.017252836764612},{"$f":"Q$2*'Load point'!$G96/'Load point'!$D$1","v":77.452681845940702},{"$f":"R$2*'Load point'!$G96/'Load point'!$D$1","v":77.782045911454901},{"$f":"S$2*'Load point'!$G96/'Load point'!$D$1","v":79.825738990207995},{"$f":"T$2*'Load point'!$G96/'Load point'!$D$1","v":82.788837751589014},{"$f":"U$2*'Load point'!$G96/'Load point'!$D$1","v":85.075842965482181},{"$f":"V$2*'Load point'!$G96/'Load point'!$D$1","v":92.46665481279625},{"$f":"W$2*'Load point'!$G96/'Load point'!$D$1","v":97.51026636927844},{"$f":"X$2*'Load point'!$G96/'Load point'!$D$1","v":100.8687077118115},{"$f":"Y$2*'Load point'!$G96/'Load point'!$D$1","v":101.83395306043832},{"$f":"Z$2*'Load point'!$G96/'Load point'!$D$1","v":102.69427102601772},{"$f":"AA$2*'Load point'!$G96/'Load point'!$D$1","v":104.53193476375105},{"$f":"AB$2*'Load point'!$G96/'Load point'!$D$1","v":104.42832614566372}]
[95,{"$f":"[4]Strompreise!B98","v":90},{"$f":"[4]Strompreise!C98","v":0.89400000000000002},{"$f":"[4]Strompreise!D98","v":0},null,null,{"$f":"G$2*'Load point'!$G97/'Load point'!$D$1","v":47.922851218948402},{"$f":"H$2*'Load point'!$G97/'Load point'!$D$1","v":55.688933589122627},{"$f":"I$2*'Load point'!$G97/'Load point'!$D$1","v":61.228944787923389},{"$f":"J$2*'Load point'!$G97/'Load point'!$D$1","v":63.000862213888276},{"$f":"K$2*'Load point'!$G97/'Load point'!$D$1","v":63.895239916777243},{"$f":"L$2*'Load point'!$G97/'Load point'!$D$1","v":63.434830892631787},{"$f":"M$2*'Load point'!$G97/'Load point'!$D$1","v":63.425380294461434},{"$f":"N$2*'Load point'!$G97/'Load point'!$D$1","v":63.85742521862948},{"$f":"O$2*'Load point'!$G97/'Load point'!$D$1","v":63.586959271512868},{"$f":"P$2*'Load point'!$G97/'Load point'!$D$1","v":62.762283831952359},{"$f":"Q$2*'Load point'!$G97/'Load point'!$D$1","v":63.117120158307671},{"$f":"R$2*'Load point'!$G97/'Load point'!$D$1","v":63.385522888896631},{"$f":"S$2*'Load point'!$G97/'Load point'!$D$1","v":65.050952910738033},{"$f":"T$2*'Load point'!$G97/'Load point'!$D$1","v":67.465617659662044},{"$f":"U$2*'Load point'!$G97/'Load point'!$D$1","v":69.329325661085321},{"$f":"V$2*'Load point'!$G97/'Load point'!$D$1","v":75.352186952864002},{"$f":"W$2*'Load point'!$G97/'Load point'!$D$1","v":79.462286552455851},{"$f":"X$2*'Load point'!$G97/'Load point'!$D$1","v":82.199120716351189},{"$f":"Y$2*'Load point'!$G97/'Load point'!$D$1","v":82.985710737503837},{"$f":"Z$2*'Load point'!$G97/'Load point'!$D$1","v":83.686794174689823},{"$f":"AA$2*'Load point'!$G97/'Load point'!$D$1","v":85.184328413411066},{"$f":"AB$2*'Load point'!$G97/'Load point'!$D$1","v":85.099896506840537}]
[96,{"$f":"[4]Strompreise!B99","v":108},{"$f":"[4]Strompreise!C99","v":0.52800000000000002},{"$f":"[4]Strompreise!D99","v":0},null,null,{"$f":"G$2*'Load point'!$G98/'Load point'!$D$1","v":32.061456738167273},{"$f":"H$2*'Load point'!$G98/'Load point'!$D$1","v":37.257139123566219},{"$f":"I$2*'Load point'!$G98/'Load point'!$D$1","v":40.963530226378623},{"$f":"J$2*'Load point'!$G98/'Load point'!$D$1","v":42.148982520037549},{"$f":"K$2*'Load point'!$G98/'Load point'!$D$1","v":42.747341158962158},{"$f":"L$2*'Load point'!$G98/'Load point'!$D$1","v":42.439317248989433},{"$f":"M$2*'Load point'!$G98/'Load point'!$D$1","v":42.432994587948166},{"$f":"N$2*'Load point'!$G98/'Load point'!$D$1","v":42.722042282165518},{"$f":"O$2*'Load point'!$G98/'Load point'!$D$1","v":42.541094528806511},{"$f":"P$2*'Load point'!$G98/'Load point'!$D$1","v":41.989368259271785},{"$f":"Q$2*'Load point'!$G98/'Load point'!$D$1","v":42.226761678845129},{"$f":"R$2*'Load point'!$G98/'Load point'!$D$1","v":42.406329094311879},{"$f":"S$2*'Load point'!$G98/'Load point'!$D$1","v":43.520538938625165},{"$f":"T$2*'Load point'!$G98/'Load point'!$D$1","v":45.13600353256389},{"$f":"U$2*'Load point'!$G98/'Load point'!$D$1","v":46.382865769270346},{"$f":"V$2*'Load point'!$G98/'Load point'!$D$1","v":50.412294357817963},{"$f":"W$2*'Load point'!$G98/'Load point'!$D$1","v":53.162042696033893},{"$f":"X$2*'Load point'!$G98/'Load point'!$D$1","v":54.993045816953661},{"$f":"Y$2*'Load point'!$G98/'Load point'!$D$1","v":55.51929209179734},{"$f":"Z$2*'Load point'!$G98/'Load point'!$D$1","v":55.988332554112262},{"$f":"AA$2*'Load point'!$G98/'Load point'!$D$1","v":56.990216373364262},{"$f":"AB$2*'Load point'!$G98/'Load point'!$D$1","v":56.933729543992094}]
[97,{"$f":"[4]Strompreise!B100","v":54},{"$f":"[4]Strompreise!C100","v":1},{"$f":"[4]Strompreise!D100","v":0},null,null,{"$f":"G$2*'Load point'!$G99/'Load point'!$D$1","v":63.51907507119936},{"$f":"H$2*'Load point'!$G99/'Load point'!$D$1","v":73.812585505844964},{"$f":"I$2*'Load point'!$G99/'Load point'!$D$1","v":81.155562358874391},{"$f":"J$2*'Load point'!$G99/'Load point'!$D$1","v":83.504140399141917},{"$f":"K$2*'Load point'!$G99/'Load point'!$D$1","v":84.689588322352066},{"$f":"L$2*'Load point'!$G99/'Load point'!$D$1","v":84.07934175679317},{"$f":"M$2*'Load point'!$G99/'Load point'!$D$1","v":84.066815514314229},{"$f":"N$2*'Load point'!$G99/'Load point'!$D$1","v":84.63946704222478},{"$f":"O$2*'Load point'!$G99/'Load point'!$D$1","v":84.280979465585986},{"$f":"P$2*'Load point'!$G99/'Load point'!$D$1","v":83.187918017395134},{"$f":"Q$2*'Load point'!$G99/'Load point'!$D$1","v":83.658233841234079},{"$f":"R$2*'Load point'!$G99/'Load point'!$D$1","v":84.013986739067803},{"$f":"S$2*'Load point'!$G99/'Load point'!$D$1","v":86.221421645222676},{"$f":"T$2*'Load point'!$G99/'Load point'!$D$1","v":89.421925529224438},{"$f":"U$2*'Load point'!$G99/'Load point'!$D$1","v":91.892166874263452},{"$f":"V$2*'Load point'!$G99/'Load point'!$D$1","v":99.875134682002042},{"$f":"W$2*'Load point'!$G99/'Load point'!$D$1","v":105.32284320468185},{"$f":"X$2*'Load point'!$G99/'Load point'!$D$1","v":108.95036473756498},{"$f":"Y$2*'Load point'!$G99/'Load point'!$D$1","v":109.99294608097421},{"$f":"Z$2*'Load point'!$G99/'Load point'!$D$1","v":110.92219320098246},{"$f":"AA$2*'Load point'!$G99/'Load point'!$D$1","v":112.90709158059757},{"$f":"AB$2*'Load point'!$G99/'Load point'!$D$1","v":112.7951817823396}]
[98,{"$f":"[4]Strompreise!B101","v":36},{"$f":"[4]Strompreise!C101","v":1},{"$f":"[4]Strompreise!D101","v":0},null,null,{"$f":"G$2*'Load point'!$G100/'Load point'!$D$1","v":78.033459533226079},{"$f":"H$2*'Load point'!$G100/'Load point'!$D$1","v":90.679081797977219},{"$f":"I$2*'Load point'!$G100/'Load point'!$D$1","v":99.699960746104324},{"$f":"J$2*'Load point'!$G100/'Load point'!$D$1","v":102.58519906641067},{"$f":"K$2*'Load point'!$G100/'Load point'!$D$1","v":104.04152698744662},{"$f":"L$2*'Load point'!$G100/'Load point'!$D$1","v":103.2918364318859},{"$f":"M$2*'Load point'!$G100/'Load point'!$D$1","v":103.27644788860992},{"$f":"N$2*'Load point'!$G100/'Load point'!$D$1","v":103.97995277717699},{"$f":"O$2*'Load point'!$G100/'Load point'!$D$1","v":103.53954923267555},{"$f":"P$2*'Load point'!$G100/'Load point'!$D$1","v":102.19671849735516},{"$f":"Q$2*'Load point'!$G100/'Load point'!$D$1","v":102.77450352911507},{"$f":"R$2*'Load point'!$G100/'Load point'!$D$1","v":103.21154750883014},{"$f":"S$2*'Load point'!$G100/'Load point'!$D$1","v":105.92339087601684},{"$f":"T$2*'Load point'!$G100/'Load point'!$D$1","v":109.8552237945258},{"$f":"U$2*'Load point'!$G100/'Load point'!$D$1","v":112.88992601302215},{"$f":"V$2*'Load point'!$G100/'Load point'!$D$1","v":122.69703662793516},{"$f":"W$2*'Load point'!$G100/'Load point'!$D$1","v":129.38957020272102},{"$f":"X$2*'Load point'!$G100/'Load point'!$D$1","v":133.84599615704809},{"$f":"Y$2*'Load point'!$G100/'Load point'!$D$1","v":135.12681186445295},{"$f":"Z$2*'Load point'!$G100/'Load point'!$D$1","v":136.26839598629743},{"$f":"AA$2*'Load point'!$G100/'Load point'!$D$1","v":138.70685226434691},{"$f":"AB$2*'Load point'!$G100/'Load point'!$D$1","v":138.5693705912598}]
[99,{"$f":"[4]Strompreise!B102","v":36},{"$f":"[4]Strompreise!C102","v":1},{"$f":"[4]Strompreise!D102","v":0},null,null,{"$f":"G$2*'Load point'!$G101/'Load point'!$D$1","v":77.95671858998314},{"$f":"H$2*'Load point'!$G101/'Load point'!$D$1","v":90.589904689705918},{"$f":"I$2*'Load point'!$G101/'Load point'!$D$1","v":99.601912177263401},{"$f":"J$2*'Load point'!$G101/'Load point'!$D$1","v":102.4843130492302},{"$f":"K$2*'Load point'!$G101/'Load point'!$D$1","v":103.93920876440215},{"$f":"L$2*'Load point'!$G101/'Load point'!$D$1","v":103.19025548181023},{"$f":"M$2*'Load point'!$G101/'Load point'!$D$1","v":103.17488207218759},{"$f":"N$2*'Load point'!$G101/'Load point'!$D$1","v":103.87769510845119},{"$f":"O$2*'Load point'!$G101/'Load point'!$D$1","v":103.4377246728189},{"$f":"P$2*'Load point'!$G101/'Load point'!$D$1","v":102.09621452610064},{"$f":"Q$2*'Load point'!$G101/'Load point'!$D$1","v":102.67343134303842},{"$f":"R$2*'Load point'!$G101/'Load point'!$D$1","v":103.11004551780258},{"$f":"S$2*'Load point'!$G101/'Load point'!$D$1","v":105.81922195955539},{"$f":"T$2*'Load point'!$G101/'Load point'!$D$1","v":109.74718817051806},{"$f":"U$2*'Load point'!$G101/'Load point'!$D$1","v":112.77890595243936},{"$f":"V$2*'Load point'!$G101/'Load point'!$D$1","v":122.57637189795571},{"$f":"W$2*'Load point'!$G101/'Load point'!$D$1","v":129.26232379172566},{"$f":"X$2*'Load point'!$G101/'Load point'!$D$1","v":133.71436713462845},{"$f":"Y$2*'Load point'!$G101/'Load point'!$D$1","v":134.99392324126595},{"$f":"Z$2*'Load point'!$G101/'Load point'!$D$1","v":136.1343846877501},{"$f":"AA$2*'Load point'!$G101/'Load point'!$D$1","v":138.5704428991759},{"$f":"AB$2*'Load point'!$G101/'Load point'!$D$1","v":138.43309643056821}]
[100,{"$f":"[4]Strompreise!B103","v":72},{"$f":"[4]Strompreise!C103","v":1},{"$f":"[4]Strompreise!D103","v":0},null,null,{"$f":"G$2*'Load point'!$G102/'Load point'!$D$1","v":71.745585678944934},{"$f":"H$2*'Load point'!$G102/'Load point'!$D$1","v":83.37223379997269},{"$f":"I$2*'Load point'!$G102/'Load point'!$D$1","v":91.666217526231378},{"$f":"J$2*'Load point'!$G102/'Load point'!$D$1","v":94.318965646742072},{"$f":"K$2*'Load point'!$G102/'Load point'!$D$1","v":95.657943826875638},{"$f":"L$2*'Load point'!$G102/'Load point'!$D$1","v":94.968662737604248},{"$f":"M$2*'Load point'!$G102/'Load point'!$D$1","v":94.954514190856671},{"$f":"N$2*'Load point'!$G102/'Load point'!$D$1","v":95.601331217298451},{"$f":"O$2*'Load point'!$G102/'Load point'!$D$1","v":95.196415038721426},{"$f":"P$2*'Load point'!$G102/'Load point'!$D$1","v":93.961788531713509},{"$f":"Q$2*'Load point'!$G102/'Load point'!$D$1","v":94.493016107013986},{"$f":"R$2*'Load point'!$G102/'Load point'!$D$1","v":94.894843431852266},{"$f":"S$2*'Load point'!$G102/'Load point'!$D$1","v":97.388168626098334},{"$f":"T$2*'Load point'!$G102/'Load point'!$D$1","v":101.00317758786387},{"$f":"U$2*'Load point'!$G102/'Load point'!$D$1","v":103.7933459250053},{"$f":"V$2*'Load point'!$G102/'Load point'!$D$1","v":112.81020739819854},{"$f":"W$2*'Load point'!$G102/'Load point'!$D$1","v":118.96346196196123},{"$f":"X$2*'Load point'!$G102/'Load point'!$D$1","v":123.0607926716411},{"$f":"Y$2*'Load point'!$G102/'Load point'!$D$1","v":124.23840127215976},{"$f":"Z$2*'Load point'!$G102/'Load point'!$D$1","v":125.28799745709688},{"$f":"AA$2*'Load point'!$G102/'Load point'!$D$1","v":127.5299648755306},{"$f":"AB$2*'Load point'!$G102/'Load point'!$D$1","v":127.40356136587259}]
[101,{"$f":"[4]Strompreise!B104","v":54},{"$f":"[4]Strompreise!C104","v":1},{"$f":"[4]Strompreise!D104","v":0},null,null,{"$f":"G$2*'Load point'!$G103/'Load point'!$D$1","v":74.932677608320063},{"$f":"H$2*'Load point'!$G103/'Load point'!$D$1","v":87.075806235312726},{"$f":"I$2*'Load point'!$G103/'Load point'!$D$1","v":95.738226407468119},{"$f":"J$2*'Load point'!$G103/'Load point'!$D$1","v":98.508815257070907},{"$f":"K$2*'Load point'!$G103/'Load point'!$D$1","v":99.907273703636591},{"$f":"L$2*'Load point'!$G103/'Load point'!$D$1","v":99.187373278333595},{"$f":"M$2*'Load point'!$G103/'Load point'!$D$1","v":99.172596222964557},{"$f":"N$2*'Load point'!$G103/'Load point'!$D$1","v":99.848146241202912},{"$f":"O$2*'Load point'!$G103/'Load point'!$D$1","v":99.425242822399142},{"$f":"P$2*'Load point'!$G103/'Load point'!$D$1","v":98.135771572832653},{"$f":"Q$2*'Load point'!$G103/'Load point'!$D$1","v":98.690597409989621},{"$f":"R$2*'Load point'!$G103/'Load point'!$D$1","v":99.110274761583923},{"$f":"S$2*'Load point'!$G103/'Load point'!$D$1","v":101.71435877853231},{"$f":"T$2*'Load point'!$G103/'Load point'!$D$1","v":105.48995414819504},{"$f":"U$2*'Load point'!$G103/'Load point'!$D$1","v":108.40406771353064},{"$f":"V$2*'Load point'!$G103/'Load point'!$D$1","v":117.82147740383799},{"$f":"W$2*'Load point'!$G103/'Load point'!$D$1","v":124.24807265851531},{"$f":"X$2*'Load point'!$G103/'Load point'!$D$1","v":128.52741553679377},{"$f":"Y$2*'Load point'!$G103/'Load point'!$D$1","v":129.75733602286135},{"$f":"Z$2*'Load point'!$G103/'Load point'!$D$1","v":130.8535575088321},{"$f":"AA$2*'Load point'!$G103/'Load point'!$D$1","v":133.19511790148988},{"$f":"AB$2*'Load point'!$G103/'Load point'!$D$1","v":133.06309927834909}]
[102,{"$f":"[4]Strompreise!B105","v":72},{"$f":"[4]Strompreise!C105","v":0.56599999999999995},{"$f":"[4]Strompreise!D105","v":0},null,null,{"$f":"G$2*'Load point'!$G104/'Load point'!$D$1","v":56.37736303213363},{"$f":"H$2*'Load point'!$G104/'Load point'!$D$1","v":65.513531561013835},{"$f":"I$2*'Load point'!$G104/'Load point'!$D$1","v":72.03090718897694},{"$f":"J$2*'Load point'!$G104/'Load point'!$D$1","v":74.115424897036178},{"$f":"K$2*'Load point'!$G104/'Load point'!$D$1","v":75.167588012566355},{"$f":"L$2*'Load point'!$G104/'Load point'!$D$1","v":74.62595398960454},{"$f":"M$2*'Load point'!$G104/'Load point'!$D$1","v":74.614836124319638},{"$f":"N$2*'Load point'!$G104/'Load point'!$D$1","v":75.12310207503964},{"$f":"O$2*'Load point'!$G104/'Load point'!$D$1","v":74.804920737732374},{"$f":"P$2*'Load point'!$G104/'Load point'!$D$1","v":73.83475670414073},{"$f":"Q$2*'Load point'!$G104/'Load point'!$D$1","v":74.252192976797474},{"$f":"R$2*'Load point'!$G104/'Load point'!$D$1","v":74.567947106536039},{"$f":"S$2*'Load point'!$G104/'Load point'!$D$1","v":76.527190986183228},{"$f":"T$2*'Load point'!$G104/'Load point'!$D$1","v":79.36784899563736},{"$f":"U$2*'Load point'!$G104/'Load point'!$D$1","v":81.56035090046116},{"$f":"V$2*'Load point'!$G104/'Load point'!$D$1","v":88.645760655975351},{"$f":"W$2*'Load point'!$G104/'Load point'!$D$1","v":93.480960802263766},{"$f":"X$2*'Load point'!$G104/'Load point'!$D$1","v":96.700625102113804},{"$f":"Y$2*'Load point'!$G104/'Load point'!$D$1","v":97.62598471766276},{"$f":"Z$2*'Load point'!$G104/'Load point'!$D$1","v":98.450752744787636},{"$f":"AA$2*'Load point'!$G104/'Load point'!$D$1","v":100.2124807989827},{"$f":"AB$2*'Load point'!$G104/'Load point'!$D$1","v":100.11315348169779}]

{"sheet":"Gaspreise","index":2,"n_rows":110,"n_cols":28,"rows_kept":110,"cut":false,"hidden":false,"merged":[]}
["Gaspreise",null,1,null,null,null,{"$f":"G3/$C$1","v":16.857715415954591},{"$f":"H3/$C$1","v":19.95004405975342},21.37115478515625,21.142407417297363,21.001789283752441,20.539103507995605,20.185659599304199,19.9470365524292,19.893780326843263,19.880552101135255,19.61675148010254,19.365262413024904,19.280348396301271,19.505696868896486,19.850271034240723,21.502041435241701,23.030972671508788,24.456484794616699,24.873706054687499,25.312268257141113,25.939577293395995,26.388487243652346]
["[EUR/GJ]",null,null,null,null,null,{"$f":"G1/0.9/3.6","v":5.2029985851711693},{"$f":"H1/0.9/3.6","v":6.1574210060967349},6.5960354275173607,6.5254343880547419,6.4820337295532227,6.3392294777764215,6.2301418516370983,6.1564927630954314,6.1400556564331055,6.1359728707207575,6.0545529259575739,5.976932843526205,5.9507248136732311,6.020276811387804,6.1266268624199762,6.6364325417412653,7.1083248986138239,7.5482977761162653,7.6770697699652777,7.8124284744262695,8.0060423745049363,8.1445948282877598]
[null,null,null,null,null,null,16.857715415954591,19.95004405975342,21.37115478515625,21.142407417297363,21.001789283752441,20.539103507995605,20.185659599304199,19.9470365524292,19.893780326843263,19.880552101135255,19.61675148010254,19.365262413024904,19.280348396301271,19.505696868896486,19.850271034240723,21.502041435241701,23.030972671508788,24.456484794616699,24.873706054687499,25.312268257141113,25.939577293395995,26.388487243652346]
["Lastpunkt",null,null,null,2007,2008,2009,2010,2011,2012,2013,2014,2015,2016,2017,2018,2019,2020,2021,2022,2023,2024,2025,2026,2027,2028,2029,2030]
[]
[]
["Peakprices",null,null,null,6.5852298850574709,6.3302739399297545,10.603417038304883,10.281729585977386,10.005150691169256,8.588886569142792,7.1730837950193669,5.7560144128437658,5.8286893426309065,5.8871127502426557,5.8911381785557637,6.0973652270508731,6.6388105573371634,6.2355002620391646,6.1858147974318873,6.8800253748946352,7.7765479295785376,8.3344436533077868,7.870064885983397,8.3061759970945079,8.5117315526500708,8.7256204415389398,8.9422871082056155,9.1422871082056183]
["Baseprices",null,null,null,6.5849162861491628,6.3299514322313559,10.602738902673805,10.281124762774569,10.003768500474411,8.587534772084922,7.1713010436954274,5.7550673153059337,5.8274311573044129,5.8860974883044088,5.8897407244862992,6.0964779478987827,6.6380962173424711,6.2336334308569201,6.1846931299413992,6.8778743986385074,7.7752352227869039,8.3331952051963434,7.8680566236925467,8.3041677348036558,8.5097232903592168,8.7236121792480894,8.9402788459147651,9.1402788459147573]
[1,null,null,null,{"$f":"[4]Gaspreise!G4*'DCF (2012)'!$C$20","v":6.8713888888888892},{"$f":"[4]Gaspreise!H4*'DCF (2012)'!$C$20","v":6.6245622147222196},{"$f":"[4]Gaspreise!I4*'DCF (2012)'!$C$20*G$2/G$8","v":5.506989606604809},{"$f":"[4]Gaspreise!J4*'DCF (2012)'!$C$20*H$2/H$8","v":6.4883198233830939},{"$f":"[4]Gaspreise!K4*'DCF (2012)'!$C$20*I$2/I$8","v":7.428557703994219},{"$f":"[4]Gaspreise!L4*'DCF (2012)'!$C$20*J$2/J$8","v":7.4637759809407775},{"$f":"[4]Gaspreise!M4*'DCF (2012)'!$C$20*K$2/K$8","v":7.9540501404447097},{"$f":"[4]Gaspreise!N4*'DCF (2012)'!$C$20*L$2/L$8","v":7.2922216311491042},{"$f":"[4]Gaspreise!O4*'DCF (2012)'!$C$20*M$2/M$8","v":7.4589213338380818},{"$f":"[4]Gaspreise!P4*'DCF (2012)'!$C$20*N$2/N$8","v":7.1265393213975932},{"$f":"[4]Gaspreise!Q4*'DCF (2012)'!$C$20*O$2/O$8","v":7.4708845624794487},{"$f":"[4]Gaspreise!R4*'DCF (2012)'!$C$20*P$2/P$8","v":6.9517532440392937},{"$f":"[4]Gaspreise!S4*'DCF (2012)'!$C$20*Q$2/Q$8","v":6.6497380318657919},{"$f":"[4]Gaspreise!T4*'DCF (2012)'!$C$20*R$2/R$8","v":7.6120569234147304},{"$f":"[4]Gaspreise!U4*'DCF (2012)'!$C$20*S$2/S$8","v":6.9366055841587801},{"$f":"[4]Gaspreise!V4*'DCF (2012)'!$C$20*T$2/T$8","v":7.7401894503458237},{"$f":"[4]Gaspreise!W4*'DCF (2012)'!$C$20*U$2/U$8","v":7.0715232270607302},{"$f":"[4]Gaspreise!X4*'DCF (2012)'!$C$20*V$2/V$8","v":7.5446757884595774},{"$f":"[4]Gaspreise!Y4*'DCF (2012)'!$C$20*W$2/W$8","v":8.7657304087204189},{"$f":"[4]Gaspreise!Z4*'DCF (2012)'!$C$20*X$2/X$8","v":9.2158594188772849},{"$f":"[4]Gaspreise!AA4*'DCF (2012)'!$C$20*Y$2/Y$8","v":9.3321118273466936},{"$f":"[4]Gaspreise!AB4*'DCF (2012)'!$C$20*Z$2/Z$8","v":9.4553570726380283},{"$f":"[4]Gaspreise!AC4*'DCF (2012)'!$C$20*AA$2/AA$8","v":9.6488844041967372},{"$f":"[4]Gaspreise!AD4*'DCF (2012)'!$C$20*AB$2/AB$8","v":9.7792984482814216}]
[2,null,null,null,{"$f":"[4]Gaspreise!G5*'DCF (2012)'!$C$20","v":6.8713888888888892},{"$f":"[4]Gaspreise!H5*'DCF (2012)'!$C$20","v":6.6245622147222196},{"$f":"[4]Gaspreise!I5*'DCF (2012)'!$C$20*G$2/G$8","v":5.506989606604809},{"$f":"[4]Gaspreise!J5*'DCF (2012)'!$C$20*H$2/H$8","v":6.4883198233830939},{"$f":"[4]Gaspreise!K5*'DCF (2012)'!$C$20*I$2/I$8","v":7.428557703994219},{"$f":"[4]Gaspreise!L5*'DCF (2012)'!$C$20*J$2/J$8","v":7.4637759809407775},{"$f":"[4]Gaspreise!M5*'DCF (2012)'!$C$20*K$2/K$8","v":7.9540501404447097},{"$f":"[4]Gaspreise!N5*'DCF (2012)'!$C$20*L$2/L$8","v":7.2922216311491042},{"$f":"[4]Gaspreise!O5*'DCF (2012)'!$C$20*M$2/M$8","v":7.4589213338380818},{"$f":"[4]Gaspreise!P5*'DCF (2012)'!$C$20*N$2/N$8","v":7.1265393213975932},{"$f":"[4]Gaspreise!Q5*'DCF (2012)'!$C$20*O$2/O$8","v":7.4708845624794487},{"$f":"[4]Gaspreise!R5*'DCF (2012)'!$C$20*P$2/P$8","v":6.9517532440392937},{"$f":"[4]Gaspreise!S5*'DCF (2012)'!$C$20*Q$2/Q$8","v":6.6497380318657919},{"$f":"[4]Gaspreise!T5*'DCF (2012)'!$C$20*R$2/R$8","v":7.6120569234147304},{"$f":"[4]Gaspreise!U5*'DCF (2012)'!$C$20*S$2/S$8","v":6.9366055841587801},{"$f":"[4]Gaspreise!V5*'DCF (2012)'!$C$20*T$2/T$8","v":7.7401894503458237},{"$f":"[4]Gaspreise!W5*'DCF (2012)'!$C$20*U$2/U$8","v":7.0715232270607302},{"$f":"[4]Gaspreise!X5*'DCF (2012)'!$C$20*V$2/V$8","v":7.5446757884595774},{"$f":"[4]Gaspreise!Y5*'DCF (2012)'!$C$20*W$2/W$8","v":8.7657304087204189},{"$f":"[4]Gaspreise!Z5*'DCF (2012)'!$C$20*X$2/X$8","v":9.2158594188772849},{"$f":"[4]Gaspreise!AA5*'DCF (2012)'!$C$20*Y$2/Y$8","v":9.3321118273466936},{"$f":"[4]Gaspreise!AB5*'DCF (2012)'!$C$20*Z$2/Z$8","v":9.4553570726380283},{"$f":"[4]Gaspreise!AC5*'DCF (2012)'!$C$20*AA$2/AA$8","v":9.6488844041967372},{"$f":"[4]Gaspreise!AD5*'DCF (2012)'!$C$20*AB$2/AB$8","v":9.7792984482814216}]
[3,null,null,null,{"$f":"[4]Gaspreise!G6*'DCF (2012)'!$C$20","v":6.8713888888888892},{"$f":"[4]Gaspreise!H6*'DCF (2012)'!$C$20","v":6.6245622147222196},{"$f":"[4]Gaspreise!I6*'DCF (2012)'!$C$20*G$2/G$8","v":5.506989606604809},{"$f":"[4]Gaspreise!J6*'DCF (2012)'!$C$20*H$2/H$8","v":6.4883198233830939},{"$f":"[4]Gaspreise!K6*'DCF (2012)'!$C$20*I$2/I$8","v":7.428557703994219},{"$f":"[4]Gaspreise!L6*'DCF (2012)'!$C$20*J$2/J$8","v":7.4637759809407775},{"$f":"[4]Gaspreise!M6*'DCF (2012)'!$C$20*K$2/K$8","v":7.9540501404447097},{"$f":"[4]Gaspreise!N6*'DCF (2012)'!$C$20*L$2/L$8","v":7.2922216311491042},{"$f":"[4]Gaspreise!O6*'DCF (2012)'!$C$20*M$2/M$8","v":7.4589213338380818},{"$f":"[4]Gaspreise!P6*'DCF (2012)'!$C$20*N$2/N$8","v":7.1265393213975932},{"$f":"[4]Gaspreise!Q6*'DCF (2012)'!$C$20*O$2/O$8","v":7.4708845624794487},{"$f":"[4]Gaspreise!R6*'DCF (2012)'!$C$20*P$2/P$8","v":6.9517532440392937},{"$f":"[4]Gaspreise!S6*'DCF (2012)'!$C$20*Q$2/Q$8","v":6.6497380318657919},{"$f":"[4]Gaspreise!T6*'DCF (2012)'!$C$20*R$2/R$8","v":7.6120569234147304},{"$f":"[4]Gaspreise!U6*'DCF (2012)'!$C$20*S$2/S$8","v":6.9366055841587801},{"$f":"[4]Gaspreise!V6*'DCF (2012)'!$C$20*T$2/T$8","v":7.7401894503458237},{"$f":"[4]Gaspreise!W6*'DCF (2012)'!$C$20*U$2/U$8","v":7.0715232270607302},{"$f":"[4]Gaspreise!X6*'DCF (2012)'!$C$20*V$2/V$8","v":7.5446757884595774},{"$f":"[4]Gaspreise!Y6*'DCF (2012)'!$C$20*W$2/W$8","v":8.7657304087204189},{"$f":"[4]Gaspreise!Z6*'DCF (2012)'!$C$20*X$2/X$8","v":9.2158594188772849},{"$f":"[4]Gaspreise!AA6*'DCF (2012)'!$C$20*Y$2/Y$8","v":9.3321118273466936},{"$f":"[4]Gaspreise!AB6*'DCF (2012)'!$C$20*Z$2/Z$8","v":9.4553570726380283},{"$f":"[4]Gaspreise!AC6*'DCF (2012)'!$C$20*AA$2/AA$8","v":9.6488844041967372},{"$f":"[4]Gaspreise!AD6*'DCF (2012)'!$C$20*AB$2/AB$8","v":9.7792984482814216}]
[4,null,null,null,{"$f":"[4]Gaspreise!G7*'DCF (2012)'!$C$20","v":6.8713888888888892},{"$f":"[4]Gaspreise!H7*'DCF (2012)'!$C$20","v":6.6245622147222196},{"$f":"[4]Gaspreise!I7*'DCF (2012)'!$C$20*G$2/G$8","v":5.506989606604809},{"$f":"[4]Gaspreise!J7*'DCF (2012)'!$C$20*H$2/H$8","v":6.4883198233830939},{"$f":"[4]Gaspreise!K7*'DCF (2012)'!$C$20*I$2/I$8","v":7.428557703994219},{"$f":"[4]Gaspreise!L7*'DCF (2012)'!$C$20*J$2/J$8","v":7.4637759809407775},{"$f":"[4]Gaspreise!M7*'DCF (2012)'!$C$20*K$2/K$8","v":7.9540501404447097},{"$f":"[4]Gaspreise!N7*'DCF (2012)'!$C$20*L$2/L$8","v":7.2922216311491042},{"$f":"[4]Gaspreise!O7*'DCF (2012)'!$C$20*M$2/M$8","v":7.4589213338380818},{"$f":"[4]Gaspreise!P7*'DCF (2012)'!$C$20*N$2/N$8","v":7.1265393213975932},{"$f":"[4]Gaspreise!Q7*'DCF (2012)'!$C$20*O$2/O$8","v":7.4708845624794487},{"$f":"[4]Gaspreise!R7*'DCF (2012)'!$C$20*P$2/P$8","v":6.9517532440392937},{"$f":"[4]Gaspreise!S7*'DCF (2012)'!$C$20*Q$2/Q$8","v":6.6497380318657919},{"$f":"[4]Gaspreise!T7*'DCF (2012)'!$C$20*R$2/R$8","v":7.6120569234147304},{"$f":"[4]Gaspreise!U7*'DCF (2012)'!$C$20*S$2/S$8","v":6.9366055841587801},{"$f":"[4]Gaspreise!V7*'DCF (2012)'!$C$20*T$2/T$8","v":7.7401894503458237},{"$f":"[4]Gaspreise!W7*'DCF (2012)'!$C$20*U$2/U$8","v":7.0715232270607302},{"$f":"[4]Gaspreise!X7*'DCF (2012)'!$C$20*V$2/V$8","v":7.5446757884595774},{"$f":"[4]Gaspreise!Y7*'DCF (2012)'!$C$20*W$2/W$8","v":8.7657304087204189},{"$f":"[4]Gaspreise!Z7*'DCF (2012)'!$C$20*X$2/X$8","v":9.2158594188772849},{"$f":"[4]Gaspreise!AA7*'DCF (2012)'!$C$20*Y$2/Y$8","v":9.3321118273466936},{"$f":"[4]Gaspreise!AB7*'DCF (2012)'!$C$20*Z$2/Z$8","v":9.4553570726380283},{"$f":"[4]Gaspreise!AC7*'DCF (2012)'!$C$20*AA$2/AA$8","v":9.6488844041967372},{"$f":"[4]Gaspreise!AD7*'DCF (2012)'!$C$20*AB$2/AB$8","v":9.7792984482814216}]
[5,null,null,null,{"$f":"[4]Gaspreise!G8*'DCF (2012)'!$C$20","v":6.8713888888888892},{"$f":"[4]Gaspreise!H8*'DCF (2012)'!$C$20","v":6.6245622147222196},{"$f":"[4]Gaspreise!I8*'DCF (2012)'!$C$20*G$2/G$8","v":5.506989606604809},{"$f":"[4]Gaspreise!J8*'DCF (2012)'!$C$20*H$2/H$8","v":6.4883198233830939},{"$f":"[4]Gaspreise!K8*'DCF (2012)'!$C$20*I$2/I$8","v":7.428557703994219},{"$f":"[4]Gaspreise!L8*'DCF (2012)'!$C$20*J$2/J$8","v":7.4637759809407775},{"$f":"[4]Gaspreise!M8*'DCF (2012)'!$C$20*K$2/K$8","v":7.9540501404447097},{"$f":"[4]Gaspreise!N8*'DCF (2012)'!$C$20*L$2/L$8","v":7.2922216311491042},{"$f":"[4]Gaspreise!O8*'DCF (2012)'!$C$20*M$2/M$8","v":7.4589213338380818},{"$f":"[4]Gaspreise!P8*'DCF (2012)'!$C$20*N$2/N$8","v":7.1265393213975932},{"$f":"[4]Gaspreise!Q8*'DCF (2012)'!$C$20*O$2/O$8","v":7.4708845624794487},{"$f":"[4]Gaspreise!R8*'DCF (2012)'!$C$20*P$2/P$8","v":6.9517532440392937},{"$f":"[4]Gaspreise!S8*'DCF (2012)'!$C$20*Q$2/Q$8","v":6.6497380318657919},{"$f":"[4]Gaspreise!T8*'DCF (2012)'!$C$20*R$2/R$8","v":7.6120569234147304},{"$f":"[4]Gaspreise!U8*'DCF (2012)'!$C$20*S$2/S$8","v":6.9366055841587801},{"$f":"[4]Gaspreise!V8*'DCF (2012)'!$C$20*T$2/T$8","v":7.7401894503458237},{"$f":"[4]Gaspreise!W8*'DCF (2012)'!$C$20*U$2/U$8","v":7.0715232270607302},{"$f":"[4]Gaspreise!X8*'DCF (2012)'!$C$20*V$2/V$8","v":7.5446757884595774},{"$f":"[4]Gaspreise!Y8*'DCF (2012)'!$C$20*W$2/W$8","v":8.7657304087204189},{"$f":"[4]Gaspreise!Z8*'DCF (2012)'!$C$20*X$2/X$8","v":9.2158594188772849},{"$f":"[4]Gaspreise!AA8*'DCF (2012)'!$C$20*Y$2/Y$8","v":9.3321118273466936},{"$f":"[4]Gaspreise!AB8*'DCF (2012)'!$C$20*Z$2/Z$8","v":9.4553570726380283},{"$f":"[4]Gaspreise!AC8*'DCF (2012)'!$C$20*AA$2/AA$8","v":9.6488844041967372},{"$f":"[4]Gaspreise!AD8*'DCF (2012)'!$C$20*AB$2/AB$8","v":9.7792984482814216}]
[6,null,null,null,{"$f":"[4]Gaspreise!G9*'DCF (2012)'!$C$20","v":6.8713888888888892},{"$f":"[4]Gaspreise!H9*'DCF (2012)'!$C$20","v":6.6245622147222196},{"$f":"[4]Gaspreise!I9*'DCF (2012)'!$C$20*G$2/G$8","v":5.506989606604809},{"$f":"[4]Gaspreise!J9*'DCF (2012)'!$C$20*H$2/H$8","v":6.4883198233830939},{"$f":"[4]Gaspreise!K9*'DCF (2012)'!$C$20*I$2/I$8","v":7.428557703994219},{"$f":"[4]Gaspreise!L9*'DCF (2012)'!$C$20*J$2/J$8","v":7.4637759809407775},{"$f":"[4]Gaspreise!M9*'DCF (2012)'!$C$20*K$2/K$8","v":7.9540501404447097},{"$f":"[4]Gaspreise!N9*'DCF (2012)'!$C$20*L$2/L$8","v":7.2922216311491042},{"$f":"[4]Gaspreise!O9*'DCF (2012)'!$C$20*M$2/M$8","v":7.4589213338380818},{"$f":"[4]Gaspreise!P9*'DCF (2012)'!$C$20*N$2/N$8","v":7.1265393213975932},{"$f":"[4]Gaspreise!Q9*'DCF (2012)'!$C$20*O$2/O$8","v":7.4708845624794487},{"$f":"[4]Gaspreise!R9*'DCF (2012)'!$C$20*P$2/P$8","v":6.9517532440392937},{"$f":"[4]Gaspreise!S9*'DCF (2012)'!$C$20*Q$2/Q$8","v":6.6497380318657919},{"$f":"[4]Gaspreise!T9*'DCF (2012)'!$C$20*R$2/R$8","v":7.6120569234147304},{"$f":"[4]Gaspreise!U9*'DCF (2012)'!$C$20*S$2/S$8","v":6.9366055841587801},{"$f":"[4]Gaspreise!V9*'DCF (2012)'!$C$20*T$2/T$8","v":7.7401894503458237},{"$f":"[4]Gaspreise!W9*'DCF (2012)'!$C$20*U$2/U$8","v":7.0715232270607302},{"$f":"[4]Gaspreise!X9*'DCF (2012)'!$C$20*V$2/V$8","v":7.5446757884595774},{"$f":"[4]Gaspreise!Y9*'DCF (2012)'!$C$20*W$2/W$8","v":8.7657304087204189},{"$f":"[4]Gaspreise!Z9*'DCF (2012)'!$C$20*X$2/X$8","v":9.2158594188772849},{"$f":"[4]Gaspreise!AA9*'DCF (2012)'!$C$20*Y$2/Y$8","v":9.3321118273466936},{"$f":"[4]Gaspreise!AB9*'DCF (2012)'!$C$20*Z$2/Z$8","v":9.4553570726380283},{"$f":"[4]Gaspreise!AC9*'DCF (2012)'!$C$20*AA$2/AA$8","v":9.6488844041967372},{"$f":"[4]Gaspreise!AD9*'DCF (2012)'!$C$20*AB$2/AB$8","v":9.7792984482814216}]
[7,null,null,null,{"$f":"[4]Gaspreise!G10*'DCF (2012)'!$C$20","v":6.8713888888888892},{"$f":"[4]Gaspreise!H10*'DCF (2012)'!$C$20","v":6.6245622147222196},{"$f":"[4]Gaspreise!I10*'DCF (2012)'!$C$20*G$2/G$8","v":5.506989606604809},{"$f":"[4]Gaspreise!J10*'DCF (2012)'!$C$20*H$2/H$8","v":6.4883198233830939},{"$f":"[4]Gaspreise!K10*'DCF (2012)'!$C$20*I$2/I$8","v":7.428557703994219},{"$f":"[4]Gaspreise!L10*'DCF (2012)'!$C$20*J$2/J$8","v":7.4637759809407775},{"$f":"[4]Gaspreise!M10*'DCF (2012)'!$C$20*K$2/K$8","v":7.9540501404447097},{"$f":"[4]Gaspreise!N10*'DCF (2012)'!$C$20*L$2/L$8","v":7.2922216311491042},{"$f":"[4]Gaspreise!O10*'DCF (2012)'!$C$20*M$2/M$8","v":7.4589213338380818},{"$f":"[4]Gaspreise!P10*'DCF (2012)'!$C$20*N$2/N$8","v":7.1265393213975932},{"$f":"[4]Gaspreise!Q10*'DCF (2012)'!$C$20*O$2/O$8","v":7.4708845624794487},{"$f":"[4]Gaspreise!R10*'DCF (2012)'!$C$20*P$2/P$8","v":6.9517532440392937},{"$f":"[4]Gaspreise!S10*'DCF (2012)'!$C$20*Q$2/Q$8","v":6.6497380318657919},{"$f":"[4]Gaspreise!T10*'DCF (2012)'!$C$20*R$2/R$8","v":7.6120569234147304},{"$f":"[4]Gaspreise!U10*'DCF (2012)'!$C$20*S$2/S$8","v":6.9366055841587801},{"$f":"[4]Gaspreise!V10*'DCF (2012)'!$C$20*T$2/T$8","v":7.7401894503458237},{"$f":"[4]Gaspreise!W10*'DCF (2012)'!$C$20*U$2/U$8","v":7.0715232270607302},{"$f":"[4]Gaspreise!X10*'DCF (2012)'!$C$20*V$2/V$8","v":7.5446757884595774},{"$f":"[4]Gaspreise!Y10*'DCF (2012)'!$C$20*W$2/W$8","v":8.7657304087204189},{"$f":"[4]Gaspreise!Z10*'DCF (2012)'!$C$20*X$2/X$8","v":9.2158594188772849},{"$f":"[4]Gaspreise!AA10*'DCF (2012)'!$C$20*Y$2/Y$8","v":9.3321118273466936},{"$f":"[4]Gaspreise!AB10*'DCF (2012)'!$C$20*Z$2/Z$8","v":9.4553570726380283},{"$f":"[4]Gaspreise!AC10*'DCF (2012)'!$C$20*AA$2/AA$8","v":9.6488844041967372},{"$f":"[4]Gaspreise!AD10*'DCF (2012)'!$C$20*AB$2/AB$8","v":9.7792984482814216}]
[8,null,null,null,{"$f":"[4]Gaspreise!G11*'DCF (2012)'!$C$20","v":6.8713888888888892},{"$f":"[4]Gaspreise!H11*'DCF (2012)'!$C$20","v":6.6245622147222196},{"$f":"[4]Gaspreise!I11*'DCF (2012)'!$C$20*G$2/G$8","v":5.506989606604809},{"$f":"[4]Gaspreise!J11*'DCF (2012)'!$C$20*H$2/H$8","v":6.4883198233830939},{"$f":"[4]Gaspreise!K11*'DCF (2012)'!$C$20*I$2/I$8","v":7.428557703994219},{"$f":"[4]Gaspreise!L11*'DCF (2012)'!$C$20*J$2/J$8","v":7.4637759809407775},{"$f":"[4]Gaspreise!M11*'DCF (2012)'!$C$20*K$2/K$8","v":7.9540501404447097},{"$f":"[4]Gaspreise!N11*'DCF (2012)'!$C$20*L$2/L$8","v":7.2922216311491042},{"$f":"[4]Gaspreise!O11*'DCF (2012)'!$C$20*M$2/M$8","v":7.4589213338380818},{"$f":"[4]Gaspreise!P11*'DCF (2012)'!$C$20*N$2/N$8","v":7.1265393213975932},{"$f":"[4]Gaspreise!Q11*'DCF (2012)'!$C$20*O$2/O$8","v":7.4708845624794487},{"$f":"[4]Gaspreise!R11*'DCF (2012)'!$C$20*P$2/P$8","v":6.9517532440392937},{"$f":"[4]Gaspreise!S11*'DCF (2012)'!$C$20*Q$2/Q$8","v":6.6497380318657919},{"$f":"[4]Gaspreise!T11*'DCF (2012)'!$C$20*R$2/R$8","v":7.6120569234147304},{"$f":"[4]Gaspreise!U11*'DCF (2012)'!$C$20*S$2/S$8","v":6.9366055841587801},{"$f":"[4]Gaspreise!V11*'DCF (2012)'!$C$20*T$2/T$8","v":7.7401894503458237},{"$f":"[4]Gaspreise!W11*'DCF (2012)'!$C$20*U$2/U$8","v":7.0715232270607302},{"$f":"[4]Gaspreise!X11*'DCF (2012)'!$C$20*V$2/V$8","v":7.5446757884595774},{"$f":"[4]Gaspreise!Y11*'DCF (2012)'!$C$20*W$2/W$8","v":8.7657304087204189},{"$f":"[4]Gaspreise!Z11*'DCF (2012)'!$C$20*X$2/X$8","v":9.2158594188772849},{"$f":"[4]Gaspreise!AA11*'DCF (2012)'!$C$20*Y$2/Y$8","v":9.3321118273466936},{"$f":"[4]Gaspreise!AB11*'DCF (2012)'!$C$20*Z$2/Z$8","v":9.4553570726380283},{"$f":"[4]Gaspreise!AC11*'DCF (2012)'!$C$20*AA$2/AA$8","v":9.6488844041967372},{"$f":"[4]Gaspreise!AD11*'DCF (2012)'!$C$20*AB$2/AB$8","v":9.7792984482814216}]
[9,null,null,null,{"$f":"[4]Gaspreise!G12*'DCF (2012)'!$C$20","v":6.8713888888888892},{"$f":"[4]Gaspreise!H12*'DCF (2012)'!$C$20","v":6.6245622147222196},{"$f":"[4]Gaspreise!I12*'DCF (2012)'!$C$20*G$2/G$8","v":5.506989606604809},{"$f":"[4]Gaspreise!J12*'DCF (2012)'!$C$20*H$2/H$8","v":6.4883198233830939},{"$f":"[4]Gaspreise!K12*'DCF (2012)'!$C$20*I$2/I$8","v":7.428557703994219},{"$f":"[4]Gaspreise!L12*'DCF (2012)'!$C$20*J$2/J$8","v":7.4637759809407775},{"$f":"[4]Gaspreise!M12*'DCF (2012)'!$C$20*K$2/K$8","v":7.9540501404447097},{"$f":"[4]Gaspreise!N12*'DCF (2012)'!$C$20*L$2/L$8","v":7.2922216311491042},{"$f":"[4]Gaspreise!O12*'DCF (2012)'!$C$20*M$2/M$8","v":7.4589213338380818},{"$f":"[4]Gaspreise!P12*'DCF (2012)'!$C$20*N$2/N$8","v":7.1265393213975932},{"$f":"[4]Gaspreise!Q12*'DCF (2012)'!$C$20*O$2/O$8","v":7.4708845624794487},{"$f":"[4]Gaspreise!R12*'DCF (2012)'!$C$20*P$2/P$8","v":6.9517532440392937},{"$f":"[4]Gaspreise!S12*'DCF (2012)'!$C$20*Q$2/Q$8","v":6.6497380318657919},{"$f":"[4]Gaspreise!T12*'DCF (2012)'!$C$20*R$2/R$8","v":7.6120569234147304},{"$f":"[4]Gaspreise!U12*'DCF (2012)'!$C$20*S$2/S$8","v":6.9366055841587801},{"$f":"[4]Gaspreise!V12*'DCF (2012)'!$C$20*T$2/T$8","v":7.7401894503458237},{"$f":"[4]Gaspreise!W12*'DCF (2012)'!$C$20*U$2/U$8","v":7.0715232270607302},{"$f":"[4]Gaspreise!X12*'DCF (2012)'!$C$20*V$2/V$8","v":7.5446757884595774},{"$f":"[4]Gaspreise!Y12*'DCF (2012)'!$C$20*W$2/W$8","v":8.7657304087204189},{"$f":"[4]Gaspreise!Z12*'DCF (2012)'!$C$20*X$2/X$8","v":9.2158594188772849},{"$f":"[4]Gaspreise!AA12*'DCF (2012)'!$C$20*Y$2/Y$8","v":9.3321118273466936},{"$f":"[4]Gaspreise!AB12*'DCF (2012)'!$C$20*Z$2/Z$8","v":9.4553570726380283},{"$f":"[4]Gaspreise!AC12*'DCF (2012)'!$C$20*AA$2/AA$8","v":9.6488844041967372},{"$f":"[4]Gaspreise!AD12*'DCF (2012)'!$C$20*AB$2/AB$8","v":9.7792984482814216}]
[10,null,null,null,{"$f":"[4]Gaspreise!G13*'DCF (2012)'!$C$20","v":6.8713888888888892},{"$f":"[4]Gaspreise!H13*'DCF (2012)'!$C$20","v":6.6245622147222196},{"$f":"[4]Gaspreise!I13*'DCF (2012)'!$C$20*G$2/G$8","v":5.506989606604809},{"$f":"[4]Gaspreise!J13*'DCF (2012)'!$C$20*H$2/H$8","v":6.4883198233830939},{"$f":"[4]Gaspreise!K13*'DCF (2012)'!$C$20*I$2/I$8","v":7.428557703994219},{"$f":"[4]Gaspreise!L13*'DCF (2012)'!$C$20*J$2/J$8","v":7.4637759809407775},{"$f":"[4]Gaspreise!M13*'DCF (2012)'!$C$20*K$2/K$8","v":7.9540501404447097},{"$f":"[4]Gaspreise!N13*'DCF (2012)'!$C$20*L$2/L$8","v":7.2922216311491042},{"$f":"[4]Gaspreise!O13*'DCF (2012)'!$C$20*M$2/M$8","v":7.4589213338380818},{"$f":"[4]Gaspreise!P13*'DCF (2012)'!$C$20*N$2/N$8","v":7.1265393213975932},{"$f":"[4]Gaspreise!Q13*'DCF (2012)'!$C$20*O$2/O$8","v":7.4708845624794487},{"$f":"[4]Gaspreise!R13*'DCF (2012)'!$C$20*P$2/P$8","v":6.9517532440392937},{"$f":"[4]Gaspreise!S13*'DCF (2012)'!$C$20*Q$2/Q$8","v":6.6497380318657919},{"$f":"[4]Gaspreise!T13*'DCF (2012)'!$C$20*R$2/R$8","v":7.6120569234147304},{"$f":"[4]Gaspreise!U13*'DCF (2012)'!$C$20*S$2/S$8","v":6.9366055841587801},{"$f":"[4]Gaspreise!V13*'DCF (2012)'!$C$20*T$2/T$8","v":7.7401894503458237},{"$f":"[4]Gaspreise!W13*'DCF (2012)'!$C$20*U$2/U$8","v":7.0715232270607302},{"$f":"[4]Gaspreise!X13*'DCF (2012)'!$C$20*V$2/V$8","v":7.5446757884595774},{"$f":"[4]Gaspreise!Y13*'DCF (2012)'!$C$20*W$2/W$8","v":8.7657304087204189},{"$f":"[4]Gaspreise!Z13*'DCF (2012)'!$C$20*X$2/X$8","v":9.2158594188772849},{"$f":"[4]Gaspreise!AA13*'DCF (2012)'!$C$20*Y$2/Y$8","v":9.3321118273466936},{"$f":"[4]Gaspreise!AB13*'DCF (2012)'!$C$20*Z$2/Z$8","v":9.4553570726380283},{"$f":"[4]Gaspreise!AC13*'DCF (2012)'!$C$20*AA$2/AA$8","v":9.6488844041967372},{"$f":"[4]Gaspreise!AD13*'DCF (2012)'!$C$20*AB$2/AB$8","v":9.7792984482814216}]
[11,null,null,null,{"$f":"[4]Gaspreise!G14*'DCF (2012)'!$C$20","v":6.8713888888888892},{"$f":"[4]Gaspreise!H14*'DCF (2012)'!$C$20","v":6.6245622147222196},{"$f":"[4]Gaspreise!I14*'DCF (2012)'!$C$20*G$2/G$8","v":5.506989606604809},{"$f":"[4]Gaspreise!J14*'DCF (2012)'!$C$20*H$2/H$8","v":6.4883198233830939},{"$f":"[4]Gaspreise!K14*'DCF (2012)'!$C$20*I$2/I$8","v":7.428557703994219},{"$f":"[4]Gaspreise!L14*'DCF (2012)'!$C$20*J$2/J$8","v":7.4637759809407775},{"$f":"[4]Gaspreise!M14*'DCF (2012)'!$C$20*K$2/K$8","v":7.9540501404447097},{"$f":"[4]Gaspreise!N14*'DCF (2012)'!$C$20*L$2/L$8","v":7.2922216311491042},{"$f":"[4]Gaspreise!O14*'DCF (2012)'!$C$20*M$2/M$8","v":7.4589213338380818},{"$f":"[4]Gaspreise!P14*'DCF (2012)'!$C$20*N$2/N$8","v":7.1265393213975932},{"$f":"[4]Gaspreise!Q14*'DCF (2012)'!$C$20*O$2/O$8","v":7.4708845624794487},{"$f":"[4]Gaspreise!R14*'DCF (2012)'!$C$20*P$2/P$8","v":6.9517532440392937},{"$f":"[4]Gaspreise!S14*'DCF (2012)'!$C$20*Q$2/Q$8","v":6.6497380318657919},{"$f":"[4]Gaspreise!T14*'DCF (2012)'!$C$20*R$2/R$8","v":7.6120569234147304},{"$f":"[4]Gaspreise!U14*'DCF (2012)'!$C$20*S$2/S$8","v":6.9366055841587801},{"$f":"[4]Gaspreise!V14*'DCF (2012)'!$C$20*T$2/T$8","v":7.7401894503458237},{"$f":"[4]Gaspreise!W14*'DCF (2012)'!$C$20*U$2/U$8","v":7.0715232270607302},{"$f":"[4]Gaspreise!X14*'DCF (2012)'!$C$20*V$2/V$8","v":7.5446757884595774},{"$f":"[4]Gaspreise!Y14*'DCF (2012)'!$C$20*W$2/W$8","v":8.7657304087204189},{"$f":"[4]Gaspreise!Z14*'DCF (2012)'!$C$20*X$2/X$8","v":9.2158594188772849},{"$f":"[4]Gaspreise!AA14*'DCF (2012)'!$C$20*Y$2/Y$8","v":9.3321118273466936},{"$f":"[4]Gaspreise!AB14*'DCF (2012)'!$C$20*Z$2/Z$8","v":9.4553570726380283},{"$f":"[4]Gaspreise!AC14*'DCF (2012)'!$C$20*AA$2/AA$8","v":9.6488844041967372},{"$f":"[4]Gaspreise!AD14*'DCF (2012)'!$C$20*AB$2/AB$8","v":9.7792984482814216}]
[12,null,null,null,{"$f":"[4]Gaspreise!G15*'DCF (2012)'!$C$20","v":6.8713888888888892},{"$f":"[4]Gaspreise!H15*'DCF (2012)'!$C$20","v":6.6245622147222196},{"$f":"[4]Gaspreise!I15*'DCF (2012)'!$C$20*G$2/G$8","v":5.506989606604809},{"$f":"[4]Gaspreise!J15*'DCF (2012)'!$C$20*H$2/H$8","v":6.4883198233830939},{"$f":"[4]Gaspreise!K15*'DCF (2012)'!$C$20*I$2/I$8","v":7.428557703994219},{"$f":"[4]Gaspreise!L15*'DCF (2012)'!$C$20*J$2/J$8","v":7.4637759809407775},{"$f":"[4]Gaspreise!M15*'DCF (2012)'!$C$20*K$2/K$8","v":7.9540501404447097},{"$f":"[4]Gaspreise!N15*'DCF (2012)'!$C$20*L$2/L$8","v":7.2922216311491042},{"$f":"[4]Gaspreise!O15*'DCF (2012)'!$C$20*M$2/M$8","v":7.4589213338380818},{"$f":"[4]Gaspreise!P15*'DCF (2012)'!$C$20*N$2/N$8","v":7.1265393213975932},{"$f":"[4]Gaspreise!Q15*'DCF (2012)'!$C$20*O$2/O$8","v":7.4708845624794487},{"$f":"[4]Gaspreise!R15*'DCF (2012)'!$C$20*P$2/P$8","v":6.9517532440392937},{"$f":"[4]Gaspreise!S15*'DCF (2012)'!$C$20*Q$2/Q$8","v":6.6497380318657919},{"$f":"[4]Gaspreise!T15*'DCF (2012)'!$C$20*R$2/R$8","v":7.6120569234147304},{"$f":"[4]Gaspreise!U15*'DCF (2012)'!$C$20*S$2/S$8","v":6.9366055841587801},{"$f":"[4]Gaspreise!V15*'DCF (2012)'!$C$20*T$2/T$8","v":7.7401894503458237},{"$f":"[4]Gaspreise!W15*'DCF (2012)'!$C$20*U$2/U$8","v":7.0715232270607302},{"$f":"[4]Gaspreise!X15*'DCF (2012)'!$C$20*V$2/V$8","v":7.5446757884595774},{"$f":"[4]Gaspreise!Y15*'DCF (2012)'!$C$20*W$2/W$8","v":8.7657304087204189},{"$f":"[4]Gaspreise!Z15*'DCF (2012)'!$C$20*X$2/X$8","v":9.2158594188772849},{"$f":"[4]Gaspreise!AA15*'DCF (2012)'!$C$20*Y$2/Y$8","v":9.3321118273466936},{"$f":"[4]Gaspreise!AB15*'DCF (2012)'!$C$20*Z$2/Z$8","v":9.4553570726380283},{"$f":"[4]Gaspreise!AC15*'DCF (2012)'!$C$20*AA$2/AA$8","v":9.6488844041967372},{"$f":"[4]Gaspreise!AD15*'DCF (2012)'!$C$20*AB$2/AB$8","v":9.7792984482814216}]
[13,null,null,null,{"$f":"[4]Gaspreise!G16*'DCF (2012)'!$C$20","v":6.8713888888888892},{"$f":"[4]Gaspreise!H16*'DCF (2012)'!$C$20","v":6.6245622147222196},{"$f":"[4]Gaspreise!I16*'DCF (2012)'!$C$20*G$2/G$8","v":5.506989606604809},{"$f":"[4]Gaspreise!J16*'DCF (2012)'!$C$20*H$2/H$8","v":6.4883198233830939},{"$f":"[4]Gaspreise!K16*'DCF (2012)'!$C$20*I$2/I$8","v":7.428557703994219},{"$f":"[4]Gaspreise!L16*'DCF (2012)'!$C$20*J$2/J$8","v":7.4637759809407775},{"$f":"[4]Gaspreise!M16*'DCF (2012)'!$C$20*K$2/K$8","v":7.9540501404447097},{"$f":"[4]Gaspreise!N16*'DCF (2012)'!$C$20*L$2/L$8","v":7.2922216311491042},{"$f":"[4]Gaspreise!O16*'DCF (2012)'!$C$20*M$2/M$8","v":7.4589213338380818},{"$f":"[4]Gaspreise!P16*'DCF (2012)'!$C$20*N$2/N$8","v":7.1265393213975932},{"$f":"[4]Gaspreise!Q16*'DCF (2012)'!$C$20*O$2/O$8","v":7.4708845624794487},{"$f":"[4]Gaspreise!R16*'DCF (2012)'!$C$20*P$2/P$8","v":6.9517532440392937},{"$f":"[4]Gaspreise!S16*'DCF (2012)'!$C$20*Q$2/Q$8","v":6.6497380318657919},{"$f":"[4]Gaspreise!T16*'DCF (2012)'!$C$20*R$2/R$8","v":7.6120569234147304},{"$f":"[4]Gaspreise!U16*'DCF (2012)'!$C$20*S$2/S$8","v":6.9366055841587801},{"$f":"[4]Gaspreise!V16*'DCF (2012)'!$C$20*T$2/T$8","v":7.7401894503458237},{"$f":"[4]Gaspreise!W16*'DCF (2012)'!$C$20*U$2/U$8","v":7.0715232270607302},{"$f":"[4]Gaspreise!X16*'DCF (2012)'!$C$20*V$2/V$8","v":7.5446757884595774},{"$f":"[4]Gaspreise!Y16*'DCF (2012)'!$C$20*W$2/W$8","v":8.7657304087204189},{"$f":"[4]Gaspreise!Z16*'DCF (2012)'!$C$20*X$2/X$8","v":9.2158594188772849},{"$f":"[4]Gaspreise!AA16*'DCF (2012)'!$C$20*Y$2/Y$8","v":9.3321118273466936},{"$f":"[4]Gaspreise!AB16*'DCF (2012)'!$C$20*Z$2/Z$8","v":9.4553570726380283},{"$f":"[4]Gaspreise!AC16*'DCF (2012)'!$C$20*AA$2/AA$8","v":9.6488844041967372},{"$f":"[4]Gaspreise!AD16*'DCF (2012)'!$C$20*AB$2/AB$8","v":9.7792984482814216}]
[14,null,null,null,{"$f":"[4]Gaspreise!G17*'DCF (2012)'!$C$20","v":6.8713888888888892},{"$f":"[4]Gaspreise!H17*'DCF (2012)'!$C$20","v":6.6245622147222196},{"$f":"[4]Gaspreise!I17*'DCF (2012)'!$C$20*G$2/G$8","v":5.506989606604809},{"$f":"[4]Gaspreise!J17*'DCF (2012)'!$C$20*H$2/H$8","v":6.4883198233830939},{"$f":"[4]Gaspreise!K17*'DCF (2012)'!$C$20*I$2/I$8","v":7.428557703994219},{"$f":"[4]Gaspreise!L17*'DCF (2012)'!$C$20*J$2/J$8","v":7.4637759809407775},{"$f":"[4]Gaspreise!M17*'DCF (2012)'!$C$20*K$2/K$8","v":7.9540501404447097},{"$f":"[4]Gaspreise!N17*'DCF (2012)'!$C$20*L$2/L$8","v":7.2922216311491042},{"$f":"[4]Gaspreise!O17*'DCF (2012)'!$C$20*M$2/M$8","v":7.4589213338380818},{"$f":"[4]Gaspreise!P17*'DCF (2012)'!$C$20*N$2/N$8","v":7.1265393213975932},{"$f":"[4]Gaspreise!Q17*'DCF (2012)'!$C$20*O$2/O$8","v":7.4708845624794487},{"$f":"[4]Gaspreise!R17*'DCF (2012)'!$C$20*P$2/P$8","v":6.9517532440392937},{"$f":"[4]Gaspreise!S17*'DCF (2012)'!$C$20*Q$2/Q$8","v":6.6497380318657919},{"$f":"[4]Gaspreise!T17*'DCF (2012)'!$C$20*R$2/R$8","v":7.6120569234147304},{"$f":"[4]Gaspreise!U17*'DCF (2012)'!$C$20*S$2/S$8","v":6.9366055841587801},{"$f":"[4]Gaspreise!V17*'DCF (2012)'!$C$20*T$2/T$8","v":7.7401894503458237},{"$f":"[4]Gaspreise!W17*'DCF (2012)'!$C$20*U$2/U$8","v":7.0715232270607302},{"$f":"[4]Gaspreise!X17*'DCF (2012)'!$C$20*V$2/V$8","v":7.5446757884595774},{"$f":"[4]Gaspreise!Y17*'DCF (2012)'!$C$20*W$2/W$8","v":8.7657304087204189},{"$f":"[4]Gaspreise!Z17*'DCF (2012)'!$C$20*X$2/X$8","v":9.2158594188772849},{"$f":"[4]Gaspreise!AA17*'DCF (2012)'!$C$20*Y$2/Y$8","v":9.3321118273466936},{"$f":"[4]Gaspreise!AB17*'DCF (2012)'!$C$20*Z$2/Z$8","v":9.4553570726380283},{"$f":"[4]Gaspreise!AC17*'DCF (2012)'!$C$20*AA$2/AA$8","v":9.6488844041967372},{"$f":"[4]Gaspreise!AD17*'DCF (2012)'!$C$20*AB$2/AB$8","v":9.7792984482814216}]
[15,null,null,null,{"$f":"[4]Gaspreise!G18*'DCF (2012)'!$C$20","v":6.8713888888888892},{"$f":"[4]Gaspreise!H18*'DCF (2012)'!$C$20","v":6.6245622147222196},{"$f":"[4]Gaspreise!I18*'DCF (2012)'!$C$20*G$2/G$8","v":5.506989606604809},{"$f":"[4]Gaspreise!J18*'DCF (2012)'!$C$20*H$2/H$8","v":6.4883198233830939},{"$f":"[4]Gaspreise!K18*'DCF (2012)'!$C$20*I$2/I$8","v":7.428557703994219},{"$f":"[4]Gaspreise!L18*'DCF (2012)'!$C$20*J$2/J$8","v":7.4637759809407775},{"$f":"[4]Gaspreise!M18*'DCF (2012)'!$C$20*K$2/K$8","v":7.9540501404447097},{"$f":"[4]Gaspreise!N18*'DCF (2012)'!$C$20*L$2/L$8","v":7.2922216311491042},{"$f":"[4]Gaspreise!O18*'DCF (2012)'!$C$20*M$2/M$8","v":7.4589213338380818},{"$f":"[4]Gaspreise!P18*'DCF (2012)'!$C$20*N$2/N$8","v":7.1265393213975932},{"$f":"[4]Gaspreise!Q18*'DCF (2012)'!$C$20*O$2/O$8","v":7.4708845624794487},{"$f":"[4]Gaspreise!R18*'DCF (2012)'!$C$20*P$2/P$8","v":6.9517532440392937},{"$f":"[4]Gaspreise!S18*'DCF (2012)'!$C$20*Q$2/Q$8","v":6.6497380318657919},{"$f":"[4]Gaspreise!T18*'DCF (2012)'!$C$20*R$2/R$8","v":7.6120569234147304},{"$f":"[4]Gaspreise!U18*'DCF (2012)'!$C$20*S$2/S$8","v":6.9366055841587801},{"$f":"[4]Gaspreise!V18*'DCF (2012)'!$C$20*T$2/T$8","v":7.7401894503458237},{"$f":"[4]Gaspreise!W18*'DCF (2012)'!$C$20*U$2/U$8","v":7.0715232270607302},{"$f":"[4]Gaspreise!X18*'DCF (2012)'!$C$20*V$2/V$8","v":7.5446757884595774},{"$f":"[4]Gaspreise!Y18*'DCF (2012)'!$C$20*W$2/W$8","v":8.7657304087204189},{"$f":"[4]Gaspreise!Z18*'DCF (2012)'!$C$20*X$2/X$8","v":9.2158594188772849},{"$f":"[4]Gaspreise!AA18*'DCF (2012)'!$C$20*Y$2/Y$8","v":9.3321118273466936},{"$f":"[4]Gaspreise!AB18*'DCF (2012)'!$C$20*Z$2/Z$8","v":9.4553570726380283},{"$f":"[4]Gaspreise!AC18*'DCF (2012)'!$C$20*AA$2/AA$8","v":9.6488844041967372},{"$f":"[4]Gaspreise!AD18*'DCF (2012)'!$C$20*AB$2/AB$8","v":9.7792984482814216}]
[16,null,null,null,{"$f":"[4]Gaspreise!G19*'DCF (2012)'!$C$20","v":6.8713888888888892},{"$f":"[4]Gaspreise!H19*'DCF (2012)'!$C$20","v":6.6245622147222196},{"$f":"[4]Gaspreise!I19*'DCF (2012)'!$C$20*G$2/G$8","v":5.506989606604809},{"$f":"[4]Gaspreise!J19*'DCF (2012)'!$C$20*H$2/H$8","v":6.4883198233830939},{"$f":"[4]Gaspreise!K19*'DCF (2012)'!$C$20*I$2/I$8","v":7.428557703994219},{"$f":"[4]Gaspreise!L19*'DCF (2012)'!$C$20*J$2/J$8","v":7.4637759809407775},{"$f":"[4]Gaspreise!M19*'DCF (2012)'!$C$20*K$2/K$8","v":7.9540501404447097},{"$f":"[4]Gaspreise!N19*'DCF (2012)'!$C$20*L$2/L$8","v":7.2922216311491042},{"$f":"[4]Gaspreise!O19*'DCF (2012)'!$C$20*M$2/M$8","v":7.4589213338380818},{"$f":"[4]Gaspreise!P19*'DCF (2012)'!$C$20*N$2/N$8","v":7.1265393213975932},{"$f":"[4]Gaspreise!Q19*'DCF (2012)'!$C$20*O$2/O$8","v":7.4708845624794487},{"$f":"[4]Gaspreise!R19*'DCF (2012)'!$C$20*P$2/P$8","v":6.9517532440392937},{"$f":"[4]Gaspreise!S19*'DCF (2012)'!$C$20*Q$2/Q$8","v":6.6497380318657919},{"$f":"[4]Gaspreise!T19*'DCF (2012)'!$C$20*R$2/R$8","v":7.6120569234147304},{"$f":"[4]Gaspreise!U19*'DCF (2012)'!$C$20*S$2/S$8","v":6.9366055841587801},{"$f":"[4]Gaspreise!V19*'DCF (2012)'!$C$20*T$2/T$8","v":7.7401894503458237},{"$f":"[4]Gaspreise!W19*'DCF (2012)'!$C$20*U$2/U$8","v":7.0715232270607302},{"$f":"[4]Gaspreise!X19*'DCF (2012)'!$C$20*V$2/V$8","v":7.5446757884595774},{"$f":"[4]Gaspreise!Y19*'DCF (2012)'!$C$20*W$2/W$8","v":8.7657304087204189},{"$f":"[4]Gaspreise!Z19*'DCF (2012)'!$C$20*X$2/X$8","v":9.2158594188772849},{"$f":"[4]Gaspreise!AA19*'DCF (2012)'!$C$20*Y$2/Y$8","v":9.3321118273466936},{"$f":"[4]Gaspreise!AB19*'DCF (2012)'!$C$20*Z$2/Z$8","v":9.4553570726380283},{"$f":"[4]Gaspreise!AC19*'DCF (2012)'!$C$20*AA$2/AA$8","v":9.6488844041967372},{"$f":"[4]Gaspreise!AD19*'DCF (2012)'!$C$20*AB$2/AB$8","v":9.7792984482814216}]
[17,null,null,null,{"$f":"[4]Gaspreise!G20*'DCF (2012)'!$C$20","v":6.8713888888888892},{"$f":"[4]Gaspreise!H20*'DCF (2012)'!$C$20","v":6.6245622147222196},{"$f":"[4]Gaspreise!I20*'DCF (2012)'!$C$20*G$2/G$8","v":5.506989606604809},{"$f":"[4]Gaspreise!J20*'DCF (2012)'!$C$20*H$2/H$8","v":6.4883198233830939},{"$f":"[4]Gaspreise!K20*'DCF (2012)'!$C$20*I$2/I$8","v":7.428557703994219},{"$f":"[4]Gaspreise!L20*'DCF (2012)'!$C$20*J$2/J$8","v":7.4637759809407775},{"$f":"[4]Gaspreise!M20*'DCF (2012)'!$C$20*K$2/K$8","v":7.9540501404447097},{"$f":"[4]Gaspreise!N20*'DCF (2012)'!$C$20*L$2/L$8","v":7.2922216311491042},{"$f":"[4]Gaspreise!O20*'DCF (2012)'!$C$20*M$2/M$8","v":7.4589213338380818},{"$f":"[4]Gaspreise!P20*'DCF (2012)'!$C$20*N$2/N$8","v":7.1265393213975932},{"$f":"[4]Gaspreise!Q20*'DCF (2012)'!$C$20*O$2/O$8","v":7.4708845624794487},{"$f":"[4]Gaspreise!R20*'DCF (2012)'!$C$20*P$2/P$8","v":6.9517532440392937},{"$f":"[4]Gaspreise!S20*'DCF (2012)'!$C$20*Q$2/Q$8","v":6.6497380318657919},{"$f":"[4]Gaspreise!T20*'DCF (2012)'!$C$20*R$2/R$8","v":7.6120569234147304},{"$f":"[4]Gaspreise!U20*'DCF (2012)'!$C$20*S$2/S$8","v":6.9366055841587801},{"$f":"[4]Gaspreise!V20*'DCF (2012)'!$C$20*T$2/T$8","v":7.7401894503458237},{"$f":"[4]Gaspreise!W20*'DCF (2012)'!$C$20*U$2/U$8","v":7.0715232270607302},{"$f":"[4]Gaspreise!X20*'DCF (2012)'!$C$20*V$2/V$8","v":7.5446757884595774},{"$f":"[4]Gaspreise!Y20*'DCF (2012)'!$C$20*W$2/W$8","v":8.7657304087204189},{"$f":"[4]Gaspreise!Z20*'DCF (2012)'!$C$20*X$2/X$8","v":9.2158594188772849},{"$f":"[4]Gaspreise!AA20*'DCF (2012)'!$C$20*Y$2/Y$8","v":9.3321118273466936},{"$f":"[4]Gaspreise!AB20*'DCF (2012)'!$C$20*Z$2/Z$8","v":9.4553570726380283},{"$f":"[4]Gaspreise!AC20*'DCF (2012)'!$C$20*AA$2/AA$8","v":9.6488844041967372},{"$f":"[4]Gaspreise!AD20*'DCF (2012)'!$C$20*AB$2/AB$8","v":9.7792984482814216}]
[18,null,null,null,{"$f":"[4]Gaspreise!G21*'DCF (2012)'!$C$20","v":6.5888888888888895},{"$f":"[4]Gaspreise!H21*'DCF (2012)'!$C$20","v":6.2813602169444396},{"$f":"[4]Gaspreise!I21*'DCF (2012)'!$C$20*G$2/G$8","v":5.220105304230839},{"$f":"[4]Gaspreise!J21*'DCF (2012)'!$C$20*H$2/H$8","v":6.2023198910047439},{"$f":"[4]Gaspreise!K21*'DCF (2012)'!$C$20*I$2/I$8","v":6.809166618397783},{"$f":"[4]Gaspreise!L21*'DCF (2012)'!$C$20*J$2/J$8","v":6.7546772616186121},{"$f":"[4]Gaspreise!M21*'DCF (2012)'!$C$20*K$2/K$8","v":6.8905123649114381},{"$f":"[4]Gaspreise!N21*'DCF (2012)'!$C$20*L$2/L$8","v":6.4894091120881932},{"$f":"[4]Gaspreise!O21*'DCF (2012)'!$C$20*M$2/M$8","v":6.6068109257348437},{"$f":"[4]Gaspreise!P21*'DCF (2012)'!$C$20*N$2/N$8","v":6.2882017628688827},{"$f":"[4]Gaspreise!Q21*'DCF (2012)'!$C$20*O$2/O$8","v":6.4477373470524464},{"$f":"[4]Gaspreise!R21*'DCF (2012)'!$C$20*P$2/P$8","v":6.2769345254731999},{"$f":"[4]Gaspreise!S21*'DCF (2012)'!$C$20*Q$2/Q$8","v":6.1059086388033172},{"$f":"[4]Gaspreise!T21*'DCF (2012)'!$C$20*R$2/R$8","v":6.3361308554341944},{"$f":"[4]Gaspreise!U21*'DCF (2012)'!$C$20*S$2/S$8","v":5.8850284412861908},{"$f":"[4]Gaspreise!V21*'DCF (2012)'!$C$20*T$2/T$8","v":6.3388042461002314},{"$f":"[4]Gaspreise!W21*'DCF (2012)'!$C$20*U$2/U$8","v":6.2575924709117663},{"$f":"[4]Gaspreise!X21*'DCF (2012)'!$C$20*V$2/V$8","v":6.8142672933989514},{"$f":"[4]Gaspreise!Y21*'DCF (2012)'!$C$20*W$2/W$8","v":7.7682587734188431},{"$f":"[4]Gaspreise!Z21*'DCF (2012)'!$C$20*X$2/X$8","v":8.212275547200619},{"$f":"[4]Gaspreise!AA21*'DCF (2012)'!$C$20*Y$2/Y$8","v":8.3360625820639331},{"$f":"[4]Gaspreise!AB21*'DCF (2012)'!$C$20*Z$2/Z$8","v":8.4665980359695787},{"$f":"[4]Gaspreise!AC21*'DCF (2012)'!$C$20*AA$2/AA$8","v":8.6601774668139591},{"$f":"[4]Gaspreise!AD21*'DCF (2012)'!$C$20*AB$2/AB$8","v":8.7954894268165411}]
[19,null,null,null,{"$f":"[4]Gaspreise!G22*'DCF (2012)'!$C$20","v":6.5888888888888895},{"$f":"[4]Gaspreise!H22*'DCF (2012)'!$C$20","v":6.2813602169444396},{"$f":"[4]Gaspreise!I22*'DCF (2012)'!$C$20*G$2/G$8","v":5.220105304230839},{"$f":"[4]Gaspreise!J22*'DCF (2012)'!$C$20*H$2/H$8","v":6.2023198910047439},{"$f":"[4]Gaspreise!K22*'DCF (2012)'!$C$20*I$2/I$8","v":6.809166618397783},{"$f":"[4]Gaspreise!L22*'DCF (2012)'!$C$20*J$2/J$8","v":6.7546772616186121},{"$f":"[4]Gaspreise!M22*'DCF (2012)'!$C$20*K$2/K$8","v":6.8905123649114381},{"$f":"[4]Gaspreise!N22*'DCF (2012)'!$C$20*L$2/L$8","v":6.4894091120881932},{"$f":"[4]Gaspreise!O22*'DCF (2012)'!$C$20*M$2/M$8","v":6.6068109257348437},{"$f":"[4]Gaspreise!P22*'DCF (2012)'!$C$20*N$2/N$8","v":6.2882017628688827},{"$f":"[4]Gaspreise!Q22*'DCF (2012)'!$C$20*O$2/O$8","v":6.4477373470524464},{"$f":"[4]Gaspreise!R22*'DCF (2012)'!$C$20*P$2/P$8","v":6.2769345254731999},{"$f":"[4]Gaspreise!S22*'DCF (2012)'!$C$20*Q$2/Q$8","v":6.1059086388033172},{"$f":"[4]Gaspreise!T22*'DCF (2012)'!$C$20*R$2/R$8","v":6.3361308554341944},{"$f":"[4]Gaspreise!U22*'DCF (2012)'!$C$20*S$2/S$8","v":5.8850284412861908},{"$f":"[4]Gaspreise!V22*'DCF (2012)'!$C$20*T$2/T$8","v":6.3388042461002314},{"$f":"[4]Gaspreise!W22*'DCF (2012)'!$C$20*U$2/U$8","v":6.2575924709117663},{"$f":"[4]Gaspreise!X22*'DCF (2012)'!$C$20*V$2/V$8","v":6.8142672933989514},{"$f":"[4]Gaspreise!Y22*'DCF (2012)'!$C$20*W$2/W$8","v":7.7682587734188431},{"$f":"[4]Gaspreise!Z22*'DCF (2012)'!$C$20*X$2/X$8","v":8.212275547200619},{"$f":"[4]Gaspreise!AA22*'DCF (2012)'!$C$20*Y$2/Y$8","v":8.3360625820639331},{"$f":"[4]Gaspreise!AB22*'DCF (2012)'!$C$20*Z$2/Z$8","v":8.4665980359695787},{"$f":"[4]Gaspreise!AC22*'DCF (2012)'!$C$20*AA$2/AA$8","v":8.6601774668139591},{"$f":"[4]Gaspreise!AD22*'DCF (2012)'!$C$20*AB$2/AB$8","v":8.7954894268165411}]
[20,null,null,null,{"$f":"[4]Gaspreise!G23*'DCF (2012)'!$C$20","v":6.5888888888888895},{"$f":"[4]Gaspreise!H23*'DCF (2012)'!$C$20","v":6.2813602169444396},{"$f":"[4]Gaspreise!I23*'DCF (2012)'!$C$20*G$2/G$8","v":5.220105304230839},{"$f":"[4]Gaspreise!J23*'DCF (2012)'!$C$20*H$2/H$8","v":6.2023198910047439},{"$f":"[4]Gaspreise!K23*'DCF (2012)'!$C$20*I$2/I$8","v":6.809166618397783},{"$f":"[4]Gaspreise!L23*'DCF (2012)'!$C$20*J$2/J$8","v":6.7546772616186121},{"$f":"[4]Gaspreise!M23*'DCF (2012)'!$C$20*K$2/K$8","v":6.8905123649114381},{"$f":"[4]Gaspreise!N23*'DCF (2012)'!$C$20*L$2/L$8","v":6.4894091120881932},{"$f":"[4]Gaspreise!O23*'DCF (2012)'!$C$20*M$2/M$8","v":6.6068109257348437},{"$f":"[4]Gaspreise!P23*'DCF (2012)'!$C$20*N$2/N$8","v":6.2882017628688827},{"$f":"[4]Gaspreise!Q23*'DCF (2012)'!$C$20*O$2/O$8","v":6.4477373470524464},{"$f":"[4]Gaspreise!R23*'DCF (2012)'!$C$20*P$2/P$8","v":6.2769345254731999},{"$f":"[4]Gaspreise!S23*'DCF (2012)'!$C$20*Q$2/Q$8","v":6.1059086388033172},{"$f":"[4]Gaspreise!T23*'DCF (2012)'!$C$20*R$2/R$8","v":6.3361308554341944},{"$f":"[4]Gaspreise!U23*'DCF (2012)'!$C$20*S$2/S$8","v":5.8850284412861908},{"$f":"[4]Gaspreise!V23*'DCF (2012)'!$C$20*T$2/T$8","v":6.3388042461002314},{"$f":"[4]Gaspreise!W23*'DCF (2012)'!$C$20*U$2/U$8","v":6.2575924709117663},{"$f":"[4]Gaspreise!X23*'DCF (2012)'!$C$20*V$2/V$8","v":6.8142672933989514},{"$f":"[4]Gaspreise!Y23*'DCF (2012)'!$C$20*W$2/W$8","v":7.7682587734188431},{"$f":"[4]Gaspreise!Z23*'DCF (2012)'!$C$20*X$2/X$8","v":8.212275547200619},{"$f":"[4]Gaspreise!AA23*'DCF (2012)'!$C$20*Y$2/Y$8","v":8.3360625820639331},{"$f":"[4]Gaspreise!AB23*'DCF (2012)'!$C$20*Z$2/Z$8","v":8.4665980359695787},{"$f":"[4]Gaspreise!AC23*'DCF (2012)'!$C$20*AA$2/AA$8","v":8.6601774668139591},{"$f":"[4]Gaspreise!AD23*'DCF (2012)'!$C$20*AB$2/AB$8","v":8.7954894268165411}]
[21,null,null,null,{"$f":"[4]Gaspreise!G24*'DCF (2012)'!$C$20","v":6.5888888888888895},{"$f":"[4]Gaspreise!H24*'DCF (2012)'!$C$20","v":6.2813602169444396},{"$f":"[4]Gaspreise!I24*'DCF (2012)'!$C$20*G$2/G$8","v":5.220105304230839},{"$f":"[4]Gaspreise!J24*'DCF (2012)'!$C$20*H$2/H$8","v":6.2023198910047439},{"$f":"[4]Gaspreise!K24*'DCF (2012)'!$C$20*I$2/I$8","v":6.809166618397783},{"$f":"[4]Gaspreise!L24*'DCF (2012)'!$C$20*J$2/J$8","v":6.7546772616186121},{"$f":"[4]Gaspreise!M24*'DCF (2012)'!$C$20*K$2/K$8","v":6.8905123649114381},{"$f":"[4]Gaspreise!N24*'DCF (2012)'!$C$20*L$2/L$8","v":6.4894091120881932},{"$f":"[4]Gaspreise!O24*'DCF (2012)'!$C$20*M$2/M$8","v":6.6068109257348437},{"$f":"[4]Gaspreise!P24*'DCF (2012)'!$C$20*N$2/N$8","v":6.2882017628688827},{"$f":"[4]Gaspreise!Q24*'DCF (2012)'!$C$20*O$2/O$8","v":6.4477373470524464},{"$f":"[4]Gaspreise!R24*'DCF (2012)'!$C$20*P$2/P$8","v":6.2769345254731999},{"$f":"[4]Gaspreise!S24*'DCF (2012)'!$C$20*Q$2/Q$8","v":6.1059086388033172},{"$f":"[4]Gaspreise!T24*'DCF (2012)'!$C$20*R$2/R$8","v":6.3361308554341944},{"$f":"[4]Gaspreise!U24*'DCF (2012)'!$C$20*S$2/S$8","v":5.8850284412861908},{"$f":"[4]Gaspreise!V24*'DCF (2012)'!$C$20*T$2/T$8","v":6.3388042461002314},{"$f":"[4]Gaspreise!W24*'DCF (2012)'!$C$20*U$2/U$8","v":6.2575924709117663},{"$f":"[4]Gaspreise!X24*'DCF (2012)'!$C$20*V$2/V$8","v":6.8142672933989514},{"$f":"[4]Gaspreise!Y24*'DCF (2012)'!$C$20*W$2/W$8","v":7.7682587734188431},{"$f":"[4]Gaspreise!Z24*'DCF (2012)'!$C$20*X$2/X$8","v":8.212275547200619},{"$f":"[4]Gaspreise!AA24*'DCF (2012)'!$C$20*Y$2/Y$8","v":8.3360625820639331},{"$f":"[4]Gaspreise!AB24*'DCF (2012)'!$C$20*Z$2/Z$8","v":8.4665980359695787},{"$f":"[4]Gaspreise!AC24*'DCF (2012)'!$C$20*AA$2/AA$8","v":8.6601774668139591},{"$f":"[4]Gaspreise!AD24*'DCF (2012)'!$C$20*AB$2/AB$8","v":8.7954894268165411}]
[22,null,null,null,{"$f":"[4]Gaspreise!G25*'DCF (2012)'!$C$20","v":6.5888888888888895},{"$f":"[4]Gaspreise!H25*'DCF (2012)'!$C$20","v":6.2813602169444396},{"$f":"[4]Gaspreise!I25*'DCF (2012)'!$C$20*G$2/G$8","v":5.220105304230839},{"$f":"[4]Gaspreise!J25*'DCF (2012)'!$C$20*H$2/H$8","v":6.2023198910047439},{"$f":"[4]Gaspreise!K25*'DCF (2012)'!$C$20*I$2/I$8","v":6.809166618397783},{"$f":"[4]Gaspreise!L25*'DCF (2012)'!$C$20*J$2/J$8","v":6.7546772616186121},{"$f":"[4]Gaspreise!M25*'DCF (2012)'!$C$20*K$2/K$8","v":6.8905123649114381},{"$f":"[4]Gaspreise!N25*'DCF (2012)'!$C$20*L$2/L$8","v":6.4894091120881932},{"$f":"[4]Gaspreise!O25*'DCF (2012)'!$C$20*M$2/M$8","v":6.6068109257348437},{"$f":"[4]Gaspreise!P25*'DCF (2012)'!$C$20*N$2/N$8","v":6.2882017628688827},{"$f":"[4]Gaspreise!Q25*'DCF (2012)'!$C$20*O$2/O$8","v":6.4477373470524464},{"$f":"[4]Gaspreise!R25*'DCF (2012)'!$C$20*P$2/P$8","v":6.2769345254731999},{"$f":"[4]Gaspreise!S25*'DCF (2012)'!$C$20*Q$2/Q$8","v":6.1059086388033172},{"$f":"[4]Gaspreise!T25*'DCF (2012)'!$C$20*R$2/R$8","v":6.3361308554341944},{"$f":"[4]Gaspreise!U25*'DCF (2012)'!$C$20*S$2/S$8","v":5.8850284412861908},{"$f":"[4]Gaspreise!V25*'DCF (2012)'!$C$20*T$2/T$8","v":6.3388042461002314},{"$f":"[4]Gaspreise!W25*'DCF (2012)'!$C$20*U$2/U$8","v":6.2575924709117663},{"$f":"[4]Gaspreise!X25*'DCF (2012)'!$C$20*V$2/V$8","v":6.8142672933989514},{"$f":"[4]Gaspreise!Y25*'DCF (2012)'!$C$20*W$2/W$8","v":7.7682587734188431},{"$f":"[4]Gaspreise!Z25*'DCF (2012)'!$C$20*X$2/X$8","v":8.212275547200619},{"$f":"[4]Gaspreise!AA25*'DCF (2012)'!$C$20*Y$2/Y$8","v":8.3360625820639331},{"$f":"[4]Gaspreise!AB25*'DCF (2012)'!$C$20*Z$2/Z$8","v":8.4665980359695787},{"$f":"[4]Gaspreise!AC25*'DCF (2012)'!$C$20*AA$2/AA$8","v":8.6601774668139591},{"$f":"[4]Gaspreise!AD25*'DCF (2012)'!$C$20*AB$2/AB$8","v":8.7954894268165411}]
[23,null,null,null,{"$f":"[4]Gaspreise!G26*'DCF (2012)'!$C$20","v":6.5888888888888895},{"$f":"[4]Gaspreise!H26*'DCF (2012)'!$C$20","v":6.2813602169444396},{"$f":"[4]Gaspreise!I26*'DCF (2012)'!$C$20*G$2/G$8","v":5.220105304230839},{"$f":"[4]Gaspreise!J26*'DCF (2012)'!$C$20*H$2/H$8","v":6.2023198910047439},{"$f":"[4]Gaspreise!K26*'DCF (2012)'!$C$20*I$2/I$8","v":6.809166618397783},{"$f":"[4]Gaspreise!L26*'DCF (2012)'!$C$20*J$2/J$8","v":6.7546772616186121},{"$f":"[4]Gaspreise!M26*'DCF (2012)'!$C$20*K$2/K$8","v":6.8905123649114381},{"$f":"[4]Gaspreise!N26*'DCF (2012)'!$C$20*L$2/L$8","v":6.4894091120881932},{"$f":"[4]Gaspreise!O26*'DCF (2012)'!$C$20*M$2/M$8","v":6.6068109257348437},{"$f":"[4]Gaspreise!P26*'DCF (2012)'!$C$20*N$2/N$8","v":6.2882017628688827},{"$f":"[4]Gaspreise!Q26*'DCF (2012)'!$C$20*O$2/O$8","v":6.4477373470524464},{"$f":"[4]Gaspreise!R26*'DCF (2012)'!$C$20*P$2/P$8","v":6.2769345254731999},{"$f":"[4]Gaspreise!S26*'DCF (2012)'!$C$20*Q$2/Q$8","v":6.1059086388033172},{"$f":"[4]Gaspreise!T26*'DCF (2012)'!$C$20*R$2/R$8","v":6.3361308554341944},{"$f":"[4]Gaspreise!U26*'DCF (2012)'!$C$20*S$2/S$8","v":5.8850284412861908},{"$f":"[4]Gaspreise!V26*'DCF (2012)'!$C$20*T$2/T$8","v":6.3388042461002314},{"$f":"[4]Gaspreise!W26*'DCF (2012)'!$C$20*U$2/U$8","v":6.2575924709117663},{"$f":"[4]Gaspreise!X26*'DCF (2012)'!$C$20*V$2/V$8","v":6.8142672933989514},{"$f":"[4]Gaspreise!Y26*'DCF (2012)'!$C$20*W$2/W$8","v":7.7682587734188431},{"$f":"[4]Gaspreise!Z26*'DCF (2012)'!$C$20*X$2/X$8","v":8.212275547200619},{"$f":"[4]Gaspreise!AA26*'DCF (2012)'!$C$20*Y$2/Y$8","v":8.3360625820639331},{"$f":"[4]Gaspreise!AB26*'DCF (2012)'!$C$20*Z$2/Z$8","v":8.4665980359695787},{"$f":"[4]Gaspreise!AC26*'DCF (2012)'!$C$20*AA$2/AA$8","v":8.6601774668139591},{"$f":"[4]Gaspreise!AD26*'DCF (2012)'!$C$20*AB$2/AB$8","v":8.7954894268165411}]
[24,null,null,null,{"$f":"[4]Gaspreise!G27*'DCF (2012)'!$C$20","v":6.5888888888888895},{"$f":"[4]Gaspreise!H27*'DCF (2012)'!$C$20","v":6.2813602169444396},{"$f":"[4]Gaspreise!I27*'DCF (2012)'!$C$20*G$2/G$8","v":5.220105304230839},{"$f":"[4]Gaspreise!J27*'DCF (2012)'!$C$20*H$2/H$8","v":6.2023198910047439},{"$f":"[4]Gaspreise!K27*'DCF (2012)'!$C$20*I$2/I$8","v":6.809166618397783},{"$f":"[4]Gaspreise!L27*'DCF (2012)'!$C$20*J$2/J$8","v":6.7546772616186121},{"$f":"[4]Gaspreise!M27*'DCF (2012)'!$C$20*K$2/K$8","v":6.8905123649114381},{"$f":"[4]Gaspreise!N27*'DCF (2012)'!$C$20*L$2/L$8","v":6.4894091120881932},{"$f":"[4]Gaspreise!O27*'DCF (2012)'!$C$20*M$2/M$8","v":6.6068109257348437},{"$f":"[4]Gaspreise!P27*'DCF (2012)'!$C$20*N$2/N$8","v":6.2882017628688827},{"$f":"[4]Gaspreise!Q27*'DCF (2012)'!$C$20*O$2/O$8","v":6.4477373470524464},{"$f":"[4]Gaspreise!R27*'DCF (2012)'!$C$20*P$2/P$8","v":6.2769345254731999},{"$f":"[4]Gaspreise!S27*'DCF (2012)'!$C$20*Q$2/Q$8","v":6.1059086388033172},{"$f":"[4]Gaspreise!T27*'DCF (2012)'!$C$20*R$2/R$8","v":6.3361308554341944},{"$f":"[4]Gaspreise!U27*'DCF (2012)'!$C$20*S$2/S$8","v":5.8850284412861908},{"$f":"[4]Gaspreise!V27*'DCF (2012)'!$C$20*T$2/T$8","v":6.3388042461002314},{"$f":"[4]Gaspreise!W27*'DCF (2012)'!$C$20*U$2/U$8","v":6.2575924709117663},{"$f":"[4]Gaspreise!X27*'DCF (2012)'!$C$20*V$2/V$8","v":6.8142672933989514},{"$f":"[4]Gaspreise!Y27*'DCF (2012)'!$C$20*W$2/W$8","v":7.7682587734188431},{"$f":"[4]Gaspreise!Z27*'DCF (2012)'!$C$20*X$2/X$8","v":8.212275547200619},{"$f":"[4]Gaspreise!AA27*'DCF (2012)'!$C$20*Y$2/Y$8","v":8.3360625820639331},{"$f":"[4]Gaspreise!AB27*'DCF (2012)'!$C$20*Z$2/Z$8","v":8.4665980359695787},{"$f":"[4]Gaspreise!AC27*'DCF (2012)'!$C$20*AA$2/AA$8","v":8.6601774668139591},{"$f":"[4]Gaspreise!AD27*'DCF (2012)'!$C$20*AB$2/AB$8","v":8.7954894268165411}]
[25,null,null,null,{"$f":"[4]Gaspreise!G28*'DCF (2012)'!$C$20","v":6.5888888888888895},{"$f":"[4]Gaspreise!H28*'DCF (2012)'!$C$20","v":6.2813602169444396},{"$f":"[4]Gaspreise!I28*'DCF (2012)'!$C$20*G$2/G$8","v":5.220105304230839},{"$f":"[4]Gaspreise!J28*'DCF (2012)'!$C$20*H$2/H$8","v":6.2023198910047439},{"$f":"[4]Gaspreise!K28*'DCF (2012)'!$C$20*I$2/I$8","v":6.809166618397783},{"$f":"[4]Gaspreise!L28*'DCF (2012)'!$C$20*J$2/J$8","v":6.7546772616186121},{"$f":"[4]Gaspreise!M28*'DCF (2012)'!$C$20*K$2/K$8","v":6.8905123649114381},{"$f":"[4]Gaspreise!N28*'DCF (2012)'!$C$20*L$2/L$8","v":6.4894091120881932},{"$f":"[4]Gaspreise!O28*'DCF (2012)'!$C$20*M$2/M$8","v":6.6068109257348437},{"$f":"[4]Gaspreise!P28*'DCF (2012)'!$C$20*N$2/N$8","v":6.2882017628688827},{"$f":"[4]Gaspreise!Q28*'DCF (2012)'!$C$20*O$2/O$8","v":6.4477373470524464},{"$f":"[4]Gaspreise!R28*'DCF (2012)'!$C$20*P$2/P$8","v":6.2769345254731999},{"$f":"[4]Gaspreise!S28*'DCF (2012)'!$C$20*Q$2/Q$8","v":6.1059086388033172},{"$f":"[4]Gaspreise!T28*'DCF (2012)'!$C$20*R$2/R$8","v":6.3361308554341944},{"$f":"[4]Gaspreise!U28*'DCF (2012)'!$C$20*S$2/S$8","v":5.8850284412861908},{"$f":"[4]Gaspreise!V28*'DCF (2012)'!$C$20*T$2/T$8","v":6.3388042461002314},{"$f":"[4]Gaspreise!W28*'DCF (2012)'!$C$20*U$2/U$8","v":6.2575924709117663},{"$f":"[4]Gaspreise!X28*'DCF (2012)'!$C$20*V$2/V$8","v":6.8142672933989514},{"$f":"[4]Gaspreise!Y28*'DCF (2012)'!$C$20*W$2/W$8","v":7.7682587734188431},{"$f":"[4]Gaspreise!Z28*'DCF (2012)'!$C$20*X$2/X$8","v":8.212275547200619},{"$f":"[4]Gaspreise!AA28*'DCF (2012)'!$C$20*Y$2/Y$8","v":8.3360625820639331},{"$f":"[4]Gaspreise!AB28*'DCF (2012)'!$C$20*Z$2/Z$8","v":8.4665980359695787},{"$f":"[4]Gaspreise!AC28*'DCF (2012)'!$C$20*AA$2/AA$8","v":8.6601774668139591},{"$f":"[4]Gaspreise!AD28*'DCF (2012)'!$C$20*AB$2/AB$8","v":8.7954894268165411}]
[26,null,null,null,{"$f":"[4]Gaspreise!G29*'DCF (2012)'!$C$20","v":6.5888888888888895},{"$f":"[4]Gaspreise!H29*'DCF (2012)'!$C$20","v":6.2813602169444396},{"$f":"[4]Gaspreise!I29*'DCF (2012)'!$C$20*G$2/G$8","v":5.220105304230839},{"$f":"[4]Gaspreise!J29*'DCF (2012)'!$C$20*H$2/H$8","v":6.2023198910047439},{"$f":"[4]Gaspreise!K29*'DCF (2012)'!$C$20*I$2/I$8","v":6.809166618397783},{"$f":"[4]Gaspreise!L29*'DCF (2012)'!$C$20*J$2/J$8","v":6.7546772616186121},{"$f":"[4]Gaspreise!M29*'DCF (2012)'!$C$20*K$2/K$8","v":6.8905123649114381},{"$f":"[4]Gaspreise!N29*'DCF (2012)'!$C$20*L$2/L$8","v":6.4894091120881932},{"$f":"[4]Gaspreise!O29*'DCF (2012)'!$C$20*M$2/M$8","v":6.6068109257348437},{"$f":"[4]Gaspreise!P29*'DCF (2012)'!$C$20*N$2/N$8","v":6.2882017628688827},{"$f":"[4]Gaspreise!Q29*'DCF (2012)'!$C$20*O$2/O$8","v":6.4477373470524464},{"$f":"[4]Gaspreise!R29*'DCF (2012)'!$C$20*P$2/P$8","v":6.2769345254731999},{"$f":"[4]Gaspreise!S29*'DCF (2012)'!$C$20*Q$2/Q$8","v":6.1059086388033172},{"$f":"[4]Gaspreise!T29*'DCF (2012)'!$C$20*R$2/R$8","v":6.3361308554341944},{"$f":"[4]Gaspreise!U29*'DCF (2012)'!$C$20*S$2/S$8","v":5.8850284412861908},{"$f":"[4]Gaspreise!V29*'DCF (2012)'!$C$20*T$2/T$8","v":6.3388042461002314},{"$f":"[4]Gaspreise!W29*'DCF (2012)'!$C$20*U$2/U$8","v":6.2575924709117663},{"$f":"[4]Gaspreise!X29*'DCF (2012)'!$C$20*V$2/V$8","v":6.8142672933989514},{"$f":"[4]Gaspreise!Y29*'DCF (2012)'!$C$20*W$2/W$8","v":7.7682587734188431},{"$f":"[4]Gaspreise!Z29*'DCF (2012)'!$C$20*X$2/X$8","v":8.212275547200619},{"$f":"[4]Gaspreise!AA29*'DCF (2012)'!$C$20*Y$2/Y$8","v":8.3360625820639331},{"$f":"[4]Gaspreise!AB29*'DCF (2012)'!$C$20*Z$2/Z$8","v":8.4665980359695787},{"$f":"[4]Gaspreise!AC29*'DCF (2012)'!$C$20*AA$2/AA$8","v":8.6601774668139591},{"$f":"[4]Gaspreise!AD29*'DCF (2012)'!$C$20*AB$2/AB$8","v":8.7954894268165411}]
[27,null,null,null,{"$f":"[4]Gaspreise!G30*'DCF (2012)'!$C$20","v":6.5888888888888895},{"$f":"[4]Gaspreise!H30*'DCF (2012)'!$C$20","v":6.2813602169444396},{"$f":"[4]Gaspreise!I30*'DCF (2012)'!$C$20*G$2/G$8","v":5.220105304230839},{"$f":"[4]Gaspreise!J30*'DCF (2012)'!$C$20*H$2/H$8","v":6.2023198910047439},{"$f":"[4]Gaspreise!K30*'DCF (2012)'!$C$20*I$2/I$8","v":6.809166618397783},{"$f":"[4]Gaspreise!L30*'DCF (2012)'!$C$20*J$2/J$8","v":6.7546772616186121},{"$f":"[4]Gaspreise!M30*'DCF (2012)'!$C$20*K$2/K$8","v":6.8905123649114381},{"$f":"[4]Gaspreise!N30*'DCF (2012)'!$C$20*L$2/L$8","v":6.4894091120881932},{"$f":"[4]Gaspreise!O30*'DCF (2012)'!$C$20*M$2/M$8","v":6.6068109257348437},{"$f":"[4]Gaspreise!P30*'DCF (2012)'!$C$20*N$2/N$8","v":6.2882017628688827},{"$f":"[4]Gaspreise!Q30*'DCF (2012)'!$C$20*O$2/O$8","v":6.4477373470524464},{"$f":"[4]Gaspreise!R30*'DCF (2012)'!$C$20*P$2/P$8","v":6.2769345254731999},{"$f":"[4]Gaspreise!S30*'DCF (2012)'!$C$20*Q$2/Q$8","v":6.1059086388033172},{"$f":"[4]Gaspreise!T30*'DCF (2012)'!$C$20*R$2/R$8","v":6.3361308554341944},{"$f":"[4]Gaspreise!U30*'DCF (2012)'!$C$20*S$2/S$8","v":5.8850284412861908},{"$f":"[4]Gaspreise!V30*'DCF (2012)'!$C$20*T$2/T$8","v":6.3388042461002314},{"$f":"[4]Gaspreise!W30*'DCF (2012)'!$C$20*U$2/U$8","v":6.2575924709117663},{"$f":"[4]Gaspreise!X30*'DCF (2012)'!$C$20*V$2/V$8","v":6.8142672933989514},{"$f":"[4]Gaspreise!Y30*'DCF (2012)'!$C$20*W$2/W$8","v":7.7682587734188431},{"$f":"[4]Gaspreise!Z30*'DCF (2012)'!$C$20*X$2/X$8","v":8.212275547200619},{"$f":"[4]Gaspreise!AA30*'DCF (2012)'!$C$20*Y$2/Y$8","v":8.3360625820639331},{"$f":"[4]Gaspreise!AB30*'DCF (2012)'!$C$20*Z$2/Z$8","v":8.4665980359695787},{"$f":"[4]Gaspreise!AC30*'DCF (2012)'!$C$20*AA$2/AA$8","v":8.6601774668139591},{"$f":"[4]Gaspreise!AD30*'DCF (2012)'!$C$20*AB$2/AB$8","v":8.7954894268165411}]
[28,null,null,null,{"$f":"[4]Gaspreise!G31*'DCF (2012)'!$C$20","v":6.5888888888888895},{"$f":"[4]Gaspreise!H31*'DCF (2012)'!$C$20","v":6.2813602169444396},{"$f":"[4]Gaspreise!I31*'DCF (2012)'!$C$20*G$2/G$8","v":5.220105304230839},{"$f":"[4]Gaspreise!J31*'DCF (2012)'!$C$20*H$2/H$8","v":6.2023198910047439},{"$f":"[4]Gaspreise!K31*'DCF (2012)'!$C$20*I$2/I$8","v":6.809166618397783},{"$f":"[4]Gaspreise!L31*'DCF (2012)'!$C$20*J$2/J$8","v":6.7546772616186121},{"$f":"[4]Gaspreise!M31*'DCF (2012)'!$C$20*K$2/K$8","v":6.8905123649114381},{"$f":"[4]Gaspreise!N31*'DCF (2012)'!$C$20*L$2/L$8","v":6.4894091120881932},{"$f":"[4]Gaspreise!O31*'DCF (2012)'!$C$20*M$2/M$8","v":6.6068109257348437},{"$f":"[4]Gaspreise!P31*'DCF (2012)'!$C$20*N$2/N$8","v":6.2882017628688827},{"$f":"[4]Gaspreise!Q31*'DCF (2012)'!$C$20*O$2/O$8","v":6.4477373470524464},{"$f":"[4]Gaspreise!R31*'DCF (2012)'!$C$20*P$2/P$8","v":6.2769345254731999},{"$f":"[4]Gaspreise!S31*'DCF (2012)'!$C$20*Q$2/Q$8","v":6.1059086388033172},{"$f":"[4]Gaspreise!T31*'DCF (2012)'!$C$20*R$2/R$8","v":6.3361308554341944},{"$f":"[4]Gaspreise!U31*'DCF (2012)'!$C$20*S$2/S$8","v":5.8850284412861908},{"$f":"[4]Gaspreise!V31*'DCF (2012)'!$C$20*T$2/T$8","v":6.3388042461002314},{"$f":"[4]Gaspreise!W31*'DCF (2012)'!$C$20*U$2/U$8","v":6.2575924709117663},{"$f":"[4]Gaspreise!X31*'DCF (2012)'!$C$20*V$2/V$8","v":6.8142672933989514},{"$f":"[4]Gaspreise!Y31*'DCF (2012)'!$C$20*W$2/W$8","v":7.7682587734188431},{"$f":"[4]Gaspreise!Z31*'DCF (2012)'!$C$20*X$2/X$8","v":8.212275547200619},{"$f":"[4]Gaspreise!AA31*'DCF (2012)'!$C$20*Y$2/Y$8","v":8.3360625820639331},{"$f":"[4]Gaspreise!AB31*'DCF (2012)'!$C$20*Z$2/Z$8","v":8.4665980359695787},{"$f":"[4]Gaspreise!AC31*'DCF (2012)'!$C$20*AA$2/AA$8","v":8.6601774668139591},{"$f":"[4]Gaspreise!AD31*'DCF (2012)'!$C$20*AB$2/AB$8","v":8.7954894268165411}]
[29,null,null,null,{"$f":"[4]Gaspreise!G32*'DCF (2012)'!$C$20","v":6.5888888888888895},{"$f":"[4]Gaspreise!H32*'DCF (2012)'!$C$20","v":6.2813602169444396},{"$f":"[4]Gaspreise!I32*'DCF (2012)'!$C$20*G$2/G$8","v":5.220105304230839},{"$f":"[4]Gaspreise!J32*'DCF (2012)'!$C$20*H$2/H$8","v":6.2023198910047439},{"$f":"[4]Gaspreise!K32*'DCF (2012)'!$C$20*I$2/I$8","v":6.809166618397783},{"$f":"[4]Gaspreise!L32*'DCF (2012)'!$C$20*J$2/J$8","v":6.7546772616186121},{"$f":"[4]Gaspreise!M32*'DCF (2012)'!$C$20*K$2/K$8","v":6.8905123649114381},{"$f":"[4]Gaspreise!N32*'DCF (2012)'!$C$20*L$2/L$8","v":6.4894091120881932},{"$f":"[4]Gaspreise!O32*'DCF (2012)'!$C$20*M$2/M$8","v":6.6068109257348437},{"$f":"[4]Gaspreise!P32*'DCF (2012)'!$C$20*N$2/N$8","v":6.2882017628688827},{"$f":"[4]Gaspreise!Q32*'DCF (2012)'!$C$20*O$2/O$8","v":6.4477373470524464},{"$f":"[4]Gaspreise!R32*'DCF (2012)'!$C$20*P$2/P$8","v":6.2769345254731999},{"$f":"[4]Gaspreise!S32*'DCF (2012)'!$C$20*Q$2/Q$8","v":6.1059086388033172},{"$f":"[4]Gaspreise!T32*'DCF (2012)'!$C$20*R$2/R$8","v":6.3361308554341944},{"$f":"[4]Gaspreise!U32*'DCF (2012)'!$C$20*S$2/S$8","v":5.8850284412861908},{"$f":"[4]Gaspreise!V32*'DCF (2012)'!$C$20*T$2/T$8","v":6.3388042461002314},{"$f":"[4]Gaspreise!W32*'DCF (2012)'!$C$20*U$2/U$8","v":6.2575924709117663},{"$f":"[4]Gaspreise!X32*'DCF (2012)'!$C$20*V$2/V$8","v":6.8142672933989514},{"$f":"[4]Gaspreise!Y32*'DCF (2012)'!$C$20*W$2/W$8","v":7.7682587734188431},{"$f":"[4]Gaspreise!Z32*'DCF (2012)'!$C$20*X$2/X$8","v":8.212275547200619},{"$f":"[4]Gaspreise!AA32*'DCF (2012)'!$C$20*Y$2/Y$8","v":8.3360625820639331},{"$f":"[4]Gaspreise!AB32*'DCF (2012)'!$C$20*Z$2/Z$8","v":8.4665980359695787},{"$f":"[4]Gaspreise!AC32*'DCF (2012)'!$C$20*AA$2/AA$8","v":8.6601774668139591},{"$f":"[4]Gaspreise!AD32*'DCF (2012)'!$C$20*AB$2/AB$8","v":8.7954894268165411}]
[30,null,null,null,{"$f":"[4]Gaspreise!G33*'DCF (2012)'!$C$20","v":6.5888888888888895},{"$f":"[4]Gaspreise!H33*'DCF (2012)'!$C$20","v":6.2813602169444396},{"$f":"[4]Gaspreise!I33*'DCF (2012)'!$C$20*G$2/G$8","v":5.220105304230839},{"$f":"[4]Gaspreise!J33*'DCF (2012)'!$C$20*H$2/H$8","v":6.2023198910047439},{"$f":"[4]Gaspreise!K33*'DCF (2012)'!$C$20*I$2/I$8","v":6.809166618397783},{"$f":"[4]Gaspreise!L33*'DCF (2012)'!$C$20*J$2/J$8","v":6.7546772616186121},{"$f":"[4]Gaspreise!M33*'DCF (2012)'!$C$20*K$2/K$8","v":6.8905123649114381},{"$f":"[4]Gaspreise!N33*'DCF (2012)'!$C$20*L$2/L$8","v":6.4894091120881932},{"$f":"[4]Gaspreise!O33*'DCF (2012)'!$C$20*M$2/M$8","v":6.6068109257348437},{"$f":"[4]Gaspreise!P33*'DCF (2012)'!$C$20*N$2/N$8","v":6.2882017628688827},{"$f":"[4]Gaspreise!Q33*'DCF (2012)'!$C$20*O$2/O$8","v":6.4477373470524464},{"$f":"[4]Gaspreise!R33*'DCF (2012)'!$C$20*P$2/P$8","v":6.2769345254731999},{"$f":"[4]Gaspreise!S33*'DCF (2012)'!$C$20*Q$2/Q$8","v":6.1059086388033172},{"$f":"[4]Gaspreise!T33*'DCF (2012)'!$C$20*R$2/R$8","v":6.3361308554341944},{"$f":"[4]Gaspreise!U33*'DCF (2012)'!$C$20*S$2/S$8","v":5.8850284412861908},{"$f":"[4]Gaspreise!V33*'DCF (2012)'!$C$20*T$2/T$8","v":6.3388042461002314},{"$f":"[4]Gaspreise!W33*'DCF (2012)'!$C$20*U$2/U$8","v":6.2575924709117663},{"$f":"[4]Gaspreise!X33*'DCF (2012)'!$C$20*V$2/V$8","v":6.8142672933989514},{"$f":"[4]Gaspreise!Y33*'DCF (2012)'!$C$20*W$2/W$8","v":7.7682587734188431},{"$f":"[4]Gaspreise!Z33*'DCF (2012)'!$C$20*X$2/X$8","v":8.212275547200619},{"$f":"[4]Gaspreise!AA33*'DCF (2012)'!$C$20*Y$2/Y$8","v":8.3360625820639331},{"$f":"[4]Gaspreise!AB33*'DCF (2012)'!$C$20*Z$2/Z$8","v":8.4665980359695787},{"$f":"[4]Gaspreise!AC33*'DCF (2012)'!$C$20*AA$2/AA$8","v":8.6601774668139591},{"$f":"[4]Gaspreise!AD33*'DCF (2012)'!$C$20*AB$2/AB$8","v":8.7954894268165411}]
[31,null,null,null,{"$f":"[4]Gaspreise!G34*'DCF (2012)'!$C$20","v":6.5888888888888895},{"$f":"[4]Gaspreise!H34*'DCF (2012)'!$C$20","v":6.2813602169444396},{"$f":"[4]Gaspreise!I34*'DCF (2012)'!$C$20*G$2/G$8","v":5.220105304230839},{"$f":"[4]Gaspreise!J34*'DCF (2012)'!$C$20*H$2/H$8","v":6.2023198910047439},{"$f":"[4]Gaspreise!K34*'DCF (2012)'!$C$20*I$2/I$8","v":6.809166618397783},{"$f":"[4]Gaspreise!L34*'DCF (2012)'!$C$20*J$2/J$8","v":6.7546772616186121},{"$f":"[4]Gaspreise!M34*'DCF (2012)'!$C$20*K$2/K$8","v":6.8905123649114381},{"$f":"[4]Gaspreise!N34*'DCF (2012)'!$C$20*L$2/L$8","v":6.4894091120881932},{"$f":"[4]Gaspreise!O34*'DCF (2012)'!$C$20*M$2/M$8","v":6.6068109257348437},{"$f":"[4]Gaspreise!P34*'DCF (2012)'!$C$20*N$2/N$8","v":6.2882017628688827},{"$f":"[4]Gaspreise!Q34*'DCF (2012)'!$C$20*O$2/O$8","v":6.4477373470524464},{"$f":"[4]Gaspreise!R34*'DCF (2012)'!$C$20*P$2/P$8","v":6.2769345254731999},{"$f":"[4]Gaspreise!S34*'DCF (2012)'!$C$20*Q$2/Q$8","v":6.1059086388033172},{"$f":"[4]Gaspreise!T34*'DCF (2012)'!$C$20*R$2/R$8","v":6.3361308554341944},{"$f":"[4]Gaspreise!U34*'DCF (2012)'!$C$20*S$2/S$8","v":5.8850284412861908},{"$f":"[4]Gaspreise!V34*'DCF (2012)'!$C$20*T$2/T$8","v":6.3388042461002314},{"$f":"[4]Gaspreise!W34*'DCF (2012)'!$C$20*U$2/U$8","v":6.2575924709117663},{"$f":"[4]Gaspreise!X34*'DCF (2012)'!$C$20*V$2/V$8","v":6.8142672933989514},{"$f":"[4]Gaspreise!Y34*'DCF (2012)'!$C$20*W$2/W$8","v":7.7682587734188431},{"$f":"[4]Gaspreise!Z34*'DCF (2012)'!$C$20*X$2/X$8","v":8.212275547200619},{"$f":"[4]Gaspreise!AA34*'DCF (2012)'!$C$20*Y$2/Y$8","v":8.3360625820639331},{"$f":"[4]Gaspreise!AB34*'DCF (2012)'!$C$20*Z$2/Z$8","v":8.4665980359695787},{"$f":"[4]Gaspreise!AC34*'DCF (2012)'!$C$20*AA$2/AA$8","v":8.6601774668139591},{"$f":"[4]Gaspreise!AD34*'DCF (2012)'!$C$20*AB$2/AB$8","v":8.7954894268165411}]
[32,null,null,null,{"$f":"[4]Gaspreise!G35*'DCF (2012)'!$C$20","v":6.5888888888888895},{"$f":"[4]Gaspreise!H35*'DCF (2012)'!$C$20","v":6.2813602169444396},{"$f":"[4]Gaspreise!I35*'DCF (2012)'!$C$20*G$2/G$8","v":5.220105304230839},{"$f":"[4]Gaspreise!J35*'DCF (2012)'!$C$20*H$2/H$8","v":6.2023198910047439},{"$f":"[4]Gaspreise!K35*'DCF (2012)'!$C$20*I$2/I$8","v":6.809166618397783},{"$f":"[4]Gaspreise!L35*'DCF (2012)'!$C$20*J$2/J$8","v":6.7546772616186121},{"$f":"[4]Gaspreise!M35*'DCF (2012)'!$C$20*K$2/K$8","v":6.8905123649114381},{"$f":"[4]Gaspreise!N35*'DCF (2012)'!$C$20*L$2/L$8","v":6.4894091120881932},{"$f":"[4]Gaspreise!O35*'DCF (2012)'!$C$20*M$2/M$8","v":6.6068109257348437},{"$f":"[4]Gaspreise!P35*'DCF (2012)'!$C$20*N$2/N$8","v":6.2882017628688827},{"$f":"[4]Gaspreise!Q35*'DCF (2012)'!$C$20*O$2/O$8","v":6.4477373470524464},{"$f":"[4]Gaspreise!R35*'DCF (2012)'!$C$20*P$2/P$8","v":6.2769345254731999},{"$f":"[4]Gaspreise!S35*'DCF (2012)'!$C$20*Q$2/Q$8","v":6.1059086388033172},{"$f":"[4]Gaspreise!T35*'DCF (2012)'!$C$20*R$2/R$8","v":6.3361308554341944},{"$f":"[4]Gaspreise!U35*'DCF (2012)'!$C$20*S$2/S$8","v":5.8850284412861908},{"$f":"[4]Gaspreise!V35*'DCF (2012)'!$C$20*T$2/T$8","v":6.3388042461002314},{"$f":"[4]Gaspreise!W35*'DCF (2012)'!$C$20*U$2/U$8","v":6.2575924709117663},{"$f":"[4]Gaspreise!X35*'DCF (2012)'!$C$20*V$2/V$8","v":6.8142672933989514},{"$f":"[4]Gaspreise!Y35*'DCF (2012)'!$C$20*W$2/W$8","v":7.7682587734188431},{"$f":"[4]Gaspreise!Z35*'DCF (2012)'!$C$20*X$2/X$8","v":8.212275547200619},{"$f":"[4]Gaspreise!AA35*'DCF (2012)'!$C$20*Y$2/Y$8","v":8.3360625820639331},{"$f":"[4]Gaspreise!AB35*'DCF (2012)'!$C$20*Z$2/Z$8","v":8.4665980359695787},{"$f":"[4]Gaspreise!AC35*'DCF (2012)'!$C$20*AA$2/AA$8","v":8.6601774668139591},{"$f":"[4]Gaspreise!AD35*'DCF (2012)'!$C$20*AB$2/AB$8","v":8.7954894268165411}]
[33,null,null,null,{"$f":"[4]Gaspreise!G36*'DCF (2012)'!$C$20","v":6.5888888888888895},{"$f":"[4]Gaspreise!H36*'DCF (2012)'!$C$20","v":6.2813602169444396},{"$f":"[4]Gaspreise!I36*'DCF (2012)'!$C$20*G$2/G$8","v":5.220105304230839},{"$f":"[4]Gaspreise!J36*'DCF (2012)'!$C$20*H$2/H$8","v":6.2023198910047439},{"$f":"[4]Gaspreise!K36*'DCF (2012)'!$C$20*I$2/I$8","v":6.809166618397783},{"$f":"[4]Gaspreise!L36*'DCF (2012)'!$C$20*J$2/J$8","v":6.7546772616186121},{"$f":"[4]Gaspreise!M36*'DCF (2012)'!$C$20*K$2/K$8","v":6.8905123649114381},{"$f":"[4]Gaspreise!N36*'DCF (2012)'!$C$20*L$2/L$8","v":6.4894091120881932},{"$f":"[4]Gaspreise!O36*'DCF (2012)'!$C$20*M$2/M$8","v":6.6068109257348437},{"$f":"[4]Gaspreise!P36*'DCF (2012)'!$C$20*N$2/N$8","v":6.2882017628688827},{"$f":"[4]Gaspreise!Q36*'DCF (2012)'!$C$20*O$2/O$8","v":6.4477373470524464},{"$f":"[4]Gaspreise!R36*'DCF (2012)'!$C$20*P$2/P$8","v":6.2769345254731999},{"$f":"[4]Gaspreise!S36*'DCF (2012)'!$C$20*Q$2/Q$8","v":6.1059086388033172},{"$f":"[4]Gaspreise!T36*'DCF (2012)'!$C$20*R$2/R$8","v":6.3361308554341944},{"$f":"[4]Gaspreise!U36*'DCF (2012)'!$C$20*S$2/S$8","v":5.8850284412861908},{"$f":"[4]Gaspreise!V36*'DCF (2012)'!$C$20*T$2/T$8","v":6.3388042461002314},{"$f":"[4]Gaspreise!W36*'DCF (2012)'!$C$20*U$2/U$8","v":6.2575924709117663},{"$f":"[4]Gaspreise!X36*'DCF (2012)'!$C$20*V$2/V$8","v":6.8142672933989514},{"$f":"[4]Gaspreise!Y36*'DCF (2012)'!$C$20*W$2/W$8","v":7.7682587734188431},{"$f":"[4]Gaspreise!Z36*'DCF (2012)'!$C$20*X$2/X$8","v":8.212275547200619},{"$f":"[4]Gaspreise!AA36*'DCF (2012)'!$C$20*Y$2/Y$8","v":8.3360625820639331},{"$f":"[4]Gaspreise!AB36*'DCF (2012)'!$C$20*Z$2/Z$8","v":8.4665980359695787},{"$f":"[4]Gaspreise!AC36*'DCF (2012)'!$C$20*AA$2/AA$8","v":8.6601774668139591},{"$f":"[4]Gaspreise!AD36*'DCF (2012)'!$C$20*AB$2/AB$8","v":8.7954894268165411}]
[34,null,null,null,{"$f":"[4]Gaspreise!G37*'DCF (2012)'!$C$20","v":6.5888888888888895},{"$f":"[4]Gaspreise!H37*'DCF (2012)'!$C$20","v":6.2813602169444396},{"$f":"[4]Gaspreise!I37*'DCF (2012)'!$C$20*G$2/G$8","v":5.220105304230839},{"$f":"[4]Gaspreise!J37*'DCF (2012)'!$C$20*H$2/H$8","v":6.2023198910047439},{"$f":"[4]Gaspreise!K37*'DCF (2012)'!$C$20*I$2/I$8","v":6.809166618397783},{"$f":"[4]Gaspreise!L37*'DCF (2012)'!$C$20*J$2/J$8","v":6.7546772616186121},{"$f":"[4]Gaspreise!M37*'DCF (2012)'!$C$20*K$2/K$8","v":6.8905123649114381},{"$f":"[4]Gaspreise!N37*'DCF (2012)'!$C$20*L$2/L$8","v":6.4894091120881932},{"$f":"[4]Gaspreise!O37*'DCF (2012)'!$C$20*M$2/M$8","v":6.6068109257348437},{"$f":"[4]Gaspreise!P37*'DCF (2012)'!$C$20*N$2/N$8","v":6.2882017628688827},{"$f":"[4]Gaspreise!Q37*'DCF (2012)'!$C$20*O$2/O$8","v":6.4477373470524464},{"$f":"[4]Gaspreise!R37*'DCF (2012)'!$C$20*P$2/P$8","v":6.2769345254731999},{"$f":"[4]Gaspreise!S37*'DCF (2012)'!$C$20*Q$2/Q$8","v":6.1059086388033172},{"$f":"[4]Gaspreise!T37*'DCF (2012)'!$C$20*R$2/R$8","v":6.3361308554341944},{"$f":"[4]Gaspreise!U37*'DCF (2012)'!$C$20*S$2/S$8","v":5.8850284412861908},{"$f":"[4]Gaspreise!V37*'DCF (2012)'!$C$20*T$2/T$8","v":6.3388042461002314},{"$f":"[4]Gaspreise!W37*'DCF (2012)'!$C$20*U$2/U$8","v":6.2575924709117663},{"$f":"[4]Gaspreise!X37*'DCF (2012)'!$C$20*V$2/V$8","v":6.8142672933989514},{"$f":"[4]Gaspreise!Y37*'DCF (2012)'!$C$20*W$2/W$8","v":7.7682587734188431},{"$f":"[4]Gaspreise!Z37*'DCF (2012)'!$C$20*X$2/X$8","v":8.212275547200619},{"$f":"[4]Gaspreise!AA37*'DCF (2012)'!$C$20*Y$2/Y$8","v":8.3360625820639331},{"$f":"[4]Gaspreise!AB37*'DCF (2012)'!$C$20*Z$2/Z$8","v":8.4665980359695787},{"$f":"[4]Gaspreise!AC37*'DCF (2012)'!$C$20*AA$2/AA$8","v":8.6601774668139591},{"$f":"[4]Gaspreise!AD37*'DCF (2012)'!$C$20*AB$2/AB$8","v":8.7954894268165411}]
[35,null,null,null,{"$f":"[4]Gaspreise!G38*'DCF (2012)'!$C$20","v":6.3083333333333291},{"$f":"[4]Gaspreise!H38*'DCF (2012)'!$C$20","v":5.8875477863888896},{"$f":"[4]Gaspreise!I38*'DCF (2012)'!$C$20*G$2/G$8","v":4.9332210018568272},{"$f":"[4]Gaspreise!J38*'DCF (2012)'!$C$20*H$2/H$8","v":5.8133995678899177},{"$f":"[4]Gaspreise!K38*'DCF (2012)'!$C$20*I$2/I$8","v":6.0843472627583042},{"$f":"[4]Gaspreise!L38*'DCF (2012)'!$C$20*J$2/J$8","v":5.9398583697196221},{"$f":"[4]Gaspreise!M38*'DCF (2012)'!$C$20*K$2/K$8","v":5.6560488754352525},{"$f":"[4]Gaspreise!N38*'DCF (2012)'!$C$20*L$2/L$8","v":5.5567298621827099},{"$f":"[4]Gaspreise!O38*'DCF (2012)'!$C$20*M$2/M$8","v":5.3881175501992082},{"$f":"[4]Gaspreise!P38*'DCF (2012)'!$C$20*N$2/N$8","v":5.3835770486022314},{"$f":"[4]Gaspreise!Q38*'DCF (2012)'!$C$20*O$2/O$8","v":5.2894949653020129},{"$f":"[4]Gaspreise!R38*'DCF (2012)'!$C$20*P$2/P$8","v":5.4569513146901709},{"$f":"[4]Gaspreise!S38*'DCF (2012)'!$C$20*Q$2/Q$8","v":5.4856884948979054},{"$f":"[4]Gaspreise!T38*'DCF (2012)'!$C$20*R$2/R$8","v":5.0562909036363477},{"$f":"[4]Gaspreise!U38*'DCF (2012)'!$C$20*S$2/S$8","v":4.8334512984136007},{"$f":"[4]Gaspreise!V38*'DCF (2012)'!$C$20*T$2/T$8","v":4.7837912521819232},{"$f":"[4]Gaspreise!W38*'DCF (2012)'!$C$20*U$2/U$8","v":5.3745380835311884},{"$f":"[4]Gaspreise!X38*'DCF (2012)'!$C$20*V$2/V$8","v":5.9549631814848487},{"$f":"[4]Gaspreise!Y38*'DCF (2012)'!$C$20*W$2/W$8","v":6.3459766712364694},{"$f":"[4]Gaspreise!Z38*'DCF (2012)'!$C$20*X$2/X$8","v":6.781278085009065},{"$f":"[4]Gaspreise!AA38*'DCF (2012)'!$C$20*Y$2/Y$8","v":6.9158086476956084},{"$f":"[4]Gaspreise!AB38*'DCF (2012)'!$C$20*Z$2/Z$8","v":7.0567391172249909},{"$f":"[4]Gaspreise!AC38*'DCF (2012)'!$C$20*AA$2/AA$8","v":7.2503928357773777},{"$f":"[4]Gaspreise!AD38*'DCF (2012)'!$C$20*AB$2/AB$8","v":7.3926886717133495}]
[36,null,null,null,{"$f":"[4]Gaspreise!G39*'DCF (2012)'!$C$20","v":6.3083333333333291},{"$f":"[4]Gaspreise!H39*'DCF (2012)'!$C$20","v":5.8875477863888896},{"$f":"[4]Gaspreise!I39*'DCF (2012)'!$C$20*G$2/G$8","v":4.9332210018568272},{"$f":"[4]Gaspreise!J39*'DCF (2012)'!$C$20*H$2/H$8","v":5.8133995678899177},{"$f":"[4]Gaspreise!K39*'DCF (2012)'!$C$20*I$2/I$8","v":6.0843472627583042},{"$f":"[4]Gaspreise!L39*'DCF (2012)'!$C$20*J$2/J$8","v":5.9398583697196221},{"$f":"[4]Gaspreise!M39*'DCF (2012)'!$C$20*K$2/K$8","v":5.6560488754352525},{"$f":"[4]Gaspreise!N39*'DCF (2012)'!$C$20*L$2/L$8","v":5.5567298621827099},{"$f":"[4]Gaspreise!O39*'DCF (2012)'!$C$20*M$2/M$8","v":5.3881175501992082},{"$f":"[4]Gaspreise!P39*'DCF (2012)'!$C$20*N$2/N$8","v":5.3835770486022314},{"$f":"[4]Gaspreise!Q39*'DCF (2012)'!$C$20*O$2/O$8","v":5.2894949653020129},{"$f":"[4]Gaspreise!R39*'DCF (2012)'!$C$20*P$2/P$8","v":5.4569513146901709},{"$f":"[4]Gaspreise!S39*'DCF (2012)'!$C$20*Q$2/Q$8","v":5.4856884948979054},{"$f":"[4]Gaspreise!T39*'DCF (2012)'!$C$20*R$2/R$8","v":5.0562909036363477},{"$f":"[4]Gaspreise!U39*'DCF (2012)'!$C$20*S$2/S$8","v":4.8334512984136007},{"$f":"[4]Gaspreise!V39*'DCF (2012)'!$C$20*T$2/T$8","v":4.7837912521819232},{"$f":"[4]Gaspreise!W39*'DCF (2012)'!$C$20*U$2/U$8","v":5.3745380835311884},{"$f":"[4]Gaspreise!X39*'DCF (2012)'!$C$20*V$2/V$8","v":5.9549631814848487},{"$f":"[4]Gaspreise!Y39*'DCF (2012)'!$C$20*W$2/W$8","v":6.3459766712364694},{"$f":"[4]Gaspreise!Z39*'DCF (2012)'!$C$20*X$2/X$8","v":6.781278085009065},{"$f":"[4]Gaspreise!AA39*'DCF (2012)'!$C$20*Y$2/Y$8","v":6.9158086476956084},{"$f":"[4]Gaspreise!AB39*'DCF (2012)'!$C$20*Z$2/Z$8","v":7.0567391172249909},{"$f":"[4]Gaspreise!AC39*'DCF (2012)'!$C$20*AA$2/AA$8","v":7.2503928357773777},{"$f":"[4]Gaspreise!AD39*'DCF (2012)'!$C$20*AB$2/AB$8","v":7.3926886717133495}]
[37,null,null,null,{"$f":"[4]Gaspreise!G40*'DCF (2012)'!$C$20","v":6.3083333333333291},{"$f":"[4]Gaspreise!H40*'DCF (2012)'!$C$20","v":5.8875477863888896},{"$f":"[4]Gaspreise!I40*'DCF (2012)'!$C$20*G$2/G$8","v":4.9332210018568272},{"$f":"[4]Gaspreise!J40*'DCF (2012)'!$C$20*H$2/H$8","v":5.8133995678899177},{"$f":"[4]Gaspreise!K40*'DCF (2012)'!$C$20*I$2/I$8","v":6.0843472627583042},{"$f":"[4]Gaspreise!L40*'DCF (2012)'!$C$20*J$2/J$8","v":5.9398583697196221},{"$f":"[4]Gaspreise!M40*'DCF (2012)'!$C$20*K$2/K$8","v":5.6560488754352525},{"$f":"[4]Gaspreise!N40*'DCF (2012)'!$C$20*L$2/L$8","v":5.5567298621827099},{"$f":"[4]Gaspreise!O40*'DCF (2012)'!$C$20*M$2/M$8","v":5.3881175501992082},{"$f":"[4]Gaspreise!P40*'DCF (2012)'!$C$20*N$2/N$8","v":5.3835770486022314},{"$f":"[4]Gaspreise!Q40*'DCF (2012)'!$C$20*O$2/O$8","v":5.2894949653020129},{"$f":"[4]Gaspreise!R40*'DCF (2012)'!$C$20*P$2/P$8","v":5.4569513146901709},{"$f":"[4]Gaspreise!S40*'DCF (2012)'!$C$20*Q$2/Q$8","v":5.4856884948979054},{"$f":"[4]Gaspreise!T40*'DCF (2012)'!$C$20*R$2/R$8","v":5.0562909036363477},{"$f":"[4]Gaspreise!U40*'DCF (2012)'!$C$20*S$2/S$8","v":4.8334512984136007},{"$f":"[4]Gaspreise!V40*'DCF (2012)'!$C$20*T$2/T$8","v":4.7837912521819232},{"$f":"[4]Gaspreise!W40*'DCF (2012)'!$C$20*U$2/U$8","v":5.3745380835311884},{"$f":"[4]Gaspreise!X40*'DCF (2012)'!$C$20*V$2/V$8","v":5.9549631814848487},{"$f":"[4]Gaspreise!Y40*'DCF (2012)'!$C$20*W$2/W$8","v":6.3459766712364694},{"$f":"[4]Gaspreise!Z40*'DCF (2012)'!$C$20*X$2/X$8","v":6.781278085009065},{"$f":"[4]Gaspreise!AA40*'DCF (2012)'!$C$20*Y$2/Y$8","v":6.9158086476956084},{"$f":"[4]Gaspreise!AB40*'DCF (2012)'!$C$20*Z$2/Z$8","v":7.0567391172249909},{"$f":"[4]Gaspreise!AC40*'DCF (2012)'!$C$20*AA$2/AA$8","v":7.2503928357773777},{"$f":"[4]Gaspreise!AD40*'DCF (2012)'!$C$20*AB$2/AB$8","v":7.3926886717133495}]
[38,null,null,null,{"$f":"[4]Gaspreise!G41*'DCF (2012)'!$C$20","v":6.3083333333333291},{"$f":"[4]Gaspreise!H41*'DCF (2012)'!$C$20","v":5.8875477863888896},{"$f":"[4]Gaspreise!I41*'DCF (2012)'!$C$20*G$2/G$8","v":4.9332210018568272},{"$f":"[4]Gaspreise!J41*'DCF (2012)'!$C$20*H$2/H$8","v":5.8133995678899177},{"$f":"[4]Gaspreise!K41*'DCF (2012)'!$C$20*I$2/I$8","v":6.0843472627583042},{"$f":"[4]Gaspreise!L41*'DCF (2012)'!$C$20*J$2/J$8","v":5.9398583697196221},{"$f":"[4]Gaspreise!M41*'DCF (2012)'!$C$20*K$2/K$8","v":5.6560488754352525},{"$f":"[4]Gaspreise!N41*'DCF (2012)'!$C$20*L$2/L$8","v":5.5567298621827099},{"$f":"[4]Gaspreise!O41*'DCF (2012)'!$C$20*M$2/M$8","v":5.3881175501992082},{"$f":"[4]Gaspreise!P41*'DCF (2012)'!$C$20*N$2/N$8","v":5.3835770486022314},{"$f":"[4]Gaspreise!Q41*'DCF (2012)'!$C$20*O$2/O$8","v":5.2894949653020129},{"$f":"[4]Gaspreise!R41*'DCF (2012)'!$C$20*P$2/P$8","v":5.4569513146901709},{"$f":"[4]Gaspreise!S41*'DCF (2012)'!$C$20*Q$2/Q$8","v":5.4856884948979054},{"$f":"[4]Gaspreise!T41*'DCF (2012)'!$C$20*R$2/R$8","v":5.0562909036363477},{"$f":"[4]Gaspreise!U41*'DCF (2012)'!$C$20*S$2/S$8","v":4.8334512984136007},{"$f":"[4]Gaspreise!V41*'DCF (2012)'!$C$20*T$2/T$8","v":4.7837912521819232},{"$f":"[4]Gaspreise!W41*'DCF (2012)'!$C$20*U$2/U$8","v":5.3745380835311884},{"$f":"[4]Gaspreise!X41*'DCF (2012)'!$C$20*V$2/V$8","v":5.9549631814848487},{"$f":"[4]Gaspreise!Y41*'DCF (2012)'!$C$20*W$2/W$8","v":6.3459766712364694},{"$f":"[4]Gaspreise!Z41*'DCF (2012)'!$C$20*X$2/X$8","v":6.781278085009065},{"$f":"[4]Gaspreise!AA41*'DCF (2012)'!$C$20*Y$2/Y$8","v":6.9158086476956084},{"$f":"[4]Gaspreise!AB41*'DCF (2012)'!$C$20*Z$2/Z$8","v":7.0567391172249909},{"$f":"[4]Gaspreise!AC41*'DCF (2012)'!$C$20*AA$2/AA$8","v":7.2503928357773777},{"$f":"[4]Gaspreise!AD41*'DCF (2012)'!$C$20*AB$2/AB$8","v":7.3926886717133495}]
[39,null,null,null,{"$f":"[4]Gaspreise!G42*'DCF (2012)'!$C$20","v":6.3083333333333291},{"$f":"[4]Gaspreise!H42*'DCF (2012)'!$C$20","v":5.8875477863888896},{"$f":"[4]Gaspreise!I42*'DCF (2012)'!$C$20*G$2/G$8","v":4.9332210018568272},{"$f":"[4]Gaspreise!J42*'DCF (2012)'!$C$20*H$2/H$8","v":5.8133995678899177},{"$f":"[4]Gaspreise!K42*'DCF (2012)'!$C$20*I$2/I$8","v":6.0843472627583042},{"$f":"[4]Gaspreise!L42*'DCF (2012)'!$C$20*J$2/J$8","v":5.9398583697196221},{"$f":"[4]Gaspreise!M42*'DCF (2012)'!$C$20*K$2/K$8","v":5.6560488754352525},{"$f":"[4]Gaspreise!N42*'DCF (2012)'!$C$20*L$2/L$8","v":5.5567298621827099},{"$f":"[4]Gaspreise!O42*'DCF (2012)'!$C$20*M$2/M$8","v":5.3881175501992082},{"$f":"[4]Gaspreise!P42*'DCF (2012)'!$C$20*N$2/N$8","v":5.3835770486022314},{"$f":"[4]Gaspreise!Q42*'DCF (2012)'!$C$20*O$2/O$8","v":5.2894949653020129},{"$f":"[4]Gaspreise!R42*'DCF (2012)'!$C$20*P$2/P$8","v":5.4569513146901709},{"$f":"[4]Gaspreise!S42*'DCF (2012)'!$C$20*Q$2/Q$8","v":5.4856884948979054},{"$f":"[4]Gaspreise!T42*'DCF (2012)'!$C$20*R$2/R$8","v":5.0562909036363477},{"$f":"[4]Gaspreise!U42*'DCF (2012)'!$C$20*S$2/S$8","v":4.8334512984136007},{"$f":"[4]Gaspreise!V42*'DCF (2012)'!$C$20*T$2/T$8","v":4.7837912521819232},{"$f":"[4]Gaspreise!W42*'DCF (2012)'!$C$20*U$2/U$8","v":5.3745380835311884},{"$f":"[4]Gaspreise!X42*'DCF (2012)'!$C$20*V$2/V$8","v":5.9549631814848487},{"$f":"[4]Gaspreise!Y42*'DCF (2012)'!$C$20*W$2/W$8","v":6.3459766712364694},{"$f":"[4]Gaspreise!Z42*'DCF (2012)'!$C$20*X$2/X$8","v":6.781278085009065},{"$f":"[4]Gaspreise!AA42*'DCF (2012)'!$C$20*Y$2/Y$8","v":6.9158086476956084},{"$f":"[4]Gaspreise!AB42*'DCF (2012)'!$C$20*Z$2/Z$8","v":7.0567391172249909},{"$f":"[4]Gaspreise!AC42*'DCF (2012)'!$C$20*AA$2/AA$8","v":7.2503928357773777},{"$f":"[4]Gaspreise!AD42*'DCF (2012)'!$C$20*AB$2/AB$8","v":7.3926886717133495}]
[40,null,null,null,{"$f":"[4]Gaspreise!G43*'DCF (2012)'!$C$20","v":6.3083333333333291},{"$f":"[4]Gaspreise!H43*'DCF (2012)'!$C$20","v":5.8875477863888896},{"$f":"[4]Gaspreise!I43*'DCF (2012)'!$C$20*G$2/G$8","v":4.9332210018568272},{"$f":"[4]Gaspreise!J43*'DCF (2012)'!$C$20*H$2/H$8","v":5.8133995678899177},{"$f":"[4]Gaspreise!K43*'DCF (2012)'!$C$20*I$2/I$8","v":6.0843472627583042},{"$f":"[4]Gaspreise!L43*'DCF (2012)'!$C$20*J$2/J$8","v":5.9398583697196221},{"$f":"[4]Gaspreise!M43*'DCF (2012)'!$C$20*K$2/K$8","v":5.6560488754352525},{"$f":"[4]Gaspreise!N43*'DCF (2012)'!$C$20*L$2/L$8","v":5.5567298621827099},{"$f":"[4]Gaspreise!O43*'DCF (2012)'!$C$20*M$2/M$8","v":5.3881175501992082},{"$f":"[4]Gaspreise!P43*'DCF (2012)'!$C$20*N$2/N$8","v":5.3835770486022314},{"$f":"[4]Gaspreise!Q43*'DCF (2012)'!$C$20*O$2/O$8","v":5.2894949653020129},{"$f":"[4]Gaspreise!R43*'DCF (2012)'!$C$20*P$2/P$8","v":5.4569513146901709},{"$f":"[4]Gaspreise!S43*'DCF (2012)'!$C$20*Q$2/Q$8","v":5.4856884948979054},{"$f":"[4]Gaspreise!T43*'DCF (2012)'!$C$20*R$2/R$8","v":5.0562909036363477},{"$f":"[4]Gaspreise!U43*'DCF (2012)'!$C$20*S$2/S$8","v":4.8334512984136007},{"$f":"[4]Gaspreise!V43*'DCF (2012)'!$C$20*T$2/T$8","v":4.7837912521819232},{"$f":"[4]Gaspreise!W43*'DCF (2012)'!$C$20*U$2/U$8","v":5.3745380835311884},{"$f":"[4]Gaspreise!X43*'DCF (2012)'!$C$20*V$2/V$8","v":5.9549631814848487},{"$f":"[4]Gaspreise!Y43*'DCF (2012)'!$C$20*W$2/W$8","v":6.3459766712364694},{"$f":"[4]Gaspreise!Z43*'DCF (2012)'!$C$20*X$2/X$8","v":6.781278085009065},{"$f":"[4]Gaspreise!AA43*'DCF (2012)'!$C$20*Y$2/Y$8","v":6.9158086476956084},{"$f":"[4]Gaspreise!AB43*'DCF (2012)'!$C$20*Z$2/Z$8","v":7.0567391172249909},{"$f":"[4]Gaspreise!AC43*'DCF (2012)'!$C$20*AA$2/AA$8","v":7.2503928357773777},{"$f":"[4]Gaspreise!AD43*'DCF (2012)'!$C$20*AB$2/AB$8","v":7.3926886717133495}]
[41,null,null,null,{"$f":"[4]Gaspreise!G44*'DCF (2012)'!$C$20","v":6.3083333333333291},{"$f":"[4]Gaspreise!H44*'DCF (2012)'!$C$20","v":5.8875477863888896},{"$f":"[4]Gaspreise!I44*'DCF (2012)'!$C$20*G$2/G$8","v":4.9332210018568272},{"$f":"[4]Gaspreise!J44*'DCF (2012)'!$C$20*H$2/H$8","v":5.8133995678899177},{"$f":"[4]Gaspreise!K44*'DCF (2012)'!$C$20*I$2/I$8","v":6.0843472627583042},{"$f":"[4]Gaspreise!L44*'DCF (2012)'!$C$20*J$2/J$8","v":5.9398583697196221},{"$f":"[4]Gaspreise!M44*'DCF (2012)'!$C$20*K$2/K$8","v":5.6560488754352525},{"$f":"[4]Gaspreise!N44*'DCF (2012)'!$C$20*L$2/L$8","v":5.5567298621827099},{"$f":"[4]Gaspreise!O44*'DCF (2012)'!$C$20*M$2/M$8","v":5.3881175501992082},{"$f":"[4]Gaspreise!P44*'DCF (2012)'!$C$20*N$2/N$8","v":5.3835770486022314},{"$f":"[4]Gaspreise!Q44*'DCF (2012)'!$C$20*O$2/O$8","v":5.2894949653020129},{"$f":"[4]Gaspreise!R44*'DCF (2012)'!$C$20*P$2/P$8","v":5.4569513146901709},{"$f":"[4]Gaspreise!S44*'DCF (2012)'!$C$20*Q$2/Q$8","v":5.4856884948979054},{"$f":"[4]Gaspreise!T44*'DCF (2012)'!$C$20*R$2/R$8","v":5.0562909036363477},{"$f":"[4]Gaspreise!U44*'DCF (2012)'!$C$20*S$2/S$8","v":4.8334512984136007},{"$f":"[4]Gaspreise!V44*'DCF (2012)'!$C$20*T$2/T$8","v":4.7837912521819232},{"$f":"[4]Gaspreise!W44*'DCF (2012)'!$C$20*U$2/U$8","v":5.3745380835311884},{"$f":"[4]Gaspreise!X44*'DCF (2012)'!$C$20*V$2/V$8","v":5.9549631814848487},{"$f":"[4]Gaspreise!Y44*'DCF (2012)'!$C$20*W$2/W$8","v":6.3459766712364694},{"$f":"[4]Gaspreise!Z44*'DCF (2012)'!$C$20*X$2/X$8","v":6.781278085009065},{"$f":"[4]Gaspreise!AA44*'DCF (2012)'!$C$20*Y$2/Y$8","v":6.9158086476956084},{"$f":"[4]Gaspreise!AB44*'DCF (2012)'!$C$20*Z$2/Z$8","v":7.0567391172249909},{"$f":"[4]Gaspreise!AC44*'DCF (2012)'!$C$20*AA$2/AA$8","v":7.2503928357773777},{"$f":"[4]Gaspreise!AD44*'DCF (2012)'!$C$20*AB$2/AB$8","v":7.3926886717133495}]
[42,null,null,null,{"$f":"[4]Gaspreise!G45*'DCF (2012)'!$C$20","v":6.3083333333333291},{"$f":"[4]Gaspreise!H45*'DCF (2012)'!$C$20","v":5.8875477863888896},{"$f":"[4]Gaspreise!I45*'DCF (2012)'!$C$20*G$2/G$8","v":4.9332210018568272},{"$f":"[4]Gaspreise!J45*'DCF (2012)'!$C$20*H$2/H$8","v":5.8133995678899177},{"$f":"[4]Gaspreise!K45*'DCF (2012)'!$C$20*I$2/I$8","v":6.0843472627583042},{"$f":"[4]Gaspreise!L45*'DCF (2012)'!$C$20*J$2/J$8","v":5.9398583697196221},{"$f":"[4]Gaspreise!M45*'DCF (2012)'!$C$20*K$2/K$8","v":5.6560488754352525},{"$f":"[4]Gaspreise!N45*'DCF (2012)'!$C$20*L$2/L$8","v":5.5567298621827099},{"$f":"[4]Gaspreise!O45*'DCF (2012)'!$C$20*M$2/M$8","v":5.3881175501992082},{"$f":"[4]Gaspreise!P45*'DCF (2012)'!$C$20*N$2/N$8","v":5.3835770486022314},{"$f":"[4]Gaspreise!Q45*'DCF (2012)'!$C$20*O$2/O$8","v":5.2894949653020129},{"$f":"[4]Gaspreise!R45*'DCF (2012)'!$C$20*P$2/P$8","v":5.4569513146901709},{"$f":"[4]Gaspreise!S45*'DCF (2012)'!$C$20*Q$2/Q$8","v":5.4856884948979054},{"$f":"[4]Gaspreise!T45*'DCF (2012)'!$C$20*R$2/R$8","v":5.0562909036363477},{"$f":"[4]Gaspreise!U45*'DCF (2012)'!$C$20*S$2/S$8","v":4.8334512984136007},{"$f":"[4]Gaspreise!V45*'DCF (2012)'!$C$20*T$2/T$8","v":4.7837912521819232},{"$f":"[4]Gaspreise!W45*'DCF (2012)'!$C$20*U$2/U$8","v":5.3745380835311884},{"$f":"[4]Gaspreise!X45*'DCF (2012)'!$C$20*V$2/V$8","v":5.9549631814848487},{"$f":"[4]Gaspreise!Y45*'DCF (2012)'!$C$20*W$2/W$8","v":6.3459766712364694},{"$f":"[4]Gaspreise!Z45*'DCF (2012)'!$C$20*X$2/X$8","v":6.781278085009065},{"$f":"[4]Gaspreise!AA45*'DCF (2012)'!$C$20*Y$2/Y$8","v":6.9158086476956084},{"$f":"[4]Gaspreise!AB45*'DCF (2012)'!$C$20*Z$2/Z$8","v":7.0567391172249909},{"$f":"[4]Gaspreise!AC45*'DCF (2012)'!$C$20*AA$2/AA$8","v":7.2503928357773777},{"$f":"[4]Gaspreise!AD45*'DCF (2012)'!$C$20*AB$2/AB$8","v":7.3926886717133495}]
[43,null,null,null,{"$f":"[4]Gaspreise!G46*'DCF (2012)'!$C$20","v":6.3083333333333291},{"$f":"[4]Gaspreise!H46*'DCF (2012)'!$C$20","v":5.8875477863888896},{"$f":"[4]Gaspreise!I46*'DCF (2012)'!$C$20*G$2/G$8","v":4.9332210018568272},{"$f":"[4]Gaspreise!J46*'DCF (2012)'!$C$20*H$2/H$8","v":5.8133995678899177},{"$f":"[4]Gaspreise!K46*'DCF (2012)'!$C$20*I$2/I$8","v":6.0843472627583042},{"$f":"[4]Gaspreise!L46*'DCF (2012)'!$C$20*J$2/J$8","v":5.9398583697196221},{"$f":"[4]Gaspreise!M46*'DCF (2012)'!$C$20*K$2/K$8","v":5.6560488754352525},{"$f":"[4]Gaspreise!N46*'DCF (2012)'!$C$20*L$2/L$8","v":5.5567298621827099},{"$f":"[4]Gaspreise!O46*'DCF (2012)'!$C$20*M$2/M$8","v":5.3881175501992082},{"$f":"[4]Gaspreise!P46*'DCF (2012)'!$C$20*N$2/N$8","v":5.3835770486022314},{"$f":"[4]Gaspreise!Q46*'DCF (2012)'!$C$20*O$2/O$8","v":5.2894949653020129},{"$f":"[4]Gaspreise!R46*'DCF (2012)'!$C$20*P$2/P$8","v":5.4569513146901709},{"$f":"[4]Gaspreise!S46*'DCF (2012)'!$C$20*Q$2/Q$8","v":5.4856884948979054},{"$f":"[4]Gaspreise!T46*'DCF (2012)'!$C$20*R$2/R$8","v":5.0562909036363477},{"$f":"[4]Gaspreise!U46*'DCF (2012)'!$C$20*S$2/S$8","v":4.8334512984136007},{"$f":"[4]Gaspreise!V46*'DCF (2012)'!$C$20*T$2/T$8","v":4.7837912521819232},{"$f":"[4]Gaspreise!W46*'DCF (2012)'!$C$20*U$2/U$8","v":5.3745380835311884},{"$f":"[4]Gaspreise!X46*'DCF (2012)'!$C$20*V$2/V$8","v":5.9549631814848487},{"$f":"[4]Gaspreise!Y46*'DCF (2012)'!$C$20*W$2/W$8","v":6.3459766712364694},{"$f":"[4]Gaspreise!Z46*'DCF (2012)'!$C$20*X$2/X$8","v":6.781278085009065},{"$f":"[4]Gaspreise!AA46*'DCF (2012)'!$C$20*Y$2/Y$8","v":6.9158086476956084},{"$f":"[4]Gaspreise!AB46*'DCF (2012)'!$C$20*Z$2/Z$8","v":7.0567391172249909},{"$f":"[4]Gaspreise!AC46*'DCF (2012)'!$C$20*AA$2/AA$8","v":7.2503928357773777},{"$f":"[4]Gaspreise!AD46*'DCF (2012)'!$C$20*AB$2/AB$8","v":7.3926886717133495}]
[44,null,null,null,{"$f":"[4]Gaspreise!G47*'DCF (2012)'!$C$20","v":6.3083333333333291},{"$f":"[4]Gaspreise!H47*'DCF (2012)'!$C$20","v":5.8875477863888896},{"$f":"[4]Gaspreise!I47*'DCF (2012)'!$C$20*G$2/G$8","v":4.9332210018568272},{"$f":"[4]Gaspreise!J47*'DCF (2012)'!$C$20*H$2/H$8","v":5.8133995678899177},{"$f":"[4]Gaspreise!K47*'DCF (2012)'!$C$20*I$2/I$8","v":6.0843472627583042},{"$f":"[4]Gaspreise!L47*'DCF (2012)'!$C$20*J$2/J$8","v":5.9398583697196221},{"$f":"[4]Gaspreise!M47*'DCF (2012)'!$C$20*K$2/K$8","v":5.6560488754352525},{"$f":"[4]Gaspreise!N47*'DCF (2012)'!$C$20*L$2/L$8","v":5.5567298621827099},{"$f":"[4]Gaspreise!O47*'DCF (2012)'!$C$20*M$2/M$8","v":5.3881175501992082},{"$f":"[4]Gaspreise!P47*'DCF (2012)'!$C$20*N$2/N$8","v":5.3835770486022314},{"$f":"[4]Gaspreise!Q47*'DCF (2012)'!$C$20*O$2/O$8","v":5.2894949653020129},{"$f":"[4]Gaspreise!R47*'DCF (2012)'!$C$20*P$2/P$8","v":5.4569513146901709},{"$f":"[4]Gaspreise!S47*'DCF (2012)'!$C$20*Q$2/Q$8","v":5.4856884948979054},{"$f":"[4]Gaspreise!T47*'DCF (2012)'!$C$20*R$2/R$8","v":5.0562909036363477},{"$f":"[4]Gaspreise!U47*'DCF (2012)'!$C$20*S$2/S$8","v":4.8334512984136007},{"$f":"[4]Gaspreise!V47*'DCF (2012)'!$C$20*T$2/T$8","v":4.7837912521819232},{"$f":"[4]Gaspreise!W47*'DCF (2012)'!$C$20*U$2/U$8","v":5.3745380835311884},{"$f":"[4]Gaspreise!X47*'DCF (2012)'!$C$20*V$2/V$8","v":5.9549631814848487},{"$f":"[4]Gaspreise!Y47*'DCF (2012)'!$C$20*W$2/W$8","v":6.3459766712364694},{"$f":"[4]Gaspreise!Z47*'DCF (2012)'!$C$20*X$2/X$8","v":6.781278085009065},{"$f":"[4]Gaspreise!AA47*'DCF (2012)'!$C$20*Y$2/Y$8","v":6.9158086476956084},{"$f":"[4]Gaspreise!AB47*'DCF (2012)'!$C$20*Z$2/Z$8","v":7.0567391172249909},{"$f":"[4]Gaspreise!AC47*'DCF (2012)'!$C$20*AA$2/AA$8","v":7.2503928357773777},{"$f":"[4]Gaspreise!AD47*'DCF (2012)'!$C$20*AB$2/AB$8","v":7.3926886717133495}]
[45,null,null,null,{"$f":"[4]Gaspreise!G48*'DCF (2012)'!$C$20","v":6.3083333333333291},{"$f":"[4]Gaspreise!H48*'DCF (2012)'!$C$20","v":5.8875477863888896},{"$f":"[4]Gaspreise!I48*'DCF (2012)'!$C$20*G$2/G$8","v":4.9332210018568272},{"$f":"[4]Gaspreise!J48*'DCF (2012)'!$C$20*H$2/H$8","v":5.8133995678899177},{"$f":"[4]Gaspreise!K48*'DCF (2012)'!$C$20*I$2/I$8","v":6.0843472627583042},{"$f":"[4]Gaspreise!L48*'DCF (2012)'!$C$20*J$2/J$8","v":5.9398583697196221},{"$f":"[4]Gaspreise!M48*'DCF (2012)'!$C$20*K$2/K$8","v":5.6560488754352525},{"$f":"[4]Gaspreise!N48*'DCF (2012)'!$C$20*L$2/L$8","v":5.5567298621827099},{"$f":"[4]Gaspreise!O48*'DCF (2012)'!$C$20*M$2/M$8","v":5.3881175501992082},{"$f":"[4]Gaspreise!P48*'DCF (2012)'!$C$20*N$2/N$8","v":5.3835770486022314},{"$f":"[4]Gaspreise!Q48*'DCF (2012)'!$C$20*O$2/O$8","v":5.2894949653020129},{"$f":"[4]Gaspreise!R48*'DCF (2012)'!$C$20*P$2/P$8","v":5.4569513146901709},{"$f":"[4]Gaspreise!S48*'DCF (2012)'!$C$20*Q$2/Q$8","v":5.4856884948979054},{"$f":"[4]Gaspreise!T48*'DCF (2012)'!$C$20*R$2/R$8","v":5.0562909036363477},{"$f":"[4]Gaspreise!U48*'DCF (2012)'!$C$20*S$2/S$8","v":4.8334512984136007},{"$f":"[4]Gaspreise!V48*'DCF (2012)'!$C$20*T$2/T$8","v":4.7837912521819232},{"$f":"[4]Gaspreise!W48*'DCF (2012)'!$C$20*U$2/U$8","v":5.3745380835311884},{"$f":"[4]Gaspreise!X48*'DCF (2012)'!$C$20*V$2/V$8","v":5.9549631814848487},{"$f":"[4]Gaspreise!Y48*'DCF (2012)'!$C$20*W$2/W$8","v":6.3459766712364694},{"$f":"[4]Gaspreise!Z48*'DCF (2012)'!$C$20*X$2/X$8","v":6.781278085009065},{"$f":"[4]Gaspreise!AA48*'DCF (2012)'!$C$20*Y$2/Y$8","v":6.9158086476956084},{"$f":"[4]Gaspreise!AB48*'DCF (2012)'!$C$20*Z$2/Z$8","v":7.0567391172249909},{"$f":"[4]Gaspreise!AC48*'DCF (2012)'!$C$20*AA$2/AA$8","v":7.2503928357773777},{"$f":"[4]Gaspreise!AD48*'DCF (2012)'!$C$20*AB$2/AB$8","v":7.3926886717133495}]
[46,null,null,null,{"$f":"[4]Gaspreise!G49*'DCF (2012)'!$C$20","v":6.3083333333333291},{"$f":"[4]Gaspreise!H49*'DCF (2012)'!$C$20","v":5.8875477863888896},{"$f":"[4]Gaspreise!I49*'DCF (2012)'!$C$20*G$2/G$8","v":4.9332210018568272},{"$f":"[4]Gaspreise!J49*'DCF (2012)'!$C$20*H$2/H$8","v":5.8133995678899177},{"$f":"[4]Gaspreise!K49*'DCF (2012)'!$C$20*I$2/I$8","v":6.0843472627583042},{"$f":"[4]Gaspreise!L49*'DCF (2012)'!$C$20*J$2/J$8","v":5.9398583697196221},{"$f":"[4]Gaspreise!M49*'DCF (2012)'!$C$20*K$2/K$8","v":5.6560488754352525},{"$f":"[4]Gaspreise!N49*'DCF (2012)'!$C$20*L$2/L$8","v":5.5567298621827099},{"$f":"[4]Gaspreise!O49*'DCF (2012)'!$C$20*M$2/M$8","v":5.3881175501992082},{"$f":"[4]Gaspreise!P49*'DCF (2012)'!$C$20*N$2/N$8","v":5.3835770486022314},{"$f":"[4]Gaspreise!Q49*'DCF (2012)'!$C$20*O$2/O$8","v":5.2894949653020129},{"$f":"[4]Gaspreise!R49*'DCF (2012)'!$C$20*P$2/P$8","v":5.4569513146901709},{"$f":"[4]Gaspreise!S49*'DCF (2012)'!$C$20*Q$2/Q$8","v":5.4856884948979054},{"$f":"[4]Gaspreise!T49*'DCF (2012)'!$C$20*R$2/R$8","v":5.0562909036363477},{"$f":"[4]Gaspreise!U49*'DCF (2012)'!$C$20*S$2/S$8","v":4.8334512984136007},{"$f":"[4]Gaspreise!V49*'DCF (2012)'!$C$20*T$2/T$8","v":4.7837912521819232},{"$f":"[4]Gaspreise!W49*'DCF (2012)'!$C$20*U$2/U$8","v":5.3745380835311884},{"$f":"[4]Gaspreise!X49*'DCF (2012)'!$C$20*V$2/V$8","v":5.9549631814848487},{"$f":"[4]Gaspreise!Y49*'DCF (2012)'!$C$20*W$2/W$8","v":6.3459766712364694},{"$f":"[4]Gaspreise!Z49*'DCF (2012)'!$C$20*X$2/X$8","v":6.781278085009065},{"$f":"[4]Gaspreise!AA49*'DCF (2012)'!$C$20*Y$2/Y$8","v":6.9158086476956084},{"$f":"[4]Gaspreise!AB49*'DCF (2012)'!$C$20*Z$2/Z$8","v":7.0567391172249909},{"$f":"[4]Gaspreise!AC49*'DCF (2012)'!$C$20*AA$2/AA$8","v":7.2503928357773777},{"$f":"[4]Gaspreise!AD49*'DCF (2012)'!$C$20*AB$2/AB$8","v":7.3926886717133495}]
[47,null,null,null,{"$f":"[4]Gaspreise!G50*'DCF (2012)'!$C$20","v":6.3083333333333291},{"$f":"[4]Gaspreise!H50*'DCF (2012)'!$C$20","v":5.8875477863888896},{"$f":"[4]Gaspreise!I50*'DCF (2012)'!$C$20*G$2/G$8","v":4.9332210018568272},{"$f":"[4]Gaspreise!J50*'DCF (2012)'!$C$20*H$2/H$8","v":5.8133995678899177},{"$f":"[4]Gaspreise!K50*'DCF (2012)'!$C$20*I$2/I$8","v":6.0843472627583042},{"$f":"[4]Gaspreise!L50*'DCF (2012)'!$C$20*J$2/J$8","v":5.9398583697196221},{"$f":"[4]Gaspreise!M50*'DCF (2012)'!$C$20*K$2/K$8","v":5.6560488754352525},{"$f":"[4]Gaspreise!N50*'DCF (2012)'!$C$20*L$2/L$8","v":5.5567298621827099},{"$f":"[4]Gaspreise!O50*'DCF (2012)'!$C$20*M$2/M$8","v":5.3881175501992082},{"$f":"[4]Gaspreise!P50*'DCF (2012)'!$C$20*N$2/N$8","v":5.3835770486022314},{"$f":"[4]Gaspreise!Q50*'DCF (2012)'!$C$20*O$2/O$8","v":5.2894949653020129},{"$f":"[4]Gaspreise!R50*'DCF (2012)'!$C$20*P$2/P$8","v":5.4569513146901709},{"$f":"[4]Gaspreise!S50*'DCF (2012)'!$C$20*Q$2/Q$8","v":5.4856884948979054},{"$f":"[4]Gaspreise!T50*'DCF (2012)'!$C$20*R$2/R$8","v":5.0562909036363477},{"$f":"[4]Gaspreise!U50*'DCF (2012)'!$C$20*S$2/S$8","v":4.8334512984136007},{"$f":"[4]Gaspreise!V50*'DCF (2012)'!$C$20*T$2/T$8","v":4.7837912521819232},{"$f":"[4]Gaspreise!W50*'DCF (2012)'!$C$20*U$2/U$8","v":5.3745380835311884},{"$f":"[4]Gaspreise!X50*'DCF (2012)'!$C$20*V$2/V$8","v":5.9549631814848487},{"$f":"[4]Gaspreise!Y50*'DCF (2012)'!$C$20*W$2/W$8","v":6.3459766712364694},{"$f":"[4]Gaspreise!Z50*'DCF (2012)'!$C$20*X$2/X$8","v":6.781278085009065},{"$f":"[4]Gaspreise!AA50*'DCF (2012)'!$C$20*Y$2/Y$8","v":6.9158086476956084},{"$f":"[4]Gaspreise!AB50*'DCF (2012)'!$C$20*Z$2/Z$8","v":7.0567391172249909},{"$f":"[4]Gaspreise!AC50*'DCF (2012)'!$C$20*AA$2/AA$8","v":7.2503928357773777},{"$f":"[4]Gaspreise!AD50*'DCF (2012)'!$C$20*AB$2/AB$8","v":7.3926886717133495}]
[48,null,null,null,{"$f":"[4]Gaspreise!G51*'DCF (2012)'!$C$20","v":6.3083333333333291},{"$f":"[4]Gaspreise!H51*'DCF (2012)'!$C$20","v":5.8875477863888896},{"$f":"[4]Gaspreise!I51*'DCF (2012)'!$C$20*G$2/G$8","v":4.9332210018568272},{"$f":"[4]Gaspreise!J51*'DCF (2012)'!$C$20*H$2/H$8","v":5.8133995678899177},{"$f":"[4]Gaspreise!K51*'DCF (2012)'!$C$20*I$2/I$8","v":6.0843472627583042},{"$f":"[4]Gaspreise!L51*'DCF (2012)'!$C$20*J$2/J$8","v":5.9398583697196221},{"$f":"[4]Gaspreise!M51*'DCF (2012)'!$C$20*K$2/K$8","v":5.6560488754352525},{"$f":"[4]Gaspreise!N51*'DCF (2012)'!$C$20*L$2/L$8","v":5.5567298621827099},{"$f":"[4]Gaspreise!O51*'DCF (2012)'!$C$20*M$2/M$8","v":5.3881175501992082},{"$f":"[4]Gaspreise!P51*'DCF (2012)'!$C$20*N$2/N$8","v":5.3835770486022314},{"$f":"[4]Gaspreise!Q51*'DCF (2012)'!$C$20*O$2/O$8","v":5.2894949653020129},{"$f":"[4]Gaspreise!R51*'DCF (2012)'!$C$20*P$2/P$8","v":5.4569513146901709},{"$f":"[4]Gaspreise!S51*'DCF (2012)'!$C$20*Q$2/Q$8","v":5.4856884948979054},{"$f":"[4]Gaspreise!T51*'DCF (2012)'!$C$20*R$2/R$8","v":5.0562909036363477},{"$f":"[4]Gaspreise!U51*'DCF (2012)'!$C$20*S$2/S$8","v":4.8334512984136007},{"$f":"[4]Gaspreise!V51*'DCF (2012)'!$C$20*T$2/T$8","v":4.7837912521819232},{"$f":"[4]Gaspreise!W51*'DCF (2012)'!$C$20*U$2/U$8","v":5.3745380835311884},{"$f":"[4]Gaspreise!X51*'DCF (2012)'!$C$20*V$2/V$8","v":5.9549631814848487},{"$f":"[4]Gaspreise!Y51*'DCF (2012)'!$C$20*W$2/W$8","v":6.3459766712364694},{"$f":"[4]Gaspreise!Z51*'DCF (2012)'!$C$20*X$2/X$8","v":6.781278085009065},{"$f":"[4]Gaspreise!AA51*'DCF (2012)'!$C$20*Y$2/Y$8","v":6.9158086476956084},{"$f":"[4]Gaspreise!AB51*'DCF (2012)'!$C$20*Z$2/Z$8","v":7.0567391172249909},{"$f":"[4]Gaspreise!AC51*'DCF (2012)'!$C$20*AA$2/AA$8","v":7.2503928357773777},{"$f":"[4]Gaspreise!AD51*'DCF (2012)'!$C$20*AB$2/AB$8","v":7.3926886717133495}]
[49,null,null,null,{"$f":"[4]Gaspreise!G52*'DCF (2012)'!$C$20","v":6.3083333333333291},{"$f":"[4]Gaspreise!H52*'DCF (2012)'!$C$20","v":5.8875477863888896},{"$f":"[4]Gaspreise!I52*'DCF (2012)'!$C$20*G$2/G$8","v":4.9332210018568272},{"$f":"[4]Gaspreise!J52*'DCF (2012)'!$C$20*H$2/H$8","v":5.8133995678899177},{"$f":"[4]Gaspreise!K52*'DCF (2012)'!$C$20*I$2/I$8","v":6.0843472627583042},{"$f":"[4]Gaspreise!L52*'DCF (2012)'!$C$20*J$2/J$8","v":5.9398583697196221},{"$f":"[4]Gaspreise!M52*'DCF (2012)'!$C$20*K$2/K$8","v":5.6560488754352525},{"$f":"[4]Gaspreise!N52*'DCF (2012)'!$C$20*L$2/L$8","v":5.5567298621827099},{"$f":"[4]Gaspreise!O52*'DCF (2012)'!$C$20*M$2/M$8","v":5.3881175501992082},{"$f":"[4]Gaspreise!P52*'DCF (2012)'!$C$20*N$2/N$8","v":5.3835770486022314},{"$f":"[4]Gaspreise!Q52*'DCF (2012)'!$C$20*O$2/O$8","v":5.2894949653020129},{"$f":"[4]Gaspreise!R52*'DCF (2012)'!$C$20*P$2/P$8","v":5.4569513146901709},{"$f":"[4]Gaspreise!S52*'DCF (2012)'!$C$20*Q$2/Q$8","v":5.4856884948979054},{"$f":"[4]Gaspreise!T52*'DCF (2012)'!$C$20*R$2/R$8","v":5.0562909036363477},{"$f":"[4]Gaspreise!U52*'DCF (2012)'!$C$20*S$2/S$8","v":4.8334512984136007},{"$f":"[4]Gaspreise!V52*'DCF (2012)'!$C$20*T$2/T$8","v":4.7837912521819232},{"$f":"[4]Gaspreise!W52*'DCF (2012)'!$C$20*U$2/U$8","v":5.3745380835311884},{"$f":"[4]Gaspreise!X52*'DCF (2012)'!$C$20*V$2/V$8","v":5.9549631814848487},{"$f":"[4]Gaspreise!Y52*'DCF (2012)'!$C$20*W$2/W$8","v":6.3459766712364694},{"$f":"[4]Gaspreise!Z52*'DCF (2012)'!$C$20*X$2/X$8","v":6.781278085009065},{"$f":"[4]Gaspreise!AA52*'DCF (2012)'!$C$20*Y$2/Y$8","v":6.9158086476956084},{"$f":"[4]Gaspreise!AB52*'DCF (2012)'!$C$20*Z$2/Z$8","v":7.0567391172249909},{"$f":"[4]Gaspreise!AC52*'DCF (2012)'!$C$20*AA$2/AA$8","v":7.2503928357773777},{"$f":"[4]Gaspreise!AD52*'DCF (2012)'!$C$20*AB$2/AB$8","v":7.3926886717133495}]
[50,null,null,null,{"$f":"[4]Gaspreise!G53*'DCF (2012)'!$C$20","v":6.3083333333333291},{"$f":"[4]Gaspreise!H53*'DCF (2012)'!$C$20","v":5.8875477863888896},{"$f":"[4]Gaspreise!I53*'DCF (2012)'!$C$20*G$2/G$8","v":4.9332210018568272},{"$f":"[4]Gaspreise!J53*'DCF (2012)'!$C$20*H$2/H$8","v":5.8133995678899177},{"$f":"[4]Gaspreise!K53*'DCF (2012)'!$C$20*I$2/I$8","v":6.0843472627583042},{"$f":"[4]Gaspreise!L53*'DCF (2012)'!$C$20*J$2/J$8","v":5.9398583697196221},{"$f":"[4]Gaspreise!M53*'DCF (2012)'!$C$20*K$2/K$8","v":5.6560488754352525},{"$f":"[4]Gaspreise!N53*'DCF (2012)'!$C$20*L$2/L$8","v":5.5567298621827099},{"$f":"[4]Gaspreise!O53*'DCF (2012)'!$C$20*M$2/M$8","v":5.3881175501992082},{"$f":"[4]Gaspreise!P53*'DCF (2012)'!$C$20*N$2/N$8","v":5.3835770486022314},{"$f":"[4]Gaspreise!Q53*'DCF (2012)'!$C$20*O$2/O$8","v":5.2894949653020129},{"$f":"[4]Gaspreise!R53*'DCF (2012)'!$C$20*P$2/P$8","v":5.4569513146901709},{"$f":"[4]Gaspreise!S53*'DCF (2012)'!$C$20*Q$2/Q$8","v":5.4856884948979054},{"$f":"[4]Gaspreise!T53*'DCF (2012)'!$C$20*R$2/R$8","v":5.0562909036363477},{"$f":"[4]Gaspreise!U53*'DCF (2012)'!$C$20*S$2/S$8","v":4.8334512984136007},{"$f":"[4]Gaspreise!V53*'DCF (2012)'!$C$20*T$2/T$8","v":4.7837912521819232},{"$f":"[4]Gaspreise!W53*'DCF (2012)'!$C$20*U$2/U$8","v":5.3745380835311884},{"$f":"[4]Gaspreise!X53*'DCF (2012)'!$C$20*V$2/V$8","v":5.9549631814848487},{"$f":"[4]Gaspreise!Y53*'DCF (2012)'!$C$20*W$2/W$8","v":6.3459766712364694},{"$f":"[4]Gaspreise!Z53*'DCF (2012)'!$C$20*X$2/X$8","v":6.781278085009065},{"$f":"[4]Gaspreise!AA53*'DCF (2012)'!$C$20*Y$2/Y$8","v":6.9158086476956084},{"$f":"[4]Gaspreise!AB53*'DCF (2012)'!$C$20*Z$2/Z$8","v":7.0567391172249909},{"$f":"[4]Gaspreise!AC53*'DCF (2012)'!$C$20*AA$2/AA$8","v":7.2503928357773777},{"$f":"[4]Gaspreise!AD53*'DCF (2012)'!$C$20*AB$2/AB$8","v":7.3926886717133495}]
[51,null,null,null,{"$f":"[4]Gaspreise!G54*'DCF (2012)'!$C$20","v":6.3083333333333291},{"$f":"[4]Gaspreise!H54*'DCF (2012)'!$C$20","v":5.8875477863888896},{"$f":"[4]Gaspreise!I54*'DCF (2012)'!$C$20*G$2/G$8","v":4.9332210018568272},{"$f":"[4]Gaspreise!J54*'DCF (2012)'!$C$20*H$2/H$8","v":5.8133995678899177},{"$f":"[4]Gaspreise!K54*'DCF (2012)'!$C$20*I$2/I$8","v":6.0843472627583042},{"$f":"[4]Gaspreise!L54*'DCF (2012)'!$C$20*J$2/J$8","v":5.9398583697196221},{"$f":"[4]Gaspreise!M54*'DCF (2012)'!$C$20*K$2/K$8","v":5.6560488754352525},{"$f":"[4]Gaspreise!N54*'DCF (2012)'!$C$20*L$2/L$8","v":5.5567298621827099},{"$f":"[4]Gaspreise!O54*'DCF (2012)'!$C$20*M$2/M$8","v":5.3881175501992082},{"$f":"[4]Gaspreise!P54*'DCF (2012)'!$C$20*N$2/N$8","v":5.3835770486022314},{"$f":"[4]Gaspreise!Q54*'DCF (2012)'!$C$20*O$2/O$8","v":5.2894949653020129},{"$f":"[4]Gaspreise!R54*'DCF (2012)'!$C$20*P$2/P$8","v":5.4569513146901709},{"$f":"[4]Gaspreise!S54*'DCF (2012)'!$C$20*Q$2/Q$8","v":5.4856884948979054},{"$f":"[4]Gaspreise!T54*'DCF (2012)'!$C$20*R$2/R$8","v":5.0562909036363477},{"$f":"[4]Gaspreise!U54*'DCF (2012)'!$C$20*S$2/S$8","v":4.8334512984136007},{"$f":"[4]Gaspreise!V54*'DCF (2012)'!$C$20*T$2/T$8","v":4.7837912521819232},{"$f":"[4]Gaspreise!W54*'DCF (2012)'!$C$20*U$2/U$8","v":5.3745380835311884},{"$f":"[4]Gaspreise!X54*'DCF (2012)'!$C$20*V$2/V$8","v":5.9549631814848487},{"$f":"[4]Gaspreise!Y54*'DCF (2012)'!$C$20*W$2/W$8","v":6.3459766712364694},{"$f":"[4]Gaspreise!Z54*'DCF (2012)'!$C$20*X$2/X$8","v":6.781278085009065},{"$f":"[4]Gaspreise!AA54*'DCF (2012)'!$C$20*Y$2/Y$8","v":6.9158086476956084},{"$f":"[4]Gaspreise!AB54*'DCF (2012)'!$C$20*Z$2/Z$8","v":7.0567391172249909},{"$f":"[4]Gaspreise!AC54*'DCF (2012)'!$C$20*AA$2/AA$8","v":7.2503928357773777},{"$f":"[4]Gaspreise!AD54*'DCF (2012)'!$C$20*AB$2/AB$8","v":7.3926886717133495}]
[52,null,null,null,{"$f":"[4]Gaspreise!G55*'DCF (2012)'!$C$20","v":6.3083333333333291},{"$f":"[4]Gaspreise!H55*'DCF (2012)'!$C$20","v":5.8875477863888896},{"$f":"[4]Gaspreise!I55*'DCF (2012)'!$C$20*G$2/G$8","v":4.9332210018568272},{"$f":"[4]Gaspreise!J55*'DCF (2012)'!$C$20*H$2/H$8","v":5.8133995678899177},{"$f":"[4]Gaspreise!K55*'DCF (2012)'!$C$20*I$2/I$8","v":6.0843472627583042},{"$f":"[4]Gaspreise!L55*'DCF (2012)'!$C$20*J$2/J$8","v":5.9398583697196221},{"$f":"[4]Gaspreise!M55*'DCF (2012)'!$C$20*K$2/K$8","v":5.6560488754352525},{"$f":"[4]Gaspreise!N55*'DCF (2012)'!$C$20*L$2/L$8","v":5.5567298621827099},{"$f":"[4]Gaspreise!O55*'DCF (2012)'!$C$20*M$2/M$8","v":5.3881175501992082},{"$f":"[4]Gaspreise!P55*'DCF (2012)'!$C$20*N$2/N$8","v":5.3835770486022314},{"$f":"[4]Gaspreise!Q55*'DCF (2012)'!$C$20*O$2/O$8","v":5.2894949653020129},{"$f":"[4]Gaspreise!R55*'DCF (2012)'!$C$20*P$2/P$8","v":5.4569513146901709},{"$f":"[4]Gaspreise!S55*'DCF (2012)'!$C$20*Q$2/Q$8","v":5.4856884948979054},{"$f":"[4]Gaspreise!T55*'DCF (2012)'!$C$20*R$2/R$8","v":5.0562909036363477},{"$f":"[4]Gaspreise!U55*'DCF (2012)'!$C$20*S$2/S$8","v":4.8334512984136007},{"$f":"[4]Gaspreise!V55*'DCF (2012)'!$C$20*T$2/T$8","v":4.7837912521819232},{"$f":"[4]Gaspreise!W55*'DCF (2012)'!$C$20*U$2/U$8","v":5.3745380835311884},{"$f":"[4]Gaspreise!X55*'DCF (2012)'!$C$20*V$2/V$8","v":5.9549631814848487},{"$f":"[4]Gaspreise!Y55*'DCF (2012)'!$C$20*W$2/W$8","v":6.3459766712364694},{"$f":"[4]Gaspreise!Z55*'DCF (2012)'!$C$20*X$2/X$8","v":6.781278085009065},{"$f":"[4]Gaspreise!AA55*'DCF (2012)'!$C$20*Y$2/Y$8","v":6.9158086476956084},{"$f":"[4]Gaspreise!AB55*'DCF (2012)'!$C$20*Z$2/Z$8","v":7.0567391172249909},{"$f":"[4]Gaspreise!AC55*'DCF (2012)'!$C$20*AA$2/AA$8","v":7.2503928357773777},{"$f":"[4]Gaspreise!AD55*'DCF (2012)'!$C$20*AB$2/AB$8","v":7.3926886717133495}]
[53,null,null,null,{"$f":"[4]Gaspreise!G56*'DCF (2012)'!$C$20","v":6.3083333333333291},{"$f":"[4]Gaspreise!H56*'DCF (2012)'!$C$20","v":5.8875477863888896},{"$f":"[4]Gaspreise!I56*'DCF (2012)'!$C$20*G$2/G$8","v":4.9332210018568272},{"$f":"[4]Gaspreise!J56*'DCF (2012)'!$C$20*H$2/H$8","v":5.8133995678899177},{"$f":"[4]Gaspreise!K56*'DCF (2012)'!$C$20*I$2/I$8","v":6.0843472627583042},{"$f":"[4]Gaspreise!L56*'DCF (2012)'!$C$20*J$2/J$8","v":5.9398583697196221},{"$f":"[4]Gaspreise!M56*'DCF (2012)'!$C$20*K$2/K$8","v":5.6560488754352525},{"$f":"[4]Gaspreise!N56*'DCF (2012)'!$C$20*L$2/L$8","v":5.5567298621827099},{"$f":"[4]Gaspreise!O56*'DCF (2012)'!$C$20*M$2/M$8","v":5.3881175501992082},{"$f":"[4]Gaspreise!P56*'DCF (2012)'!$C$20*N$2/N$8","v":5.3835770486022314},{"$f":"[4]Gaspreise!Q56*'DCF (2012)'!$C$20*O$2/O$8","v":5.2894949653020129},{"$f":"[4]Gaspreise!R56*'DCF (2012)'!$C$20*P$2/P$8","v":5.4569513146901709},{"$f":"[4]Gaspreise!S56*'DCF (2012)'!$C$20*Q$2/Q$8","v":5.4856884948979054},{"$f":"[4]Gaspreise!T56*'DCF (2012)'!$C$20*R$2/R$8","v":5.0562909036363477},{"$f":"[4]Gaspreise!U56*'DCF (2012)'!$C$20*S$2/S$8","v":4.8334512984136007},{"$f":"[4]Gaspreise!V56*'DCF (2012)'!$C$20*T$2/T$8","v":4.7837912521819232},{"$f":"[4]Gaspreise!W56*'DCF (2012)'!$C$20*U$2/U$8","v":5.3745380835311884},{"$f":"[4]Gaspreise!X56*'DCF (2012)'!$C$20*V$2/V$8","v":5.9549631814848487},{"$f":"[4]Gaspreise!Y56*'DCF (2012)'!$C$20*W$2/W$8","v":6.3459766712364694},{"$f":"[4]Gaspreise!Z56*'DCF (2012)'!$C$20*X$2/X$8","v":6.781278085009065},{"$f":"[4]Gaspreise!AA56*'DCF (2012)'!$C$20*Y$2/Y$8","v":6.9158086476956084},{"$f":"[4]Gaspreise!AB56*'DCF (2012)'!$C$20*Z$2/Z$8","v":7.0567391172249909},{"$f":"[4]Gaspreise!AC56*'DCF (2012)'!$C$20*AA$2/AA$8","v":7.2503928357773777},{"$f":"[4]Gaspreise!AD56*'DCF (2012)'!$C$20*AB$2/AB$8","v":7.3926886717133495}]
[54,null,null,null,{"$f":"[4]Gaspreise!G57*'DCF (2012)'!$C$20","v":6.3083333333333291},{"$f":"[4]Gaspreise!H57*'DCF (2012)'!$C$20","v":5.8875477863888896},{"$f":"[4]Gaspreise!I57*'DCF (2012)'!$C$20*G$2/G$8","v":4.9332210018568272},{"$f":"[4]Gaspreise!J57*'DCF (2012)'!$C$20*H$2/H$8","v":5.8133995678899177},{"$f":"[4]Gaspreise!K57*'DCF (2012)'!$C$20*I$2/I$8","v":6.0843472627583042},{"$f":"[4]Gaspreise!L57*'DCF (2012)'!$C$20*J$2/J$8","v":5.9398583697196221},{"$f":"[4]Gaspreise!M57*'DCF (2012)'!$C$20*K$2/K$8","v":5.6560488754352525},{"$f":"[4]Gaspreise!N57*'DCF (2012)'!$C$20*L$2/L$8","v":5.5567298621827099},{"$f":"[4]Gaspreise!O57*'DCF (2012)'!$C$20*M$2/M$8","v":5.3881175501992082},{"$f":"[4]Gaspreise!P57*'DCF (2012)'!$C$20*N$2/N$8","v":5.3835770486022314},{"$f":"[4]Gaspreise!Q57*'DCF (2012)'!$C$20*O$2/O$8","v":5.2894949653020129},{"$f":"[4]Gaspreise!R57*'DCF (2012)'!$C$20*P$2/P$8","v":5.4569513146901709},{"$f":"[4]Gaspreise!S57*'DCF (2012)'!$C$20*Q$2/Q$8","v":5.4856884948979054},{"$f":"[4]Gaspreise!T57*'DCF (2012)'!$C$20*R$2/R$8","v":5.0562909036363477},{"$f":"[4]Gaspreise!U57*'DCF (2012)'!$C$20*S$2/S$8","v":4.8334512984136007},{"$f":"[4]Gaspreise!V57*'DCF (2012)'!$C$20*T$2/T$8","v":4.7837912521819232},{"$f":"[4]Gaspreise!W57*'DCF (2012)'!$C$20*U$2/U$8","v":5.3745380835311884},{"$f":"[4]Gaspreise!X57*'DCF (2012)'!$C$20*V$2/V$8","v":5.9549631814848487},{"$f":"[4]Gaspreise!Y57*'DCF (2012)'!$C$20*W$2/W$8","v":6.3459766712364694},{"$f":"[4]Gaspreise!Z57*'DCF (2012)'!$C$20*X$2/X$8","v":6.781278085009065},{"$f":"[4]Gaspreise!AA57*'DCF (2012)'!$C$20*Y$2/Y$8","v":6.9158086476956084},{"$f":"[4]Gaspreise!AB57*'DCF (2012)'!$C$20*Z$2/Z$8","v":7.0567391172249909},{"$f":"[4]Gaspreise!AC57*'DCF (2012)'!$C$20*AA$2/AA$8","v":7.2503928357773777},{"$f":"[4]Gaspreise!AD57*'DCF (2012)'!$C$20*AB$2/AB$8","v":7.3926886717133495}]
[55,null,null,null,{"$f":"[4]Gaspreise!G58*'DCF (2012)'!$C$20","v":6.3083333333333291},{"$f":"[4]Gaspreise!H58*'DCF (2012)'!$C$20","v":5.8875477863888896},{"$f":"[4]Gaspreise!I58*'DCF (2012)'!$C$20*G$2/G$8","v":4.9332210018568272},{"$f":"[4]Gaspreise!J58*'DCF (2012)'!$C$20*H$2/H$8","v":5.8133995678899177},{"$f":"[4]Gaspreise!K58*'DCF (2012)'!$C$20*I$2/I$8","v":6.0843472627583042},{"$f":"[4]Gaspreise!L58*'DCF (2012)'!$C$20*J$2/J$8","v":5.9398583697196221},{"$f":"[4]Gaspreise!M58*'DCF (2012)'!$C$20*K$2/K$8","v":5.6560488754352525},{"$f":"[4]Gaspreise!N58*'DCF (2012)'!$C$20*L$2/L$8","v":5.5567298621827099},{"$f":"[4]Gaspreise!O58*'DCF (2012)'!$C$20*M$2/M$8","v":5.3881175501992082},{"$f":"[4]Gaspreise!P58*'DCF (2012)'!$C$20*N$2/N$8","v":5.3835770486022314},{"$f":"[4]Gaspreise!Q58*'DCF (2012)'!$C$20*O$2/O$8","v":5.2894949653020129},{"$f":"[4]Gaspreise!R58*'DCF (2012)'!$C$20*P$2/P$8","v":5.4569513146901709},{"$f":"[4]Gaspreise!S58*'DCF (2012)'!$C$20*Q$2/Q$8","v":5.4856884948979054},{"$f":"[4]Gaspreise!T58*'DCF (2012)'!$C$20*R$2/R$8","v":5.0562909036363477},{"$f":"[4]Gaspreise!U58*'DCF (2012)'!$C$20*S$2/S$8","v":4.8334512984136007},{"$f":"[4]Gaspreise!V58*'DCF (2012)'!$C$20*T$2/T$8","v":4.7837912521819232},{"$f":"[4]Gaspreise!W58*'DCF (2012)'!$C$20*U$2/U$8","v":5.3745380835311884},{"$f":"[4]Gaspreise!X58*'DCF (2012)'!$C$20*V$2/V$8","v":5.9549631814848487},{"$f":"[4]Gaspreise!Y58*'DCF (2012)'!$C$20*W$2/W$8","v":6.3459766712364694},{"$f":"[4]Gaspreise!Z58*'DCF (2012)'!$C$20*X$2/X$8","v":6.781278085009065},{"$f":"[4]Gaspreise!AA58*'DCF (2012)'!$C$20*Y$2/Y$8","v":6.9158086476956084},{"$f":"[4]Gaspreise!AB58*'DCF (2012)'!$C$20*Z$2/Z$8","v":7.0567391172249909},{"$f":"[4]Gaspreise!AC58*'DCF (2012)'!$C$20*AA$2/AA$8","v":7.2503928357773777},{"$f":"[4]Gaspreise!AD58*'DCF (2012)'!$C$20*AB$2/AB$8","v":7.3926886717133495}]
[56,null,null,null,{"$f":"[4]Gaspreise!G59*'DCF (2012)'!$C$20","v":6.3083333333333291},{"$f":"[4]Gaspreise!H59*'DCF (2012)'!$C$20","v":5.8875477863888896},{"$f":"[4]Gaspreise!I59*'DCF (2012)'!$C$20*G$2/G$8","v":4.9332210018568272},{"$f":"[4]Gaspreise!J59*'DCF (2012)'!$C$20*H$2/H$8","v":5.8133995678899177},{"$f":"[4]Gaspreise!K59*'DCF (2012)'!$C$20*I$2/I$8","v":6.0843472627583042},{"$f":"[4]Gaspreise!L59*'DCF (2012)'!$C$20*J$2/J$8","v":5.9398583697196221},{"$f":"[4]Gaspreise!M59*'DCF (2012)'!$C$20*K$2/K$8","v":5.6560488754352525},{"$f":"[4]Gaspreise!N59*'DCF (2012)'!$C$20*L$2/L$8","v":5.5567298621827099},{"$f":"[4]Gaspreise!O59*'DCF (2012)'!$C$20*M$2/M$8","v":5.3881175501992082},{"$f":"[4]Gaspreise!P59*'DCF (2012)'!$C$20*N$2/N$8","v":5.3835770486022314},{"$f":"[4]Gaspreise!Q59*'DCF (2012)'!$C$20*O$2/O$8","v":5.2894949653020129},{"$f":"[4]Gaspreise!R59*'DCF (2012)'!$C$20*P$2/P$8","v":5.4569513146901709},{"$f":"[4]Gaspreise!S59*'DCF (2012)'!$C$20*Q$2/Q$8","v":5.4856884948979054},{"$f":"[4]Gaspreise!T59*'DCF (2012)'!$C$20*R$2/R$8","v":5.0562909036363477},{"$f":"[4]Gaspreise!U59*'DCF (2012)'!$C$20*S$2/S$8","v":4.8334512984136007},{"$f":"[4]Gaspreise!V59*'DCF (2012)'!$C$20*T$2/T$8","v":4.7837912521819232},{"$f":"[4]Gaspreise!W59*'DCF (2012)'!$C$20*U$2/U$8","v":5.3745380835311884},{"$f":"[4]Gaspreise!X59*'DCF (2012)'!$C$20*V$2/V$8","v":5.9549631814848487},{"$f":"[4]Gaspreise!Y59*'DCF (2012)'!$C$20*W$2/W$8","v":6.3459766712364694},{"$f":"[4]Gaspreise!Z59*'DCF (2012)'!$C$20*X$2/X$8","v":6.781278085009065},{"$f":"[4]Gaspreise!AA59*'DCF (2012)'!$C$20*Y$2/Y$8","v":6.9158086476956084},{"$f":"[4]Gaspreise!AB59*'DCF (2012)'!$C$20*Z$2/Z$8","v":7.0567391172249909},{"$f":"[4]Gaspreise!AC59*'DCF (2012)'!$C$20*AA$2/AA$8","v":7.2503928357773777},{"$f":"[4]Gaspreise!AD59*'DCF (2012)'!$C$20*AB$2/AB$8","v":7.3926886717133495}]
[57,null,null,null,{"$f":"[4]Gaspreise!G60*'DCF (2012)'!$C$20","v":6.3083333333333291},{"$f":"[4]Gaspreise!H60*'DCF (2012)'!$C$20","v":5.8875477863888896},{"$f":"[4]Gaspreise!I60*'DCF (2012)'!$C$20*G$2/G$8","v":4.9332210018568272},{"$f":"[4]Gaspreise!J60*'DCF (2012)'!$C$20*H$2/H$8","v":5.8133995678899177},{"$f":"[4]Gaspreise!K60*'DCF (2012)'!$C$20*I$2/I$8","v":6.0843472627583042},{"$f":"[4]Gaspreise!L60*'DCF (2012)'!$C$20*J$2/J$8","v":5.9398583697196221},{"$f":"[4]Gaspreise!M60*'DCF (2012)'!$C$20*K$2/K$8","v":5.6560488754352525},{"$f":"[4]Gaspreise!N60*'DCF (2012)'!$C$20*L$2/L$8","v":5.5567298621827099},{"$f":"[4]Gaspreise!O60*'DCF (2012)'!$C$20*M$2/M$8","v":5.3881175501992082},{"$f":"[4]Gaspreise!P60*'DCF (2012)'!$C$20*N$2/N$8","v":5.3835770486022314},{"$f":"[4]Gaspreise!Q60*'DCF (2012)'!$C$20*O$2/O$8","v":5.2894949653020129},{"$f":"[4]Gaspreise!R60*'DCF (2012)'!$C$20*P$2/P$8","v":5.4569513146901709},{"$f":"[4]Gaspreise!S60*'DCF (2012)'!$C$20*Q$2/Q$8","v":5.4856884948979054},{"$f":"[4]Gaspreise!T60*'DCF (2012)'!$C$20*R$2/R$8","v":5.0562909036363477},{"$f":"[4]Gaspreise!U60*'DCF (2012)'!$C$20*S$2/S$8","v":4.8334512984136007},{"$f":"[4]Gaspreise!V60*'DCF (2012)'!$C$20*T$2/T$8","v":4.7837912521819232},{"$f":"[4]Gaspreise!W60*'DCF (2012)'!$C$20*U$2/U$8","v":5.3745380835311884},{"$f":"[4]Gaspreise!X60*'DCF (2012)'!$C$20*V$2/V$8","v":5.9549631814848487},{"$f":"[4]Gaspreise!Y60*'DCF (2012)'!$C$20*W$2/W$8","v":6.3459766712364694},{"$f":"[4]Gaspreise!Z60*'DCF (2012)'!$C$20*X$2/X$8","v":6.781278085009065},{"$f":"[4]Gaspreise!AA60*'DCF (2012)'!$C$20*Y$2/Y$8","v":6.9158086476956084},{"$f":"[4]Gaspreise!AB60*'DCF (2012)'!$C$20*Z$2/Z$8","v":7.0567391172249909},{"$f":"[4]Gaspreise!AC60*'DCF (2012)'!$C$20*AA$2/AA$8","v":7.2503928357773777},{"$f":"[4]Gaspreise!AD60*'DCF (2012)'!$C$20*AB$2/AB$8","v":7.3926886717133495}]
[58,null,null,null,{"$f":"[4]Gaspreise!G61*'DCF (2012)'!$C$20","v":6.3083333333333291},{"$f":"[4]Gaspreise!H61*'DCF (2012)'!$C$20","v":5.8875477863888896},{"$f":"[4]Gaspreise!I61*'DCF (2012)'!$C$20*G$2/G$8","v":4.9332210018568272},{"$f":"[4]Gaspreise!J61*'DCF (2012)'!$C$20*H$2/H$8","v":5.8133995678899177},{"$f":"[4]Gaspreise!K61*'DCF (2012)'!$C$20*I$2/I$8","v":6.0843472627583042},{"$f":"[4]Gaspreise!L61*'DCF (2012)'!$C$20*J$2/J$8","v":5.9398583697196221},{"$f":"[4]Gaspreise!M61*'DCF (2012)'!$C$20*K$2/K$8","v":5.6560488754352525},{"$f":"[4]Gaspreise!N61*'DCF (2012)'!$C$20*L$2/L$8","v":5.5567298621827099},{"$f":"[4]Gaspreise!O61*'DCF (2012)'!$C$20*M$2/M$8","v":5.3881175501992082},{"$f":"[4]Gaspreise!P61*'DCF (2012)'!$C$20*N$2/N$8","v":5.3835770486022314},{"$f":"[4]Gaspreise!Q61*'DCF (2012)'!$C$20*O$2/O$8","v":5.2894949653020129},{"$f":"[4]Gaspreise!R61*'DCF (2012)'!$C$20*P$2/P$8","v":5.4569513146901709},{"$f":"[4]Gaspreise!S61*'DCF (2012)'!$C$20*Q$2/Q$8","v":5.4856884948979054},{"$f":"[4]Gaspreise!T61*'DCF (2012)'!$C$20*R$2/R$8","v":5.0562909036363477},{"$f":"[4]Gaspreise!U61*'DCF (2012)'!$C$20*S$2/S$8","v":4.8334512984136007},{"$f":"[4]Gaspreise!V61*'DCF (2012)'!$C$20*T$2/T$8","v":4.7837912521819232},{"$f":"[4]Gaspreise!W61*'DCF (2012)'!$C$20*U$2/U$8","v":5.3745380835311884},{"$f":"[4]Gaspreise!X61*'DCF (2012)'!$C$20*V$2/V$8","v":5.9549631814848487},{"$f":"[4]Gaspreise!Y61*'DCF (2012)'!$C$20*W$2/W$8","v":6.3459766712364694},{"$f":"[4]Gaspreise!Z61*'DCF (2012)'!$C$20*X$2/X$8","v":6.781278085009065},{"$f":"[4]Gaspreise!AA61*'DCF (2012)'!$C$20*Y$2/Y$8","v":6.9158086476956084},{"$f":"[4]Gaspreise!AB61*'DCF (2012)'!$C$20*Z$2/Z$8","v":7.0567391172249909},{"$f":"[4]Gaspreise!AC61*'DCF (2012)'!$C$20*AA$2/AA$8","v":7.2503928357773777},{"$f":"[4]Gaspreise!AD61*'DCF (2012)'!$C$20*AB$2/AB$8","v":7.3926886717133495}]
[59,null,null,null,{"$f":"[4]Gaspreise!G62*'DCF (2012)'!$C$20","v":6.3083333333333291},{"$f":"[4]Gaspreise!H62*'DCF (2012)'!$C$20","v":5.8875477863888896},{"$f":"[4]Gaspreise!I62*'DCF (2012)'!$C$20*G$2/G$8","v":4.9332210018568272},{"$f":"[4]Gaspreise!J62*'DCF (2012)'!$C$20*H$2/H$8","v":5.8133995678899177},{"$f":"[4]Gaspreise!K62*'DCF (2012)'!$C$20*I$2/I$8","v":6.0843472627583042},{"$f":"[4]Gaspreise!L62*'DCF (2012)'!$C$20*J$2/J$8","v":5.9398583697196221},{"$f":"[4]Gaspreise!M62*'DCF (2012)'!$C$20*K$2/K$8","v":5.6560488754352525},{"$f":"[4]Gaspreise!N62*'DCF (2012)'!$C$20*L$2/L$8","v":5.5567298621827099},{"$f":"[4]Gaspreise!O62*'DCF (2012)'!$C$20*M$2/M$8","v":5.3881175501992082},{"$f":"[4]Gaspreise!P62*'DCF (2012)'!$C$20*N$2/N$8","v":5.3835770486022314},{"$f":"[4]Gaspreise!Q62*'DCF (2012)'!$C$20*O$2/O$8","v":5.2894949653020129},{"$f":"[4]Gaspreise!R62*'DCF (2012)'!$C$20*P$2/P$8","v":5.4569513146901709},{"$f":"[4]Gaspreise!S62*'DCF (2012)'!$C$20*Q$2/Q$8","v":5.4856884948979054},{"$f":"[4]Gaspreise!T62*'DCF (2012)'!$C$20*R$2/R$8","v":5.0562909036363477},{"$f":"[4]Gaspreise!U62*'DCF (2012)'!$C$20*S$2/S$8","v":4.8334512984136007},{"$f":"[4]Gaspreise!V62*'DCF (2012)'!$C$20*T$2/T$8","v":4.7837912521819232},{"$f":"[4]Gaspreise!W62*'DCF (2012)'!$C$20*U$2/U$8","v":5.3745380835311884},{"$f":"[4]Gaspreise!X62*'DCF (2012)'!$C$20*V$2/V$8","v":5.9549631814848487},{"$f":"[4]Gaspreise!Y62*'DCF (2012)'!$C$20*W$2/W$8","v":6.3459766712364694},{"$f":"[4]Gaspreise!Z62*'DCF (2012)'!$C$20*X$2/X$8","v":6.781278085009065},{"$f":"[4]Gaspreise!AA62*'DCF (2012)'!$C$20*Y$2/Y$8","v":6.9158086476956084},{"$f":"[4]Gaspreise!AB62*'DCF (2012)'!$C$20*Z$2/Z$8","v":7.0567391172249909},{"$f":"[4]Gaspreise!AC62*'DCF (2012)'!$C$20*AA$2/AA$8","v":7.2503928357773777},{"$f":"[4]Gaspreise!AD62*'DCF (2012)'!$C$20*AB$2/AB$8","v":7.3926886717133495}]
[60,null,null,null,{"$f":"[4]Gaspreise!G63*'DCF (2012)'!$C$20","v":6.3083333333333291},{"$f":"[4]Gaspreise!H63*'DCF (2012)'!$C$20","v":5.8875477863888896},{"$f":"[4]Gaspreise!I63*'DCF (2012)'!$C$20*G$2/G$8","v":4.9332210018568272},{"$f":"[4]Gaspreise!J63*'DCF (2012)'!$C$20*H$2/H$8","v":5.8133995678899177},{"$f":"[4]Gaspreise!K63*'DCF (2012)'!$C$20*I$2/I$8","v":6.0843472627583042},{"$f":"[4]Gaspreise!L63*'DCF (2012)'!$C$20*J$2/J$8","v":5.9398583697196221},{"$f":"[4]Gaspreise!M63*'DCF (2012)'!$C$20*K$2/K$8","v":5.6560488754352525},{"$f":"[4]Gaspreise!N63*'DCF (2012)'!$C$20*L$2/L$8","v":5.5567298621827099},{"$f":"[4]Gaspreise!O63*'DCF (2012)'!$C$20*M$2/M$8","v":5.3881175501992082},{"$f":"[4]Gaspreise!P63*'DCF (2012)'!$C$20*N$2/N$8","v":5.3835770486022314},{"$f":"[4]Gaspreise!Q63*'DCF (2012)'!$C$20*O$2/O$8","v":5.2894949653020129},{"$f":"[4]Gaspreise!R63*'DCF (2012)'!$C$20*P$2/P$8","v":5.4569513146901709},{"$f":"[4]Gaspreise!S63*'DCF (2012)'!$C$20*Q$2/Q$8","v":5.4856884948979054},{"$f":"[4]Gaspreise!T63*'DCF (2012)'!$C$20*R$2/R$8","v":5.0562909036363477},{"$f":"[4]Gaspreise!U63*'DCF (2012)'!$C$20*S$2/S$8","v":4.8334512984136007},{"$f":"[4]Gaspreise!V63*'DCF (2012)'!$C$20*T$2/T$8","v":4.7837912521819232},{"$f":"[4]Gaspreise!W63*'DCF (2012)'!$C$20*U$2/U$8","v":5.3745380835311884},{"$f":"[4]Gaspreise!X63*'DCF (2012)'!$C$20*V$2/V$8","v":5.9549631814848487},{"$f":"[4]Gaspreise!Y63*'DCF (2012)'!$C$20*W$2/W$8","v":6.3459766712364694},{"$f":"[4]Gaspreise!Z63*'DCF (2012)'!$C$20*X$2/X$8","v":6.781278085009065},{"$f":"[4]Gaspreise!AA63*'DCF (2012)'!$C$20*Y$2/Y$8","v":6.9158086476956084},{"$f":"[4]Gaspreise!AB63*'DCF (2012)'!$C$20*Z$2/Z$8","v":7.0567391172249909},{"$f":"[4]Gaspreise!AC63*'DCF (2012)'!$C$20*AA$2/AA$8","v":7.2503928357773777},{"$f":"[4]Gaspreise!AD63*'DCF (2012)'!$C$20*AB$2/AB$8","v":7.3926886717133495}]
[61,null,null,null,{"$f":"[4]Gaspreise!G64*'DCF (2012)'!$C$20","v":6.3083333333333291},{"$f":"[4]Gaspreise!H64*'DCF (2012)'!$C$20","v":5.8875477863888896},{"$f":"[4]Gaspreise!I64*'DCF (2012)'!$C$20*G$2/G$8","v":4.9332210018568272},{"$f":"[4]Gaspreise!J64*'DCF (2012)'!$C$20*H$2/H$8","v":5.8133995678899177},{"$f":"[4]Gaspreise!K64*'DCF (2012)'!$C$20*I$2/I$8","v":6.0843472627583042},{"$f":"[4]Gaspreise!L64*'DCF (2012)'!$C$20*J$2/J$8","v":5.9398583697196221},{"$f":"[4]Gaspreise!M64*'DCF (2012)'!$C$20*K$2/K$8","v":5.6560488754352525},{"$f":"[4]Gaspreise!N64*'DCF (2012)'!$C$20*L$2/L$8","v":5.5567298621827099},{"$f":"[4]Gaspreise!O64*'DCF (2012)'!$C$20*M$2/M$8","v":5.3881175501992082},{"$f":"[4]Gaspreise!P64*'DCF (2012)'!$C$20*N$2/N$8","v":5.3835770486022314},{"$f":"[4]Gaspreise!Q64*'DCF (2012)'!$C$20*O$2/O$8","v":5.2894949653020129},{"$f":"[4]Gaspreise!R64*'DCF (2012)'!$C$20*P$2/P$8","v":5.4569513146901709},{"$f":"[4]Gaspreise!S64*'DCF (2012)'!$C$20*Q$2/Q$8","v":5.4856884948979054},{"$f":"[4]Gaspreise!T64*'DCF (2012)'!$C$20*R$2/R$8","v":5.0562909036363477},{"$f":"[4]Gaspreise!U64*'DCF (2012)'!$C$20*S$2/S$8","v":4.8334512984136007},{"$f":"[4]Gaspreise!V64*'DCF (2012)'!$C$20*T$2/T$8","v":4.7837912521819232},{"$f":"[4]Gaspreise!W64*'DCF (2012)'!$C$20*U$2/U$8","v":5.3745380835311884},{"$f":"[4]Gaspreise!X64*'DCF (2012)'!$C$20*V$2/V$8","v":5.9549631814848487},{"$f":"[4]Gaspreise!Y64*'DCF (2012)'!$C$20*W$2/W$8","v":6.3459766712364694},{"$f":"[4]Gaspreise!Z64*'DCF (2012)'!$C$20*X$2/X$8","v":6.781278085009065},{"$f":"[4]Gaspreise!AA64*'DCF (2012)'!$C$20*Y$2/Y$8","v":6.9158086476956084},{"$f":"[4]Gaspreise!AB64*'DCF (2012)'!$C$20*Z$2/Z$8","v":7.0567391172249909},{"$f":"[4]Gaspreise!AC64*'DCF (2012)'!$C$20*AA$2/AA$8","v":7.2503928357773777},{"$f":"[4]Gaspreise!AD64*'DCF (2012)'!$C$20*AB$2/AB$8","v":7.3926886717133495}]
[62,null,null,null,{"$f":"[4]Gaspreise!G65*'DCF (2012)'!$C$20","v":6.3083333333333291},{"$f":"[4]Gaspreise!H65*'DCF (2012)'!$C$20","v":5.8875477863888896},{"$f":"[4]Gaspreise!I65*'DCF (2012)'!$C$20*G$2/G$8","v":4.9332210018568272},{"$f":"[4]Gaspreise!J65*'DCF (2012)'!$C$20*H$2/H$8","v":5.8133995678899177},{"$f":"[4]Gaspreise!K65*'DCF (2012)'!$C$20*I$2/I$8","v":6.0843472627583042},{"$f":"[4]Gaspreise!L65*'DCF (2012)'!$C$20*J$2/J$8","v":5.9398583697196221},{"$f":"[4]Gaspreise!M65*'DCF (2012)'!$C$20*K$2/K$8","v":5.6560488754352525},{"$f":"[4]Gaspreise!N65*'DCF (2012)'!$C$20*L$2/L$8","v":5.5567298621827099},{"$f":"[4]Gaspreise!O65*'DCF (2012)'!$C$20*M$2/M$8","v":5.3881175501992082},{"$f":"[4]Gaspreise!P65*'DCF (2012)'!$C$20*N$2/N$8","v":5.3835770486022314},{"$f":"[4]Gaspreise!Q65*'DCF (2012)'!$C$20*O$2/O$8","v":5.2894949653020129},{"$f":"[4]Gaspreise!R65*'DCF (2012)'!$C$20*P$2/P$8","v":5.4569513146901709},{"$f":"[4]Gaspreise!S65*'DCF (2012)'!$C$20*Q$2/Q$8","v":5.4856884948979054},{"$f":"[4]Gaspreise!T65*'DCF (2012)'!$C$20*R$2/R$8","v":5.0562909036363477},{"$f":"[4]Gaspreise!U65*'DCF (2012)'!$C$20*S$2/S$8","v":4.8334512984136007},{"$f":"[4]Gaspreise!V65*'DCF (2012)'!$C$20*T$2/T$8","v":4.7837912521819232},{"$f":"[4]Gaspreise!W65*'DCF (2012)'!$C$20*U$2/U$8","v":5.3745380835311884},{"$f":"[4]Gaspreise!X65*'DCF (2012)'!$C$20*V$2/V$8","v":5.9549631814848487},{"$f":"[4]Gaspreise!Y65*'DCF (2012)'!$C$20*W$2/W$8","v":6.3459766712364694},{"$f":"[4]Gaspreise!Z65*'DCF (2012)'!$C$20*X$2/X$8","v":6.781278085009065},{"$f":"[4]Gaspreise!AA65*'DCF (2012)'!$C$20*Y$2/Y$8","v":6.9158086476956084},{"$f":"[4]Gaspreise!AB65*'DCF (2012)'!$C$20*Z$2/Z$8","v":7.0567391172249909},{"$f":"[4]Gaspreise!AC65*'DCF (2012)'!$C$20*AA$2/AA$8","v":7.2503928357773777},{"$f":"[4]Gaspreise!AD65*'DCF (2012)'!$C$20*AB$2/AB$8","v":7.3926886717133495}]
[63,null,null,null,{"$f":"[4]Gaspreise!G66*'DCF (2012)'!$C$20","v":6.3083333333333291},{"$f":"[4]Gaspreise!H66*'DCF (2012)'!$C$20","v":5.8875477863888896},{"$f":"[4]Gaspreise!I66*'DCF (2012)'!$C$20*G$2/G$8","v":4.9332210018568272},{"$f":"[4]Gaspreise!J66*'DCF (2012)'!$C$20*H$2/H$8","v":5.8133995678899177},{"$f":"[4]Gaspreise!K66*'DCF (2012)'!$C$20*I$2/I$8","v":6.0843472627583042},{"$f":"[4]Gaspreise!L66*'DCF (2012)'!$C$20*J$2/J$8","v":5.9398583697196221},{"$f":"[4]Gaspreise!M66*'DCF (2012)'!$C$20*K$2/K$8","v":5.6560488754352525},{"$f":"[4]Gaspreise!N66*'DCF (2012)'!$C$20*L$2/L$8","v":5.5567298621827099},{"$f":"[4]Gaspreise!O66*'DCF (2012)'!$C$20*M$2/M$8","v":5.3881175501992082},{"$f":"[4]Gaspreise!P66*'DCF (2012)'!$C$20*N$2/N$8","v":5.3835770486022314},{"$f":"[4]Gaspreise!Q66*'DCF (2012)'!$C$20*O$2/O$8","v":5.2894949653020129},{"$f":"[4]Gaspreise!R66*'DCF (2012)'!$C$20*P$2/P$8","v":5.4569513146901709},{"$f":"[4]Gaspreise!S66*'DCF (2012)'!$C$20*Q$2/Q$8","v":5.4856884948979054},{"$f":"[4]Gaspreise!T66*'DCF (2012)'!$C$20*R$2/R$8","v":5.0562909036363477},{"$f":"[4]Gaspreise!U66*'DCF (2012)'!$C$20*S$2/S$8","v":4.8334512984136007},{"$f":"[4]Gaspreise!V66*'DCF (2012)'!$C$20*T$2/T$8","v":4.7837912521819232},{"$f":"[4]Gaspreise!W66*'DCF (2012)'!$C$20*U$2/U$8","v":5.3745380835311884},{"$f":"[4]Gaspreise!X66*'DCF (2012)'!$C$20*V$2/V$8","v":5.9549631814848487},{"$f":"[4]Gaspreise!Y66*'DCF (2012)'!$C$20*W$2/W$8","v":6.3459766712364694},{"$f":"[4]Gaspreise!Z66*'DCF (2012)'!$C$20*X$2/X$8","v":6.781278085009065},{"$f":"[4]Gaspreise!AA66*'DCF (2012)'!$C$20*Y$2/Y$8","v":6.9158086476956084},{"$f":"[4]Gaspreise!AB66*'DCF (2012)'!$C$20*Z$2/Z$8","v":7.0567391172249909},{"$f":"[4]Gaspreise!AC66*'DCF (2012)'!$C$20*AA$2/AA$8","v":7.2503928357773777},{"$f":"[4]Gaspreise!AD66*'DCF (2012)'!$C$20*AB$2/AB$8","v":7.3926886717133495}]
[64,null,null,null,{"$f":"[4]Gaspreise!G67*'DCF (2012)'!$C$20","v":6.3083333333333291},{"$f":"[4]Gaspreise!H67*'DCF (2012)'!$C$20","v":5.8875477863888896},{"$f":"[4]Gaspreise!I67*'DCF (2012)'!$C$20*G$2/G$8","v":4.9332210018568272},{"$f":"[4]Gaspreise!J67*'DCF (2012)'!$C$20*H$2/H$8","v":5.8133995678899177},{"$f":"[4]Gaspreise!K67*'DCF (2012)'!$C$20*I$2/I$8","v":6.0843472627583042},{"$f":"[4]Gaspreise!L67*'DCF (2012)'!$C$20*J$2/J$8","v":5.9398583697196221},{"$f":"[4]Gaspreise!M67*'DCF (2012)'!$C$20*K$2/K$8","v":5.6560488754352525},{"$f":"[4]Gaspreise!N67*'DCF (2012)'!$C$20*L$2/L$8","v":5.5567298621827099},{"$f":"[4]Gaspreise!O67*'DCF (2012)'!$C$20*M$2/M$8","v":5.3881175501992082},{"$f":"[4]Gaspreise!P67*'DCF (2012)'!$C$20*N$2/N$8","v":5.3835770486022314},{"$f":"[4]Gaspreise!Q67*'DCF (2012)'!$C$20*O$2/O$8","v":5.2894949653020129},{"$f":"[4]Gaspreise!R67*'DCF (2012)'!$C$20*P$2/P$8","v":5.4569513146901709},{"$f":"[4]Gaspreise!S67*'DCF (2012)'!$C$20*Q$2/Q$8","v":5.4856884948979054},{"$f":"[4]Gaspreise!T67*'DCF (2012)'!$C$20*R$2/R$8","v":5.0562909036363477},{"$f":"[4]Gaspreise!U67*'DCF (2012)'!$C$20*S$2/S$8","v":4.8334512984136007},{"$f":"[4]Gaspreise!V67*'DCF (2012)'!$C$20*T$2/T$8","v":4.7837912521819232},{"$f":"[4]Gaspreise!W67*'DCF (2012)'!$C$20*U$2/U$8","v":5.3745380835311884},{"$f":"[4]Gaspreise!X67*'DCF (2012)'!$C$20*V$2/V$8","v":5.9549631814848487},{"$f":"[4]Gaspreise!Y67*'DCF (2012)'!$C$20*W$2/W$8","v":6.3459766712364694},{"$f":"[4]Gaspreise!Z67*'DCF (2012)'!$C$20*X$2/X$8","v":6.781278085009065},{"$f":"[4]Gaspreise!AA67*'DCF (2012)'!$C$20*Y$2/Y$8","v":6.9158086476956084},{"$f":"[4]Gaspreise!AB67*'DCF (2012)'!$C$20*Z$2/Z$8","v":7.0567391172249909},{"$f":"[4]Gaspreise!AC67*'DCF (2012)'!$C$20*AA$2/AA$8","v":7.2503928357773777},{"$f":"[4]Gaspreise!AD67*'DCF (2012)'!$C$20*AB$2/AB$8","v":7.3926886717133495}]
[65,null,null,null,{"$f":"[4]Gaspreise!G68*'DCF (2012)'!$C$20","v":6.3083333333333291},{"$f":"[4]Gaspreise!H68*'DCF (2012)'!$C$20","v":5.8875477863888896},{"$f":"[4]Gaspreise!I68*'DCF (2012)'!$C$20*G$2/G$8","v":4.9332210018568272},{"$f":"[4]Gaspreise!J68*'DCF (2012)'!$C$20*H$2/H$8","v":5.8133995678899177},{"$f":"[4]Gaspreise!K68*'DCF (2012)'!$C$20*I$2/I$8","v":6.0843472627583042},{"$f":"[4]Gaspreise!L68*'DCF (2012)'!$C$20*J$2/J$8","v":5.9398583697196221},{"$f":"[4]Gaspreise!M68*'DCF (2012)'!$C$20*K$2/K$8","v":5.6560488754352525},{"$f":"[4]Gaspreise!N68*'DCF (2012)'!$C$20*L$2/L$8","v":5.5567298621827099},{"$f":"[4]Gaspreise!O68*'DCF (2012)'!$C$20*M$2/M$8","v":5.3881175501992082},{"$f":"[4]Gaspreise!P68*'DCF (2012)'!$C$20*N$2/N$8","v":5.3835770486022314},{"$f":"[4]Gaspreise!Q68*'DCF (2012)'!$C$20*O$2/O$8","v":5.2894949653020129},{"$f":"[4]Gaspreise!R68*'DCF (2012)'!$C$20*P$2/P$8","v":5.4569513146901709},{"$f":"[4]Gaspreise!S68*'DCF (2012)'!$C$20*Q$2/Q$8","v":5.4856884948979054},{"$f":"[4]Gaspreise!T68*'DCF (2012)'!$C$20*R$2/R$8","v":5.0562909036363477},{"$f":"[4]Gaspreise!U68*'DCF (2012)'!$C$20*S$2/S$8","v":4.8334512984136007},{"$f":"[4]Gaspreise!V68*'DCF (2012)'!$C$20*T$2/T$8","v":4.7837912521819232},{"$f":"[4]Gaspreise!W68*'DCF (2012)'!$C$20*U$2/U$8","v":5.3745380835311884},{"$f":"[4]Gaspreise!X68*'DCF (2012)'!$C$20*V$2/V$8","v":5.9549631814848487},{"$f":"[4]Gaspreise!Y68*'DCF (2012)'!$C$20*W$2/W$8","v":6.3459766712364694},{"$f":"[4]Gaspreise!Z68*'DCF (2012)'!$C$20*X$2/X$8","v":6.781278085009065},{"$f":"[4]Gaspreise!AA68*'DCF (2012)'!$C$20*Y$2/Y$8","v":6.9158086476956084},{"$f":"[4]Gaspreise!AB68*'DCF (2012)'!$C$20*Z$2/Z$8","v":7.0567391172249909},{"$f":"[4]Gaspreise!AC68*'DCF (2012)'!$C$20*AA$2/AA$8","v":7.2503928357773777},{"$f":"[4]Gaspreise!AD68*'DCF (2012)'!$C$20*AB$2/AB$8","v":7.3926886717133495}]
[66,null,null,null,{"$f":"[4]Gaspreise!G69*'DCF (2012)'!$C$20","v":6.3083333333333291},{"$f":"[4]Gaspreise!H69*'DCF (2012)'!$C$20","v":5.8875477863888896},{"$f":"[4]Gaspreise!I69*'DCF (2012)'!$C$20*G$2/G$8","v":4.9332210018568272},{"$f":"[4]Gaspreise!J69*'DCF (2012)'!$C$20*H$2/H$8","v":5.8133995678899177},{"$f":"[4]Gaspreise!K69*'DCF (2012)'!$C$20*I$2/I$8","v":6.0843472627583042},{"$f":"[4]Gaspreise!L69*'DCF (2012)'!$C$20*J$2/J$8","v":5.9398583697196221},{"$f":"[4]Gaspreise!M69*'DCF (2012)'!$C$20*K$2/K$8","v":5.6560488754352525},{"$f":"[4]Gaspreise!N69*'DCF (2012)'!$C$20*L$2/L$8","v":5.5567298621827099},{"$f":"[4]Gaspreise!O69*'DCF (2012)'!$C$20*M$2/M$8","v":5.3881175501992082},{"$f":"[4]Gaspreise!P69*'DCF (2012)'!$C$20*N$2/N$8","v":5.3835770486022314},{"$f":"[4]Gaspreise!Q69*'DCF (2012)'!$C$20*O$2/O$8","v":5.2894949653020129},{"$f":"[4]Gaspreise!R69*'DCF (2012)'!$C$20*P$2/P$8","v":5.4569513146901709},{"$f":"[4]Gaspreise!S69*'DCF (2012)'!$C$20*Q$2/Q$8","v":5.4856884948979054},{"$f":"[4]Gaspreise!T69*'DCF (2012)'!$C$20*R$2/R$8","v":5.0562909036363477},{"$f":"[4]Gaspreise!U69*'DCF (2012)'!$C$20*S$2/S$8","v":4.8334512984136007},{"$f":"[4]Gaspreise!V69*'DCF (2012)'!$C$20*T$2/T$8","v":4.7837912521819232},{"$f":"[4]Gaspreise!W69*'DCF (2012)'!$C$20*U$2/U$8","v":5.3745380835311884},{"$f":"[4]Gaspreise!X69*'DCF (2012)'!$C$20*V$2/V$8","v":5.9549631814848487},{"$f":"[4]Gaspreise!Y69*'DCF (2012)'!$C$20*W$2/W$8","v":6.3459766712364694},{"$f":"[4]Gaspreise!Z69*'DCF (2012)'!$C$20*X$2/X$8","v":6.781278085009065},{"$f":"[4]Gaspreise!AA69*'DCF (2012)'!$C$20*Y$2/Y$8","v":6.9158086476956084},{"$f":"[4]Gaspreise!AB69*'DCF (2012)'!$C$20*Z$2/Z$8","v":7.0567391172249909},{"$f":"[4]Gaspreise!AC69*'DCF (2012)'!$C$20*AA$2/AA$8","v":7.2503928357773777},{"$f":"[4]Gaspreise!AD69*'DCF (2012)'!$C$20*AB$2/AB$8","v":7.3926886717133495}]
[67,null,null,null,{"$f":"[4]Gaspreise!G70*'DCF (2012)'!$C$20","v":6.3083333333333291},{"$f":"[4]Gaspreise!H70*'DCF (2012)'!$C$20","v":5.8875477863888896},{"$f":"[4]Gaspreise!I70*'DCF (2012)'!$C$20*G$2/G$8","v":4.9332210018568272},{"$f":"[4]Gaspreise!J70*'DCF (2012)'!$C$20*H$2/H$8","v":5.8133995678899177},{"$f":"[4]Gaspreise!K70*'DCF (2012)'!$C$20*I$2/I$8","v":6.0843472627583042},{"$f":"[4]Gaspreise!L70*'DCF (2012)'!$C$20*J$2/J$8","v":5.9398583697196221},{"$f":"[4]Gaspreise!M70*'DCF (2012)'!$C$20*K$2/K$8","v":5.6560488754352525},{"$f":"[4]Gaspreise!N70*'DCF (2012)'!$C$20*L$2/L$8","v":5.5567298621827099},{"$f":"[4]Gaspreise!O70*'DCF (2012)'!$C$20*M$2/M$8","v":5.3881175501992082},{"$f":"[4]Gaspreise!P70*'DCF (2012)'!$C$20*N$2/N$8","v":5.3835770486022314},{"$f":"[4]Gaspreise!Q70*'DCF (2012)'!$C$20*O$2/O$8","v":5.2894949653020129},{"$f":"[4]Gaspreise!R70*'DCF (2012)'!$C$20*P$2/P$8","v":5.4569513146901709},{"$f":"[4]Gaspreise!S70*'DCF (2012)'!$C$20*Q$2/Q$8","v":5.4856884948979054},{"$f":"[4]Gaspreise!T70*'DCF (2012)'!$C$20*R$2/R$8","v":5.0562909036363477},{"$f":"[4]Gaspreise!U70*'DCF (2012)'!$C$20*S$2/S$8","v":4.8334512984136007},{"$f":"[4]Gaspreise!V70*'DCF (2012)'!$C$20*T$2/T$8","v":4.7837912521819232},{"$f":"[4]Gaspreise!W70*'DCF (2012)'!$C$20*U$2/U$8","v":5.3745380835311884},{"$f":"[4]Gaspreise!X70*'DCF (2012)'!$C$20*V$2/V$8","v":5.9549631814848487},{"$f":"[4]Gaspreise!Y70*'DCF (2012)'!$C$20*W$2/W$8","v":6.3459766712364694},{"$f":"[4]Gaspreise!Z70*'DCF (2012)'!$C$20*X$2/X$8","v":6.781278085009065},{"$f":"[4]Gaspreise!AA70*'DCF (2012)'!$C$20*Y$2/Y$8","v":6.9158086476956084},{"$f":"[4]Gaspreise!AB70*'DCF (2012)'!$C$20*Z$2/Z$8","v":7.0567391172249909},{"$f":"[4]Gaspreise!AC70*'DCF (2012)'!$C$20*AA$2/AA$8","v":7.2503928357773777},{"$f":"[4]Gaspreise!AD70*'DCF (2012)'!$C$20*AB$2/AB$8","v":7.3926886717133495}]
[68,null,null,null,{"$f":"[4]Gaspreise!G71*'DCF (2012)'!$C$20","v":6.3083333333333291},{"$f":"[4]Gaspreise!H71*'DCF (2012)'!$C$20","v":5.8875477863888896},{"$f":"[4]Gaspreise!I71*'DCF (2012)'!$C$20*G$2/G$8","v":4.9332210018568272},{"$f":"[4]Gaspreise!J71*'DCF (2012)'!$C$20*H$2/H$8","v":5.8133995678899177},{"$f":"[4]Gaspreise!K71*'DCF (2012)'!$C$20*I$2/I$8","v":6.0843472627583042},{"$f":"[4]Gaspreise!L71*'DCF (2012)'!$C$20*J$2/J$8","v":5.9398583697196221},{"$f":"[4]Gaspreise!M71*'DCF (2012)'!$C$20*K$2/K$8","v":5.6560488754352525},{"$f":"[4]Gaspreise!N71*'DCF (2012)'!$C$20*L$2/L$8","v":5.5567298621827099},{"$f":"[4]Gaspreise!O71*'DCF (2012)'!$C$20*M$2/M$8","v":5.3881175501992082},{"$f":"[4]Gaspreise!P71*'DCF (2012)'!$C$20*N$2/N$8","v":5.3835770486022314},{"$f":"[4]Gaspreise!Q71*'DCF (2012)'!$C$20*O$2/O$8","v":5.2894949653020129},{"$f":"[4]Gaspreise!R71*'DCF (2012)'!$C$20*P$2/P$8","v":5.4569513146901709},{"$f":"[4]Gaspreise!S71*'DCF (2012)'!$C$20*Q$2/Q$8","v":5.4856884948979054},{"$f":"[4]Gaspreise!T71*'DCF (2012)'!$C$20*R$2/R$8","v":5.0562909036363477},{"$f":"[4]Gaspreise!U71*'DCF (2012)'!$C$20*S$2/S$8","v":4.8334512984136007},{"$f":"[4]Gaspreise!V71*'DCF (2012)'!$C$20*T$2/T$8","v":4.7837912521819232},{"$f":"[4]Gaspreise!W71*'DCF (2012)'!$C$20*U$2/U$8","v":5.3745380835311884},{"$f":"[4]Gaspreise!X71*'DCF (2012)'!$C$20*V$2/V$8","v":5.9549631814848487},{"$f":"[4]Gaspreise!Y71*'DCF (2012)'!$C$20*W$2/W$8","v":6.3459766712364694},{"$f":"[4]Gaspreise!Z71*'DCF (2012)'!$C$20*X$2/X$8","v":6.781278085009065},{"$f":"[4]Gaspreise!AA71*'DCF (2012)'!$C$20*Y$2/Y$8","v":6.9158086476956084},{"$f":"[4]Gaspreise!AB71*'DCF (2012)'!$C$20*Z$2/Z$8","v":7.0567391172249909},{"$f":"[4]Gaspreise!AC71*'DCF (2012)'!$C$20*AA$2/AA$8","v":7.2503928357773777},{"$f":"[4]Gaspreise!AD71*'DCF (2012)'!$C$20*AB$2/AB$8","v":7.3926886717133495}]
[69,null,null,null,{"$f":"[4]Gaspreise!G72*'DCF (2012)'!$C$20","v":6.5888888888888895},{"$f":"[4]Gaspreise!H72*'DCF (2012)'!$C$20","v":5.8875477863888896},{"$f":"[4]Gaspreise!I72*'DCF (2012)'!$C$20*G$2/G$8","v":4.9332210018568272},{"$f":"[4]Gaspreise!J72*'DCF (2012)'!$C$20*H$2/H$8","v":5.8133995678899177},{"$f":"[4]Gaspreise!K72*'DCF (2012)'!$C$20*I$2/I$8","v":6.0843472627583042},{"$f":"[4]Gaspreise!L72*'DCF (2012)'!$C$20*J$2/J$8","v":5.9398583697196221},{"$f":"[4]Gaspreise!M72*'DCF (2012)'!$C$20*K$2/K$8","v":5.6560488754352525},{"$f":"[4]Gaspreise!N72*'DCF (2012)'!$C$20*L$2/L$8","v":5.5567298621827099},{"$f":"[4]Gaspreise!O72*'DCF (2012)'!$C$20*M$2/M$8","v":5.3881175501992082},{"$f":"[4]Gaspreise!P72*'DCF (2012)'!$C$20*N$2/N$8","v":5.3835770486022314},{"$f":"[4]Gaspreise!Q72*'DCF (2012)'!$C$20*O$2/O$8","v":5.2894949653020129},{"$f":"[4]Gaspreise!R72*'DCF (2012)'!$C$20*P$2/P$8","v":5.4569513146901709},{"$f":"[4]Gaspreise!S72*'DCF (2012)'!$C$20*Q$2/Q$8","v":5.4856884948979054},{"$f":"[4]Gaspreise!T72*'DCF (2012)'!$C$20*R$2/R$8","v":5.0562909036363477},{"$f":"[4]Gaspreise!U72*'DCF (2012)'!$C$20*S$2/S$8","v":4.8334512984136007},{"$f":"[4]Gaspreise!V72*'DCF (2012)'!$C$20*T$2/T$8","v":4.7837912521819232},{"$f":"[4]Gaspreise!W72*'DCF (2012)'!$C$20*U$2/U$8","v":5.3745380835311884},{"$f":"[4]Gaspreise!X72*'DCF (2012)'!$C$20*V$2/V$8","v":5.9549631814848487},{"$f":"[4]Gaspreise!Y72*'DCF (2012)'!$C$20*W$2/W$8","v":6.3147406076686892},{"$f":"[4]Gaspreise!Z72*'DCF (2012)'!$C$20*X$2/X$8","v":6.7498506152927815},{"$f":"[4]Gaspreise!AA72*'DCF (2012)'!$C$20*Y$2/Y$8","v":6.8846171266125209},{"$f":"[4]Gaspreise!AB72*'DCF (2012)'!$C$20*Z$2/Z$8","v":7.025775890773688},{"$f":"[4]Gaspreise!AC72*'DCF (2012)'!$C$20*AA$2/AA$8","v":7.2194312408277046},{"$f":"[4]Gaspreise!AD72*'DCF (2012)'!$C$20*AB$2/AB$8","v":7.3618804561757303}]
[70,null,null,null,{"$f":"[4]Gaspreise!G73*'DCF (2012)'!$C$20","v":6.5888888888888895},{"$f":"[4]Gaspreise!H73*'DCF (2012)'!$C$20","v":5.8875477863888896},{"$f":"[4]Gaspreise!I73*'DCF (2012)'!$C$20*G$2/G$8","v":4.9332210018568272},{"$f":"[4]Gaspreise!J73*'DCF (2012)'!$C$20*H$2/H$8","v":5.8133995678899177},{"$f":"[4]Gaspreise!K73*'DCF (2012)'!$C$20*I$2/I$8","v":6.0843472627583042},{"$f":"[4]Gaspreise!L73*'DCF (2012)'!$C$20*J$2/J$8","v":5.9398583697196221},{"$f":"[4]Gaspreise!M73*'DCF (2012)'!$C$20*K$2/K$8","v":5.6560488754352525},{"$f":"[4]Gaspreise!N73*'DCF (2012)'!$C$20*L$2/L$8","v":5.5567298621827099},{"$f":"[4]Gaspreise!O73*'DCF (2012)'!$C$20*M$2/M$8","v":5.3881175501992082},{"$f":"[4]Gaspreise!P73*'DCF (2012)'!$C$20*N$2/N$8","v":5.3835770486022314},{"$f":"[4]Gaspreise!Q73*'DCF (2012)'!$C$20*O$2/O$8","v":5.2894949653020129},{"$f":"[4]Gaspreise!R73*'DCF (2012)'!$C$20*P$2/P$8","v":5.4569513146901709},{"$f":"[4]Gaspreise!S73*'DCF (2012)'!$C$20*Q$2/Q$8","v":5.4856884948979054},{"$f":"[4]Gaspreise!T73*'DCF (2012)'!$C$20*R$2/R$8","v":5.0562909036363477},{"$f":"[4]Gaspreise!U73*'DCF (2012)'!$C$20*S$2/S$8","v":4.8334512984136007},{"$f":"[4]Gaspreise!V73*'DCF (2012)'!$C$20*T$2/T$8","v":4.7837912521819232},{"$f":"[4]Gaspreise!W73*'DCF (2012)'!$C$20*U$2/U$8","v":5.3745380835311884},{"$f":"[4]Gaspreise!X73*'DCF (2012)'!$C$20*V$2/V$8","v":5.9549631814848487},{"$f":"[4]Gaspreise!Y73*'DCF (2012)'!$C$20*W$2/W$8","v":6.3147406076686892},{"$f":"[4]Gaspreise!Z73*'DCF (2012)'!$C$20*X$2/X$8","v":6.7498506152927815},{"$f":"[4]Gaspreise!AA73*'DCF (2012)'!$C$20*Y$2/Y$8","v":6.8846171266125209},{"$f":"[4]Gaspreise!AB73*'DCF (2012)'!$C$20*Z$2/Z$8","v":7.025775890773688},{"$f":"[4]Gaspreise!AC73*'DCF (2012)'!$C$20*AA$2/AA$8","v":7.2194312408277046},{"$f":"[4]Gaspreise!AD73*'DCF (2012)'!$C$20*AB$2/AB$8","v":7.3618804561757303}]
[71,null,null,null,{"$f":"[4]Gaspreise!G74*'DCF (2012)'!$C$20","v":6.5888888888888895},{"$f":"[4]Gaspreise!H74*'DCF (2012)'!$C$20","v":5.8875477863888896},{"$f":"[4]Gaspreise!I74*'DCF (2012)'!$C$20*G$2/G$8","v":4.9332210018568272},{"$f":"[4]Gaspreise!J74*'DCF (2012)'!$C$20*H$2/H$8","v":5.8133995678899177},{"$f":"[4]Gaspreise!K74*'DCF (2012)'!$C$20*I$2/I$8","v":6.0843472627583042},{"$f":"[4]Gaspreise!L74*'DCF (2012)'!$C$20*J$2/J$8","v":5.9398583697196221},{"$f":"[4]Gaspreise!M74*'DCF (2012)'!$C$20*K$2/K$8","v":5.6560488754352525},{"$f":"[4]Gaspreise!N74*'DCF (2012)'!$C$20*L$2/L$8","v":5.5567298621827099},{"$f":"[4]Gaspreise!O74*'DCF (2012)'!$C$20*M$2/M$8","v":5.3881175501992082},{"$f":"[4]Gaspreise!P74*'DCF (2012)'!$C$20*N$2/N$8","v":5.3835770486022314},{"$f":"[4]Gaspreise!Q74*'DCF (2012)'!$C$20*O$2/O$8","v":5.2894949653020129},{"$f":"[4]Gaspreise!R74*'DCF (2012)'!$C$20*P$2/P$8","v":5.4569513146901709},{"$f":"[4]Gaspreise!S74*'DCF (2012)'!$C$20*Q$2/Q$8","v":5.4856884948979054},{"$f":"[4]Gaspreise!T74*'DCF (2012)'!$C$20*R$2/R$8","v":5.0562909036363477},{"$f":"[4]Gaspreise!U74*'DCF (2012)'!$C$20*S$2/S$8","v":4.8334512984136007},{"$f":"[4]Gaspreise!V74*'DCF (2012)'!$C$20*T$2/T$8","v":4.7837912521819232},{"$f":"[4]Gaspreise!W74*'DCF (2012)'!$C$20*U$2/U$8","v":5.3745380835311884},{"$f":"[4]Gaspreise!X74*'DCF (2012)'!$C$20*V$2/V$8","v":5.9549631814848487},{"$f":"[4]Gaspreise!Y74*'DCF (2012)'!$C$20*W$2/W$8","v":6.3147406076686892},{"$f":"[4]Gaspreise!Z74*'DCF (2012)'!$C$20*X$2/X$8","v":6.7498506152927815},{"$f":"[4]Gaspreise!AA74*'DCF (2012)'!$C$20*Y$2/Y$8","v":6.8846171266125209},{"$f":"[4]Gaspreise!AB74*'DCF (2012)'!$C$20*Z$2/Z$8","v":7.025775890773688},{"$f":"[4]Gaspreise!AC74*'DCF (2012)'!$C$20*AA$2/AA$8","v":7.2194312408277046},{"$f":"[4]Gaspreise!AD74*'DCF (2012)'!$C$20*AB$2/AB$8","v":7.3618804561757303}]
[72,null,null,null,{"$f":"[4]Gaspreise!G75*'DCF (2012)'!$C$20","v":6.5888888888888895},{"$f":"[4]Gaspreise!H75*'DCF (2012)'!$C$20","v":5.8875477863888896},{"$f":"[4]Gaspreise!I75*'DCF (2012)'!$C$20*G$2/G$8","v":4.9332210018568272},{"$f":"[4]Gaspreise!J75*'DCF (2012)'!$C$20*H$2/H$8","v":5.8133995678899177},{"$f":"[4]Gaspreise!K75*'DCF (2012)'!$C$20*I$2/I$8","v":6.0843472627583042},{"$f":"[4]Gaspreise!L75*'DCF (2012)'!$C$20*J$2/J$8","v":5.9398583697196221},{"$f":"[4]Gaspreise!M75*'DCF (2012)'!$C$20*K$2/K$8","v":5.6560488754352525},{"$f":"[4]Gaspreise!N75*'DCF (2012)'!$C$20*L$2/L$8","v":5.5567298621827099},{"$f":"[4]Gaspreise!O75*'DCF (2012)'!$C$20*M$2/M$8","v":5.3881175501992082},{"$f":"[4]Gaspreise!P75*'DCF (2012)'!$C$20*N$2/N$8","v":5.3835770486022314},{"$f":"[4]Gaspreise!Q75*'DCF (2012)'!$C$20*O$2/O$8","v":5.2894949653020129},{"$f":"[4]Gaspreise!R75*'DCF (2012)'!$C$20*P$2/P$8","v":5.4569513146901709},{"$f":"[4]Gaspreise!S75*'DCF (2012)'!$C$20*Q$2/Q$8","v":5.4856884948979054},{"$f":"[4]Gaspreise!T75*'DCF (2012)'!$C$20*R$2/R$8","v":5.0562909036363477},{"$f":"[4]Gaspreise!U75*'DCF (2012)'!$C$20*S$2/S$8","v":4.8334512984136007},{"$f":"[4]Gaspreise!V75*'DCF (2012)'!$C$20*T$2/T$8","v":4.7837912521819232},{"$f":"[4]Gaspreise!W75*'DCF (2012)'!$C$20*U$2/U$8","v":5.3745380835311884},{"$f":"[4]Gaspreise!X75*'DCF (2012)'!$C$20*V$2/V$8","v":5.9549631814848487},{"$f":"[4]Gaspreise!Y75*'DCF (2012)'!$C$20*W$2/W$8","v":6.3147406076686892},{"$f":"[4]Gaspreise!Z75*'DCF (2012)'!$C$20*X$2/X$8","v":6.7498506152927815},{"$f":"[4]Gaspreise!AA75*'DCF (2012)'!$C$20*Y$2/Y$8","v":6.8846171266125209},{"$f":"[4]Gaspreise!AB75*'DCF (2012)'!$C$20*Z$2/Z$8","v":7.025775890773688},{"$f":"[4]Gaspreise!AC75*'DCF (2012)'!$C$20*AA$2/AA$8","v":7.2194312408277046},{"$f":"[4]Gaspreise!AD75*'DCF (2012)'!$C$20*AB$2/AB$8","v":7.3618804561757303}]
[73,null,null,null,{"$f":"[4]Gaspreise!G76*'DCF (2012)'!$C$20","v":6.5888888888888895},{"$f":"[4]Gaspreise!H76*'DCF (2012)'!$C$20","v":5.8875477863888896},{"$f":"[4]Gaspreise!I76*'DCF (2012)'!$C$20*G$2/G$8","v":4.9332210018568272},{"$f":"[4]Gaspreise!J76*'DCF (2012)'!$C$20*H$2/H$8","v":5.8133995678899177},{"$f":"[4]Gaspreise!K76*'DCF (2012)'!$C$20*I$2/I$8","v":6.0843472627583042},{"$f":"[4]Gaspreise!L76*'DCF (2012)'!$C$20*J$2/J$8","v":5.9398583697196221},{"$f":"[4]Gaspreise!M76*'DCF (2012)'!$C$20*K$2/K$8","v":5.6560488754352525},{"$f":"[4]Gaspreise!N76*'DCF (2012)'!$C$20*L$2/L$8","v":5.5567298621827099},{"$f":"[4]Gaspreise!O76*'DCF (2012)'!$C$20*M$2/M$8","v":5.3881175501992082},{"$f":"[4]Gaspreise!P76*'DCF (2012)'!$C$20*N$2/N$8","v":5.3835770486022314},{"$f":"[4]Gaspreise!Q76*'DCF (2012)'!$C$20*O$2/O$8","v":5.2894949653020129},{"$f":"[4]Gaspreise!R76*'DCF (2012)'!$C$20*P$2/P$8","v":5.4569513146901709},{"$f":"[4]Gaspreise!S76*'DCF (2012)'!$C$20*Q$2/Q$8","v":5.4856884948979054},{"$f":"[4]Gaspreise!T76*'DCF (2012)'!$C$20*R$2/R$8","v":5.0562909036363477},{"$f":"[4]Gaspreise!U76*'DCF (2012)'!$C$20*S$2/S$8","v":4.8334512984136007},{"$f":"[4]Gaspreise!V76*'DCF (2012)'!$C$20*T$2/T$8","v":4.7837912521819232},{"$f":"[4]Gaspreise!W76*'DCF (2012)'!$C$20*U$2/U$8","v":5.3745380835311884},{"$f":"[4]Gaspreise!X76*'DCF (2012)'!$C$20*V$2/V$8","v":5.9549631814848487},{"$f":"[4]Gaspreise!Y76*'DCF (2012)'!$C$20*W$2/W$8","v":6.3147406076686892},{"$f":"[4]Gaspreise!Z76*'DCF (2012)'!$C$20*X$2/X$8","v":6.7498506152927815},{"$f":"[4]Gaspreise!AA76*'DCF (2012)'!$C$20*Y$2/Y$8","v":6.8846171266125209},{"$f":"[4]Gaspreise!AB76*'DCF (2012)'!$C$20*Z$2/Z$8","v":7.025775890773688},{"$f":"[4]Gaspreise!AC76*'DCF (2012)'!$C$20*AA$2/AA$8","v":7.2194312408277046},{"$f":"[4]Gaspreise!AD76*'DCF (2012)'!$C$20*AB$2/AB$8","v":7.3618804561757303}]
[74,null,null,null,{"$f":"[4]Gaspreise!G77*'DCF (2012)'!$C$20","v":6.5888888888888895},{"$f":"[4]Gaspreise!H77*'DCF (2012)'!$C$20","v":5.8875477863888896},{"$f":"[4]Gaspreise!I77*'DCF (2012)'!$C$20*G$2/G$8","v":4.9332210018568272},{"$f":"[4]Gaspreise!J77*'DCF (2012)'!$C$20*H$2/H$8","v":5.8133995678899177},{"$f":"[4]Gaspreise!K77*'DCF (2012)'!$C$20*I$2/I$8","v":6.0843472627583042},{"$f":"[4]Gaspreise!L77*'DCF (2012)'!$C$20*J$2/J$8","v":5.9398583697196221},{"$f":"[4]Gaspreise!M77*'DCF (2012)'!$C$20*K$2/K$8","v":5.6560488754352525},{"$f":"[4]Gaspreise!N77*'DCF (2012)'!$C$20*L$2/L$8","v":5.5567298621827099},{"$f":"[4]Gaspreise!O77*'DCF (2012)'!$C$20*M$2/M$8","v":5.3881175501992082},{"$f":"[4]Gaspreise!P77*'DCF (2012)'!$C$20*N$2/N$8","v":5.3835770486022314},{"$f":"[4]Gaspreise!Q77*'DCF (2012)'!$C$20*O$2/O$8","v":5.2894949653020129},{"$f":"[4]Gaspreise!R77*'DCF (2012)'!$C$20*P$2/P$8","v":5.4569513146901709},{"$f":"[4]Gaspreise!S77*'DCF (2012)'!$C$20*Q$2/Q$8","v":5.4856884948979054},{"$f":"[4]Gaspreise!T77*'DCF (2012)'!$C$20*R$2/R$8","v":5.0562909036363477},{"$f":"[4]Gaspreise!U77*'DCF (2012)'!$C$20*S$2/S$8","v":4.8334512984136007},{"$f":"[4]Gaspreise!V77*'DCF (2012)'!$C$20*T$2/T$8","v":4.7837912521819232},{"$f":"[4]Gaspreise!W77*'DCF (2012)'!$C$20*U$2/U$8","v":5.3745380835311884},{"$f":"[4]Gaspreise!X77*'DCF (2012)'!$C$20*V$2/V$8","v":5.9549631814848487},{"$f":"[4]Gaspreise!Y77*'DCF (2012)'!$C$20*W$2/W$8","v":6.3147406076686892},{"$f":"[4]Gaspreise!Z77*'DCF (2012)'!$C$20*X$2/X$8","v":6.7498506152927815},{"$f":"[4]Gaspreise!AA77*'DCF (2012)'!$C$20*Y$2/Y$8","v":6.8846171266125209},{"$f":"[4]Gaspreise!AB77*'DCF (2012)'!$C$20*Z$2/Z$8","v":7.025775890773688},{"$f":"[4]Gaspreise!AC77*'DCF (2012)'!$C$20*AA$2/AA$8","v":7.2194312408277046},{"$f":"[4]Gaspreise!AD77*'DCF (2012)'!$C$20*AB$2/AB$8","v":7.3618804561757303}]
[75,null,null,null,{"$f":"[4]Gaspreise!G78*'DCF (2012)'!$C$20","v":6.5888888888888895},{"$f":"[4]Gaspreise!H78*'DCF (2012)'!$C$20","v":5.8875477863888896},{"$f":"[4]Gaspreise!I78*'DCF (2012)'!$C$20*G$2/G$8","v":4.9332210018568272},{"$f":"[4]Gaspreise!J78*'DCF (2012)'!$C$20*H$2/H$8","v":5.8133995678899177},{"$f":"[4]Gaspreise!K78*'DCF (2012)'!$C$20*I$2/I$8","v":6.0843472627583042},{"$f":"[4]Gaspreise!L78*'DCF (2012)'!$C$20*J$2/J$8","v":5.9398583697196221},{"$f":"[4]Gaspreise!M78*'DCF (2012)'!$C$20*K$2/K$8","v":5.6560488754352525},{"$f":"[4]Gaspreise!N78*'DCF (2012)'!$C$20*L$2/L$8","v":5.5567298621827099},{"$f":"[4]Gaspreise!O78*'DCF (2012)'!$C$20*M$2/M$8","v":5.3881175501992082},{"$f":"[4]Gaspreise!P78*'DCF (2012)'!$C$20*N$2/N$8","v":5.3835770486022314},{"$f":"[4]Gaspreise!Q78*'DCF (2012)'!$C$20*O$2/O$8","v":5.2894949653020129},{"$f":"[4]Gaspreise!R78*'DCF (2012)'!$C$20*P$2/P$8","v":5.4569513146901709},{"$f":"[4]Gaspreise!S78*'DCF (2012)'!$C$20*Q$2/Q$8","v":5.4856884948979054},{"$f":"[4]Gaspreise!T78*'DCF (2012)'!$C$20*R$2/R$8","v":5.0562909036363477},{"$f":"[4]Gaspreise!U78*'DCF (2012)'!$C$20*S$2/S$8","v":4.8334512984136007},{"$f":"[4]Gaspreise!V78*'DCF (2012)'!$C$20*T$2/T$8","v":4.7837912521819232},{"$f":"[4]Gaspreise!W78*'DCF (2012)'!$C$20*U$2/U$8","v":5.3745380835311884},{"$f":"[4]Gaspreise!X78*'DCF (2012)'!$C$20*V$2/V$8","v":5.9549631814848487},{"$f":"[4]Gaspreise!Y78*'DCF (2012)'!$C$20*W$2/W$8","v":6.3147406076686892},{"$f":"[4]Gaspreise!Z78*'DCF (2012)'!$C$20*X$2/X$8","v":6.7498506152927815},{"$f":"[4]Gaspreise!AA78*'DCF (2012)'!$C$20*Y$2/Y$8","v":6.8846171266125209},{"$f":"[4]Gaspreise!AB78*'DCF (2012)'!$C$20*Z$2/Z$8","v":7.025775890773688},{"$f":"[4]Gaspreise!AC78*'DCF (2012)'!$C$20*AA$2/AA$8","v":7.2194312408277046},{"$f":"[4]Gaspreise!AD78*'DCF (2012)'!$C$20*AB$2/AB$8","v":7.3618804561757303}]
[76,null,null,null,{"$f":"[4]Gaspreise!G79*'DCF (2012)'!$C$20","v":6.5888888888888895},{"$f":"[4]Gaspreise!H79*'DCF (2012)'!$C$20","v":5.8875477863888896},{"$f":"[4]Gaspreise!I79*'DCF (2012)'!$C$20*G$2/G$8","v":4.9332210018568272},{"$f":"[4]Gaspreise!J79*'DCF (2012)'!$C$20*H$2/H$8","v":5.8133995678899177},{"$f":"[4]Gaspreise!K79*'DCF (2012)'!$C$20*I$2/I$8","v":6.0843472627583042},{"$f":"[4]Gaspreise!L79*'DCF (2012)'!$C$20*J$2/J$8","v":5.9398583697196221},{"$f":"[4]Gaspreise!M79*'DCF (2012)'!$C$20*K$2/K$8","v":5.6560488754352525},{"$f":"[4]Gaspreise!N79*'DCF (2012)'!$C$20*L$2/L$8","v":5.5567298621827099},{"$f":"[4]Gaspreise!O79*'DCF (2012)'!$C$20*M$2/M$8","v":5.3881175501992082},{"$f":"[4]Gaspreise!P79*'DCF (2012)'!$C$20*N$2/N$8","v":5.3835770486022314},{"$f":"[4]Gaspreise!Q79*'DCF (2012)'!$C$20*O$2/O$8","v":5.2894949653020129},{"$f":"[4]Gaspreise!R79*'DCF (2012)'!$C$20*P$2/P$8","v":5.4569513146901709},{"$f":"[4]Gaspreise!S79*'DCF (2012)'!$C$20*Q$2/Q$8","v":5.4856884948979054},{"$f":"[4]Gaspreise!T79*'DCF (2012)'!$C$20*R$2/R$8","v":5.0562909036363477},{"$f":"[4]Gaspreise!U79*'DCF (2012)'!$C$20*S$2/S$8","v":4.8334512984136007},{"$f":"[4]Gaspreise!V79*'DCF (2012)'!$C$20*T$2/T$8","v":4.7837912521819232},{"$f":"[4]Gaspreise!W79*'DCF (2012)'!$C$20*U$2/U$8","v":5.3745380835311884},{"$f":"[4]Gaspreise!X79*'DCF (2012)'!$C$20*V$2/V$8","v":5.9549631814848487},{"$f":"[4]Gaspreise!Y79*'DCF (2012)'!$C$20*W$2/W$8","v":6.3147406076686892},{"$f":"[4]Gaspreise!Z79*'DCF (2012)'!$C$20*X$2/X$8","v":6.7498506152927815},{"$f":"[4]Gaspreise!AA79*'DCF (2012)'!$C$20*Y$2/Y$8","v":6.8846171266125209},{"$f":"[4]Gaspreise!AB79*'DCF (2012)'!$C$20*Z$2/Z$8","v":7.025775890773688},{"$f":"[4]Gaspreise!AC79*'DCF (2012)'!$C$20*AA$2/AA$8","v":7.2194312408277046},{"$f":"[4]Gaspreise!AD79*'DCF (2012)'!$C$20*AB$2/AB$8","v":7.3618804561757303}]
[77,null,null,null,{"$f":"[4]Gaspreise!G80*'DCF (2012)'!$C$20","v":6.5888888888888895},{"$f":"[4]Gaspreise!H80*'DCF (2012)'!$C$20","v":5.8875477863888896},{"$f":"[4]Gaspreise!I80*'DCF (2012)'!$C$20*G$2/G$8","v":4.9332210018568272},{"$f":"[4]Gaspreise!J80*'DCF (2012)'!$C$20*H$2/H$8","v":5.8133995678899177},{"$f":"[4]Gaspreise!K80*'DCF (2012)'!$C$20*I$2/I$8","v":6.0843472627583042},{"$f":"[4]Gaspreise!L80*'DCF (2012)'!$C$20*J$2/J$8","v":5.9398583697196221},{"$f":"[4]Gaspreise!M80*'DCF (2012)'!$C$20*K$2/K$8","v":5.6560488754352525},{"$f":"[4]Gaspreise!N80*'DCF (2012)'!$C$20*L$2/L$8","v":5.5567298621827099},{"$f":"[4]Gaspreise!O80*'DCF (2012)'!$C$20*M$2/M$8","v":5.3881175501992082},{"$f":"[4]Gaspreise!P80*'DCF (2012)'!$C$20*N$2/N$8","v":5.3835770486022314},{"$f":"[4]Gaspreise!Q80*'DCF (2012)'!$C$20*O$2/O$8","v":5.2894949653020129},{"$f":"[4]Gaspreise!R80*'DCF (2012)'!$C$20*P$2/P$8","v":5.4569513146901709},{"$f":"[4]Gaspreise!S80*'DCF (2012)'!$C$20*Q$2/Q$8","v":5.4856884948979054},{"$f":"[4]Gaspreise!T80*'DCF (2012)'!$C$20*R$2/R$8","v":5.0562909036363477},{"$f":"[4]Gaspreise!U80*'DCF (2012)'!$C$20*S$2/S$8","v":4.8334512984136007},{"$f":"[4]Gaspreise!V80*'DCF (2012)'!$C$20*T$2/T$8","v":4.7837912521819232},{"$f":"[4]Gaspreise!W80*'DCF (2012)'!$C$20*U$2/U$8","v":5.3745380835311884},{"$f":"[4]Gaspreise!X80*'DCF (2012)'!$C$20*V$2/V$8","v":5.9549631814848487},{"$f":"[4]Gaspreise!Y80*'DCF (2012)'!$C$20*W$2/W$8","v":6.3147406076686892},{"$f":"[4]Gaspreise!Z80*'DCF (2012)'!$C$20*X$2/X$8","v":6.7498506152927815},{"$f":"[4]Gaspreise!AA80*'DCF (2012)'!$C$20*Y$2/Y$8","v":6.8846171266125209},{"$f":"[4]Gaspreise!AB80*'DCF (2012)'!$C$20*Z$2/Z$8","v":7.025775890773688},{"$f":"[4]Gaspreise!AC80*'DCF (2012)'!$C$20*AA$2/AA$8","v":7.2194312408277046},{"$f":"[4]Gaspreise!AD80*'DCF (2012)'!$C$20*AB$2/AB$8","v":7.3618804561757303}]
[78,null,null,null,{"$f":"[4]Gaspreise!G81*'DCF (2012)'!$C$20","v":6.5888888888888895},{"$f":"[4]Gaspreise!H81*'DCF (2012)'!$C$20","v":5.8875477863888896},{"$f":"[4]Gaspreise!I81*'DCF (2012)'!$C$20*G$2/G$8","v":4.9332210018568272},{"$f":"[4]Gaspreise!J81*'DCF (2012)'!$C$20*H$2/H$8","v":5.8133995678899177},{"$f":"[4]Gaspreise!K81*'DCF (2012)'!$C$20*I$2/I$8","v":6.0843472627583042},{"$f":"[4]Gaspreise!L81*'DCF (2012)'!$C$20*J$2/J$8","v":5.9398583697196221},{"$f":"[4]Gaspreise!M81*'DCF (2012)'!$C$20*K$2/K$8","v":5.6560488754352525},{"$f":"[4]Gaspreise!N81*'DCF (2012)'!$C$20*L$2/L$8","v":5.5567298621827099},{"$f":"[4]Gaspreise!O81*'DCF (2012)'!$C$20*M$2/M$8","v":5.3881175501992082},{"$f":"[4]Gaspreise!P81*'DCF (2012)'!$C$20*N$2/N$8","v":5.3835770486022314},{"$f":"[4]Gaspreise!Q81*'DCF (2012)'!$C$20*O$2/O$8","v":5.2894949653020129},{"$f":"[4]Gaspreise!R81*'DCF (2012)'!$C$20*P$2/P$8","v":5.4569513146901709},{"$f":"[4]Gaspreise!S81*'DCF (2012)'!$C$20*Q$2/Q$8","v":5.4856884948979054},{"$f":"[4]Gaspreise!T81*'DCF (2012)'!$C$20*R$2/R$8","v":5.0562909036363477},{"$f":"[4]Gaspreise!U81*'DCF (2012)'!$C$20*S$2/S$8","v":4.8334512984136007},{"$f":"[4]Gaspreise!V81*'DCF (2012)'!$C$20*T$2/T$8","v":4.7837912521819232},{"$f":"[4]Gaspreise!W81*'DCF (2012)'!$C$20*U$2/U$8","v":5.3745380835311884},{"$f":"[4]Gaspreise!X81*'DCF (2012)'!$C$20*V$2/V$8","v":5.9549631814848487},{"$f":"[4]Gaspreise!Y81*'DCF (2012)'!$C$20*W$2/W$8","v":6.3147406076686892},{"$f":"[4]Gaspreise!Z81*'DCF (2012)'!$C$20*X$2/X$8","v":6.7498506152927815},{"$f":"[4]Gaspreise!AA81*'DCF (2012)'!$C$20*Y$2/Y$8","v":6.8846171266125209},{"$f":"[4]Gaspreise!AB81*'DCF (2012)'!$C$20*Z$2/Z$8","v":7.025775890773688},{"$f":"[4]Gaspreise!AC81*'DCF (2012)'!$C$20*AA$2/AA$8","v":7.2194312408277046},{"$f":"[4]Gaspreise!AD81*'DCF (2012)'!$C$20*AB$2/AB$8","v":7.3618804561757303}]
[79,null,null,null,{"$f":"[4]Gaspreise!G82*'DCF (2012)'!$C$20","v":6.5888888888888895},{"$f":"[4]Gaspreise!H82*'DCF (2012)'!$C$20","v":5.8875477863888896},{"$f":"[4]Gaspreise!I82*'DCF (2012)'!$C$20*G$2/G$8","v":4.9332210018568272},{"$f":"[4]Gaspreise!J82*'DCF (2012)'!$C$20*H$2/H$8","v":5.8133995678899177},{"$f":"[4]Gaspreise!K82*'DCF (2012)'!$C$20*I$2/I$8","v":6.0843472627583042},{"$f":"[4]Gaspreise!L82*'DCF (2012)'!$C$20*J$2/J$8","v":5.9398583697196221},{"$f":"[4]Gaspreise!M82*'DCF (2012)'!$C$20*K$2/K$8","v":5.6560488754352525},{"$f":"[4]Gaspreise!N82*'DCF (2012)'!$C$20*L$2/L$8","v":5.5567298621827099},{"$f":"[4]Gaspreise!O82*'DCF (2012)'!$C$20*M$2/M$8","v":5.3881175501992082},{"$f":"[4]Gaspreise!P82*'DCF (2012)'!$C$20*N$2/N$8","v":5.3835770486022314},{"$f":"[4]Gaspreise!Q82*'DCF (2012)'!$C$20*O$2/O$8","v":5.2894949653020129},{"$f":"[4]Gaspreise!R82*'DCF (2012)'!$C$20*P$2/P$8","v":5.4569513146901709},{"$f":"[4]Gaspreise!S82*'DCF (2012)'!$C$20*Q$2/Q$8","v":5.4856884948979054},{"$f":"[4]Gaspreise!T82*'DCF (2012)'!$C$20*R$2/R$8","v":5.0562909036363477},{"$f":"[4]Gaspreise!U82*'DCF (2012)'!$C$20*S$2/S$8","v":4.8334512984136007},{"$f":"[4]Gaspreise!V82*'DCF (2012)'!$C$20*T$2/T$8","v":4.7837912521819232},{"$f":"[4]Gaspreise!W82*'DCF (2012)'!$C$20*U$2/U$8","v":5.3745380835311884},{"$f":"[4]Gaspreise!X82*'DCF (2012)'!$C$20*V$2/V$8","v":5.9549631814848487},{"$f":"[4]Gaspreise!Y82*'DCF (2012)'!$C$20*W$2/W$8","v":6.3147406076686892},{"$f":"[4]Gaspreise!Z82*'DCF (2012)'!$C$20*X$2/X$8","v":6.7498506152927815},{"$f":"[4]Gaspreise!AA82*'DCF (2012)'!$C$20*Y$2/Y$8","v":6.8846171266125209},{"$f":"[4]Gaspreise!AB82*'DCF (2012)'!$C$20*Z$2/Z$8","v":7.025775890773688},{"$f":"[4]Gaspreise!AC82*'DCF (2012)'!$C$20*AA$2/AA$8","v":7.2194312408277046},{"$f":"[4]Gaspreise!AD82*'DCF (2012)'!$C$20*AB$2/AB$8","v":7.3618804561757303}]
[80,null,null,null,{"$f":"[4]Gaspreise!G83*'DCF (2012)'!$C$20","v":6.5888888888888895},{"$f":"[4]Gaspreise!H83*'DCF (2012)'!$C$20","v":5.8875477863888896},{"$f":"[4]Gaspreise!I83*'DCF (2012)'!$C$20*G$2/G$8","v":4.9332210018568272},{"$f":"[4]Gaspreise!J83*'DCF (2012)'!$C$20*H$2/H$8","v":5.8133995678899177},{"$f":"[4]Gaspreise!K83*'DCF (2012)'!$C$20*I$2/I$8","v":6.0843472627583042},{"$f":"[4]Gaspreise!L83*'DCF (2012)'!$C$20*J$2/J$8","v":5.9398583697196221},{"$f":"[4]Gaspreise!M83*'DCF (2012)'!$C$20*K$2/K$8","v":5.6560488754352525},{"$f":"[4]Gaspreise!N83*'DCF (2012)'!$C$20*L$2/L$8","v":5.5567298621827099},{"$f":"[4]Gaspreise!O83*'DCF (2012)'!$C$20*M$2/M$8","v":5.3881175501992082},{"$f":"[4]Gaspreise!P83*'DCF (2012)'!$C$20*N$2/N$8","v":5.3835770486022314},{"$f":"[4]Gaspreise!Q83*'DCF (2012)'!$C$20*O$2/O$8","v":5.2894949653020129},{"$f":"[4]Gaspreise!R83*'DCF (2012)'!$C$20*P$2/P$8","v":5.4569513146901709},{"$f":"[4]Gaspreise!S83*'DCF (2012)'!$C$20*Q$2/Q$8","v":5.4856884948979054},{"$f":"[4]Gaspreise!T83*'DCF (2012)'!$C$20*R$2/R$8","v":5.0562909036363477},{"$f":"[4]Gaspreise!U83*'DCF (2012)'!$C$20*S$2/S$8","v":4.8334512984136007},{"$f":"[4]Gaspreise!V83*'DCF (2012)'!$C$20*T$2/T$8","v":4.7837912521819232},{"$f":"[4]Gaspreise!W83*'DCF (2012)'!$C$20*U$2/U$8","v":5.3745380835311884},{"$f":"[4]Gaspreise!X83*'DCF (2012)'!$C$20*V$2/V$8","v":5.9549631814848487},{"$f":"[4]Gaspreise!Y83*'DCF (2012)'!$C$20*W$2/W$8","v":6.3147406076686892},{"$f":"[4]Gaspreise!Z83*'DCF (2012)'!$C$20*X$2/X$8","v":6.7498506152927815},{"$f":"[4]Gaspreise!AA83*'DCF (2012)'!$C$20*Y$2/Y$8","v":6.8846171266125209},{"$f":"[4]Gaspreise!AB83*'DCF (2012)'!$C$20*Z$2/Z$8","v":7.025775890773688},{"$f":"[4]Gaspreise!AC83*'DCF (2012)'!$C$20*AA$2/AA$8","v":7.2194312408277046},{"$f":"[4]Gaspreise!AD83*'DCF (2012)'!$C$20*AB$2/AB$8","v":7.3618804561757303}]
[81,null,null,null,{"$f":"[4]Gaspreise!G84*'DCF (2012)'!$C$20","v":6.5888888888888895},{"$f":"[4]Gaspreise!H84*'DCF (2012)'!$C$20","v":5.8875477863888896},{"$f":"[4]Gaspreise!I84*'DCF (2012)'!$C$20*G$2/G$8","v":4.9332210018568272},{"$f":"[4]Gaspreise!J84*'DCF (2012)'!$C$20*H$2/H$8","v":5.8133995678899177},{"$f":"[4]Gaspreise!K84*'DCF (2012)'!$C$20*I$2/I$8","v":6.0843472627583042},{"$f":"[4]Gaspreise!L84*'DCF (2012)'!$C$20*J$2/J$8","v":5.9398583697196221},{"$f":"[4]Gaspreise!M84*'DCF (2012)'!$C$20*K$2/K$8","v":5.6560488754352525},{"$f":"[4]Gaspreise!N84*'DCF (2012)'!$C$20*L$2/L$8","v":5.5567298621827099},{"$f":"[4]Gaspreise!O84*'DCF (2012)'!$C$20*M$2/M$8","v":5.3881175501992082},{"$f":"[4]Gaspreise!P84*'DCF (2012)'!$C$20*N$2/N$8","v":5.3835770486022314},{"$f":"[4]Gaspreise!Q84*'DCF (2012)'!$C$20*O$2/O$8","v":5.2894949653020129},{"$f":"[4]Gaspreise!R84*'DCF (2012)'!$C$20*P$2/P$8","v":5.4569513146901709},{"$f":"[4]Gaspreise!S84*'DCF (2012)'!$C$20*Q$2/Q$8","v":5.4856884948979054},{"$f":"[4]Gaspreise!T84*'DCF (2012)'!$C$20*R$2/R$8","v":5.0562909036363477},{"$f":"[4]Gaspreise!U84*'DCF (2012)'!$C$20*S$2/S$8","v":4.8334512984136007},{"$f":"[4]Gaspreise!V84*'DCF (2012)'!$C$20*T$2/T$8","v":4.7837912521819232},{"$f":"[4]Gaspreise!W84*'DCF (2012)'!$C$20*U$2/U$8","v":5.3745380835311884},{"$f":"[4]Gaspreise!X84*'DCF (2012)'!$C$20*V$2/V$8","v":5.9549631814848487},{"$f":"[4]Gaspreise!Y84*'DCF (2012)'!$C$20*W$2/W$8","v":6.3147406076686892},{"$f":"[4]Gaspreise!Z84*'DCF (2012)'!$C$20*X$2/X$8","v":6.7498506152927815},{"$f":"[4]Gaspreise!AA84*'DCF (2012)'!$C$20*Y$2/Y$8","v":6.8846171266125209},{"$f":"[4]Gaspreise!AB84*'DCF (2012)'!$C$20*Z$2/Z$8","v":7.025775890773688},{"$f":"[4]Gaspreise!AC84*'DCF (2012)'!$C$20*AA$2/AA$8","v":7.2194312408277046},{"$f":"[4]Gaspreise!AD84*'DCF (2012)'!$C$20*AB$2/AB$8","v":7.3618804561757303}]
[82,null,null,null,{"$f":"[4]Gaspreise!G85*'DCF (2012)'!$C$20","v":6.5888888888888895},{"$f":"[4]Gaspreise!H85*'DCF (2012)'!$C$20","v":5.8875477863888896},{"$f":"[4]Gaspreise!I85*'DCF (2012)'!$C$20*G$2/G$8","v":4.9332210018568272},{"$f":"[4]Gaspreise!J85*'DCF (2012)'!$C$20*H$2/H$8","v":5.8133995678899177},{"$f":"[4]Gaspreise!K85*'DCF (2012)'!$C$20*I$2/I$8","v":6.0843472627583042},{"$f":"[4]Gaspreise!L85*'DCF (2012)'!$C$20*J$2/J$8","v":5.9398583697196221},{"$f":"[4]Gaspreise!M85*'DCF (2012)'!$C$20*K$2/K$8","v":5.6560488754352525},{"$f":"[4]Gaspreise!N85*'DCF (2012)'!$C$20*L$2/L$8","v":5.5567298621827099},{"$f":"[4]Gaspreise!O85*'DCF (2012)'!$C$20*M$2/M$8","v":5.3881175501992082},{"$f":"[4]Gaspreise!P85*'DCF (2012)'!$C$20*N$2/N$8","v":5.3835770486022314},{"$f":"[4]Gaspreise!Q85*'DCF (2012)'!$C$20*O$2/O$8","v":5.2894949653020129},{"$f":"[4]Gaspreise!R85*'DCF (2012)'!$C$20*P$2/P$8","v":5.4569513146901709},{"$f":"[4]Gaspreise!S85*'DCF (2012)'!$C$20*Q$2/Q$8","v":5.4856884948979054},{"$f":"[4]Gaspreise!T85*'DCF (2012)'!$C$20*R$2/R$8","v":5.0562909036363477},{"$f":"[4]Gaspreise!U85*'DCF (2012)'!$C$20*S$2/S$8","v":4.8334512984136007},{"$f":"[4]Gaspreise!V85*'DCF (2012)'!$C$20*T$2/T$8","v":4.7837912521819232},{"$f":"[4]Gaspreise!W85*'DCF (2012)'!$C$20*U$2/U$8","v":5.3745380835311884},{"$f":"[4]Gaspreise!X85*'DCF (2012)'!$C$20*V$2/V$8","v":5.9549631814848487},{"$f":"[4]Gaspreise!Y85*'DCF (2012)'!$C$20*W$2/W$8","v":6.3147406076686892},{"$f":"[4]Gaspreise!Z85*'DCF (2012)'!$C$20*X$2/X$8","v":6.7498506152927815},{"$f":"[4]Gaspreise!AA85*'DCF (2012)'!$C$20*Y$2/Y$8","v":6.8846171266125209},{"$f":"[4]Gaspreise!AB85*'DCF (2012)'!$C$20*Z$2/Z$8","v":7.025775890773688},{"$f":"[4]Gaspreise!AC85*'DCF (2012)'!$C$20*AA$2/AA$8","v":7.2194312408277046},{"$f":"[4]Gaspreise!AD85*'DCF (2012)'!$C$20*AB$2/AB$8","v":7.3618804561757303}]
[83,null,null,null,{"$f":"[4]Gaspreise!G86*'DCF (2012)'!$C$20","v":6.5888888888888895},{"$f":"[4]Gaspreise!H86*'DCF (2012)'!$C$20","v":5.8875477863888896},{"$f":"[4]Gaspreise!I86*'DCF (2012)'!$C$20*G$2/G$8","v":4.9332210018568272},{"$f":"[4]Gaspreise!J86*'DCF (2012)'!$C$20*H$2/H$8","v":5.8133995678899177},{"$f":"[4]Gaspreise!K86*'DCF (2012)'!$C$20*I$2/I$8","v":6.0843472627583042},{"$f":"[4]Gaspreise!L86*'DCF (2012)'!$C$20*J$2/J$8","v":5.9398583697196221},{"$f":"[4]Gaspreise!M86*'DCF (2012)'!$C$20*K$2/K$8","v":5.6560488754352525},{"$f":"[4]Gaspreise!N86*'DCF (2012)'!$C$20*L$2/L$8","v":5.5567298621827099},{"$f":"[4]Gaspreise!O86*'DCF (2012)'!$C$20*M$2/M$8","v":5.3881175501992082},{"$f":"[4]Gaspreise!P86*'DCF (2012)'!$C$20*N$2/N$8","v":5.3835770486022314},{"$f":"[4]Gaspreise!Q86*'DCF (2012)'!$C$20*O$2/O$8","v":5.2894949653020129},{"$f":"[4]Gaspreise!R86*'DCF (2012)'!$C$20*P$2/P$8","v":5.4569513146901709},{"$f":"[4]Gaspreise!S86*'DCF (2012)'!$C$20*Q$2/Q$8","v":5.4856884948979054},{"$f":"[4]Gaspreise!T86*'DCF (2012)'!$C$20*R$2/R$8","v":5.0562909036363477},{"$f":"[4]Gaspreise!U86*'DCF (2012)'!$C$20*S$2/S$8","v":4.8334512984136007},{"$f":"[4]Gaspreise!V86*'DCF (2012)'!$C$20*T$2/T$8","v":4.7837912521819232},{"$f":"[4]Gaspreise!W86*'DCF (2012)'!$C$20*U$2/U$8","v":5.3745380835311884},{"$f":"[4]Gaspreise!X86*'DCF (2012)'!$C$20*V$2/V$8","v":5.9549631814848487},{"$f":"[4]Gaspreise!Y86*'DCF (2012)'!$C$20*W$2/W$8","v":6.3147406076686892},{"$f":"[4]Gaspreise!Z86*'DCF (2012)'!$C$20*X$2/X$8","v":6.7498506152927815},{"$f":"[4]Gaspreise!AA86*'DCF (2012)'!$C$20*Y$2/Y$8","v":6.8846171266125209},{"$f":"[4]Gaspreise!AB86*'DCF (2012)'!$C$20*Z$2/Z$8","v":7.025775890773688},{"$f":"[4]Gaspreise!AC86*'DCF (2012)'!$C$20*AA$2/AA$8","v":7.2194312408277046},{"$f":"[4]Gaspreise!AD86*'DCF (2012)'!$C$20*AB$2/AB$8","v":7.3618804561757303}]
[84,null,null,null,{"$f":"[4]Gaspreise!G87*'DCF (2012)'!$C$20","v":6.5888888888888895},{"$f":"[4]Gaspreise!H87*'DCF (2012)'!$C$20","v":5.8875477863888896},{"$f":"[4]Gaspreise!I87*'DCF (2012)'!$C$20*G$2/G$8","v":4.9332210018568272},{"$f":"[4]Gaspreise!J87*'DCF (2012)'!$C$20*H$2/H$8","v":5.8133995678899177},{"$f":"[4]Gaspreise!K87*'DCF (2012)'!$C$20*I$2/I$8","v":6.0843472627583042},{"$f":"[4]Gaspreise!L87*'DCF (2012)'!$C$20*J$2/J$8","v":5.9398583697196221},{"$f":"[4]Gaspreise!M87*'DCF (2012)'!$C$20*K$2/K$8","v":5.6560488754352525},{"$f":"[4]Gaspreise!N87*'DCF (2012)'!$C$20*L$2/L$8","v":5.5567298621827099},{"$f":"[4]Gaspreise!O87*'DCF (2012)'!$C$20*M$2/M$8","v":5.3881175501992082},{"$f":"[4]Gaspreise!P87*'DCF (2012)'!$C$20*N$2/N$8","v":5.3835770486022314},{"$f":"[4]Gaspreise!Q87*'DCF (2012)'!$C$20*O$2/O$8","v":5.2894949653020129},{"$f":"[4]Gaspreise!R87*'DCF (2012)'!$C$20*P$2/P$8","v":5.4569513146901709},{"$f":"[4]Gaspreise!S87*'DCF (2012)'!$C$20*Q$2/Q$8","v":5.4856884948979054},{"$f":"[4]Gaspreise!T87*'DCF (2012)'!$C$20*R$2/R$8","v":5.0562909036363477},{"$f":"[4]Gaspreise!U87*'DCF (2012)'!$C$20*S$2/S$8","v":4.8334512984136007},{"$f":"[4]Gaspreise!V87*'DCF (2012)'!$C$20*T$2/T$8","v":4.7837912521819232},{"$f":"[4]Gaspreise!W87*'DCF (2012)'!$C$20*U$2/U$8","v":5.3745380835311884},{"$f":"[4]Gaspreise!X87*'DCF (2012)'!$C$20*V$2/V$8","v":5.9549631814848487},{"$f":"[4]Gaspreise!Y87*'DCF (2012)'!$C$20*W$2/W$8","v":6.3147406076686892},{"$f":"[4]Gaspreise!Z87*'DCF (2012)'!$C$20*X$2/X$8","v":6.7498506152927815},{"$f":"[4]Gaspreise!AA87*'DCF (2012)'!$C$20*Y$2/Y$8","v":6.8846171266125209},{"$f":"[4]Gaspreise!AB87*'DCF (2012)'!$C$20*Z$2/Z$8","v":7.025775890773688},{"$f":"[4]Gaspreise!AC87*'DCF (2012)'!$C$20*AA$2/AA$8","v":7.2194312408277046},{"$f":"[4]Gaspreise!AD87*'DCF (2012)'!$C$20*AB$2/AB$8","v":7.3618804561757303}]
[85,null,null,null,{"$f":"[4]Gaspreise!G88*'DCF (2012)'!$C$20","v":6.5888888888888895},{"$f":"[4]Gaspreise!H88*'DCF (2012)'!$C$20","v":5.8875477863888896},{"$f":"[4]Gaspreise!I88*'DCF (2012)'!$C$20*G$2/G$8","v":4.9332210018568272},{"$f":"[4]Gaspreise!J88*'DCF (2012)'!$C$20*H$2/H$8","v":5.8133995678899177},{"$f":"[4]Gaspreise!K88*'DCF (2012)'!$C$20*I$2/I$8","v":6.0843472627583042},{"$f":"[4]Gaspreise!L88*'DCF (2012)'!$C$20*J$2/J$8","v":5.9398583697196221},{"$f":"[4]Gaspreise!M88*'DCF (2012)'!$C$20*K$2/K$8","v":5.6560488754352525},{"$f":"[4]Gaspreise!N88*'DCF (2012)'!$C$20*L$2/L$8","v":5.5567298621827099},{"$f":"[4]Gaspreise!O88*'DCF (2012)'!$C$20*M$2/M$8","v":5.3881175501992082},{"$f":"[4]Gaspreise!P88*'DCF (2012)'!$C$20*N$2/N$8","v":5.3835770486022314},{"$f":"[4]Gaspreise!Q88*'DCF (2012)'!$C$20*O$2/O$8","v":5.2894949653020129},{"$f":"[4]Gaspreise!R88*'DCF (2012)'!$C$20*P$2/P$8","v":5.4569513146901709},{"$f":"[4]Gaspreise!S88*'DCF (2012)'!$C$20*Q$2/Q$8","v":5.4856884948979054},{"$f":"[4]Gaspreise!T88*'DCF (2012)'!$C$20*R$2/R$8","v":5.0562909036363477},{"$f":"[4]Gaspreise!U88*'DCF (2012)'!$C$20*S$2/S$8","v":4.8334512984136007},{"$f":"[4]Gaspreise!V88*'DCF (2012)'!$C$20*T$2/T$8","v":4.7837912521819232},{"$f":"[4]Gaspreise!W88*'DCF (2012)'!$C$20*U$2/U$8","v":5.3745380835311884},{"$f":"[4]Gaspreise!X88*'DCF (2012)'!$C$20*V$2/V$8","v":5.9549631814848487},{"$f":"[4]Gaspreise!Y88*'DCF (2012)'!$C$20*W$2/W$8","v":6.3147406076686892},{"$f":"[4]Gaspreise!Z88*'DCF (2012)'!$C$20*X$2/X$8","v":6.7498506152927815},{"$f":"[4]Gaspreise!AA88*'DCF (2012)'!$C$20*Y$2/Y$8","v":6.8846171266125209},{"$f":"[4]Gaspreise!AB88*'DCF (2012)'!$C$20*Z$2/Z$8","v":7.025775890773688},{"$f":"[4]Gaspreise!AC88*'DCF (2012)'!$C$20*AA$2/AA$8","v":7.2194312408277046},{"$f":"[4]Gaspreise!AD88*'DCF (2012)'!$C$20*AB$2/AB$8","v":7.3618804561757303}]
[86,null,null,null,{"$f":"[4]Gaspreise!G89*'DCF (2012)'!$C$20","v":6.8713888888888892},{"$f":"[4]Gaspreise!H89*'DCF (2012)'!$C$20","v":7.3900450116666692},{"$f":"[4]Gaspreise!I89*'DCF (2012)'!$C$20*G$2/G$8","v":5.6902098334367768},{"$f":"[4]Gaspreise!J89*'DCF (2012)'!$C$20*H$2/H$8","v":6.8069771873525093},{"$f":"[4]Gaspreise!K89*'DCF (2012)'!$C$20*I$2/I$8","v":7.1078800497633967},{"$f":"[4]Gaspreise!L89*'DCF (2012)'!$C$20*J$2/J$8","v":7.1388798405620859},{"$f":"[4]Gaspreise!M89*'DCF (2012)'!$C$20*K$2/K$8","v":7.127909189887947},{"$f":"[4]Gaspreise!N89*'DCF (2012)'!$C$20*L$2/L$8","v":7.5873732926045525},{"$f":"[4]Gaspreise!O89*'DCF (2012)'!$C$20*M$2/M$8","v":7.1742345612892002},{"$f":"[4]Gaspreise!P89*'DCF (2012)'!$C$20*N$2/N$8","v":7.3799902111718279},{"$f":"[4]Gaspreise!Q89*'DCF (2012)'!$C$20*O$2/O$8","v":7.0854659998013405},{"$f":"[4]Gaspreise!R89*'DCF (2012)'!$C$20*P$2/P$8","v":7.2185420400700639},{"$f":"[4]Gaspreise!S89*'DCF (2012)'!$C$20*Q$2/Q$8","v":7.1080825371767409},{"$f":"[4]Gaspreise!T89*'DCF (2012)'!$C$20*R$2/R$8","v":6.7979691253691623},{"$f":"[4]Gaspreise!U89*'DCF (2012)'!$C$20*S$2/S$8","v":8.3521128663710247},{"$f":"[4]Gaspreise!V89*'DCF (2012)'!$C$20*T$2/T$8","v":7.7177073346890799},{"$f":"[4]Gaspreise!W89*'DCF (2012)'!$C$20*U$2/U$8","v":7.3134559360430638},{"$f":"[4]Gaspreise!X89*'DCF (2012)'!$C$20*V$2/V$8","v":7.6055431631585657},{"$f":"[4]Gaspreise!Y89*'DCF (2012)'!$C$20*W$2/W$8","v":7.1789383708944827},{"$f":"[4]Gaspreise!Z89*'DCF (2012)'!$C$20*X$2/X$8","v":7.6193439486548273},{"$f":"[4]Gaspreise!AA89*'DCF (2012)'!$C$20*Y$2/Y$8","v":7.747582547755373},{"$f":"[4]Gaspreise!AB89*'DCF (2012)'!$C$20*Z$2/Z$8","v":7.88242516040415},{"$f":"[4]Gaspreise!AC89*'DCF (2012)'!$C$20*AA$2/AA$8","v":8.0760353722461371},{"$f":"[4]Gaspreise!AD89*'DCF (2012)'!$C$20*AB$2/AB$8","v":8.2142410905052099}]
[87,null,null,null,{"$f":"[4]Gaspreise!G90*'DCF (2012)'!$C$20","v":6.8713888888888892},{"$f":"[4]Gaspreise!H90*'DCF (2012)'!$C$20","v":7.3900450116666692},{"$f":"[4]Gaspreise!I90*'DCF (2012)'!$C$20*G$2/G$8","v":5.6902098334367768},{"$f":"[4]Gaspreise!J90*'DCF (2012)'!$C$20*H$2/H$8","v":6.8069771873525093},{"$f":"[4]Gaspreise!K90*'DCF (2012)'!$C$20*I$2/I$8","v":7.1078800497633967},{"$f":"[4]Gaspreise!L90*'DCF (2012)'!$C$20*J$2/J$8","v":7.1388798405620859},{"$f":"[4]Gaspreise!M90*'DCF (2012)'!$C$20*K$2/K$8","v":7.127909189887947},{"$f":"[4]Gaspreise!N90*'DCF (2012)'!$C$20*L$2/L$8","v":7.5873732926045525},{"$f":"[4]Gaspreise!O90*'DCF (2012)'!$C$20*M$2/M$8","v":7.1742345612892002},{"$f":"[4]Gaspreise!P90*'DCF (2012)'!$C$20*N$2/N$8","v":7.3799902111718279},{"$f":"[4]Gaspreise!Q90*'DCF (2012)'!$C$20*O$2/O$8","v":7.0854659998013405},{"$f":"[4]Gaspreise!R90*'DCF (2012)'!$C$20*P$2/P$8","v":7.2185420400700639},{"$f":"[4]Gaspreise!S90*'DCF (2012)'!$C$20*Q$2/Q$8","v":7.1080825371767409},{"$f":"[4]Gaspreise!T90*'DCF (2012)'!$C$20*R$2/R$8","v":6.7979691253691623},{"$f":"[4]Gaspreise!U90*'DCF (2012)'!$C$20*S$2/S$8","v":8.3521128663710247},{"$f":"[4]Gaspreise!V90*'DCF (2012)'!$C$20*T$2/T$8","v":7.7177073346890799},{"$f":"[4]Gaspreise!W90*'DCF (2012)'!$C$20*U$2/U$8","v":7.3134559360430638},{"$f":"[4]Gaspreise!X90*'DCF (2012)'!$C$20*V$2/V$8","v":7.6055431631585657},{"$f":"[4]Gaspreise!Y90*'DCF (2012)'!$C$20*W$2/W$8","v":7.1789383708944827},{"$f":"[4]Gaspreise!Z90*'DCF (2012)'!$C$20*X$2/X$8","v":7.6193439486548273},{"$f":"[4]Gaspreise!AA90*'DCF (2012)'!$C$20*Y$2/Y$8","v":7.747582547755373},{"$f":"[4]Gaspreise!AB90*'DCF (2012)'!$C$20*Z$2/Z$8","v":7.88242516040415},{"$f":"[4]Gaspreise!AC90*'DCF (2012)'!$C$20*AA$2/AA$8","v":8.0760353722461371},{"$f":"[4]Gaspreise!AD90*'DCF (2012)'!$C$20*AB$2/AB$8","v":8.2142410905052099}]
[88,null,null,null,{"$f":"[4]Gaspreise!G91*'DCF (2012)'!$C$20","v":6.8713888888888892},{"$f":"[4]Gaspreise!H91*'DCF (2012)'!$C$20","v":7.3900450116666692},{"$f":"[4]Gaspreise!I91*'DCF (2012)'!$C$20*G$2/G$8","v":5.6902098334367768},{"$f":"[4]Gaspreise!J91*'DCF (2012)'!$C$20*H$2/H$8","v":6.8069771873525093},{"$f":"[4]Gaspreise!K91*'DCF (2012)'!$C$20*I$2/I$8","v":7.1078800497633967},{"$f":"[4]Gaspreise!L91*'DCF (2012)'!$C$20*J$2/J$8","v":7.1388798405620859},{"$f":"[4]Gaspreise!M91*'DCF (2012)'!$C$20*K$2/K$8","v":7.127909189887947},{"$f":"[4]Gaspreise!N91*'DCF (2012)'!$C$20*L$2/L$8","v":7.5873732926045525},{"$f":"[4]Gaspreise!O91*'DCF (2012)'!$C$20*M$2/M$8","v":7.1742345612892002},{"$f":"[4]Gaspreise!P91*'DCF (2012)'!$C$20*N$2/N$8","v":7.3799902111718279},{"$f":"[4]Gaspreise!Q91*'DCF (2012)'!$C$20*O$2/O$8","v":7.0854659998013405},{"$f":"[4]Gaspreise!R91*'DCF (2012)'!$C$20*P$2/P$8","v":7.2185420400700639},{"$f":"[4]Gaspreise!S91*'DCF (2012)'!$C$20*Q$2/Q$8","v":7.1080825371767409},{"$f":"[4]Gaspreise!T91*'DCF (2012)'!$C$20*R$2/R$8","v":6.7979691253691623},{"$f":"[4]Gaspreise!U91*'DCF (2012)'!$C$20*S$2/S$8","v":8.3521128663710247},{"$f":"[4]Gaspreise!V91*'DCF (2012)'!$C$20*T$2/T$8","v":7.7177073346890799},{"$f":"[4]Gaspreise!W91*'DCF (2012)'!$C$20*U$2/U$8","v":7.3134559360430638},{"$f":"[4]Gaspreise!X91*'DCF (2012)'!$C$20*V$2/V$8","v":7.6055431631585657},{"$f":"[4]Gaspreise!Y91*'DCF (2012)'!$C$20*W$2/W$8","v":7.1789383708944827},{"$f":"[4]Gaspreise!Z91*'DCF (2012)'!$C$20*X$2/X$8","v":7.6193439486548273},{"$f":"[4]Gaspreise!AA91*'DCF (2012)'!$C$20*Y$2/Y$8","v":7.747582547755373},{"$f":"[4]Gaspreise!AB91*'DCF (2012)'!$C$20*Z$2/Z$8","v":7.88242516040415},{"$f":"[4]Gaspreise!AC91*'DCF (2012)'!$C$20*AA$2/AA$8","v":8.0760353722461371},{"$f":"[4]Gaspreise!AD91*'DCF (2012)'!$C$20*AB$2/AB$8","v":8.2142410905052099}]
[89,null,null,null,{"$f":"[4]Gaspreise!G92*'DCF (2012)'!$C$20","v":6.8713888888888892},{"$f":"[4]Gaspreise!H92*'DCF (2012)'!$C$20","v":7.3900450116666692},{"$f":"[4]Gaspreise!I92*'DCF (2012)'!$C$20*G$2/G$8","v":5.6902098334367768},{"$f":"[4]Gaspreise!J92*'DCF (2012)'!$C$20*H$2/H$8","v":6.8069771873525093},{"$f":"[4]Gaspreise!K92*'DCF (2012)'!$C$20*I$2/I$8","v":7.1078800497633967},{"$f":"[4]Gaspreise!L92*'DCF (2012)'!$C$20*J$2/J$8","v":7.1388798405620859},{"$f":"[4]Gaspreise!M92*'DCF (2012)'!$C$20*K$2/K$8","v":7.127909189887947},{"$f":"[4]Gaspreise!N92*'DCF (2012)'!$C$20*L$2/L$8","v":7.5873732926045525},{"$f":"[4]Gaspreise!O92*'DCF (2012)'!$C$20*M$2/M$8","v":7.1742345612892002},{"$f":"[4]Gaspreise!P92*'DCF (2012)'!$C$20*N$2/N$8","v":7.3799902111718279},{"$f":"[4]Gaspreise!Q92*'DCF (2012)'!$C$20*O$2/O$8","v":7.0854659998013405},{"$f":"[4]Gaspreise!R92*'DCF (2012)'!$C$20*P$2/P$8","v":7.2185420400700639},{"$f":"[4]Gaspreise!S92*'DCF (2012)'!$C$20*Q$2/Q$8","v":7.1080825371767409},{"$f":"[4]Gaspreise!T92*'DCF (2012)'!$C$20*R$2/R$8","v":6.7979691253691623},{"$f":"[4]Gaspreise!U92*'DCF (2012)'!$C$20*S$2/S$8","v":8.3521128663710247},{"$f":"[4]Gaspreise!V92*'DCF (2012)'!$C$20*T$2/T$8","v":7.7177073346890799},{"$f":"[4]Gaspreise!W92*'DCF (2012)'!$C$20*U$2/U$8","v":7.3134559360430638},{"$f":"[4]Gaspreise!X92*'DCF (2012)'!$C$20*V$2/V$8","v":7.6055431631585657},{"$f":"[4]Gaspreise!Y92*'DCF (2012)'!$C$20*W$2/W$8","v":7.1789383708944827},{"$f":"[4]Gaspreise!Z92*'DCF (2012)'!$C$20*X$2/X$8","v":7.6193439486548273},{"$f":"[4]Gaspreise!AA92*'DCF (2012)'!$C$20*Y$2/Y$8","v":7.747582547755373},{"$f":"[4]Gaspreise!AB92*'DCF (2012)'!$C$20*Z$2/Z$8","v":7.88242516040415},{"$f":"[4]Gaspreise!AC92*'DCF (2012)'!$C$20*AA$2/AA$8","v":8.0760353722461371},{"$f":"[4]Gaspreise!AD92*'DCF (2012)'!$C$20*AB$2/AB$8","v":8.2142410905052099}]
[90,null,null,null,{"$f":"[4]Gaspreise!G93*'DCF (2012)'!$C$20","v":6.8713888888888892},{"$f":"[4]Gaspreise!H93*'DCF (2012)'!$C$20","v":7.3900450116666692},{"$f":"[4]Gaspreise!I93*'DCF (2012)'!$C$20*G$2/G$8","v":5.6902098334367768},{"$f":"[4]Gaspreise!J93*'DCF (2012)'!$C$20*H$2/H$8","v":6.8069771873525093},{"$f":"[4]Gaspreise!K93*'DCF (2012)'!$C$20*I$2/I$8","v":7.1078800497633967},{"$f":"[4]Gaspreise!L93*'DCF (2012)'!$C$20*J$2/J$8","v":7.1388798405620859},{"$f":"[4]Gaspreise!M93*'DCF (2012)'!$C$20*K$2/K$8","v":7.127909189887947},{"$f":"[4]Gaspreise!N93*'DCF (2012)'!$C$20*L$2/L$8","v":7.5873732926045525},{"$f":"[4]Gaspreise!O93*'DCF (2012)'!$C$20*M$2/M$8","v":7.1742345612892002},{"$f":"[4]Gaspreise!P93*'DCF (2012)'!$C$20*N$2/N$8","v":7.3799902111718279},{"$f":"[4]Gaspreise!Q93*'DCF (2012)'!$C$20*O$2/O$8","v":7.0854659998013405},{"$f":"[4]Gaspreise!R93*'DCF (2012)'!$C$20*P$2/P$8","v":7.2185420400700639},{"$f":"[4]Gaspreise!S93*'DCF (2012)'!$C$20*Q$2/Q$8","v":7.1080825371767409},{"$f":"[4]Gaspreise!T93*'DCF (2012)'!$C$20*R$2/R$8","v":6.7979691253691623},{"$f":"[4]Gaspreise!U93*'DCF (2012)'!$C$20*S$2/S$8","v":8.3521128663710247},{"$f":"[4]Gaspreise!V93*'DCF (2012)'!$C$20*T$2/T$8","v":7.7177073346890799},{"$f":"[4]Gaspreise!W93*'DCF (2012)'!$C$20*U$2/U$8","v":7.3134559360430638},{"$f":"[4]Gaspreise!X93*'DCF (2012)'!$C$20*V$2/V$8","v":7.6055431631585657},{"$f":"[4]Gaspreise!Y93*'DCF (2012)'!$C$20*W$2/W$8","v":7.1789383708944827},{"$f":"[4]Gaspreise!Z93*'DCF (2012)'!$C$20*X$2/X$8","v":7.6193439486548273},{"$f":"[4]Gaspreise!AA93*'DCF (2012)'!$C$20*Y$2/Y$8","v":7.747582547755373},{"$f":"[4]Gaspreise!AB93*'DCF (2012)'!$C$20*Z$2/Z$8","v":7.88242516040415},{"$f":"[4]Gaspreise!AC93*'DCF (2012)'!$C$20*AA$2/AA$8","v":8.0760353722461371},{"$f":"[4]Gaspreise!AD93*'DCF (2012)'!$C$20*AB$2/AB$8","v":8.2142410905052099}]
[91,null,null,null,{"$f":"[4]Gaspreise!G94*'DCF (2012)'!$C$20","v":6.8713888888888892},{"$f":"[4]Gaspreise!H94*'DCF (2012)'!$C$20","v":7.3900450116666692},{"$f":"[4]Gaspreise!I94*'DCF (2012)'!$C$20*G$2/G$8","v":5.6902098334367768},{"$f":"[4]Gaspreise!J94*'DCF (2012)'!$C$20*H$2/H$8","v":6.8069771873525093},{"$f":"[4]Gaspreise!K94*'DCF (2012)'!$C$20*I$2/I$8","v":7.1078800497633967},{"$f":"[4]Gaspreise!L94*'DCF (2012)'!$C$20*J$2/J$8","v":7.1388798405620859},{"$f":"[4]Gaspreise!M94*'DCF (2012)'!$C$20*K$2/K$8","v":7.127909189887947},{"$f":"[4]Gaspreise!N94*'DCF (2012)'!$C$20*L$2/L$8","v":7.5873732926045525},{"$f":"[4]Gaspreise!O94*'DCF (2012)'!$C$20*M$2/M$8","v":7.1742345612892002},{"$f":"[4]Gaspreise!P94*'DCF (2012)'!$C$20*N$2/N$8","v":7.3799902111718279},{"$f":"[4]Gaspreise!Q94*'DCF (2012)'!$C$20*O$2/O$8","v":7.0854659998013405},{"$f":"[4]Gaspreise!R94*'DCF (2012)'!$C$20*P$2/P$8","v":7.2185420400700639},{"$f":"[4]Gaspreise!S94*'DCF (2012)'!$C$20*Q$2/Q$8","v":7.1080825371767409},{"$f":"[4]Gaspreise!T94*'DCF (2012)'!$C$20*R$2/R$8","v":6.7979691253691623},{"$f":"[4]Gaspreise!U94*'DCF (2012)'!$C$20*S$2/S$8","v":8.3521128663710247},{"$f":"[4]Gaspreise!V94*'DCF (2012)'!$C$20*T$2/T$8","v":7.7177073346890799},{"$f":"[4]Gaspreise!W94*'DCF (2012)'!$C$20*U$2/U$8","v":7.3134559360430638},{"$f":"[4]Gaspreise!X94*'DCF (2012)'!$C$20*V$2/V$8","v":7.6055431631585657},{"$f":"[4]Gaspreise!Y94*'DCF (2012)'!$C$20*W$2/W$8","v":7.1789383708944827},{"$f":"[4]Gaspreise!Z94*'DCF (2012)'!$C$20*X$2/X$8","v":7.6193439486548273},{"$f":"[4]Gaspreise!AA94*'DCF (2012)'!$C$20*Y$2/Y$8","v":7.747582547755373},{"$f":"[4]Gaspreise!AB94*'DCF (2012)'!$C$20*Z$2/Z$8","v":7.88242516040415},{"$f":"[4]Gaspreise!AC94*'DCF (2012)'!$C$20*AA$2/AA$8","v":8.0760353722461371},{"$f":"[4]Gaspreise!AD94*'DCF (2012)'!$C$20*AB$2/AB$8","v":8.2142410905052099}]
[92,null,null,null,{"$f":"[4]Gaspreise!G95*'DCF (2012)'!$C$20","v":6.8713888888888892},{"$f":"[4]Gaspreise!H95*'DCF (2012)'!$C$20","v":7.3900450116666692},{"$f":"[4]Gaspreise!I95*'DCF (2012)'!$C$20*G$2/G$8","v":5.6902098334367768},{"$f":"[4]Gaspreise!J95*'DCF (2012)'!$C$20*H$2/H$8","v":6.8069771873525093},{"$f":"[4]Gaspreise!K95*'DCF (2012)'!$C$20*I$2/I$8","v":7.1078800497633967},{"$f":"[4]Gaspreise!L95*'DCF (2012)'!$C$20*J$2/J$8","v":7.1388798405620859},{"$f":"[4]Gaspreise!M95*'DCF (2012)'!$C$20*K$2/K$8","v":7.127909189887947},{"$f":"[4]Gaspreise!N95*'DCF (2012)'!$C$20*L$2/L$8","v":7.5873732926045525},{"$f":"[4]Gaspreise!O95*'DCF (2012)'!$C$20*M$2/M$8","v":7.1742345612892002},{"$f":"[4]Gaspreise!P95*'DCF (2012)'!$C$20*N$2/N$8","v":7.3799902111718279},{"$f":"[4]Gaspreise!Q95*'DCF (2012)'!$C$20*O$2/O$8","v":7.0854659998013405},{"$f":"[4]Gaspreise!R95*'DCF (2012)'!$C$20*P$2/P$8","v":7.2185420400700639},{"$f":"[4]Gaspreise!S95*'DCF (2012)'!$C$20*Q$2/Q$8","v":7.1080825371767409},{"$f":"[4]Gaspreise!T95*'DCF (2012)'!$C$20*R$2/R$8","v":6.7979691253691623},{"$f":"[4]Gaspreise!U95*'DCF (2012)'!$C$20*S$2/S$8","v":8.3521128663710247},{"$f":"[4]Gaspreise!V95*'DCF (2012)'!$C$20*T$2/T$8","v":7.7177073346890799},{"$f":"[4]Gaspreise!W95*'DCF (2012)'!$C$20*U$2/U$8","v":7.3134559360430638},{"$f":"[4]Gaspreise!X95*'DCF (2012)'!$C$20*V$2/V$8","v":7.6055431631585657},{"$f":"[4]Gaspreise!Y95*'DCF (2012)'!$C$20*W$2/W$8","v":7.1789383708944827},{"$f":"[4]Gaspreise!Z95*'DCF (2012)'!$C$20*X$2/X$8","v":7.6193439486548273},{"$f":"[4]Gaspreise!AA95*'DCF (2012)'!$C$20*Y$2/Y$8","v":7.747582547755373},{"$f":"[4]Gaspreise!AB95*'DCF (2012)'!$C$20*Z$2/Z$8","v":7.88242516040415},{"$f":"[4]Gaspreise!AC95*'DCF (2012)'!$C$20*AA$2/AA$8","v":8.0760353722461371},{"$f":"[4]Gaspreise!AD95*'DCF (2012)'!$C$20*AB$2/AB$8","v":8.2142410905052099}]
[93,null,null,null,{"$f":"[4]Gaspreise!G96*'DCF (2012)'!$C$20","v":6.8713888888888892},{"$f":"[4]Gaspreise!H96*'DCF (2012)'!$C$20","v":7.3900450116666692},{"$f":"[4]Gaspreise!I96*'DCF (2012)'!$C$20*G$2/G$8","v":5.6902098334367768},{"$f":"[4]Gaspreise!J96*'DCF (2012)'!$C$20*H$2/H$8","v":6.8069771873525093},{"$f":"[4]Gaspreise!K96*'DCF (2012)'!$C$20*I$2/I$8","v":7.1078800497633967},{"$f":"[4]Gaspreise!L96*'DCF (2012)'!$C$20*J$2/J$8","v":7.1388798405620859},{"$f":"[4]Gaspreise!M96*'DCF (2012)'!$C$20*K$2/K$8","v":7.127909189887947},{"$f":"[4]Gaspreise!N96*'DCF (2012)'!$C$20*L$2/L$8","v":7.5873732926045525},{"$f":"[4]Gaspreise!O96*'DCF (2012)'!$C$20*M$2/M$8","v":7.1742345612892002},{"$f":"[4]Gaspreise!P96*'DCF (2012)'!$C$20*N$2/N$8","v":7.3799902111718279},{"$f":"[4]Gaspreise!Q96*'DCF (2012)'!$C$20*O$2/O$8","v":7.0854659998013405},{"$f":"[4]Gaspreise!R96*'DCF (2012)'!$C$20*P$2/P$8","v":7.2185420400700639},{"$f":"[4]Gaspreise!S96*'DCF (2012)'!$C$20*Q$2/Q$8","v":7.1080825371767409},{"$f":"[4]Gaspreise!T96*'DCF (2012)'!$C$20*R$2/R$8","v":6.7979691253691623},{"$f":"[4]Gaspreise!U96*'DCF (2012)'!$C$20*S$2/S$8","v":8.3521128663710247},{"$f":"[4]Gaspreise!V96*'DCF (2012)'!$C$20*T$2/T$8","v":7.7177073346890799},{"$f":"[4]Gaspreise!W96*'DCF (2012)'!$C$20*U$2/U$8","v":7.3134559360430638},{"$f":"[4]Gaspreise!X96*'DCF (2012)'!$C$20*V$2/V$8","v":7.6055431631585657},{"$f":"[4]Gaspreise!Y96*'DCF (2012)'!$C$20*W$2/W$8","v":7.1789383708944827},{"$f":"[4]Gaspreise!Z96*'DCF (2012)'!$C$20*X$2/X$8","v":7.6193439486548273},{"$f":"[4]Gaspreise!AA96*'DCF (2012)'!$C$20*Y$2/Y$8","v":7.747582547755373},{"$f":"[4]Gaspreise!AB96*'DCF (2012)'!$C$20*Z$2/Z$8","v":7.88242516040415},{"$f":"[4]Gaspreise!AC96*'DCF (2012)'!$C$20*AA$2/AA$8","v":8.0760353722461371},{"$f":"[4]Gaspreise!AD96*'DCF (2012)'!$C$20*AB$2/AB$8","v":8.2142410905052099}]
[94,null,null,null,{"$f":"[4]Gaspreise!G97*'DCF (2012)'!$C$20","v":6.8713888888888892},{"$f":"[4]Gaspreise!H97*'DCF (2012)'!$C$20","v":7.3900450116666692},{"$f":"[4]Gaspreise!I97*'DCF (2012)'!$C$20*G$2/G$8","v":5.6902098334367768},{"$f":"[4]Gaspreise!J97*'DCF (2012)'!$C$20*H$2/H$8","v":6.8069771873525093},{"$f":"[4]Gaspreise!K97*'DCF (2012)'!$C$20*I$2/I$8","v":7.1078800497633967},{"$f":"[4]Gaspreise!L97*'DCF (2012)'!$C$20*J$2/J$8","v":7.1388798405620859},{"$f":"[4]Gaspreise!M97*'DCF (2012)'!$C$20*K$2/K$8","v":7.127909189887947},{"$f":"[4]Gaspreise!N97*'DCF (2012)'!$C$20*L$2/L$8","v":7.5873732926045525},{"$f":"[4]Gaspreise!O97*'DCF (2012)'!$C$20*M$2/M$8","v":7.1742345612892002},{"$f":"[4]Gaspreise!P97*'DCF (2012)'!$C$20*N$2/N$8","v":7.3799902111718279},{"$f":"[4]Gaspreise!Q97*'DCF (2012)'!$C$20*O$2/O$8","v":7.0854659998013405},{"$f":"[4]Gaspreise!R97*'DCF (2012)'!$C$20*P$2/P$8","v":7.2185420400700639},{"$f":"[4]Gaspreise!S97*'DCF (2012)'!$C$20*Q$2/Q$8","v":7.1080825371767409},{"$f":"[4]Gaspreise!T97*'DCF (2012)'!$C$20*R$2/R$8","v":6.7979691253691623},{"$f":"[4]Gaspreise!U97*'DCF (2012)'!$C$20*S$2/S$8","v":8.3521128663710247},{"$f":"[4]Gaspreise!V97*'DCF (2012)'!$C$20*T$2/T$8","v":7.7177073346890799},{"$f":"[4]Gaspreise!W97*'DCF (2012)'!$C$20*U$2/U$8","v":7.3134559360430638},{"$f":"[4]Gaspreise!X97*'DCF (2012)'!$C$20*V$2/V$8","v":7.6055431631585657},{"$f":"[4]Gaspreise!Y97*'DCF (2012)'!$C$20*W$2/W$8","v":7.1789383708944827},{"$f":"[4]Gaspreise!Z97*'DCF (2012)'!$C$20*X$2/X$8","v":7.6193439486548273},{"$f":"[4]Gaspreise!AA97*'DCF (2012)'!$C$20*Y$2/Y$8","v":7.747582547755373},{"$f":"[4]Gaspreise!AB97*'DCF (2012)'!$C$20*Z$2/Z$8","v":7.88242516040415},{"$f":"[4]Gaspreise!AC97*'DCF (2012)'!$C$20*AA$2/AA$8","v":8.0760353722461371},{"$f":"[4]Gaspreise!AD97*'DCF (2012)'!$C$20*AB$2/AB$8","v":8.2142410905052099}]
[95,null,null,null,{"$f":"[4]Gaspreise!G98*'DCF (2012)'!$C$20","v":6.8713888888888892},{"$f":"[4]Gaspreise!H98*'DCF (2012)'!$C$20","v":7.3900450116666692},{"$f":"[4]Gaspreise!I98*'DCF (2012)'!$C$20*G$2/G$8","v":5.6902098334367768},{"$f":"[4]Gaspreise!J98*'DCF (2012)'!$C$20*H$2/H$8","v":6.8069771873525093},{"$f":"[4]Gaspreise!K98*'DCF (2012)'!$C$20*I$2/I$8","v":7.1078800497633967},{"$f":"[4]Gaspreise!L98*'DCF (2012)'!$C$20*J$2/J$8","v":7.1388798405620859},{"$f":"[4]Gaspreise!M98*'DCF (2012)'!$C$20*K$2/K$8","v":7.127909189887947},{"$f":"[4]Gaspreise!N98*'DCF (2012)'!$C$20*L$2/L$8","v":7.5873732926045525},{"$f":"[4]Gaspreise!O98*'DCF (2012)'!$C$20*M$2/M$8","v":7.1742345612892002},{"$f":"[4]Gaspreise!P98*'DCF (2012)'!$C$20*N$2/N$8","v":7.3799902111718279},{"$f":"[4]Gaspreise!Q98*'DCF (2012)'!$C$20*O$2/O$8","v":7.0854659998013405},{"$f":"[4]Gaspreise!R98*'DCF (2012)'!$C$20*P$2/P$8","v":7.2185420400700639},{"$f":"[4]Gaspreise!S98*'DCF (2012)'!$C$20*Q$2/Q$8","v":7.1080825371767409},{"$f":"[4]Gaspreise!T98*'DCF (2012)'!$C$20*R$2/R$8","v":6.7979691253691623},{"$f":"[4]Gaspreise!U98*'DCF (2012)'!$C$20*S$2/S$8","v":8.3521128663710247},{"$f":"[4]Gaspreise!V98*'DCF (2012)'!$C$20*T$2/T$8","v":7.7177073346890799},{"$f":"[4]Gaspreise!W98*'DCF (2012)'!$C$20*U$2/U$8","v":7.3134559360430638},{"$f":"[4]Gaspreise!X98*'DCF (2012)'!$C$20*V$2/V$8","v":7.6055431631585657},{"$f":"[4]Gaspreise!Y98*'DCF (2012)'!$C$20*W$2/W$8","v":7.1789383708944827},{"$f":"[4]Gaspreise!Z98*'DCF (2012)'!$C$20*X$2/X$8","v":7.6193439486548273},{"$f":"[4]Gaspreise!AA98*'DCF (2012)'!$C$20*Y$2/Y$8","v":7.747582547755373},{"$f":"[4]Gaspreise!AB98*'DCF (2012)'!$C$20*Z$2/Z$8","v":7.88242516040415},{"$f":"[4]Gaspreise!AC98*'DCF (2012)'!$C$20*AA$2/AA$8","v":8.0760353722461371},{"$f":"[4]Gaspreise!AD98*'DCF (2012)'!$C$20*AB$2/AB$8","v":8.2142410905052099}]
[96,null,null,null,{"$f":"[4]Gaspreise!G99*'DCF (2012)'!$C$20","v":6.8713888888888892},{"$f":"[4]Gaspreise!H99*'DCF (2012)'!$C$20","v":7.3900450116666692},{"$f":"[4]Gaspreise!I99*'DCF (2012)'!$C$20*G$2/G$8","v":5.6902098334367768},{"$f":"[4]Gaspreise!J99*'DCF (2012)'!$C$20*H$2/H$8","v":6.8069771873525093},{"$f":"[4]Gaspreise!K99*'DCF (2012)'!$C$20*I$2/I$8","v":7.1078800497633967},{"$f":"[4]Gaspreise!L99*'DCF (2012)'!$C$20*J$2/J$8","v":7.1388798405620859},{"$f":"[4]Gaspreise!M99*'DCF (2012)'!$C$20*K$2/K$8","v":7.127909189887947},{"$f":"[4]Gaspreise!N99*'DCF (2012)'!$C$20*L$2/L$8","v":7.5873732926045525},{"$f":"[4]Gaspreise!O99*'DCF (2012)'!$C$20*M$2/M$8","v":7.1742345612892002},{"$f":"[4]Gaspreise!P99*'DCF (2012)'!$C$20*N$2/N$8","v":7.3799902111718279},{"$f":"[4]Gaspreise!Q99*'DCF (2012)'!$C$20*O$2/O$8","v":7.0854659998013405},{"$f":"[4]Gaspreise!R99*'DCF (2012)'!$C$20*P$2/P$8","v":7.2185420400700639},{"$f":"[4]Gaspreise!S99*'DCF (2012)'!$C$20*Q$2/Q$8","v":7.1080825371767409},{"$f":"[4]Gaspreise!T99*'DCF (2012)'!$C$20*R$2/R$8","v":6.7979691253691623},{"$f":"[4]Gaspreise!U99*'DCF (2012)'!$C$20*S$2/S$8","v":8.3521128663710247},{"$f":"[4]Gaspreise!V99*'DCF (2012)'!$C$20*T$2/T$8","v":7.7177073346890799},{"$f":"[4]Gaspreise!W99*'DCF (2012)'!$C$20*U$2/U$8","v":7.3134559360430638},{"$f":"[4]Gaspreise!X99*'DCF (2012)'!$C$20*V$2/V$8","v":7.6055431631585657},{"$f":"[4]Gaspreise!Y99*'DCF (2012)'!$C$20*W$2/W$8","v":7.1789383708944827},{"$f":"[4]Gaspreise!Z99*'DCF (2012)'!$C$20*X$2/X$8","v":7.6193439486548273},{"$f":"[4]Gaspreise!AA99*'DCF (2012)'!$C$20*Y$2/Y$8","v":7.747582547755373},{"$f":"[4]Gaspreise!AB99*'DCF (2012)'!$C$20*Z$2/Z$8","v":7.88242516040415},{"$f":"[4]Gaspreise!AC99*'DCF (2012)'!$C$20*AA$2/AA$8","v":8.0760353722461371},{"$f":"[4]Gaspreise!AD99*'DCF (2012)'!$C$20*AB$2/AB$8","v":8.2142410905052099}]
[97,null,null,null,{"$f":"[4]Gaspreise!G100*'DCF (2012)'!$C$20","v":6.8713888888888892},{"$f":"[4]Gaspreise!H100*'DCF (2012)'!$C$20","v":7.3900450116666692},{"$f":"[4]Gaspreise!I100*'DCF (2012)'!$C$20*G$2/G$8","v":5.6902098334367768},{"$f":"[4]Gaspreise!J100*'DCF (2012)'!$C$20*H$2/H$8","v":6.8069771873525093},{"$f":"[4]Gaspreise!K100*'DCF (2012)'!$C$20*I$2/I$8","v":7.1078800497633967},{"$f":"[4]Gaspreise!L100*'DCF (2012)'!$C$20*J$2/J$8","v":7.1388798405620859},{"$f":"[4]Gaspreise!M100*'DCF (2012)'!$C$20*K$2/K$8","v":7.127909189887947},{"$f":"[4]Gaspreise!N100*'DCF (2012)'!$C$20*L$2/L$8","v":7.5873732926045525},{"$f":"[4]Gaspreise!O100*'DCF (2012)'!$C$20*M$2/M$8","v":7.1742345612892002},{"$f":"[4]Gaspreise!P100*'DCF (2012)'!$C$20*N$2/N$8","v":7.3799902111718279},{"$f":"[4]Gaspreise!Q100*'DCF (2012)'!$C$20*O$2/O$8","v":7.0854659998013405},{"$f":"[4]Gaspreise!R100*'DCF (2012)'!$C$20*P$2/P$8","v":7.2185420400700639},{"$f":"[4]Gaspreise!S100*'DCF (2012)'!$C$20*Q$2/Q$8","v":7.1080825371767409},{"$f":"[4]Gaspreise!T100*'DCF (2012)'!$C$20*R$2/R$8","v":6.7979691253691623},{"$f":"[4]Gaspreise!U100*'DCF (2012)'!$C$20*S$2/S$8","v":8.3521128663710247},{"$f":"[4]Gaspreise!V100*'DCF (2012)'!$C$20*T$2/T$8","v":7.7177073346890799},{"$f":"[4]Gaspreise!W100*'DCF (2012)'!$C$20*U$2/U$8","v":7.3134559360430638},{"$f":"[4]Gaspreise!X100*'DCF (2012)'!$C$20*V$2/V$8","v":7.6055431631585657},{"$f":"[4]Gaspreise!Y100*'DCF (2012)'!$C$20*W$2/W$8","v":7.1789383708944827},{"$f":"[4]Gaspreise!Z100*'DCF (2012)'!$C$20*X$2/X$8","v":7.6193439486548273},{"$f":"[4]Gaspreise!AA100*'DCF (2012)'!$C$20*Y$2/Y$8","v":7.747582547755373},{"$f":"[4]Gaspreise!AB100*'DCF (2012)'!$C$20*Z$2/Z$8","v":7.88242516040415},{"$f":"[4]Gaspreise!AC100*'DCF (2012)'!$C$20*AA$2/AA$8","v":8.0760353722461371},{"$f":"[4]Gaspreise!AD100*'DCF (2012)'!$C$20*AB$2/AB$8","v":8.2142410905052099}]
[98,null,null,null,{"$f":"[4]Gaspreise!G101*'DCF (2012)'!$C$20","v":6.8713888888888892},{"$f":"[4]Gaspreise!H101*'DCF (2012)'!$C$20","v":7.3900450116666692},{"$f":"[4]Gaspreise!I101*'DCF (2012)'!$C$20*G$2/G$8","v":5.6902098334367768},{"$f":"[4]Gaspreise!J101*'DCF (2012)'!$C$20*H$2/H$8","v":6.8069771873525093},{"$f":"[4]Gaspreise!K101*'DCF (2012)'!$C$20*I$2/I$8","v":7.1078800497633967},{"$f":"[4]Gaspreise!L101*'DCF (2012)'!$C$20*J$2/J$8","v":7.1388798405620859},{"$f":"[4]Gaspreise!M101*'DCF (2012)'!$C$20*K$2/K$8","v":7.127909189887947},{"$f":"[4]Gaspreise!N101*'DCF (2012)'!$C$20*L$2/L$8","v":7.5873732926045525},{"$f":"[4]Gaspreise!O101*'DCF (2012)'!$C$20*M$2/M$8","v":7.1742345612892002},{"$f":"[4]Gaspreise!P101*'DCF (2012)'!$C$20*N$2/N$8","v":7.3799902111718279},{"$f":"[4]Gaspreise!Q101*'DCF (2012)'!$C$20*O$2/O$8","v":7.0854659998013405},{"$f":"[4]Gaspreise!R101*'DCF (2012)'!$C$20*P$2/P$8","v":7.2185420400700639},{"$f":"[4]Gaspreise!S101*'DCF (2012)'!$C$20*Q$2/Q$8","v":7.1080825371767409},{"$f":"[4]Gaspreise!T101*'DCF (2012)'!$C$20*R$2/R$8","v":6.7979691253691623},{"$f":"[4]Gaspreise!U101*'DCF (2012)'!$C$20*S$2/S$8","v":8.3521128663710247},{"$f":"[4]Gaspreise!V101*'DCF (2012)'!$C$20*T$2/T$8","v":7.7177073346890799},{"$f":"[4]Gaspreise!W101*'DCF (2012)'!$C$20*U$2/U$8","v":7.3134559360430638},{"$f":"[4]Gaspreise!X101*'DCF (2012)'!$C$20*V$2/V$8","v":7.6055431631585657},{"$f":"[4]Gaspreise!Y101*'DCF (2012)'!$C$20*W$2/W$8","v":7.1789383708944827},{"$f":"[4]Gaspreise!Z101*'DCF (2012)'!$C$20*X$2/X$8","v":7.6193439486548273},{"$f":"[4]Gaspreise!AA101*'DCF (2012)'!$C$20*Y$2/Y$8","v":7.747582547755373},{"$f":"[4]Gaspreise!AB101*'DCF (2012)'!$C$20*Z$2/Z$8","v":7.88242516040415},{"$f":"[4]Gaspreise!AC101*'DCF (2012)'!$C$20*AA$2/AA$8","v":8.0760353722461371},{"$f":"[4]Gaspreise!AD101*'DCF (2012)'!$C$20*AB$2/AB$8","v":8.2142410905052099}]
[99,null,null,null,{"$f":"[4]Gaspreise!G102*'DCF (2012)'!$C$20","v":6.8713888888888892},{"$f":"[4]Gaspreise!H102*'DCF (2012)'!$C$20","v":7.3900450116666692},{"$f":"[4]Gaspreise!I102*'DCF (2012)'!$C$20*G$2/G$8","v":5.6902098334367768},{"$f":"[4]Gaspreise!J102*'DCF (2012)'!$C$20*H$2/H$8","v":6.8069771873525093},{"$f":"[4]Gaspreise!K102*'DCF (2012)'!$C$20*I$2/I$8","v":7.1078800497633967},{"$f":"[4]Gaspreise!L102*'DCF (2012)'!$C$20*J$2/J$8","v":7.1388798405620859},{"$f":"[4]Gaspreise!M102*'DCF (2012)'!$C$20*K$2/K$8","v":7.127909189887947},{"$f":"[4]Gaspreise!N102*'DCF (2012)'!$C$20*L$2/L$8","v":7.5873732926045525},{"$f":"[4]Gaspreise!O102*'DCF (2012)'!$C$20*M$2/M$8","v":7.1742345612892002},{"$f":"[4]Gaspreise!P102*'DCF (2012)'!$C$20*N$2/N$8","v":7.3799902111718279},{"$f":"[4]Gaspreise!Q102*'DCF (2012)'!$C$20*O$2/O$8","v":7.0854659998013405},{"$f":"[4]Gaspreise!R102*'DCF (2012)'!$C$20*P$2/P$8","v":7.2185420400700639},{"$f":"[4]Gaspreise!S102*'DCF (2012)'!$C$20*Q$2/Q$8","v":7.1080825371767409},{"$f":"[4]Gaspreise!T102*'DCF (2012)'!$C$20*R$2/R$8","v":6.7979691253691623},{"$f":"[4]Gaspreise!U102*'DCF (2012)'!$C$20*S$2/S$8","v":8.3521128663710247},{"$f":"[4]Gaspreise!V102*'DCF (2012)'!$C$20*T$2/T$8","v":7.7177073346890799},{"$f":"[4]Gaspreise!W102*'DCF (2012)'!$C$20*U$2/U$8","v":7.3134559360430638},{"$f":"[4]Gaspreise!X102*'DCF (2012)'!$C$20*V$2/V$8","v":7.6055431631585657},{"$f":"[4]Gaspreise!Y102*'DCF (2012)'!$C$20*W$2/W$8","v":7.1789383708944827},{"$f":"[4]Gaspreise!Z102*'DCF (2012)'!$C$20*X$2/X$8","v":7.6193439486548273},{"$f":"[4]Gaspreise!AA102*'DCF (2012)'!$C$20*Y$2/Y$8","v":7.747582547755373},{"$f":"[4]Gaspreise!AB102*'DCF (2012)'!$C$20*Z$2/Z$8","v":7.88242516040415},{"$f":"[4]Gaspreise!AC102*'DCF (2012)'!$C$20*AA$2/AA$8","v":8.0760353722461371},{"$f":"[4]Gaspreise!AD102*'DCF (2012)'!$C$20*AB$2/AB$8","v":8.2142410905052099}]
[100,null,null,null,{"$f":"[4]Gaspreise!G103*'DCF (2012)'!$C$20","v":6.8713888888888892},{"$f":"[4]Gaspreise!H103*'DCF (2012)'!$C$20","v":7.3900450116666692},{"$f":"[4]Gaspreise!I103*'DCF (2012)'!$C$20*G$2/G$8","v":5.6902098334367768},{"$f":"[4]Gaspreise!J103*'DCF (2012)'!$C$20*H$2/H$8","v":6.8069771873525093},{"$f":"[4]Gaspreise!K103*'DCF (2012)'!$C$20*I$2/I$8","v":7.1078800497633967},{"$f":"[4]Gaspreise!L103*'DCF (2012)'!$C$20*J$2/J$8","v":7.1388798405620859},{"$f":"[4]Gaspreise!M103*'DCF (2012)'!$C$20*K$2/K$8","v":7.127909189887947},{"$f":"[4]Gaspreise!N103*'DCF (2012)'!$C$20*L$2/L$8","v":7.5873732926045525},{"$f":"[4]Gaspreise!O103*'DCF (2012)'!$C$20*M$2/M$8","v":7.1742345612892002},{"$f":"[4]Gaspreise!P103*'DCF (2012)'!$C$20*N$2/N$8","v":7.3799902111718279},{"$f":"[4]Gaspreise!Q103*'DCF (2012)'!$C$20*O$2/O$8","v":7.0854659998013405},{"$f":"[4]Gaspreise!R103*'DCF (2012)'!$C$20*P$2/P$8","v":7.2185420400700639},{"$f":"[4]Gaspreise!S103*'DCF (2012)'!$C$20*Q$2/Q$8","v":7.1080825371767409},{"$f":"[4]Gaspreise!T103*'DCF (2012)'!$C$20*R$2/R$8","v":6.7979691253691623},{"$f":"[4]Gaspreise!U103*'DCF (2012)'!$C$20*S$2/S$8","v":8.3521128663710247},{"$f":"[4]Gaspreise!V103*'DCF (2012)'!$C$20*T$2/T$8","v":7.7177073346890799},{"$f":"[4]Gaspreise!W103*'DCF (2012)'!$C$20*U$2/U$8","v":7.3134559360430638},{"$f":"[4]Gaspreise!X103*'DCF (2012)'!$C$20*V$2/V$8","v":7.6055431631585657},{"$f":"[4]Gaspreise!Y103*'DCF (2012)'!$C$20*W$2/W$8","v":7.1789383708944827},{"$f":"[4]Gaspreise!Z103*'DCF (2012)'!$C$20*X$2/X$8","v":7.6193439486548273},{"$f":"[4]Gaspreise!AA103*'DCF (2012)'!$C$20*Y$2/Y$8","v":7.747582547755373},{"$f":"[4]Gaspreise!AB103*'DCF (2012)'!$C$20*Z$2/Z$8","v":7.88242516040415},{"$f":"[4]Gaspreise!AC103*'DCF (2012)'!$C$20*AA$2/AA$8","v":8.0760353722461371},{"$f":"[4]Gaspreise!AD103*'DCF (2012)'!$C$20*AB$2/AB$8","v":8.2142410905052099}]
[101,null,null,null,{"$f":"[4]Gaspreise!G104*'DCF (2012)'!$C$20","v":6.8713888888888892},{"$f":"[4]Gaspreise!H104*'DCF (2012)'!$C$20","v":7.3900450116666692},{"$f":"[4]Gaspreise!I104*'DCF (2012)'!$C$20*G$2/G$8","v":5.6902098334367768},{"$f":"[4]Gaspreise!J104*'DCF (2012)'!$C$20*H$2/H$8","v":6.8069771873525093},{"$f":"[4]Gaspreise!K104*'DCF (2012)'!$C$20*I$2/I$8","v":7.1078800497633967},{"$f":"[4]Gaspreise!L104*'DCF (2012)'!$C$20*J$2/J$8","v":7.1388798405620859},{"$f":"[4]Gaspreise!M104*'DCF (2012)'!$C$20*K$2/K$8","v":7.127909189887947},{"$f":"[4]Gaspreise!N104*'DCF (2012)'!$C$20*L$2/L$8","v":7.5873732926045525},{"$f":"[4]Gaspreise!O104*'DCF (2012)'!$C$20*M$2/M$8","v":7.1742345612892002},{"$f":"[4]Gaspreise!P104*'DCF (2012)'!$C$20*N$2/N$8","v":7.3799902111718279},{"$f":"[4]Gaspreise!Q104*'DCF (2012)'!$C$20*O$2/O$8","v":7.0854659998013405},{"$f":"[4]Gaspreise!R104*'DCF (2012)'!$C$20*P$2/P$8","v":7.2185420400700639},{"$f":"[4]Gaspreise!S104*'DCF (2012)'!$C$20*Q$2/Q$8","v":7.1080825371767409},{"$f":"[4]Gaspreise!T104*'DCF (2012)'!$C$20*R$2/R$8","v":6.7979691253691623},{"$f":"[4]Gaspreise!U104*'DCF (2012)'!$C$20*S$2/S$8","v":8.3521128663710247},{"$f":"[4]Gaspreise!V104*'DCF (2012)'!$C$20*T$2/T$8","v":7.7177073346890799},{"$f":"[4]Gaspreise!W104*'DCF (2012)'!$C$20*U$2/U$8","v":7.3134559360430638},{"$f":"[4]Gaspreise!X104*'DCF (2012)'!$C$20*V$2/V$8","v":7.6055431631585657},{"$f":"[4]Gaspreise!Y104*'DCF (2012)'!$C$20*W$2/W$8","v":7.1789383708944827},{"$f":"[4]Gaspreise!Z104*'DCF (2012)'!$C$20*X$2/X$8","v":7.6193439486548273},{"$f":"[4]Gaspreise!AA104*'DCF (2012)'!$C$20*Y$2/Y$8","v":7.747582547755373},{"$f":"[4]Gaspreise!AB104*'DCF (2012)'!$C$20*Z$2/Z$8","v":7.88242516040415},{"$f":"[4]Gaspreise!AC104*'DCF (2012)'!$C$20*AA$2/AA$8","v":8.0760353722461371},{"$f":"[4]Gaspreise!AD104*'DCF (2012)'!$C$20*AB$2/AB$8","v":8.2142410905052099}]
[102,null,null,null,{"$f":"[4]Gaspreise!G105*'DCF (2012)'!$C$20","v":6.8713888888888892},{"$f":"[4]Gaspreise!H105*'DCF (2012)'!$C$20","v":7.3900450116666692},{"$f":"[4]Gaspreise!I105*'DCF (2012)'!$C$20*G$2/G$8","v":5.6902098334367768},{"$f":"[4]Gaspreise!J105*'DCF (2012)'!$C$20*H$2/H$8","v":6.8069771873525093},{"$f":"[4]Gaspreise!K105*'DCF (2012)'!$C$20*I$2/I$8","v":7.1078800497633967},{"$f":"[4]Gaspreise!L105*'DCF (2012)'!$C$20*J$2/J$8","v":7.1388798405620859},{"$f":"[4]Gaspreise!M105*'DCF (2012)'!$C$20*K$2/K$8","v":7.127909189887947},{"$f":"[4]Gaspreise!N105*'DCF (2012)'!$C$20*L$2/L$8","v":7.5873732926045525},{"$f":"[4]Gaspreise!O105*'DCF (2012)'!$C$20*M$2/M$8","v":7.1742345612892002},{"$f":"[4]Gaspreise!P105*'DCF (2012)'!$C$20*N$2/N$8","v":7.3799902111718279},{"$f":"[4]Gaspreise!Q105*'DCF (2012)'!$C$20*O$2/O$8","v":7.0854659998013405},{"$f":"[4]Gaspreise!R105*'DCF (2012)'!$C$20*P$2/P$8","v":7.2185420400700639},{"$f":"[4]Gaspreise!S105*'DCF (2012)'!$C$20*Q$2/Q$8","v":7.1080825371767409},{"$f":"[4]Gaspreise!T105*'DCF (2012)'!$C$20*R$2/R$8","v":6.7979691253691623},{"$f":"[4]Gaspreise!U105*'DCF (2012)'!$C$20*S$2/S$8","v":8.3521128663710247},{"$f":"[4]Gaspreise!V105*'DCF (2012)'!$C$20*T$2/T$8","v":7.7177073346890799},{"$f":"[4]Gaspreise!W105*'DCF (2012)'!$C$20*U$2/U$8","v":7.3134559360430638},{"$f":"[4]Gaspreise!X105*'DCF (2012)'!$C$20*V$2/V$8","v":7.6055431631585657},{"$f":"[4]Gaspreise!Y105*'DCF (2012)'!$C$20*W$2/W$8","v":7.1789383708944827},{"$f":"[4]Gaspreise!Z105*'DCF (2012)'!$C$20*X$2/X$8","v":7.6193439486548273},{"$f":"[4]Gaspreise!AA105*'DCF (2012)'!$C$20*Y$2/Y$8","v":7.747582547755373},{"$f":"[4]Gaspreise!AB105*'DCF (2012)'!$C$20*Z$2/Z$8","v":7.88242516040415},{"$f":"[4]Gaspreise!AC105*'DCF (2012)'!$C$20*AA$2/AA$8","v":8.0760353722461371},{"$f":"[4]Gaspreise!AD105*'DCF (2012)'!$C$20*AB$2/AB$8","v":8.2142410905052099}]

{"sheet":"Load point","index":3,"n_rows":8762,"n_cols":16,"rows_kept":8762,"cut":false,"hidden":false,"merged":[]}
[null,null,{"$f":"AVERAGE(C3:C8762)","v":55.299926594897705},{"$f":"AVERAGE(D3:D8762)","v":55.299926594897592}]
[null,"Load Point LTM","Courbe horaire Snet - PMT 2010","Courbe horaire Snet - PMT 2010 - moyenne load point",null,"Load Point LTM","Moyenne courbe horaire PMT 2010"]
[1,1,37.814912889330351,{"$f":"VLOOKUP(B3,$F$3:$G$122,2,FALSE)","v":49.666295767382252},null,1,{"$f":"AVERAGEIF($B$3:$B$8762,F3,$C$3:$C$8762)","v":49.666295767382252}]
[2,1,37.068731197581876,{"$f":"VLOOKUP(B4,$F$3:$G$122,2,FALSE)","v":49.666295767382252},null,2,{"$f":"AVERAGEIF($B$3:$B$8762,F4,$C$3:$C$8762)","v":42.734448810669306}]
[3,1,34.638239506247352,49.666295767382252,null,3,57.396518808760078]
[4,1,30.845518887101381,49.666295767382252,null,4,78.59916545931614]
[5,2,29.595416323864914,42.734448810669306,null,5,84.481101727651378]
[6,2,34.725641749321412,42.734448810669306,null,6,79.254738953433161]
[7,3,40.435604714453781,57.396518808760078,null,7,67.845992637923729]
[8,3,54.923061231485171,57.396518808760078,null,8,84.125777406658472]
[9,4,60.717888648669131,78.59916545931614,null,9,68.764662401462914]
[10,4,65.542928303547015,78.59916545931614,null,10,60.961279267706196]
[11,5,62.527883907594472,84.481101727651378,null,11,51.718611653911893]
[12,5,62.571817834490069,84.481101727651378,null,12,76.481275485137502]
[13,6,61.023018655316136,79.254738953433161,null,13,99.023638879362679]
[14,6,59.046149177843695,79.254738953433161,null,14,94.947192760329187]
[15,7,54.557522903835988,67.845992637923729,null,15,85.080031650187152]
[16,7,51.431116700629644,67.845992637923729,null,16,104.09736273245916]
[17,7,49.518338505909348,67.845992637923729,null,17,69.98606017864013]
[18,8,53.132993543761486,84.125777406658472,null,18,36.831728017263949]
[19,8,66.539966987535649,84.125777406658472,null,19,32.743055809668924]
[20,8,59.490224947830477,84.125777406658472,null,20,44.956649889950562]
[21,9,50.368450725234844,68.764662401462914,null,21,64.519723764838218]
[22,9,43.793085626780375,68.764662401462914,null,22,66.140554556899929]
[23,10,42.645534677650026,60.961279267706196,null,23,61.964220110890267]
[24,10,39.296581319123746,60.961279267706196,null,24,57.187436590607021]
[25,1,50.628280699789315,49.666295767382252,null,25,58.732696445136142]
[26,1,48.279950008983441,49.666295767382252,null,26,54.055056030406305]
[27,1,45.612163089491013,49.666295767382252,null,27,46.575969987699438]
[28,1,42.159102964185983,49.666295767382252,null,28,38.139723662669375]
[29,2,38.820340060258403,42.734448810669306,null,29,61.334657157997903]
[30,2,38.477453308947098,42.734448810669306,null,30,79.97253389022778]
[31,3,40.302238658042988,57.396518808760078,null,31,79.641473064153232]
[32,3,45.066106428445302,57.396518808760078,null,32,69.904028311588434]
[33,4,50.027726344850457,78.59916545931614,null,33,69.819471973609154]
[34,4,56.49357483095131,78.59916545931614,null,34,53.410488481573765]
[35,5,59.264283177643733,84.481101727651378,null,35,28.315239199738794]
[36,5,59.554332123538259,84.481101727651378,null,36,23.612879162830648]
[37,6,57.454802374710042,79.254738953433161,null,37,34.549007945989857]
[38,6,52.865141566594396,79.254738953433161,null,38,49.946803116733996]
[39,7,49.397508819458459,67.845992637923729,null,39,57.779276885918939]
[40,7,46.536084236802942,67.845992637923729,null,40,56.126300039964555]
[41,7,46.281545831197747,67.845992637923729,null,41,49.627989056185115]
[42,8,52.255567497450457,84.125777406658472,null,42,45.48451624154589]
[43,8,59.858785493188442,84.125777406658472,null,43,42.024862192502759]
[44,8,59.399738824844512,84.125777406658472,null,44,41.697012250062983]
[45,9,54.896733851332549,68.764662401462914,null,45,29.33276457748677]
[46,9,50.014959335293675,68.764662401462914,null,46,47.966090788282415]
[47,10,51.164067130311089,60.961279267706196,null,47,69.215986447771172]
[48,10,48.197079912615777,60.961279267706196,null,48,74.187380103848582]
[49,1,45.640478776766194,49.666295767382252,null,49,65.987713629176]
[50,1,41.577985880224318,49.666295767382252,null,50,52.635095066642116]
[51,1,37.529751487918453,49.666295767382252,null,51,45.698614409430235]
[52,1,33.799513668478433,49.666295767382252,null,52,28.60563217311234]
[53,2,29.570161013458879,42.734448810669306,null,53,22.30099907813953]
[54,2,28.701019962171394,42.734448810669306,null,54,31.47294475227363]
[55,3,28.311293639282102,57.396518808760078,null,55,50.501475671387389]
[56,3,26.16161644048087,57.396518808760078,null,56,61.513654530870475]
[57,4,30.072630625477064,78.59916545931614,null,57,59.370333256427784]
[58,4,40.31042018782972,78.59916545931614,null,58,52.696967168258567]
[59,5,45.105884519535188,84.481101727651378,null,59,47.920176210417743]
[60,5,50.29973661457764,84.481101727651378,null,60,43.819359460168663]
[61,6,48.833161226890951,79.254738953433161,null,61,42.400900975554315]
[62,6,46.429587957504523,79.254738953433161,null,62,26.7262461144092]
[63,7,41.305615648016484,67.845992637923729,null,63,44.446516874427935]
[64,7,38.744454991572361,67.845992637923729,null,64,69.097192262774172]
[65,7,34.596503007176757,67.845992637923729,null,65,75.149858085294909]
[66,8,39.192874722290405,{"$f":"VLOOKUP(B68,$F$3:$G$122,2,FALSE)","v":84.125777406658472},null,66,{"$f":"AVERAGEIF($B$3:$B$8762,F68,$C$3:$C$8762)","v":66.269019767651812}]
[67,8,51.730065072902988,84.125777406658472,null,67,56.121650634622469]
[68,8,62.361837408835598,84.125777406658472,null,68,47.492450685848297]
[69,9,59.095794168047533,68.764662401462914,null,69,32.555553346132236]
[70,9,53.384921523289265,68.764662401462914,null,70,24.564664754138789]
[71,10,56.678671238712511,60.961279267706196,null,71,44.614086251465196]
[72,10,54.158696274117361,60.961279267706196,null,72,60.174888847080453]
[73,1,44.243480054936121,49.666295767382252,null,73,68.048101059795684]
[74,1,44.545646653955437,49.666295767382252,null,74,65.221760771411553]
[75,1,42.885264029865645,49.666295767382252,null,75,57.00554689534146]
[76,1,37.712901891086766,49.666295767382252,null,76,59.686159325651666]
[77,2,34.869839094789675,42.734448810669306,null,77,58.793732008412952]
[78,2,42.942042604450208,42.734448810669306,null,78,47.783959608661071]
[79,3,49.088216171954159,57.396518808760078,null,79,33.387130271002924]
[80,3,72.993952290321133,57.396518808760078,null,80,63.536417516121539]
[81,4,93.633959767570559,78.59916545931614,null,81,79.174045004729408]
[82,4,97.669857075493013,78.59916545931614,null,82,81.988957271848534]
[83,5,100.27391523827899,84.481101727651378,null,83,73.812427465669259]
[84,5,98.920678151428092,84.481101727651378,null,84,72.102586943222008]
[85,6,92.187968289870454,79.254738953433161,null,85,58.589479422734449]
[86,6,88.968096457755721,79.254738953433161,null,86,39.247146471266376]
[87,7,79.369830097046304,67.845992637923729,null,87,29.579877140383346]
[88,7,73.571952862649056,67.845992637923729,null,88,55.611495709192049]
[89,7,66.802166611075165,67.845992637923729,null,89,75.492960183974958]
[90,8,67.689113342575993,84.125777406658472,null,90,82.267944222347396]
[91,8,106.97739197275926,84.125777406658472,null,91,80.039585270431076]
[92,8,101.68464126085074,84.125777406658472,null,92,69.169866661795552]
[93,9,74.91047635834768,68.764662401462914,null,93,77.242134697061232]
[94,9,61.866578141691036,68.764662401462914,null,94,72.967687837997147]
[95,10,62.323447489414946,60.961279267706196,null,95,59.462244704521183]
[96,10,53.528128839287184,60.961279267706196,null,96,39.781568451305439]
[97,1,54.90190524252376,49.666295767382252,null,97,78.813899616121134]
[98,1,53.327923260062072,49.666295767382252,null,98,96.823217898821412]
[99,1,51.324702953746645,49.666295767382252,null,99,96.727998423562752]
[100,1,46.870091876777117,49.666295767382252,null,100,89.021280320312073]
[101,2,44.163263703036328,42.734448810669306,null,101,92.975795449941415]
[102,2,48.768958492164906,42.734448810669306,null,102,69.952527262961922]
[103,3,57.656054008060366,57.396518808760078]
[104,3,76.750161659815774,57.396518808760078]
[105,4,85.632244546707625,78.59916545931614]
[106,4,90.040865278267987,78.59916545931614]
[107,5,92.631865916320663,84.481101727651378]
[108,5,92.775295327810525,84.481101727651378]
[109,6,86.989680799904008,79.254738953433161]
[110,6,83.437173238369027,79.254738953433161]
[111,7,80.226726568604875,67.845992637923729]
[112,7,78.601995392763371,67.845992637923729]
[113,7,77.761986257831069,67.845992637923729]
[114,8,83.106233342510265,84.125777406658472]
[115,8,117.81318187326805,84.125777406658472]
[116,8,107.14562871695053,84.125777406658472]
[117,9,81.360395522771,68.764662401462914]
[118,9,66.005720349713272,68.764662401462914]
[119,10,63.409218758696873,60.961279267706196]
[120,10,57.320913389132784,60.961279267706196]
[121,11,56.028098735722274,51.718611653911893]
[122,11,52.6527285550861,51.718611653911893]
[123,11,51.089638845312813,51.718611653911893]
[124,11,45.290564585380423,51.718611653911893]
[125,11,39.246209673896089,51.718611653911893]
[126,11,48.692275695612281,51.718611653911893]
[127,12,58.879387195683982,76.481275485137502]
[128,12,77.301326643015784,76.481275485137502]
[129,12,85.660892710577556,76.481275485137502]
[130,13,96.180195757649003,{"$f":"VLOOKUP(B132,$F$3:$G$122,2,FALSE)","v":99.023638879362679}]
[131,13,96.432767652018896,99.023638879362679]
[132,14,93.141747595874008,94.947192760329187]
[133,14,87.931185260448558,94.947192760329187]
[134,15,85.320921284318459,85.080031650187152]
[135,15,80.130966904509393,85.080031650187152]
[136,15,77.003102562363139,85.080031650187152]
[137,15,76.610653267380471,85.080031650187152]
[138,16,81.872808343146346,104.09736273245916]
[139,16,113.7815324309752,104.09736273245916]
[140,16,97.393426488504076,104.09736273245916]
[141,17,76.837286663794131,69.98606017864013]
[142,17,66.72247483555627,69.98606017864013]
[143,17,63.849256026518844,69.98606017864013]
[144,17,58.935865439891117,69.98606017864013]
[145,11,52.768570204107228,51.718611653911893]
[146,11,56.395699102031116,51.718611653911893]
[147,11,54.56541036791895,51.718611653911893]
[148,11,45.974557219406748,51.718611653911893]
[149,11,43.921195834435892,51.718611653911893]
[150,11,50.458972218520138,51.718611653911893]
[151,12,58.113933781789456,76.481275485137502]
[152,12,74.089678201970287,76.481275485137502]
[153,12,85.192872319193256,76.481275485137502]
[154,13,90.753777120820956,99.023638879362679]
[155,13,92.822907202133933,99.023638879362679]
[156,14,96.388635723440629,94.947192760329187]
[157,14,83.279847989768129,94.947192760329187]
[158,15,81.855058449585528,85.080031650187152]
[159,15,82.762188068067317,85.080031650187152]
[160,15,79.443238149620939,85.080031650187152]
[161,15,83.435831827858081,85.080031650187152]
[162,16,87.939522129298609,104.09736273245916]
[163,16,112.73990035080044,104.09736273245916]
[164,16,99.582566343715726,104.09736273245916]
[165,17,81.843859689614703,69.98606017864013]
[166,17,66.086502114792566,69.98606017864013]
[167,17,65.015382528972424,69.98606017864013]
[168,17,59.340807200625783,69.98606017864013]
[169,1,55.097883408960989,49.666295767382252]
[170,1,54.010665993594166,49.666295767382252]
[171,1,50.46933963307827,49.666295767382252]
[172,1,44.943189696199028,49.666295767382252]
[173,2,43.121738844784261,42.734448810669306]
[174,2,50.596688296095685,42.734448810669306]
[175,3,58.916339187348065,57.396518808760078]
[176,3,80.025159202454105,57.396518808760078]
[177,4,88.468461090824675,78.59916545931614]
[178,4,95.498742322097485,78.59916545931614]
[179,5,91.105698628271966,84.481101727651378]
[180,5,91.169712166763404,84.481101727651378]
[181,6,88.91304806052139,79.254738953433161]
[182,6,86.032667923106274,79.254738953433161]
[183,7,79.492554824460029,67.845992637923729]
[184,7,74.93725239714918,67.845992637923729]
[185,7,72.150255894781509,67.845992637923729]
[186,8,77.416956955869608,84.125777406658472]
[187,8,96.95146869291851,84.125777406658472]
[188,8,86.679704584835022,84.125777406658472]
[189,9,73.388904363495683,68.764662401462914]
[190,9,63.808326969961158,68.764662401462914]
[191,10,62.136298038251887,60.961279267706196]
[192,10,57.256735252264548,60.961279267706196]
[193,1,58.398729511494594,49.666295767382252]
[194,1,55.689976085141637,{"$f":"VLOOKUP(B196,$F$3:$G$122,2,FALSE)","v":49.666295767382252}]
[195,1,52.612736160097334,49.666295767382252]
[196,1,48.629698982904493,49.666295767382252]
[197,2,44.778501410432099,42.734448810669306]
[198,2,44.382988263113482,42.734448810669306]
[199,3,46.487842398893619,57.396518808760078]
[200,3,51.982870503875453,57.396518808760078]
[201,4,57.706001833480236,78.59916545931614]
[202,4,65.164231336495561,78.59916545931614]
[203,5,68.360189110633542,84.481101727651378]
[204,5,68.694754884984619,84.481101727651378]
[205,6,66.272988468894056,79.254738953433161]
[206,6,60.978904680586218,79.254738953433161]
[207,7,56.979058269723701,67.845992637923729]
[208,7,53.678461095371375,67.845992637923729]
[209,7,53.384856033264519,67.845992637923729]
[210,8,60.275772939015816,84.125777406658472]
[211,8,69.04593587982211,84.125777406658472]
[212,8,68.516434544852189,84.125777406658472]
[213,9,63.322306563371392,68.764662401462914]
[214,9,57.691275338180134,68.764662401462914]
[215,10,59.016748658095807,60.961279267706196]
[216,10,55.594387053172269,60.961279267706196]
[217,1,50.771550575719019,49.666295767382252]
[218,1,46.252337169367244,49.666295767382252]
[219,1,41.748985261149478,49.666295767382252]
[220,1,37.5993802792322,49.666295767382252]
[221,2,32.894548121858172,42.734448810669306]
[222,2,31.927695011953027,42.734448810669306]
[223,3,31.494154211251885,57.396518808760078]
[224,3,29.102802333585633,57.396518808760078]
[225,4,33.453507230155914,78.59916545931614]
[226,4,44.842267043367166,78.59916545931614]
[227,5,50.176855250517704,84.481101727651378]
[228,5,55.954619450057422,84.481101727651378]
[229,6,54.323166221154295,79.254738953433161]
[230,6,51.649374335534951,79.254738953433161]
[231,7,45.94934606606401,67.845992637923729]
[232,7,43.100250235207177,67.845992637923729]
[233,7,38.485970113575263,67.845992637923729]
[234,8,43.599082974203142,84.125777406658472]
[235,8,57.545750735444443,84.125777406658472]
[236,8,69.372786326011479,84.125777406658472]
[237,9,65.739562397901196,68.764662401462914]
[238,9,59.386652282014396,68.764662401462914]
[239,10,63.050697549337521,60.961279267706196]
[240,10,60.247417658469693,60.961279267706196]
[241,1,47.563004905659618,49.666295767382252]
[242,1,47.887842631210063,49.666295767382252]
[243,1,46.102883880298151,49.666295767382252]
[244,1,40.542446828892636,49.666295767382252]
[245,2,37.486073108754184,42.734448810669306]
[246,2,46.163922469897088,42.734448810669306]
[247,3,52.771234624800947,57.396518808760078]
[248,3,78.470583836469444,57.396518808760078]
[249,4,100.65918147106576,78.59916545931614]
[250,4,104.99788636537114,78.59916545931614]
[251,5,107.79732327714714,84.481101727651378]
[252,5,106.34255475259864,84.481101727651378]
[253,6,99.104699326758976,79.254738953433161]
[254,6,95.643245129297341,79.254738953433161]
[255,7,85.324834610201748,67.845992637923729]
[256,7,79.091950962721072,67.845992637923729]
[257,7,71.81423735850035,67.845992637923729]
[258,8,72.767730431130531,{"$f":"VLOOKUP(B260,$F$3:$G$122,2,FALSE)","v":84.125777406658472}]
[259,8,115.00375225631348,84.125777406658472]
[260,8,109.31389404980803,84.125777406658472]
[261,9,80.530901956476626,68.764662401462914]
[262,9,66.508338765303151,68.764662401462914]
[263,10,66.999486364905522,60.961279267706196]
[264,10,57.544267571459962,60.961279267706196]
[265,1,58.730773440253877,49.666295767382252]
[266,1,57.047021686965017,49.666295767382252]
[267,1,54.904096456202666,49.666295767382252]
[268,1,50.13882004602619,49.666295767382252]
[269,2,47.243217215643277,42.734448810669306]
[270,2,52.17011394172917,42.734448810669306]
[271,3,61.676997008542749,57.396518808760078]
[272,3,82.102730971423256,57.396518808760078]
[273,4,91.604251827635039,78.59916545931614]
[274,4,96.320330517901169,78.59916545931614]
[275,5,99.092027980581619,84.481101727651378]
[276,5,99.24546018359294,84.481101727651378]
[277,6,93.056355915715287,79.254738953433161]
[278,6,89.256095873378925,79.254738953433161]
[279,7,85.821752107510946,67.845992637923729]
[280,7,84.083711903475248,67.845992637923729]
[281,7,83.185120388781499,67.845992637923729]
[282,8,88.90207617296663,84.125777406658472]
[283,8,126.02949318988451,84.125777406658472]
[284,8,114.61798306436175,84.125777406658472]
[285,9,87.03448332711551,68.764662401462914]
[286,9,70.608970499209676,68.764662401462914]
[287,10,67.831388446171388,60.961279267706196]
[288,10,61.318483625921246,60.961279267706196]
[289,11,59.648721231376847,51.718611653911893]
[290,11,56.055229403157767,51.718611653911893]
[291,11,54.39113041601054,51.718611653911893]
[292,11,48.217310997965264,51.718611653911893]
[293,11,41.782360512865878,51.718611653911893]
[294,11,51.838845947437463,51.718611653911893]
[295,12,62.684264366629819,76.481275485137502]
[296,12,82.296658066054064,76.481275485137502]
[297,12,91.196432237069246,76.481275485137502]
[298,13,102.39550893540243,99.023638879362679]
[299,13,102.66440241667533,99.023638879362679]
[300,14,99.160711548602066,94.947192760329187]
[301,14,93.613434606892412,94.947192760329187]
[302,15,90.834491330824761,85.080031650187152]
[303,15,85.309154062733313,85.080031650187152]
[304,15,81.979162283531792,85.080031650187152]
[305,15,81.561352307428734,85.080031650187152]
[306,16,87.163555992247154,104.09736273245916]
[307,16,121.13427123892234,104.09736273245916]
[308,16,103.68714051468308,104.09736273245916]
[309,17,81.802631104843655,69.98606017864013]
[310,17,71.034184474229718,69.98606017864013]
[311,17,67.975293816786234,69.98606017864013]
[312,17,62.744392322429988,69.98606017864013]
[313,11,55.916609890180347,51.718611653911893]
[314,11,59.760124141601615,51.718611653911893]
[315,11,57.820645002108535,51.718611653911893]
[316,11,48.717283242047145,51.718611653911893]
[317,11,46.541423500483816,51.718611653911893]
[318,11,53.469227119267828,51.718611653911893]
[319,12,61.580864364734431,76.481275485137502]
[320,12,78.509681366847303,76.481275485137502]
[321,12,90.275264015500881,76.481275485137502]
[322,13,96.167918359295172,{"$f":"VLOOKUP(B324,$F$3:$G$122,2,FALSE)","v":99.023638879362679}]
[323,13,98.360487517816907,99.023638879362679]
[324,14,102.13893840115499,94.947192760329187]
[325,14,88.24811348394141,94.947192760329187]
[326,15,86.738324596620032,85.080031650187152]
[327,15,87.699571278125248,85.080031650187152]
[328,15,84.18262118611068,85.080031650187152]
[329,15,88.413402924036376,85.080031650187152]
[330,16,93.185772019461254,104.09736273245916]
[331,16,119.46567819802026,104.09736273245916]
[332,16,105.52341085927597,104.09736273245916]
[333,17,86.726457746900195,69.98606017864013]
[334,17,70.029055998030586,69.98606017864013]
[335,17,68.894036121722223,69.98606017864013]
[336,17,62.880929954541969,69.98606017864013]
[337,1,58.119118657467268,49.666295767382252]
[338,1,56.972284803593809,49.666295767382252]
[339,1,53.236773487778621,49.666295767382252]
[340,1,47.407602854915339,49.666295767382252]
[341,2,45.48627463661753,42.734448810669306]
[342,2,53.37110518255249,42.734448810669306]
[343,3,62.146955495139274,57.396518808760078]
[344,3,84.413255746112966,57.396518808760078]
[345,4,93.319537329902772,78.59916545931614]
[346,4,100.73531673549165,78.59916545931614]
[347,5,96.101385050425137,84.481101727651378]
[348,5,96.168908704857643,84.481101727651378]
[349,6,93.788502764628788,79.254738953433161]
[350,6,90.750179972036463,79.254738953433161]
[351,7,83.851446559862282,67.845992637923729]
[352,7,79.046358852074391,67.845992637923729]
[353,7,76.106540289230836,67.845992637923729]
[354,8,81.66203543649101,84.125777406658472]
[355,8,102.26770184901574,84.125777406658472]
[356,8,91.43269621752674,84.125777406658472]
[357,9,77.413108761085823,68.764662401462914]
[358,9,67.307190350228652,68.764662401462914]
[359,10,65.543477447512586,60.961279267706196]
[360,10,60.396348900842554,60.961279267706196]
[361,1,61.326731189044878,49.666295767382252]
[362,1,58.482165996874812,49.666295767382252]
[363,1,55.250639090964249,49.666295767382252]
[364,1,51.067899974463458,49.666295767382252]
[365,2,47.023610650730319,42.734448810669306]
[366,2,46.60826722339484,42.734448810669306]
[367,3,48.818654758482054,57.396518808760078]
[368,3,54.589193163844762,57.396518808760078]
[369,4,60.599271457434867,78.59916545931614]
[370,4,68.43144246018926,78.59916545931614]
[371,5,71.787639503269091,84.481101727651378]
[372,5,72.138979771804287,84.481101727651378]
[373,6,69.595790574974103,79.254738953433161]
[374,6,64.03627145369029,79.254738953433161]
[375,7,59.835880320384042,67.845992637923729]
[376,7,56.369797455773352,67.845992637923729]
[377,7,56.06147159200561,67.845992637923729]
[378,8,63.297886018485137,84.125777406658472]
[379,8,72.507768316508191,84.125777406658472]
[380,8,71.951718787595937,84.125777406658472]
[381,9,66.49716706795499,68.764662401462914]
[382,9,60.583806603555665,68.764662401462914]
[383,10,61.975736644991237,60.961279267706196]
[384,10,58.38178431190935,60.961279267706196]
[385,1,53.084598872971547,49.666295767382252]
[386,1,48.359499320619705,{"$f":"VLOOKUP(B388,$F$3:$G$122,2,FALSE)","v":49.666295767382252}]
[387,1,43.650983883907827,49.666295767382252]
[388,1,39.312331362002972,49.666295767382252]
[389,2,34.393156646895875,42.734448810669306]
[390,2,33.382255681169902,42.734448810669306]
[391,3,32.928963645781607,57.396518808760078]
[392,3,30.428666653655668,57.396518808760078]
[393,4,34.977580792188178,78.59916545931614]
[394,4,46.885189275472648,78.59916545931614]
[395,5,52.462810441616433,84.481101727651378]
[396,5,58.503797794519201,84.481101727651378]
[397,6,56.798018883804687,79.254738953433161]
[398,6,54.002414492990809,79.254738953433161]
[399,7,48.042704560590778,67.845992637923729]
[400,7,45.063809734321254,67.845992637923729]
[401,7,40.239312421026675,67.845992637923729]
[402,8,45.585368275552234,84.125777406658472]
[403,8,60.167417776206349,84.125777406658472]
[404,8,72.533268987413265,84.125777406658472]
[405,9,68.734522786983987,68.764662401462914]
[406,9,62.09218704277734,68.764662401462914]
[407,10,65.923158739774848,60.961279267706196]
[408,10,62.992167134280081,60.961279267706196]
[409,1,49.517008315139378,49.666295767382252]
[410,1,49.855191161009955,49.666295767382252]
[411,1,47.996901982552934,49.666295767382252]
[412,1,42.208028713162562,49.666295767382252]
[413,2,39.02609175996848,42.734448810669306]
[414,2,48.060448185210021,42.734448810669306]
[415,3,54.939204722229505,57.396518808760078]
[416,3,81.694345427320556,57.396518808760078]
[417,4,104.79450437970101,78.59916545931614]
[418,4,109.3114537767037,78.59916545931614]
[419,5,112.22589833530695,84.481101727651378]
[420,5,110.7113643972273,84.481101727651378]
[421,6,103.17616034491911,79.254738953433161]
[422,6,99.572501227540982,79.254738953433161]
[423,7,88.830185419561374,67.845992637923729]
[424,7,82.341239819682528,67.845992637923729]
[425,7,74.76454011851375,67.845992637923729]
[426,8,75.757204995333552,84.125777406658472]
[427,8,119.72838486641719,84.125777406658472]
[428,8,113.80477350749801,84.125777406658472]
[429,9,83.839306404504057,68.764662401462914]
[430,9,69.240662363528401,68.764662401462914]
[431,10,69.751987495775836,60.961279267706196]
[432,10,59.908325419648364,60.961279267706196]
[433,1,60.886258796601943,49.666295767382252]
[434,1,59.140711462643061,49.666295767382252]
[435,1,56.919138468807141,49.666295767382252]
[436,1,51.978971061638511,49.666295767382252]
[437,2,48.97709635480841,42.734448810669306]
[438,2,54.084815725025166,42.734448810669306]
[439,3,63.940612079280399,57.396518808760078]
[440,3,85.115993422412728,57.396518808760078]
[441,4,94.966230766913824,78.59916545931614]
[442,4,99.855394842588595,78.59916545931614]
[443,5,102.72881671554114,84.481101727651378]
[444,5,102.88788005275029,84.481101727651378]
[445,6,96.471628706145793,79.254738953433161]
[446,6,92.531894851500383,79.254738953433161]
[447,7,88.971506811696116,67.845992637923729]
[448,7,87.169678579866897,67.845992637923729]
[449,7,86.238107747214173,67.845992637923729]
[450,8,92.164882230419792,{"$f":"VLOOKUP(B452,$F$3:$G$122,2,FALSE)","v":84.125777406658472}]
[451,8,130.65491715633567,84.125777406658472]
[452,8,118.82459179088757,84.125777406658472]
[453,9,90.228746629296637,68.764662401462914]
[454,9,73.200399030160099,68.764662401462914]
[455,10,70.320876595773527,60.961279267706196]
[456,10,63.568940852805852,60.961279267706196]
[457,11,61.581599350046929,51.718611653911893]
[458,11,57.871662750154684,51.718611653911893]
[459,11,56.153639714793897,51.718611653911893]
[460,11,49.779761683329717,51.718611653911893]
[461,11,43.136290801973587,51.718611653911893]
[462,11,53.518650123628326,51.718611653911893]
[463,12,64.715507291506739,76.481275485137502]
[464,12,84.963427886626093,76.481275485137502]
[465,12,94.151593466562403,76.481275485137502]
[466,13,105.71356898070674,99.023638879362679]
[467,13,105.99117578081491,99.023638879362679]
[468,14,102.37395008293008,94.947192760329187]
[469,14,96.646917230322643,94.947192760329187]
[470,15,93.777924100034284,85.080031650187152]
[471,15,88.073541861936874,85.080031650187152]
[472,15,84.635643859223833,85.080031650187152]
[473,15,84.204295021869427,85.080031650187152]
[474,16,89.988034483066258,104.09736273245916]
[475,16,125.05954872124323,104.09736273245916]
[476,16,107.04705504346059,104.09736273245916]
[477,17,84.453392302202232,69.98606017864013]
[478,17,73.336001143781203,69.98606017864013]
[479,17,70.177989118819326,69.98606017864013]
[480,17,64.777583654710909,69.98606017864013]
[481,11,57.492505507900105,51.718611653911893]
[482,11,61.444341370330235,51.718611653911893]
[483,11,59.450201966515188,51.718611653911893]
[484,11,50.09028051994251,51.718611653911893]
[485,11,47.853098608844277,51.718611653911893]
[486,11,54.976148244593681,51.718611653911893]
[487,12,63.316395443574436,76.481275485137502]
[488,12,80.722316629564077,76.481275485137502]
[489,12,92.819488231345289,76.481275485137502]
[490,13,98.878215020793249,99.023638879362679]
[491,13,101.13257726969094,99.023638879362679]
[492,14,105.0175160856937,94.947192760329187]
[493,14,90.735206596068764,94.947192760329187]
[494,15,89.182867387905588,85.080031650187152]
[495,15,90.171204846836474,85.080031650187152]
[496,15,86.5551366886761,85.080031650187152]
[497,15,90.905154381954233,85.080031650187152]
[498,16,95.812022967931071,104.09736273245916]
[499,16,122.83257470891266,104.09736273245916]
[500,16,108.4973729980139,104.09736273245916]
[501,17,89.17066609522675,69.98606017864013]
[502,17,72.002682129462585,69.98606017864013]
[503,17,70.835674032612715,69.98606017864013]
[504,17,64.653100730776885,69.98606017864013]
[505,1,59.515622561016748,49.666295767382252]
[506,1,58.341232233634194,49.666295767382252]
[507,1,54.515962912969783,49.666295767382252]
[508,1,48.546727190833103,49.666295767382252]
[509,2,46.579232712295415,42.734448810669306]
[510,2,54.653522370663246,42.734448810669306]
[511,3,63.640241490306842,57.396518808760078]
[512,3,86.441563192678515,57.396518808760078]
[513,4,95.561847625877945,78.59916545931614]
[514,4,103.15581564008633,{"$f":"VLOOKUP(B516,$F$3:$G$122,2,FALSE)","v":78.59916545931614}]
[515,5,98.410538431610973,84.481101727651378]
[516,5,98.479684565000028,84.481101727651378]
[517,6,96.04208150505653,79.254738953433161]
[518,6,92.930752966022894,79.254738953433161]
[519,7,85.866254684005668,67.845992637923729]
[520,7,80.945708863709726,67.845992637923729]
[521,7,77.935251444091094,67.845992637923729]
[522,8,83.624235722613278,84.125777406658472]
[523,8,104.72502137034053,84.125777406658472]
[524,8,93.629668919958192,84.125777406658472]
[525,9,79.273214541558929,68.764662401462914]
[526,9,68.924468041843568,68.764662401462914]
[527,10,67.118376107747139,60.961279267706196]
[528,10,61.847570787004564,60.961279267706196]
[529,1,62.549106097978559,49.666295767382252]
[530,1,59.64784254523525,49.666295767382252]
[531,1,56.351904291601741,49.666295767382252]
[532,1,52.085794102691011,49.666295767382252]
[533,2,47.960893311528451,42.734448810669306]
[534,2,47.537271187867198,42.734448810669306]
[535,3,49.791716545856829,57.396518808760078]
[536,3,55.677274310983051,57.396518808760078]
[537,4,61.807146514412651,78.59916545931614]
[538,4,69.795429690938903,78.59916545931614]
[539,5,73.218523028266873,84.481101727651378]
[540,5,73.57686627120539,84.481101727651378]
[541,6,70.982985791754984,79.254738953433161]
[542,6,65.312653383217281,79.254738953433161]
[543,7,61.028539334479042,67.845992637923729]
[544,7,57.493369912606326,67.845992637923729]
[545,7,57.178898444917785,67.845992637923729]
[546,8,64.559550323061032,84.125777406658472]
[547,8,73.953005572341397,84.125777406658472]
[548,8,73.385872768989302,84.125777406658472]
[549,9,67.822599990320811,68.764662401462914]
[550,9,61.791373412417407,68.764662401462914]
[551,10,63.211047641822113,60.961279267706196]
[552,10,59.545460035333591,60.961279267706196]
[553,1,53.92793914198807,49.666295767382252]
[554,1,49.127773246248275,49.666295767382252]
[555,1,44.344454933384547,49.666295767382252]
[556,1,39.936875444663052,49.666295767382252]
[557,2,34.939551167994701,42.734448810669306]
[558,2,33.91259029957596,42.734448810669306]
[559,3,33.452096939600438,57.396518808760078]
[560,3,30.912078424043447,57.396518808760078]
[561,4,35.533259897260031,78.59916545931614]
[562,4,47.630041247154395,78.59916545931614]
[563,5,53.296272530631541,84.481101727651378]
[564,5,59.433231370697911,84.481101727651378]
[565,6,57.700353224499167,79.254738953433161]
[566,6,54.860335843683139,79.254738953433161]
[567,7,48.805945655910413,67.845992637923729]
[568,7,45.77972595543077,67.845992637923729]
[569,7,40.878583194144767,67.845992637923729]
[570,8,46.309570352254667,84.125777406658472]
[571,8,61.123280820680641,84.125777406658472]
[572,8,73.685584873361108,84.125777406658472]
[573,9,69.826489047793615,68.764662401462914]
[574,9,63.078628361657529,68.764662401462914]
[575,10,66.970461641301114,60.961279267706196]
[576,10,63.992906186751398,60.961279267706196]
[577,1,50.105490283375381,49.666295767382252]
[578,1,50.4476922433551,{"$f":"VLOOKUP(B580,$F$3:$G$122,2,FALSE)","v":49.666295767382252}]
[579,1,48.567318336629953,49.666295767382252]
[580,1,42.709647543896516,49.666295767382252]
[581,2,39.489895048432572,42.734448810669306]
[582,2,48.631619750388964,42.734448810669306]
[583,3,55.592126464239783,57.396518808760078]
[584,3,82.665237062874453,57.396518808760078]
[585,4,106.03992849347622,78.59916545931614]
[586,4,110.61055930949063,78.59916545931614]
[587,5,113.55964041275841,84.481101727651378]
[588,5,112.02710708531401,84.481101727651378]
[589,6,104.40235134435088,79.254738953433161]
[590,6,100.7558647524866,79.254738953433161]
[591,7,89.885882525125211,67.845992637923729]
[592,7,83.319819433533411,67.845992637923729]
[593,7,75.653074891115338,67.845992637923729]
[594,8,76.65753703518503,84.125777406658472]
[595,8,121.15128980307034,84.125777406658472]
[596,8,115.15727963392061,84.125777406658472]
[597,9,84.835689702429988,68.764662401462914]
[598,9,70.063548936366772,68.764662401462914]
[599,10,70.580950882025846,60.961279267706196]
[600,10,60.620302383852383,60.961279267706196]
[601,1,61.36836131156798,49.666295767382252]
[602,1,59.608992587096253,49.666295767382252]
[603,1,57.369828991560098,49.666295767382252]
[604,1,52.390544923614101,49.666295767382252]
[605,2,49.364901120531755,42.734448810669306]
[606,2,54.513063842052915,42.734448810669306]
[607,3,64.446899220273338,57.396518808760078]
[608,3,85.789949012784263,57.396518808760078]
[609,4,95.718181364544051,78.59916545931614]
[610,4,100.64605825233032,78.59916545931614]
[611,5,103.54223212119933,84.481101727651378]
[612,5,103.70255493528262,84.481101727651378]
[613,6,97.235499171195585,79.254738953433161]
[614,6,93.264570172733471,79.254738953433161]
[615,7,89.675990681160442,67.845992637923729]
[616,7,87.859895421938319,67.845992637923729]
[617,7,86.920948333129175,67.845992637923729]
[618,8,92.894651514869793,84.125777406658472]
[619,8,131.68945377262162,84.125777406658472]
[620,8,119.76545489652801,84.125777406658472]
[621,9,90.94318542931444,68.764662401462914]
[622,9,73.780005942564571,68.764662401462914]
[623,10,70.877683207503296,60.961279267706196]
[624,10,64.072285069786631,60.961279267706196]
[625,11,61.826733091732521,51.718611653911893]
[626,11,58.102028596076828,51.718611653911893]
[627,11,56.377166741662869,51.718611653911893]
[628,11,49.977916641473755,51.718611653911893]
[629,11,43.308000541219222,51.718611653911893]
[630,11,53.73168822418485,51.718611653911893]
[631,12,64.973115970314709,76.481275485137502]
[632,12,85.301636104731855,76.481275485137502]
[633,12,94.526376399057014,76.481275485137502]
[634,13,106.13437589356194,99.023638879362679]
[635,13,106.41308774443765,99.023638879362679]
[636,14,102.78146319885799,94.947192760329187]
[637,14,97.031633130739223,94.947192760329187]
[638,15,94.151219591947026,85.080031650187152]
[639,15,88.424130302120062,85.080031650187152]
[640,15,84.97254728943922,85.080031650187152]
[641,15,84.539481410702507,85.080031650187152]
[642,16,90.346243815603657,{"$f":"VLOOKUP(B644,$F$3:$G$122,2,FALSE)","v":104.09736273245916}]
[643,16,125.55736487793789,104.09736273245916]
[644,16,107.47317007483653,104.09736273245916]
[645,17,84.789570255869876,69.98606017864013]
[646,17,73.62792484421071,69.98606017864013]
[647,17,70.457341932618149,69.98606017864013]
[648,17,65.035439436733853,69.98606017864013]
[649,11,57.496257057266504,51.718611653911893]
[650,11,61.44835078821697,51.718611653911893]
[651,11,59.454081261138882,51.718611653911893]
[652,11,50.093549053092822,51.718611653911893]
[653,11,47.856221159517276,51.718611653911893]
[654,11,54.979735594497662,51.718611653911893]
[655,12,63.320527018309441,76.481275485137502]
[656,12,80.72758399012055,76.481275485137502]
[657,12,92.825544966726511,76.481275485137502]
[658,13,98.884667105315117,99.023638879362679]
[659,13,101.13917645775599,99.023638879362679]
[660,14,105.02436877705671,94.947192760329187]
[661,14,90.741127326150163,94.947192760329187]
[662,15,89.188686823442225,85.080031650187152]
[663,15,90.177088774200953,85.080031650187152]
[664,15,86.560784657317114,85.080031650187152]
[665,15,90.91108620161161,85.080031650187152]
[666,16,95.818274974708004,104.09736273245916]
[667,16,122.84058988347762,104.09736273245916]
[668,16,108.50445275992948,104.09736273245916]
[669,17,89.176484734594368,69.98606017864013]
[670,17,72.007380509088506,69.98606017864013]
[671,17,70.840296261643914,69.98606017864013]
[672,17,64.657319529330536,69.98606017864013]
[673,1,59.287395119609492,49.666295767382252]
[674,1,58.117508283715367,49.666295767382252]
[675,1,54.306907908651816,49.666295767382252]
[676,1,48.360562703952354,49.666295767382252]
[677,2,46.400613071817965,42.734448810669306]
[678,2,54.443939860428017,42.734448810669306]
[679,3,63.396197172850833,57.396518808760078]
[680,3,86.110081542150837,57.396518808760078]
[681,4,95.195391978750266,78.59916545931614]
[682,4,102.76023903588163,78.59916545931614]
[683,5,98.033158771829534,84.481101727651378]
[684,5,98.102039747190716,84.481101727651378]
[685,6,95.6737842818047,79.254738953433161]
[686,6,92.574386905065694,79.254738953433161]
[687,7,85.536979196890286,67.845992637923729]
[688,7,80.635302432055212,67.845992637923729]
[689,7,77.636389359362326,67.845992637923729]
[690,8,83.30355781423647,84.125777406658472]
[691,8,104.32342725689293,84.125777406658472]
[692,8,93.270622692129493,84.125777406658472]
[693,9,78.969221704915071,68.764662401462914]
[694,9,68.660160044806005,68.764662401462914]
[695,10,66.860994018955651,60.961279267706196]
[696,10,61.610400910750634,60.961279267706196]
[697,1,62.065854238295614,49.666295767382252]
[698,1,59.187005730222928,49.666295767382252]
[699,1,55.916531762009789,49.666295767382252]
[700,1,51.683381367587167,49.666295767382252]
[701,2,47.590349392826461,42.734448810669306]
[702,2,47.170000156530563,42.734448810669306]
[703,3,49.407027761017922,57.396518808760078]
[704,3,55.247113945290323,57.396518808760078]
[705,4,61.329627004413588,78.59916545931614]
[706,4,69.256193028744519,{"$f":"VLOOKUP(B708,$F$3:$G$122,2,FALSE)","v":78.59916545931614}]
[707,5,72.652839685626873,84.481101727651378]
[708,5,73.008414383187883,84.481101727651378]
[709,6,70.434574119236757,79.254738953433161]
[710,6,64.808050469167213,79.254738953433161]
[711,7,60.557035312008715,67.845992637923729]
[712,7,57.049178465870298,67.845992637923729]
[713,7,56.73713659200105,67.845992637923729]
[714,8,64.060765852743529,84.125777406658472]
[715,8,73.381647647321714,84.125777406658472]
[716,8,72.818896489032269,84.125777406658472]
[717,9,67.298605330468845,68.764662401462914]
[718,9,61.313975764765352,68.764662401462914]
[719,10,62.722681648588448,60.961279267706196]
[720,10,59.085414223444978,60.961279267706196]
[721,1,53.301571382768614,49.666295767382252]
[722,1,48.557158946252976,49.666295767382252]
[723,1,43.829398409579689,49.666295767382252]
[724,1,39.473012527212461,49.666295767382252]
[725,2,34.533731685154663,42.734448810669306]
[726,2,33.518698867171224,42.734448810669306]
[727,3,33.06355409270838,57.396518808760078]
[728,3,30.553037644748969,57.396518808760078]
[729,4,35.12054454537148,78.59916545931614]
[730,4,47.076822958412443,78.59916545931614]
[731,5,52.677241517563026,84.481101727651378]
[732,5,58.742920178593565,84.481101727651378]
[733,6,57.030169243237744,79.254738953433161]
[734,6,54.223138387611982,79.254738953433161]
[735,7,48.239069352022916,67.845992637923729]
[736,7,45.24799889853572,67.845992637923729]
[737,7,40.403782432929567,67.845992637923729]
[738,8,45.771689204310455,84.125777406658472]
[739,8,60.413339868867361,84.125777406658472]
[740,8,72.829733983854965,84.125777406658472]
[741,9,69.015461180330078,68.764662401462914]
[742,9,62.345976238654998,68.764662401462914]
[743,10,66.192606253916324,60.961279267706196]
[744,10,63.249634815883674,60.961279267706196]
[745,1,48.490626455622738,49.666295767382252]
[746,1,48.821799493146415,49.666295767382252]
[747,1,47.002028681759668,49.666295767382252]
[748,1,41.333146395526626,49.666295767382252]
[749,2,38.217164201677029,42.734448810669306]
[750,2,47.064257707312002,42.734448810669306]
[751,3,53.800432308025982,57.396518808760078]
[752,3,80.00099607071067,57.396518808760078]
[753,4,105.30037511892279,78.59916545931614]
[754,4,109.83912902317532,78.59916545931614]
[755,5,112.76764237509946,84.481101727651378]
[756,5,111.2457973818517,84.481101727651378]
[757,6,103.67421891022936,79.254738953433161]
[758,6,100.05316397889702,79.254738953433161]
[759,7,89.258992176455664,67.845992637923729]
[760,7,82.738722723033035,67.845992637923729]
[761,7,75.125448292097872,67.845992637923729]
[762,8,76.122905024349478,84.125777406658472]
[763,8,120.30634538941135,84.125777406658472]
[764,8,114.35413919458225,84.125777406658472]
[765,9,82.101496586504012,68.764662401462914]
[766,9,67.805451267200638,68.764662401462914]
[767,10,68.306177721177505,60.961279267706196]
[768,10,58.666553742865815,60.961279267706196]
[769,1,59.187266165026749,49.666295767382252]
[770,1,57.490427227955401,{"$f":"VLOOKUP(B772,$F$3:$G$122,2,FALSE)","v":49.666295767382252}]
[771,1,55.330845826666533,49.666295767382252]
[772,1,50.5285306736751,49.666295767382252]
[773,2,47.610421386311053,42.734448810669306]
[774,2,52.575613070549565,42.734448810669306]
[775,3,62.156389646694862,57.396518808760078]
[776,3,82.740885335430846,57.396518808760078]
[777,4,94.725347172719964,78.59916545931614]
[778,4,99.60210979362877,78.59916545931614]
[779,5,102.46824317905474,84.481101727651378]
[780,5,102.62690304917813,84.481101727651378]
[781,6,96.22692664234053,79.254738953433161]
[782,6,92.297185995211208,79.254738953433161]
[783,7,88.745828945273828,67.845992637923729]
[784,7,86.94857108395523,67.845992637923729]
[785,7,86.019363197884729,67.845992637923729]
[786,8,91.931104308406589,84.125777406658472]
[787,8,130.32350855151313,84.125777406658472]
[788,8,118.52319102434078,84.125777406658472]
[789,9,87.710970390300716,68.764662401462914]
[790,9,71.157788085774939,68.764662401462914]
[791,10,68.358616907898011,60.961279267706196]
[792,10,61.795089671264968,60.961279267706196]
[793,11,59.461004511937432,51.718611653911893]
[794,11,55.878821534661007,51.718611653911893]
[795,11,54.219959528227555,51.718611653911893]
[796,11,48.065569346947832,51.718611653911893]
[797,11,41.65086988768573,51.718611653911893]
[798,11,51.675707192743438,51.718611653911893]
[799,12,62.486994681304402,76.481275485137502]
[800,12,82.037667456463907,76.481275485137502]
[801,12,93.281810311665467,76.481275485137502]
[802,13,104.73697497780111,99.023638879362679]
[803,13,105.01201721463927,99.023638879362679]
[804,14,101.4282078601602,94.947192760329187]
[805,14,95.754081989998141,94.947192760329187]
[806,15,92.911592945348303,85.080031650187152]
[807,15,87.259908440736965,85.080031650187152]
[808,15,83.853770131736113,85.080031650187152]
[809,15,83.426406144120321,85.080031650187152]
[810,16,89.156714760756387,104.09736273245916]
[811,16,123.90423435181218,104.09736273245916]
[812,16,106.05814214427323,104.09736273245916]
[813,17,81.545195216269448,69.98606017864013]
[814,17,70.810637283237426,69.98606017864013]
[815,17,67.761373067190931,69.98606017864013]
[816,17,62.546933412216326,69.98606017864013]
[817,11,55.173390404132284,51.718611653911893]
[818,11,58.965818320166441,51.718611653911893]
[819,11,57.052117901738285,51.718611653911893]
[820,11,48.069754103855047,51.718611653911893]
[821,11,45.922814952470802,51.718611653911893]
[822,11,52.758537190514687,51.718611653911893]
[823,12,60.762358048749945,76.481275485137502]
[824,12,77.46616450933638,76.481275485137502]
[825,12,91.399878742069262,76.481275485137502]
[826,13,97.365941520896996,99.023638879362679]
[827,13,99.585824867769034,99.023638879362679]
[828,14,103.41134624769728,94.947192760329187]
[829,14,89.347474744174093,94.947192760329187]
[830,15,87.818877484091814,85.080031650187152]
[831,15,88.792099009267403,85.080031650187152]
[832,15,85.23133609754835,85.080031650187152]
[833,15,89.514823296923055,85.080031650187152]
[834,16,94.346644742045996,{"$f":"VLOOKUP(B836,$F$3:$G$122,2,FALSE)","v":104.09736273245916}]
[835,16,120.95393594488105,104.09736273245916]
[836,16,106.83798116980634,104.09736273245916]
[837,17,85.573727038081969,69.98606017864013]
[838,17,69.098259958901849,69.98606017864013]
[839,17,67.978326277746945,69.98606017864013]
[840,17,62.045143726892888,69.98606017864013]
[841,1,56.800224816419615,49.666295767382252]
[842,1,55.679415997707018,49.666295767382252]
[843,1,52.028674426881054,49.666295767382252]
[844,1,46.331784830339231,49.666295767382252]
[845,2,44.454057203589933,42.734448810669306]
[846,2,52.159957740175862,42.734448810669306]
[847,3,60.736658182726899,57.396518808760078]
[848,3,82.497670553528081,57.396518808760078]
[849,4,93.581849708728512,78.59916545931614]
[850,4,101.01847416769405,78.59916545931614]
[851,5,96.371516939655464,84.481101727651378]
[852,5,96.439230396683712,84.481101727651378]
[853,6,94.052133360864204,79.254738953433161]
[854,6,91.005270130736818,79.254738953433161]
[855,7,84.087145032491222,67.845992637923729]
[856,7,79.268550678365813,67.845992637923729]
[857,7,76.320468564045257,67.845992637923729]
[858,8,81.891579681865593,84.125777406658472]
[859,8,102.55516667060205,84.125777406658472]
[860,8,91.68970486473512,84.125777406658472]
[861,9,75.656377504318385,68.764662401462914]
[862,9,65.779792122903103,68.764662401462914]
[863,10,64.056103056379015,60.961279267706196]
[864,10,59.02577800391358,60.961279267706196]
[865,1,60.489909361756666,49.666295767382252]
[866,1,57.68415912345418,49.666295767382252]
[867,1,54.496727381233306,49.666295767382252]
[868,1,50.371063007225324,49.666295767382252]
[869,2,46.381959236616424,42.734448810669306]
[870,2,45.972283296183889,42.734448810669306]
[871,3,48.152509423671795,57.396518808760078]
[872,3,53.844307084188223,57.396518808760078]
[873,4,59.77237603858358,78.59916545931614]
[874,4,67.497674695085635,78.59916545931614]
[875,5,70.808075412682683,84.481101727651378]
[876,5,71.154621536807866,84.481101727651378]
[877,6,68.646134927080681,79.254738953433161]
[878,6,63.162477128579184,79.254738953433161]
[879,7,59.0194016048831,67.845992637923729]
[880,7,55.600614491082197,67.845992637923729]
[881,7,55.296495827139324,67.845992637923729]
[882,8,62.434167186346691,84.125777406658472]
[883,8,71.518377850087077,84.125777406658472]
[884,8,70.96991578546367,84.125777406658472]
[885,9,65.589793076607549,68.764662401462914]
[886,9,59.757122207320961,68.764662401462914]
[887,10,61.130058941626878,60.961279267706196]
[888,10,57.585147176992791,60.961279267706196]
[889,1,51.927895563115221,49.666295767382252]
[890,1,47.305755031037499,49.666295767382252]
[891,1,42.699837249875152,49.666295767382252]
[892,1,38.455723140974278,49.666295767382252]
[893,2,33.643736307014073,42.734448810669306]
[894,2,32.654862681002761,42.734448810669306]
[895,3,32.211447792824721,57.396518808760078]
[896,3,29.765631796464362,57.396518808760078]
[897,4,34.215425961369796,78.59916545931614]
[898,4,45.863569921280018,{"$f":"VLOOKUP(B900,$F$3:$G$122,2,FALSE)","v":78.59916545931614}]
[899,5,51.319655783381258,84.481101727651378]
[900,5,57.229011171189519,84.481101727651378]
[901,6,55.560400858407306,79.254738953433161]
[902,6,52.825712155392843,79.254738953433161]
[903,7,46.995863168557968,67.845992637923729]
[904,7,44.081877893804602,67.845992637923729]
[905,7,39.362505459084204,67.845992637923729]
[906,8,44.592071773651028,84.125777406658472]
[907,8,58.856381189986948,84.125777406658472]
[908,8,70.952782855960962,84.125777406658472]
[909,9,67.236810612510325,68.764662401462914]
[910,9,60.73921010043545,68.764662401462914]
[911,10,64.486705653015136,60.961279267706196]
[912,10,61.619579796969639,60.961279267706196]
[913,1,47.204069912996438,49.666295767382252]
[914,1,47.526456245350246,49.666295767382252]
[915,1,45.754967714779418,49.666295767382252]
[916,1,40.236492592318655,49.666295767382252]
[917,2,37.203183846333737,42.734448810669306]
[918,2,45.815545675665902,42.734448810669306]
[919,3,52.372995641573333,57.396518808760078]
[920,3,77.878404295048853,57.396518808760078]
[921,4,102.50653852713866,78.59916545931614]
[922,4,106.92486990939653,78.59916545931614]
[923,5,109.77568374930189,84.481101727651378]
[924,5,108.29421644914741,84.481101727651378]
[925,6,100.92352760367972,79.254738953433161]
[926,6,97.398546743846097,79.254738953433161]
[927,7,86.890766629236865,67.845992637923729]
[928,7,80.543493400820012,67.845992637923729]
[929,7,73.132214876019248,67.845992637923729]
[930,8,74.103207019572693,84.125777406658472]
[931,8,117.11436939129017,84.125777406658472]
[932,8,111.32008752911588,84.125777406658472]
[933,9,79.923174190742714,68.764662401462914]
[934,9,66.006432501514425,68.764662401462914]
[935,10,66.493873647741765,60.961279267706196]
[936,10,57.110008817213078,60.961279267706196]
[937,1,57.635161255448047,49.666295767382252]
[938,1,55.982819593139304,49.666295767382252]
[939,1,53.879870253318352,49.666295767382252]
[940,1,49.203489231251623,49.666295767382252]
[941,2,46.36190335922791,42.734448810669306]
[942,2,51.196889698813088,42.734448810669306]
[943,3,60.526423544470546,57.396518808760078]
[944,3,80.571119055063349,57.396518808760078]
[945,4,92.241304811337841,78.59916545931614]
[946,4,96.990181018543097,78.59916545931614]
[947,5,99.78115398539822,84.481101727651378]
[948,5,99.93565321794992,84.481101727651378]
[949,6,93.703507418029432,79.254738953433161]
[950,6,89.876818831706132,79.254738953433161]
[951,7,86.418591251501411,67.845992637923729]
[952,7,84.668464013559699,67.845992637923729]
[953,7,83.763623330359621,67.845992637923729]
[954,8,89.520337135240851,84.125777406658472]
[955,8,126.90595321296553,84.125777406658472]
[956,8,115.41508283473641,84.125777406658472]
[957,9,85.410870443343896,68.764662401462914]
[958,9,69.29177265038129,68.764662401462914]
[959,10,66.566005898987257,60.961279267706196]
[960,10,60.174598165554904,60.961279267706196]
[961,11,57.920299400349201,51.718611653911893]
[962,11,54.430935030310174,{"$f":"VLOOKUP(B964,$F$3:$G$122,2,FALSE)","v":51.718611653911893}]
[963,11,52.81505610486753,51.718611653911893]
[964,11,46.820133468558424,51.718611653911893]
[965,11,40.571646476228388,51.718611653911893]
[966,11,50.336728363335794,51.718611653911893]
[967,12,60.867882577439019,76.481275485137502]
[968,12,79.911974245755133,76.481275485137502]
[969,12,90.864768030845383,76.481275485137502]
[970,13,102.02311580160455,99.023638879362679]
[971,13,102.29103136805296,99.023638879362679]
[972,14,98.800082762172508,94.947192760329187]
[973,14,93.272980219377843,94.947192760329187]
[974,15,90.504143435342712,85.080031650187152]
[975,15,84.998900775715526,85.080031650187152]
[976,15,81.681019547914858,85.080031650187152]
[977,15,81.264729067812638,85.080031650187152]
[978,16,86.8465585955215,104.09736273245916]
[979,16,120.69372876449171,104.09736273245916]
[980,16,103.31004996069049,104.09736273245916]
[981,17,79.432262545077478,69.98606017864013]
[982,17,68.975849732764715,69.98606017864013]
[983,17,66.005595567133753,69.98606017864013]
[984,17,60.926268224782035,69.98606017864013]
[985,11,53.761241579868802,51.718611653911893]
[986,11,57.456603272792442,51.718611653911893]
[987,11,55.591883527403972,51.718611653911893]
[988,11,46.839421034903218,51.718611653911893]
[989,11,44.747432242309415,51.718611653911893]
[990,11,51.40819591698174,51.718611653911893]
[991,12,59.207161026244826,76.481275485137502]
[992,12,75.48343783021123,76.481275485137502]
[993,12,89.060522208819663,76.481275485137502]
[994,13,94.873885135836716,99.023638879362679]
[995,13,97.0369511358804,99.023638879362679]
[996,14,100.76455927394893,94.947192760329187]
[997,14,87.060648966625962,94.947192760329187]
[998,15,85.571175762683538,85.080031650187152]
[999,15,86.519487931691998,85.080031650187152]
[1000,15,83.049861836515007,85.080031650187152]
[1001,15,87.223714275944062,85.080031650187152]
[1002,16,91.931866486263729,104.09736273245916]
[1003,16,117.8581508719773,104.09736273245916]
[1004,16,104.1034903511249,104.09736273245916]
[1005,17,83.383489368445822,69.98606017864013]
[1006,17,67.329707657785548,69.98606017864013]
[1007,17,66.238438392928288,69.98606017864013]
[1008,17,60.457114132854592,69.98606017864013]
[1009,1,55.364637990679235,49.666295767382252]
[1010,1,54.272156848124922,49.666295767382252]
[1011,1,50.71368527306393,49.666295767382252]
[1012,1,45.160780663886605,49.666295767382252]
[1013,2,43.330511318367755,42.734448810669306]
[1014,2,50.84165049042489,42.734448810669306]
[1015,3,59.201580696529795,57.396518808760078]
[1016,3,80.412598366160978,57.396518808760078]
[1017,4,91.216632475795478,78.59916545931614]
[1018,4,98.465301338884842,78.59916545931614]
[1019,5,93.935792775845613,84.481101727651378]
[1020,5,94.001794821569604,84.481101727651378]
[1021,6,91.675030030340011,79.254738953433161]
[1022,6,88.705174184023875,79.254738953433161]
[1023,7,81.961899965012719,67.845992637923729]
[1024,7,77.26509228683318,67.845992637923729]
[1025,7,74.391520931197093,67.845992637923729]
[1026,8,79.821826026658755,{"$f":"VLOOKUP(B1028,$F$3:$G$122,2,FALSE)","v":84.125777406658472}]
[1027,8,99.963154990018609,84.125777406658472]
[1028,8,89.372310298335691,84.125777406658472]
[1029,9,73.744214318706426,68.764662401462914]
[1030,9,64.117252876328095,68.764662401462914]
[1031,10,62.437128871801079,60.961279267706196]
[1032,10,57.533941843839095,60.961279267706196]
[1033,1,58.980691477162537,49.666295767382252]
[1034,1,56.244944458967829,49.666295767382252]
[1035,1,53.137038856594735,49.666295767382252]
[1036,1,49.11430944355434,49.666295767382252]
[1037,2,45.224733458945259,42.734448810669306]
[1038,2,44.825278896965962,42.734448810669306]
[1039,3,46.951108575545568,57.396518808760078]
[1040,3,52.50089638821499,57.396518808760078]
[1041,4,58.281060546893514,78.59916545931614]
[1042,4,65.813613685684558,78.59916545931614]
[1043,5,69.041420198382212,84.481101727651378]
[1044,5,69.379320027383372,84.481101727651378]
[1045,6,66.93341993654191,79.254738953433161]
[1046,6,61.586578914752678,79.254738953433161]
[1047,7,57.546872758667845,67.845992637923729]
[1048,7,54.213384080758303,67.845992637923729]
[1049,7,53.916853150563163,67.845992637923729]
[1050,8,60.876440241115944,84.125777406658472]
[1051,8,69.734000652842468,84.125777406658472]
[1052,8,69.199222668186849,84.125777406658472]
[1053,9,63.953333544720259,68.764662401462914]
[1054,9,58.266187297370777,68.764662401462914]
[1055,10,59.604869381674838,60.961279267706196]
[1056,10,56.14840285180707,60.961279267706196]
[1057,1,50.649350583892407,49.666295767382252]
[1058,1,46.141014289526716,49.666295767382252]
[1059,1,41.648501316896628,49.666295767382252]
[1060,1,37.508883851395993,49.666295767382252]
[1061,2,32.815375564273268,42.734448810669306]
[1062,2,31.850849534017808,42.734448810669306]
[1063,3,31.418352205137033,57.396518808760078]
[1064,3,29.032755975596388,57.396518808760078]
[1065,4,33.372989336498122,78.59916545931614]
[1066,4,44.734338004288212,78.59916545931614]
[1067,5,50.056086606819214,84.481101727651378]
[1068,5,55.819944539365828,84.481101727651378]
[1069,6,54.192417989261699,79.254738953433161]
[1070,6,51.525061545200934,79.254738953433161]
[1071,7,45.838752443256745,67.845992637923729]
[1072,7,42.996513985934811,67.845992637923729]
[1073,7,38.393339788521381,67.845992637923729]
[1074,8,43.494146104584601,84.125777406658472]
[1075,8,57.407246195209062,84.125777406658472]
[1076,8,69.205815772110711,84.125777406658472]
[1077,9,65.581336503741667,68.764662401462914]
[1078,9,59.243716950294534,68.764662401462914]
[1079,10,62.898943375241515,60.961279267706196]
[1080,10,60.102410585375488,60.961279267706196]
[1081,1,46.057519448400306,49.666295767382252]
[1082,1,46.372075265295997,49.666295767382252]
[1083,1,44.643614825343121,49.666295767382252]
[1084,1,39.259179208949988,49.666295767382252]
[1085,2,36.299547193772021,42.734448810669306]
[1086,2,44.70272139426433,42.734448810669306]
[1087,3,51.10089595618998,57.396518808760078]
[1088,3,75.986797897738839,57.396518808760078]
[1089,4,100.01673373723276,78.59916545931614]
[1090,4,104.32774725667913,{"$f":"VLOOKUP(B1092,$F$3:$G$122,2,FALSE)","v":78.59916545931614}]
[1091,5,107.10931702634552,84.481101727651378]
[1092,5,105.66383342472398,84.481101727651378]
[1093,6,98.472172928628268,79.254738953433161]
[1094,6,95.032811136175567,79.254738953433161]
[1095,7,84.780256899218102,67.845992637923729]
[1096,7,78.587154043872317,67.845992637923729]
[1097,7,71.355889760460556,67.845992637923729]
[1098,8,72.303297253466667,84.125777406658472]
[1099,8,114.26975165210035,84.125777406658472]
[1100,8,108.6162084290587,84.125777406658472]
[1101,9,77.981901909151517,68.764662401462914]
[1102,9,64.403187145967067,68.764662401462914]
[1103,10,64.87878872256195,60.961279267706196]
[1104,10,55.722850733955589,60.961279267706196]
[1105,1,56.254627264925361,49.666295767382252]
[1106,1,54.641864113010016,49.666295767382252]
[1107,1,52.589286681252318,49.666295767382252]
[1108,1,48.024918930476439,49.666295767382252]
[1109,2,45.2513975142097,42.734448810669306]
[1110,2,49.970571512159779,42.734448810669306]
[1111,3,59.076635199859723,57.396518808760078]
[1112,3,78.641200476073493,57.396518808760078]
[1113,4,90.031850480884685,78.59916545931614]
[1114,4,94.666976940921288,78.59916545931614]
[1115,5,97.391097782035047,84.481101727651378]
[1116,5,97.541896297222536,84.481101727651378]
[1117,6,91.459028974593906,79.254738953433161]
[1118,6,87.724000991789168,79.254738953433161]
[1119,7,84.348608275189235,67.845992637923729]
[1120,7,82.64040180379159,67.845992637923729]
[1121,7,81.757234753352392,67.845992637923729]
[1122,8,87.376058095047,84.125777406658472]
[1123,8,123.86617717705447,84.125777406658472]
[1124,8,112.65054741223365,84.125777406658472]
[1125,9,83.365025385592446,68.764662401462914]
[1126,9,67.632028054830627,68.764662401462914]
[1127,10,64.971551545860947,60.961279267706196]
[1128,10,58.733237087975887,60.961279267706196]
[1129,11,56.552637687276821,51.718611653911893]
[1130,11,53.145667056587691,51.718611653911893]
[1131,11,51.567943592393839,51.718611653911893]
[1132,11,45.714577996490199,51.718611653911893]
[1133,11,39.613635414539857,51.718611653911893]
[1134,11,49.14813616238726,51.718611653911893]
[1135,12,59.430620107824652,76.481275485137502]
[1136,12,78.025027031678974,76.481275485137502]
[1137,12,88.719194448015429,76.481275485137502]
[1138,13,99.614062140370123,99.023638879362679]
[1139,13,99.875651464268657,99.023638879362679]
[1140,14,96.467134006016863,94.947192760329187]
[1141,14,91.070541951086852,94.947192760329187]
[1142,15,88.367085216852516,85.080031650187152]
[1143,15,82.99183687156237,85.080031650187152]
[1144,15,79.752300182218235,85.080031650187152]
[1145,15,79.34583949507369,85.080031650187152]
[1146,16,84.795866276371015,104.09736273245916]
[1147,16,117.84380924494337,104.09736273245916]
[1148,16,100.87060815238416,104.09736273245916]
[1149,17,77.556642677943969,69.98606017864013]
[1150,17,67.347135278889368,69.98606017864013]
[1151,17,64.447017195814666,69.98606017864013]
[1152,17,59.487627105276516,69.98606017864013]
[1153,11,52.510283725194292,51.718611653911893]
[1154,11,56.119658904418117,{"$f":"VLOOKUP(B1156,$F$3:$G$122,2,FALSE)","v":51.718611653911893}]
[1155,11,54.298328890064688,51.718611653911893]
[1156,11,45.749525416235819,51.718611653911893]
[1157,11,43.706214625397209,51.718611653911893]
[1158,11,50.211990535797327,51.718611653911893]
[1159,12,57.829483335733784,76.481275485137502]
[1160,12,73.727031231765096,76.481275485137502]
[1161,12,86.988193584618855,76.481275485137502]
[1162,13,92.666286718715995,99.023638879362679]
[1163,13,94.779020837958285,99.023638879362679]
[1164,14,98.419892127277919,94.947192760329187]
[1165,14,85.034854928814099,94.947192760329187]
[1166,15,83.580039931212227,85.080031650187152]
[1167,15,84.506286044422069,85.080031650187152]
[1168,15,81.117393873704344,85.080031650187152]
[1169,15,85.194125909290037,85.080031650187152]
[1170,16,89.792725218385272,104.09736273245916]
[1171,16,115.11573690909141,104.09736273245916]
[1172,16,101.68113039203986,104.09736273245916]
[1173,17,81.443258304015103,69.98606017864013]
[1174,17,65.763028314595218,69.98606017864013]
[1175,17,64.697151541025747,69.98606017864013]
[1176,17,59.050351573565642,69.98606017864013]
[1177,1,54.09563387582832,49.666295767382252]
[1178,1,53.028193320833388,49.666295767382252]
[1179,1,49.551284910189594,49.666295767382252]
[1180,1,44.125657549706759,49.666295767382252]
[1181,2,42.337339518511328,42.734448810669306]
[1182,2,49.676317057033295,42.734448810669306]
[1183,3,57.844630624496048,57.396518808760078]
[1184,3,78.569473911347586,57.396518808760078]
[1185,4,89.125870463152765,78.59916545931614]
[1186,4,96.208393733165195,78.59916545931614]
[1187,5,91.782705319834434,84.481101727651378]
[1188,5,91.847194543102589,84.481101727651378]
[1189,6,89.573761159817138,79.254738953433161]
[1190,6,86.671976909853242,79.254738953433161]
[1191,7,80.083264213179405,67.845992637923729]
[1192,7,75.494111321278339,67.845992637923729]
[1193,7,72.686404640405129,67.845992637923729]
[1194,8,77.992242571244546,84.125777406658472]
[1195,8,97.671915317555303,84.125777406658472]
[1196,8,87.323821702755723,84.125777406658472]
[1197,9,72.053934840447397,68.764662401462914]
[1198,9,62.647631459374281,68.764662401462914]
[1199,10,61.006017311546124,60.961279267706196]
[1200,10,56.21521545831272,60.961279267706196]
[1201,1,57.649552295473804,49.666295767382252]
[1202,1,54.975548535214905,49.666295767382252]
[1203,1,51.937785462824039,49.666295767382252]
[1204,1,48.005845299704575,49.666295767382252]
[1205,2,44.204053416359777,42.734448810669306]
[1206,2,43.813614171180575,42.734448810669306]
[1207,3,45.891465857168313,57.396518808760078]
[1208,3,51.316000136478209,57.396518808760078]
[1209,4,56.965711382593142,78.59916545931614]
[1210,4,64.328261824398538,78.59916545931614]
[1211,5,67.483219755427285,84.481101727651378]
[1212,5,67.813493500525325,84.481101727651378]
[1213,6,65.422795092876669,79.254738953433161]
[1214,6,60.196627284712271,79.254738953433161]
[1215,7,56.248093527800748,67.845992637923729]
[1216,7,52.989838579434696,67.845992637923729]
[1217,7,52.700000075690994,67.845992637923729]
[1218,8,59.502515778428709,{"$f":"VLOOKUP(B1220,$F$3:$G$122,2,FALSE)","v":84.125777406658472}]
[1219,8,68.160169315160573,84.125777406658472]
[1220,8,67.637460770707335,84.125777406658472]
[1221,9,62.50996647070167,68.764662401462914]
[1222,9,56.951173808436415,68.764662401462914]
[1223,10,58.259643086996554,60.961279267706196]
[1224,10,54.881185782061053,60.961279267706196]
[1225,1,49.524252832476762,49.666295767382252]
[1226,1,45.116062324166407,49.666295767382252]
[1227,1,40.723343646733447,49.666295767382252]
[1228,1,36.675681443214735,49.666295767382252]
[1229,2,32.086432254367033,42.734448810669306]
[1230,2,31.14333169265781,42.734448810669306]
[1231,3,30.72044162954861,57.396518808760078]
[1232,3,28.387837766597073,57.396518808760078]
[1233,4,32.631659490653007,78.59916545931614]
[1234,4,43.740633198215178,78.59916545931614]
[1235,5,48.944167306043241,84.481101727651378]
[1236,5,54.579989962231359,84.481101727651378]
[1237,6,52.988616421806164,79.254738953433161]
[1238,6,50.380511215971367,79.254738953433161]
[1239,7,44.82051476188343,67.845992637923729]
[1240,7,42.041412278872244,67.845992637923729]
[1241,7,37.54049054628176,67.845992637923729]
[1242,8,42.527990262152656,84.125777406658472]
[1243,8,56.132032142815383,84.125777406658472]
[1244,8,67.668514566617091,84.125777406658472]
[1245,9,64.124547554138488,68.764662401462914]
[1246,9,57.927708512715895,68.764662401462914]
[1247,10,61.50173968077975,60.961279267706196]
[1248,10,58.767327583822244,60.961279267706196]
[1249,1,45.05097506183435,49.666295767382252]
[1250,1,45.358656552983682,49.666295767382252]
[1251,1,43.667970013450791,49.666295767382252]
[1252,1,38.401206245420617,49.666295767382252]
[1253,2,35.506254243991897,42.734448810669306]
[1254,2,43.725784863107279,42.734448810669306]
[1255,3,49.984133251875889,57.396518808760078]
[1256,3,74.326176878780601,57.396518808760078]
[1257,4,97.830960749205062,78.59916545931614]
[1258,4,102.04776106502308,78.59916545931614]
[1259,5,104.76854220623032,84.481101727651378]
[1260,5,103.35464830858133,84.481101727651378]
[1261,6,96.320154885074999,79.254738953433161]
[1262,6,92.955957155885443,79.254738953433161]
[1263,7,82.927462986399334,67.845992637923729]
[1264,7,76.869704652189952,67.845992637923729]
[1265,7,69.796472945421797,67.845992637923729]
[1266,8,70.723175726031386,84.125777406658472]
[1267,8,111.77249217184186,84.125777406658472]
[1268,8,106.24250189441067,84.125777406658472]
[1269,9,76.277679741730381,68.764662401462914]
[1270,9,62.995715200558564,68.764662401462914]
[1271,10,63.460922945638053,60.961279267706196]
[1272,10,54.505079493093341,60.961279267706196]
[1273,1,55.045664193458713,49.666295767382252]
[1274,1,53.467560787567557,49.666295767382252]
[1275,1,51.459095110468454,49.666295767382252]
[1276,1,46.992819771349552,49.666295767382252]
[1277,2,44.278903851256445,42.734448810669306]
[1278,2,48.89665851058966,42.734448810669306]
[1279,3,57.807024612862399,57.396518808760078]
[1280,3,76.951129598461321,57.396518808760078]
[1281,4,88.09698418136054,78.59916545931614]
[1282,4,92.632497560763412,{"$f":"VLOOKUP(B1284,$F$3:$G$122,2,FALSE)","v":78.59916545931614}]
[1283,5,95.298074568965248,84.481101727651378]
[1284,5,95.445632286996002,84.481101727651378]
[1285,6,89.493491312033953,79.254738953433161]
[1286,6,85.838732475460347,79.254738953433161]
[1287,7,82.535880016337373,67.845992637923729]
[1288,7,80.864384454650903,67.845992637923729]
[1289,7,80.000197466863071,67.845992637923729]
[1290,8,85.49826718782505,84.125777406658472]
[1291,8,121.20418044378,84.125777406658472]
[1292,8,110.22958475683254,84.125777406658472]
[1293,9,81.573435217046438,68.764662401462914]
[1294,9,66.178554299122951,68.764662401462914]
[1295,10,63.575253848519125,60.961279267706196]
[1296,10,57.471006438527958,60.961279267706196]
[1297,11,55.358019372720307,51.718611653911893]
[1298,11,52.023017613493614,51.718611653911893]
[1299,11,50.478621990806538,51.718611653911893]
[1300,11,44.748902930743157,51.718611653911893]
[1301,11,38.776836702620173,51.718611653911893]
[1302,11,48.109930589897857,51.718611653911893]
[1303,12,58.17520727246135,76.481275485137502]
[1304,12,76.376825814235474,76.481275485137502]
[1305,12,86.845089563175648,76.481275485137502]
[1306,13,97.509813994097911,99.023638879362679]
[1307,13,97.765877503286447,99.023638879362679]
[1308,14,94.42936159169335,94.947192760329187]
[1309,14,89.146767185125199,94.947192760329187]
[1310,15,86.500418289877715,85.080031650187152]
[1311,15,81.238716728277524,85.080031650187152]
[1312,15,78.06761203464626,85.080031650187152]
[1313,15,77.669737425903506,85.080031650187152]
[1314,16,83.004637803304973,104.09736273245916]
[1315,16,115.35447579316724,104.09736273245916]
[1316,16,98.73981671935428,104.09736273245916]
[1317,17,75.918335614868951,69.98606017864013]
[1318,17,65.924493921611401,69.98606017864013]
[1319,17,63.085637953233743,69.98606017864013]
[1320,17,58.231010053699805,69.98606017864013]
[1321,11,51.420516840108682,51.718611653911893]
[1322,11,54.954985215043415,51.718611653911893]
[1323,11,53.171453989720384,51.718611653911893]
[1324,11,44.800067247852787,51.718611653911893]
[1325,11,42.799162101734126,51.718611653911893]
[1326,11,49.169921046961377,51.718611653911893]
[1327,12,56.629324977216761,76.481275485137502]
[1328,12,72.196944713997908,76.481275485137502]
[1329,12,85.182892869466727,76.481275485137502]
[1330,13,90.743146269534762,99.023638879362679]
[1331,13,92.81203397400256,99.023638879362679]
[1332,14,96.377344807684125,94.947192760329187]
[1333,14,83.270092630738418,94.947192760329187]
[1334,15,81.845469989677767,85.080031650187152]
[1335,15,82.752493347457502,85.080031650187152]
[1336,15,79.43393220911625,85.080031650187152]
[1337,15,83.426058196960923,85.080031650187152]
[1338,16,87.929220938410552,104.09736273245916]
[1339,16,112.72669405622325,104.09736273245916]
[1340,16,99.570901292551085,104.09736273245916]
[1341,17,79.753033844789712,69.98606017864013]
[1342,17,64.398221929330788,69.98606017864013]
[1343,17,63.354465722039279,69.98606017864013]
[1344,17,57.824856049025961,69.98606017864013]
[1345,18,52.993212471866904,36.831728017263949]
[1346,18,51.947525415832416,{"$f":"VLOOKUP(B1348,$F$3:$G$122,2,FALSE)","v":36.831728017263949}]
[1347,18,48.541473338258044,36.831728017263949]
[1348,18,43.22641548779972,36.831728017263949]
[1349,19,41.47454180402066,32.743055809668924]
[1350,19,48.663957440001099,32.743055809668924]
[1351,20,56.665807966625678,44.956649889950562]
[1352,20,76.968297189087906,44.956649889950562]
[1353,21,87.309563670800415,64.519723764838218]
[1354,21,94.247751350535097,64.519723764838218]
[1355,22,89.912254571622015,66.140554556899929]
[1356,22,89.975429561282709,66.140554556899929]
[1357,23,87.748326749295614,61.964220110890267]
[1358,23,84.90567830822495,61.964220110890267]
[1359,24,78.451237776991249,57.187436590607021]
[1360,24,73.955607781701346,57.187436590607021]
[1361,24,71.20511969166941,57.187436590607021]
[1362,25,76.402829315623009,58.732696445136142]
[1363,25,95.681447653212203,58.732696445136142]
[1364,25,85.544239077995229,58.732696445136142]
[1365,26,70.585539069541284,54.055056030406305]
[1366,26,61.37092787204169,54.055056030406305]
[1367,27,59.762768375614144,46.575969987699438]
[1368,27,55.069598847334468,46.575969987699438]
[1369,18,56.496491816690494,36.831728017263949]
[1370,18,53.875971352195442,36.831728017263949]
[1371,18,50.898967199921223,36.831728017263949]
[1372,18,47.045670575676041,36.831728017263949]
[1373,19,43.319919108859999,32.743055809668924]
[1374,19,42.937289118827728,32.743055809668924]
[1375,20,44.973581268540052,44.956649889950562]
[1376,20,50.289618328977895,44.956649889950562]
[1377,21,55.826328545682514,64.519723764838218]
[1378,21,63.041619111227575,64.519723764838218]
[1379,22,66.133474083817944,66.140554556899929]
[1380,22,66.457141956233727,66.140554556899929]
[1381,23,64.114260396084958,61.964220110890267]
[1382,23,58.992622238457983,61.964220110890267]
[1383,24,55.123063912281829,57.187436590607021]
[1384,24,51.929977987111414,57.187436590607021]
[1385,24,51.645936602522831,57.187436590607021]
[1386,25,58.312393798285015,58.732696445136142]
[1387,25,66.796883837041406,58.732696445136142]
[1388,25,66.284630093025172,58.732696445136142]
[1389,26,61.259691854551782,54.055056030406305]
[1390,26,55.812081740517911,54.055056030406305]
[1391,27,57.094380057592048,46.575969987699438]
[1392,27,53.78349596775476,46.575969987699438]
[1393,18,48.55260230886833,36.831728017263949]
[1394,18,44.23089913495663,36.831728017263949]
[1395,18,39.924364239385653,36.831728017263949]
[1396,18,35.956115916430527,36.831728017263949]
[1397,19,31.4569063772954,32.743055809668924]
[1398,19,30.532309156922796,32.743055809668924]
[1399,20,30.117716066059472,44.956649889950562]
[1400,20,27.830877169466429,44.956649889950562]
[1401,21,31.991436423834472,64.519723764838218]
[1402,21,42.882455503060946,64.519723764838218]
[1403,22,47.983897881053373,66.140554556899929]
[1404,22,53.509147439786119,66.140554556899929]
[1405,23,51.948996156040721,61.964220110890267]
[1406,23,49.392061167704163,61.964220110890267]
[1407,24,43.941150124438074,57.187436590607021]
[1408,24,41.216572772616914,57.187436590607021]
[1409,24,36.80395773236534,57.187436590607021]
[1410,25,41.693604246355235,{"$f":"VLOOKUP(B1412,$F$3:$G$122,2,FALSE)","v":58.732696445136142}]
[1411,25,55.030739032805947,58.732696445136142]
[1412,25,66.340879239480159,58.732696445136142]
[1413,26,62.866443763700822,54.055056030406305]
[1414,26,56.791184787699571,54.055056030406305]
[1415,27,60.295094569629867,46.575969987699438]
[1416,27,57.614330792309957,46.575969987699438]
[1417,18,37.858899770691508,36.831728017263949]
[1418,18,36.795061287186492,36.831728017263949]
[1419,18,35.281366621624734,36.831728017263949]
[1420,18,32.385369963818036,36.831728017263949]
[1421,19,31.793021125123005,32.743055809668924]
[1422,19,36.980355503620743,32.743055809668924]
[1423,20,48.140543998146626,44.956649889950562]
[1424,20,88.86473639396425,44.956649889950562]
[1425,21,133.61000943222513,64.519723764838218]
[1426,21,85.153547646553477,64.519723764838218]
[1427,22,79.268276463051563,66.140554556899929]
[1428,22,78.439326270701784,66.140554556899929]
[1429,23,77.515129911183962,61.964220110890267]
[1430,23,75.745575157238449,61.964220110890267]
[1431,24,96.386670720146114,57.187436590607021]
[1432,24,99.087918072791396,57.187436590607021]
[1433,24,124.33746601436415,57.187436590607021]
[1434,25,75.490606108668487,58.732696445136142]
[1435,25,78.557371137589243,58.732696445136142]
[1436,25,120.06142028702567,58.732696445136142]
[1437,26,76.412831993515795,54.055056030406305]
[1438,26,69.200480802018589,54.055056030406305]
[1439,27,57.916740205664773,46.575969987699438]
[1440,27,47.989273985707413,46.575969987699438]
[1441,18,50.781953105235893,36.831728017263949]
[1442,18,50.203011377836958,36.831728017263949]
[1443,18,45.808260850025967,36.831728017263949]
[1444,18,40.570327353476607,36.831728017263949]
[1445,19,40.743036201479299,32.743055809668924]
[1446,19,46.700359248224572,32.743055809668924]
[1447,20,55.216723535867168,44.956649889950562]
[1448,20,73.174905820960603,44.956649889950562]
[1449,21,91.301474745317066,64.519723764838218]
[1450,21,98.190239049556936,64.519723764838218]
[1451,22,100.85419217625696,66.140554556899929]
[1452,22,102.50266059134711,66.140554556899929]
[1453,23,95.44680782664696,61.964220110890267]
[1454,23,91.144620230618358,61.964220110890267]
[1455,24,88.226627129190931,57.187436590607021]
[1456,24,82.718259222774805,57.187436590607021]
[1457,24,79.688705135049261,57.187436590607021]
[1458,25,76.964025020376852,58.732696445136142]
[1459,25,99.159017940641277,58.732696445136142]
[1460,25,105.28240495860594,58.732696445136142]
[1461,26,81.363924855431748,54.055056030406305]
[1462,26,68.038576850770482,54.055056030406305]
[1463,27,63.829991705080026,46.575969987699438]
[1464,27,55.381830513041095,46.575969987699438]
[1465,28,51.199928303718075,38.139723662669375]
[1466,28,49.303938354422186,38.139723662669375]
[1467,28,46.355226951710492,38.139723662669375]
[1468,28,42.913014666756084,38.139723662669375]
[1469,28,42.469393969944775,38.139723662669375]
[1470,28,46.984352883082522,38.139723662669375]
[1471,29,58.574680174653182,61.334657157997903]
[1472,29,74.157174805953758,61.334657157997903]
[1473,29,93.924247989388121,61.334657157997903]
[1474,30,92.73498507880204,{"$f":"VLOOKUP(B1476,$F$3:$G$122,2,FALSE)","v":79.97253389022778}]
[1475,30,95.79326957609311,79.97253389022778]
[1476,31,96.621640975747837,79.641473064153232]
[1477,31,89.185943293209959,79.641473064153232]
[1478,32,89.516757891782916,69.904028311588434]
[1479,32,85.883277413364837,69.904028311588434]
[1480,32,82.330376645752523,69.904028311588434]
[1481,32,74.49914361402648,69.904028311588434]
[1482,33,71.615830253241668,69.819471973609154]
[1483,33,92.389505252155601,69.819471973609154]
[1484,33,101.12370669947819,69.819471973609154]
[1485,34,77.854232401304131,53.410488481573765]
[1486,34,67.625932705830763,53.410488481573765]
[1487,34,65.255437325807904,53.410488481573765]
[1488,34,56.191469154399663,53.410488481573765]
[1489,28,52.536835158270357,38.139723662669375]
[1490,28,49.835887819761091,38.139723662669375]
[1491,28,46.239157851837284,38.139723662669375]
[1492,28,44.239411731402527,38.139723662669375]
[1493,28,42.458516604534438,38.139723662669375]
[1494,28,47.027104210045088,38.139723662669375]
[1495,29,59.621520629572117,61.334657157997903]
[1496,29,75.739592245917379,61.334657157997903]
[1497,29,89.485751225686684,61.334657157997903]
[1498,30,94.134201269777847,79.97253389022778]
[1499,30,94.529394324356034,79.97253389022778]
[1500,31,93.822233729611696,79.641473064153232]
[1501,31,90.949103867105435,79.641473064153232]
[1502,32,87.128775308186178,69.904028311588434]
[1503,32,80.758942556803973,69.904028311588434]
[1504,32,77.972394354350129,69.904028311588434]
[1505,32,73.223975444474149,69.904028311588434]
[1506,33,72.306156953945958,69.819471973609154]
[1507,33,96.852068437479232,69.819471973609154]
[1508,33,108.33491591728722,69.819471973609154]
[1509,34,77.053420462342217,53.410488481573765]
[1510,34,66.344859312418862,53.410488481573765]
[1511,34,61.195103168769407,53.410488481573765]
[1512,34,55.217845644844537,53.410488481573765]
[1513,18,49.227187967680507,36.831728017263949]
[1514,18,46.754076036455736,36.831728017263949]
[1515,18,45.789766698208517,36.831728017263949]
[1516,18,40.20751593676242,36.831728017263949]
[1517,19,39.059888807418851,32.743055809668924]
[1518,19,45.784368955368315,32.743055809668924]
[1519,20,56.263918823475578,44.956649889950562]
[1520,20,81.032941578256029,44.956649889950562]
[1521,21,88.321214002083863,64.519723764838218]
[1522,21,89.296814886536424,64.519723764838218]
[1523,22,92.017347815133391,66.140554556899929]
[1524,22,92.998971816570958,66.140554556899929]
[1525,23,86.349578523032918,61.964220110890267]
[1526,23,83.832175586011999,61.964220110890267]
[1527,24,75.008881878244452,57.187436590607021]
[1528,24,68.016347614515865,57.187436590607021]
[1529,24,63.404551813776393,57.187436590607021]
[1530,25,64.93781241054846,58.732696445136142]
[1531,25,86.291639872846517,58.732696445136142]
[1532,25,99.136607837392859,58.732696445136142]
[1533,26,76.298849649013221,54.055056030406305]
[1534,26,63.962039251015675,54.055056030406305]
[1535,27,60.953556109088282,46.575969987699438]
[1536,27,57.310057244981252,46.575969987699438]
[1537,18,56.581101611480548,36.831728017263949]
[1538,18,52.509423997075615,{"$f":"VLOOKUP(B1540,$F$3:$G$122,2,FALSE)","v":36.831728017263949}]
[1539,18,46.346725983535755,36.831728017263949]
[1540,18,41.572457653559631,36.831728017263949]
[1541,19,39.389373333614316,32.743055809668924]
[1542,19,40.111492688234165,32.743055809668924]
[1543,20,43.796018838083555,44.956649889950562]
[1544,20,49.342937113141346,44.956649889950562]
[1545,21,57.429885923893863,64.519723764838218]
[1546,21,61.560456456692421,64.519723764838218]
[1547,22,64.306906834435352,66.140554556899929]
[1548,22,62.951948208426565,66.140554556899929]
[1549,23,60.867324887429767,61.964220110890267]
[1550,23,56.752424453192404,61.964220110890267]
[1551,24,53.291005870792652,57.187436590607021]
[1552,24,49.968547587131624,57.187436590607021]
[1553,24,48.027753818515791,57.187436590607021]
[1554,25,50.223648500384641,58.732696445136142]
[1555,25,60.717096541912746,58.732696445136142]
[1556,25,66.751843070894182,58.732696445136142]
[1557,26,63.211794986335939,54.055056030406305]
[1558,26,57.157455304466552,54.055056030406305]
[1559,27,57.854014769294913,46.575969987699438]
[1560,27,56.854827484960367,46.575969987699438]
[1561,18,55.790522040893592,36.831728017263949]
[1562,18,45.055171911535815,36.831728017263949]
[1563,18,33.229743603265298,36.831728017263949]
[1564,18,37.901198340363266,36.831728017263949]
[1565,19,34.858237105510028,32.743055809668924]
[1566,19,35.249983003228699,32.743055809668924]
[1567,20,31.866943388535564,44.956649889950562]
[1568,20,29.033740133156719,44.956649889950562]
[1569,21,34.906048754303725,64.519723764838218]
[1570,21,42.318830449810967,64.519723764838218]
[1571,22,44.907390260672749,66.140554556899929]
[1572,22,47.466480156346016,66.140554556899929]
[1573,23,45.795174941273544,61.964220110890267]
[1574,23,45.369013453796683,61.964220110890267]
[1575,24,37.937408841023576,57.187436590607021]
[1576,24,36.577433382358066,57.187436590607021]
[1577,24,34.987671003020118,57.187436590607021]
[1578,25,35.065330830463779,58.732696445136142]
[1579,25,44.837446673929456,58.732696445136142]
[1580,25,56.583640315979984,58.732696445136142]
[1581,26,62.748359384658194,54.055056030406305]
[1582,26,56.943689556820743,54.055056030406305]
[1583,27,55.9570719506969,46.575969987699438]
[1584,27,54.585600143368374,46.575969987699438]
[1585,18,36.913208715172459,36.831728017263949]
[1586,18,35.875944235256071,36.831728017263949]
[1587,18,34.400060692433719,36.831728017263949]
[1588,18,31.576404175325486,36.831728017263949]
[1589,19,30.998851831031875,32.743055809668924]
[1590,19,36.056609920904094,32.743055809668924]
[1591,20,46.938024058512454,44.956649889950562]
[1592,20,86.644952225173157,44.956649889950562]
[1593,21,130.2725170166191,64.519723764838218]
[1594,21,83.026466594467493,64.519723764838218]
[1595,22,77.288205713728004,66.140554556899929]
[1596,22,76.479962165974968,66.140554556899929]
[1597,23,75.578851639274106,61.964220110890267]
[1598,23,73.853499229115471,61.964220110890267]
[1599,24,93.97899345209548,57.187436590607021]
[1600,24,96.612765376885918,57.187436590607021]
[1601,24,121.23159579130196,57.187436590607021]
[1602,25,73.604899143989428,{"$f":"VLOOKUP(B1604,$F$3:$G$122,2,FALSE)","v":58.732696445136142}]
[1603,25,76.595058347733143,58.732696445136142]
[1604,25,117.06236294605533,58.732696445136142]
[1605,26,74.504088417214362,54.055056030406305]
[1606,26,67.47189713665945,54.055056030406305]
[1607,27,56.47001714955212,46.575969987699438]
[1608,27,46.790532674047071,46.575969987699438]
[1609,18,49.416115070944784,36.831728017263949]
[1610,18,48.852744635758278,36.831728017263949]
[1611,18,44.576195891357749,36.831728017263949]
[1612,18,39.47914253732376,36.831728017263949]
[1613,19,39.64720618562388,32.743055809668924]
[1614,19,45.444300294680559,32.743055809668924]
[1615,20,53.731607337639481,44.956649889950562]
[1616,20,71.206784009678131,44.956649889950562]
[1617,21,88.845818371967269,64.519723764838218]
[1618,21,95.549301572967579,64.519723764838218]
[1619,22,98.14160466890813,66.140554556899929]
[1620,22,99.745735662493601,66.140554556899929]
[1621,23,92.87965803405919,61.964220110890267]
[1622,23,88.693182636754685,61.964220110890267]
[1623,24,85.853672258381835,57.187436590607021]
[1624,24,80.493458133642051,57.187436590607021]
[1625,24,77.545387327809621,57.187436590607021]
[1626,25,74.893990564885897,58.732696445136142]
[1627,25,96.492024060637902,58.732696445136142]
[1628,25,102.45071566268405,58.732696445136142]
[1629,26,79.175550120091089,54.055056030406305]
[1630,26,66.208602413409992,54.055056030406305]
[1631,27,62.113211922730635,46.575969987699438]
[1632,27,53.892273576020166,46.575969987699438]
[1633,28,49.723770675805156,38.139723662669375]
[1634,28,47.88244447544065,38.139723662669375]
[1635,28,45.01874809079316,38.139723662669375]
[1636,28,41.67577906827438,38.139723662669375]
[1637,28,41.244948508035407,38.139723662669375]
[1638,28,45.629735538903972,38.139723662669375]
[1639,29,56.885899275792141,61.334657157997903]
[1640,29,72.019131201577636,61.334657157997903]
[1641,29,91.216295074042876,61.334657157997903]
[1642,30,90.061320092663323,79.97253389022778]
[1643,30,93.031430443259794,79.97253389022778]
[1644,31,93.835918864932779,79.641473064153232]
[1645,31,86.614601596910731,79.641473064153232]
[1646,32,86.93587839905922,69.904028311588434]
[1647,32,83.407155683040187,69.904028311588434]
[1648,32,79.956689464519769,69.904028311588434]
[1649,32,72.351240623489687,69.904028311588434]
[1650,33,69.551056773862342,69.819471973609154]
[1651,33,89.725800879210894,69.819471973609154]
[1652,33,98.208184433084256,69.819471973609154]
[1653,34,75.60959802715513,53.410488481573765]
[1654,34,65.676192936347761,53.410488481573765]
[1655,34,63.374041887129337,53.410488481573765]
[1656,34,54.571399194069713,53.410488481573765]
[1657,28,50.919414575017591,38.139723662669375]
[1658,28,48.3016197105092,38.139723662669375]
[1659,28,44.815620148499583,38.139723662669375]
[1660,28,42.877439033393514,38.139723662669375]
[1661,28,41.151371275287424,38.139723662669375]
[1662,28,45.57930846652615,38.139723662669375]
[1663,29,57.785988009828479,61.334657157997903]
[1664,29,73.407842053948798,61.334657157997903]
[1665,29,86.730806138030829,61.334657157997903]
[1666,30,91.236147090017667,{"$f":"VLOOKUP(B1668,$F$3:$G$122,2,FALSE)","v":79.97253389022778}]
[1667,30,91.619173568917873,79.97253389022778]
[1668,31,90.933783910663323,79.641473064153232]
[1669,31,88.149107404054419,79.641473064153232]
[1670,32,84.446393049100251,69.904028311588434]
[1671,32,78.272664584794455,69.904028311588434]
[1672,32,75.571904199693861,69.904028311588434]
[1673,32,70.969672064479937,69.904028311588434]
[1674,33,70.080109910935093,69.819471973609154]
[1675,33,93.870340882907939,69.819471973609154]
[1676,33,104.99967270437368,69.819471973609154]
[1677,34,74.681222215333747,53.410488481573765]
[1678,34,64.302339226813302,53.410488481573765]
[1679,34,59.311125590727883,53.410488481573765]
[1680,34,53.517886371702318,53.410488481573765]
[1681,18,47.614338159051101,36.831728017263949]
[1682,18,45.222253771134596,36.831728017263949]
[1683,18,44.289538480726804,36.831728017263949]
[1684,18,38.890181206477877,36.831728017263949]
[1685,19,37.780154238190725,32.743055809668924]
[1686,19,44.284317586267875,32.743055809668924]
[1687,20,54.420521821665105,44.956649889950562]
[1688,20,78.378027297899962,44.956649889950562]
[1689,21,85.427511172771318,64.519723764838218]
[1690,21,86.371148059994923,64.519723764838218]
[1691,22,89.002547093392792,66.140554556899929]
[1692,22,89.952009759839953,66.140554556899929]
[1693,23,83.520473165896973,61.964220110890267]
[1694,23,81.0855488959062,61.964220110890267]
[1695,24,72.551336245894731,57.187436590607021]
[1696,24,65.787901144939639,57.187436590607021]
[1697,24,61.327203432101186,57.187436590607021]
[1698,25,62.810229206162958,58.732696445136142]
[1699,25,83.464432782597711,58.732696445136142]
[1700,25,95.888555986783757,58.732696445136142]
[1701,26,73.799040292934492,54.055056030406305]
[1702,26,61.866425688175632,54.055056030406305]
[1703,27,58.956510668053383,46.575969987699438]
[1704,27,55.43238519674658,46.575969987699438]
[1705,18,54.61411496758052,36.831728017263949]
[1706,18,50.683985242094309,36.831728017263949]
[1707,18,44.735527395991603,36.831728017263949]
[1708,18,40.127231833812438,36.831728017263949]
[1709,19,38.02004030452585,32.743055809668924]
[1710,19,38.717055886235926,32.743055809668924]
[1711,20,42.273493089079317,44.956649889950562]
[1712,20,47.627578176887361,44.956649889950562]
[1713,21,55.433392123743445,64.519723764838218]
[1714,21,59.420367412930609,64.519723764838218]
[1715,22,62.071340130159804,66.140554556899929]
[1716,22,60.763485315220237,66.140554556899929]
[1717,23,58.751331884578704,61.964220110890267]
[1718,23,54.779481938306397,61.964220110890267]
[1719,24,51.4383961865977,57.187436590607021]
[1720,24,48.23143991478775,57.187436590607021]
[1721,24,46.358115942847938,57.187436590607021]
[1722,25,48.477672494358245,58.732696445136142]
[1723,25,58.606326080524305,58.732696445136142]
[1724,25,64.431280550253575,58.732696445136142]
[1725,26,61.014298774105214,54.055056030406305]
[1726,26,55.170432288280061,54.055056030406305]
[1727,27,55.842776544761868,46.575969987699438]
[1728,27,54.878325028856437,46.575969987699438]
[1729,18,53.737978658820872,36.831728017263949]
[1730,18,43.397583999607207,{"$f":"VLOOKUP(B1732,$F$3:$G$122,2,FALSE)","v":36.831728017263949}]
[1731,18,32.007215334559334,36.831728017263949]
[1732,18,36.506806408179578,36.831728017263949]
[1733,19,33.575796266738301,32.743055809668924]
[1734,19,33.953129762127638,32.743055809668924]
[1735,20,30.694552785861486,44.956649889950562]
[1736,20,27.965583589945865,44.956649889950562]
[1737,21,33.621848916337726,64.519723764838218]
[1738,21,40.761913034463085,64.519723764838218]
[1739,22,43.255239262369884,66.140554556899929]
[1740,22,45.72017977859042,66.140554556899929]
[1741,23,44.110362184230766,61.964220110890267]
[1742,23,43.699879254846159,61.964220110890267]
[1743,24,36.541684717980708,57.187436590607021]
[1744,24,35.231743002061314,57.187436590607021]
[1745,24,33.700468267782256,57.187436590607021]
[1746,25,33.775270976148313,58.732696445136142]
[1747,25,43.187868912815212,58.732696445136142]
[1748,25,54.501917969323706,58.732696445136142]
[1749,26,60.43983591007057,54.055056030406305]
[1750,26,54.848720933566327,54.055056030406305]
[1751,27,53.898401167362351,46.575969987699438]
[1752,27,52.577386055523569,46.575969987699438]
[1753,18,35.479358162577988,36.831728017263949]
[1754,18,34.482385011957589,36.831728017263949]
[1755,18,33.063830444510145,36.831728017263949]
[1756,18,30.349855572490881,36.831728017263949]
[1757,19,29.794737575598703,32.743055809668924]
[1758,19,34.65603294969862,32.743055809668924]
[1759,20,45.114771242608441,44.956649889950562]
[1760,20,83.279330081993777,44.956649889950562]
[1761,21,125.21223298784609,64.519723764838218]
[1762,21,79.801400306542448,64.519723764838218]
[1763,22,74.286035479036016,66.140554556899929]
[1764,22,73.509187209502187,66.140554556899929]
[1765,23,72.643079270536987,61.964220110890267]
[1766,23,70.984746163030024,61.964220110890267]
[1767,24,90.328489028778506,57.187436590607021]
[1768,24,92.859955154067521,57.187436590607021]
[1769,24,116.52249580602162,57.187436590607021]
[1770,25,70.745802658348779,58.732696445136142]
[1771,25,73.619812614279439,58.732696445136142]
[1772,25,112.51521194941967,58.732696445136142]
[1773,26,71.610063972689133,54.055056030406305]
[1774,26,64.851029963055225,54.055056030406305]
[1775,27,54.276505176109843,46.575969987699438]
[1776,27,44.97300898900108,46.575969987699438]
[1777,18,47.393660590362543,36.831728017263949]
[1778,18,46.853347229962971,36.831728017263949]
[1779,18,42.751824894601761,36.831728017263949]
[1780,18,37.863378760678721,36.831728017263949]
[1781,19,38.024564064170889,32.743055809668924]
[1782,19,43.584400368999411,32.743055809668924]
[1783,20,51.53253260558332,44.956649889950562]
[1784,20,68.292502319151225,44.956649889950562]
[1785,21,85.209623515503694,64.519723764838218]
[1786,21,91.638753105017017,64.519723764838218]
[1787,22,94.124960952395725,66.140554556899929]
[1788,22,95.663439639830472,66.140554556899929]
[1789,23,89.078370128762543,61.964220110890267]
[1790,23,85.06323470654452,61.964220110890267]
[1791,24,82.339937034879895,57.187436590607021]
[1792,24,77.199100517179772,57.187436590607021]
[1793,24,74.371685473172604,57.187436590607021]
[1794,25,71.828802486681482,{"$f":"VLOOKUP(B1796,$F$3:$G$122,2,FALSE)","v":58.732696445136142}]
[1795,25,92.542892767704089,58.732696445136142]
[1796,25,98.257712861201583,58.732696445136142]
[1797,26,75.93513055527805,54.055056030406305]
[1798,26,63.498881416284895,54.055056030406305]
[1799,27,59.571103066618996,46.575969987699438]
[1800,27,51.686623253122335,46.575969987699438]
[1801,28,47.583566350781766,38.139723662669375]
[1802,28,45.821494282681144,38.139723662669375]
[1803,28,43.081056760036219,38.139723662669375]
[1804,28,39.881975392519742,38.139723662669375]
[1805,28,39.469688587427321,38.139723662669375]
[1806,28,43.665746162741193,38.139723662669375]
[1807,29,54.437423506392463,61.334657157997903]
[1808,29,68.919292754348959,61.334657157997903]
[1809,29,87.290174697877049,61.334657157997903]
[1810,30,86.184912005345382,79.97253389022778]
[1811,30,89.027183237312101,79.97253389022778]
[1812,31,89.797044968850869,79.641473064153232]
[1813,31,82.886546736459749,79.641473064153232]
[1814,32,83.193995182629934,69.904028311588434]
[1815,32,79.817155308881084,69.904028311588434]
[1816,32,76.515203626242766,69.904028311588434]
[1817,32,69.237107564016256,69.904028311588434]
[1818,33,66.557448877794286,69.819471973609154]
[1819,33,85.863834167959155,69.819471973609154]
[1820,33,93.981120028681502,69.819471973609154]
[1821,34,72.355219155406843,53.410488481573765]
[1822,34,62.849366445454997,53.410488481573765]
[1823,34,60.646304294070156,53.410488481573765]
[1824,34,52.222543848017779,53.410488481573765]
[1825,28,48.618335088340451,38.139723662669375]
[1826,28,46.118839974788045,38.139723662669375]
[1827,28,42.790374865003685,38.139723662669375]
[1828,28,40.939781339870088,38.139723662669375]
[1829,28,39.291715639406299,38.139723662669375]
[1830,28,43.519551640871072,38.139723662669375]
[1831,29,55.174603870073931,61.334657157997903]
[1832,29,70.090496775700984,61.334657157997903]
[1833,29,82.811387964572276,61.334657157997903]
[1834,30,87.11312980349723,79.97253389022778]
[1835,30,87.478847081559081,79.97253389022778]
[1836,31,86.824430601141557,79.641473064153232]
[1837,31,84.165595328959057,79.641473064153232]
[1838,32,80.630208900264861,69.904028311588434]
[1839,32,74.735475001079209,69.904028311588434]
[1840,32,72.156763629551406,69.904028311588434]
[1841,32,67.762509179227493,69.904028311588434]
[1842,33,66.913146883452626,69.819471973609154]
[1843,33,89.628282767828452,69.819471973609154]
[1844,33,100.25467327764443,69.819471973609154]
[1845,34,71.306332108800689,53.410488481573765]
[1846,34,61.39647719019888,53.410488481573765]
[1847,34,56.630819550926795,53.410488481573765]
[1848,34,51.099380355322026,53.410488481573765]
[1849,18,45.358582373123753,36.831728017263949]
[1850,18,43.079824315197264,36.831728017263949]
[1851,18,42.191296931086356,36.831728017263949]
[1852,18,37.047737214518293,36.831728017263949]
[1853,19,35.990298392009528,32.743055809668924]
[1854,19,42.186323379409856,32.743055809668924]
[1855,20,51.842319294469604,44.956649889950562]
[1856,20,74.664824607226819,44.956649889950562]
[1857,21,81.380335257784438,64.519723764838218]
[1858,21,82.279266821979959,{"$f":"VLOOKUP(B1860,$F$3:$G$122,2,FALSE)","v":64.519723764838218}]
[1859,22,84.786001860787721,66.140554556899929]
[1860,22,85.690483204671793,66.140554556899929]
[1861,23,79.563644238483874,61.964220110890267]
[1862,23,77.244075861753245,61.964220110890267]
[1863,24,69.114176288598813,57.187436590607021]
[1864,24,62.671162691997303,57.187436590607021]
[1865,24,58.42179301739381,57.187436590607021]
[1866,25,59.834559619536726,58.732696445136142]
[1867,25,79.510258799551394,58.732696445136142]
[1868,25,91.345782248149121,58.732696445136142]
[1869,26,70.302769661584165,54.055056030406305]
[1870,26,58.935469318802724,54.055056030406305]
[1871,27,56.163413143242607,46.575969987699438]
[1872,27,52.806245078666507,46.575969987699438]
[1873,18,51.905301446276766,36.831728017263949]
[1874,18,48.170102803115959,36.831728017263949]
[1875,18,42.516683392662969,36.831728017263949]
[1876,18,38.136955359892731,36.831728017263949]
[1877,19,36.134278733207722,32.743055809668924]
[1878,19,36.796722936558631,32.743055809668924]
[1879,20,40.176763887472482,44.956649889950562]
[1880,20,45.265290921493985,44.956649889950562]
[1881,21,52.683943154266139,64.519723764838218]
[1882,21,56.473167869652649,64.519723764838218]
[1883,22,58.992654601156346,66.140554556899929]
[1884,22,57.749668269551414,66.140554556899929]
[1885,23,55.8373159328779,61.964220110890267]
[1886,23,52.06246635629828,61.964220110890267]
[1887,24,48.887095608218878,57.187436590607021]
[1888,24,45.83920163223604,57.187436590607021]
[1889,24,44.058792931522085,57.187436590607021]
[1890,25,46.073221285874801,58.732696445136142]
[1891,25,55.699502293027258,58.732696445136142]
[1892,25,61.235543989237307,58.732696445136142]
[1893,26,57.988041594797764,54.055056030406305]
[1894,26,52.434025902359878,54.055056030406305]
[1895,27,53.073022457171341,46.575969987699438]
[1896,27,52.156406913861588,46.575969987699438]
[1897,18,50.950915342266725,36.831728017263949]
[1898,18,41.14681429425044,36.831728017263949]
[1899,18,30.347195029546299,36.831728017263949]
[1900,18,34.613419580387536,36.831728017263949]
[1901,19,31.834423173916147,32.743055809668924]
[1902,19,32.192186667430576,32.743055809668924]
[1903,20,29.102612332897181,44.956649889950562]
[1904,20,26.515178232416229,44.956649889950562]
[1905,21,31.878087351646478,64.519723764838218]
[1906,21,38.64783961067095,64.519723764838218]
[1907,22,41.011852115966015,66.140554556899929]
[1908,22,43.348951104430867,66.140554556899929]
[1909,23,41.822624993665499,61.964220110890267]
[1910,23,41.433431326421228,61.964220110890267]
[1911,24,34.646488963611667,57.187436590607021]
[1912,24,33.404485986632231,57.187436590607021]
[1913,24,31.95262919374191,57.187436590607021]
[1914,25,32.023552338907621,58.732696445136142]
[1915,25,40.947975858198078,58.732696445136142]
[1916,25,51.675233749983207,58.732696445136142]
[1917,26,57.305187869194562,54.055056030406305]
[1918,26,52.004050145995379,54.055056030406305]
[1919,27,51.103017707403772,46.575969987699438]
[1920,27,49.850515644449743,46.575969987699438]
[1921,18,33.55734811290808,36.831728017263949]
[1922,18,32.614383617291047,{"$f":"VLOOKUP(B1924,$F$3:$G$122,2,FALSE)","v":36.831728017263949}]
[1923,18,31.272675877854009,36.831728017263949]
[1924,18,28.705724155314222,36.831728017263949]
[1925,19,28.180678358823478,32.743055809668924]
[1926,19,32.77862459000432,32.743055809668924]
[1927,20,42.670785550434587,44.956649889950562]
[1928,20,78.767869964426126,44.956649889950562]
[1929,21,118.42915734590605,64.519723764838218]
[1930,21,75.478348782778312,64.519723764838218]
[1931,22,70.261765758975557,66.140554556899929]
[1932,22,69.527001401283385,66.140554556899929]
[1933,23,68.707812804972647,61.964220110890267]
[1934,23,67.139315958982138,61.964220110890267]
[1935,24,85.435157450195192,57.187436590607021]
[1936,24,87.82948740433622,57.187436590607021]
[1937,24,110.21016605852317,57.187436590607021]
[1938,25,66.913316651746499,58.732696445136142]
[1939,25,69.631633937228116,58.732696445136142]
[1940,25,106.41996729711872,58.732696445136142]
[1941,26,67.730758659940136,54.055056030406305]
[1942,26,61.337879281205936,54.055056030406305]
[1943,27,51.336204285337935,46.575969987699438]
[1944,27,42.536702930569426,46.575969987699438]
[1945,18,44.7145896634892,36.831728017263949]
[1946,18,44.204819160451059,36.831728017263949]
[1947,18,40.335147859758024,36.831728017263949]
[1948,18,35.723036023541518,36.831728017263949]
[1949,19,35.875109837120348,32.743055809668924]
[1950,19,41.120659471181128,32.743055809668924]
[1951,20,48.619499339698699,44.956649889950562]
[1952,20,64.4320607493799,44.956649889950562]
[1953,21,80.392890175926411,64.519723764838218]
[1954,21,86.458593645705292,64.519723764838218]
[1955,22,88.8042610267198,66.140554556899929]
[1956,22,90.255772523357734,66.140554556899929]
[1957,23,84.042944110757105,61.964220110890267]
[1958,23,80.254776439987907,61.964220110890267]
[1959,24,77.685421458685155,57.187436590607021]
[1960,24,72.835186373388012,57.187436590607021]
[1961,24,70.167599571138226,57.187436590607021]
[1962,25,67.768460785763622,58.732696445136142]
[1963,25,87.311624061839865,58.732696445136142]
[1964,25,92.703396554158516,58.732696445136142]
[1965,26,71.642666160992661,54.055056030406305]
[1966,26,59.909413859395215,54.055056030406305]
[1967,27,56.203665136745137,46.575969987699438]
[1968,27,48.764879544347615,46.575969987699438]
[1969,28,44.77931532864794,38.139723662669375]
[1970,28,43.121087776143675,38.139723662669375]
[1971,28,40.542152959439676,38.139723662669375]
[1972,28,37.531603639492182,38.139723662669375]
[1973,28,37.143614208120553,38.139723662669375]
[1974,28,41.0923847545942,38.139723662669375]
[1975,29,51.229252866454175,61.334657157997903]
[1976,29,64.857659464267741,61.334657157997903]
[1977,29,82.145886860890641,61.334657157997903]
[1978,30,81.10576081684826,79.97253389022778]
[1979,30,83.780527958250048,79.97253389022778]
[1980,31,84.505019287502151,79.641473064153232]
[1981,31,78.001778711857014,79.641473064153232]
[1982,32,78.291108242495113,69.904028311588434]
[1983,32,75.113276290887569,69.904028311588434]
[1984,32,72.005919130921527,69.904028311588434]
[1985,32,65.156744435606214,69.904028311588434]
[1986,33,62.635006565037529,{"$f":"VLOOKUP(B1988,$F$3:$G$122,2,FALSE)","v":69.819471973609154}]
[1987,33,80.803605118400469,69.819471973609154]
[1988,33,88.442513486269974,69.819471973609154]
[1989,34,68.091095786059313,53.410488481573765]
[1990,34,59.145453233152551,53.410488481573765]
[1991,34,57.07222454663038,53.410488481573765]
[1992,34,49.144903116243853,53.410488481573765]
[1993,28,45.633596698238961,38.139723662669375]
[1994,28,43.287548612597639,38.139723662669375]
[1995,28,40.163422001349588,38.139723662669375]
[1996,28,38.426438650832281,38.139723662669375]
[1997,28,36.87954969689109,38.139723662669375]
[1998,28,40.847833733079881,38.139723662669375]
[1999,29,51.7873682103085,61.334657157997903]
[2000,29,65.787556411173995,61.334657157997903]
[2001,29,77.727496705311054,61.334657157997903]
[2002,30,81.765149410216608,79.97253389022778]
[2003,30,82.108414862279659,79.97253389022778]
[2004,31,81.494173801046458,79.641473064153232]
[2005,31,78.998567641819363,79.641473064153232]
[2006,32,75.680222861680065,69.904028311588434]
[2007,32,70.147373805658248,69.904028311588434]
[2008,32,67.726972643922807,69.904028311588434]
[2009,32,63.602486788716874,69.904028311588434]
[2010,33,62.805267871498621,69.819471973609154]
[2011,33,84.125894092240813,69.819471973609154]
[2012,33,94.099917637099495,69.819471973609154]
[2013,34,66.928750142743112,53.410488481573765]
[2014,34,57.627273202575616,53.410488481573765]
[2015,34,53.154185049366149,53.410488481573765]
[2016,34,47.962327595703691,53.410488481573765]
[2017,18,42.459920609898433,36.831728017263949]
[2018,18,40.326787668643739,36.831728017263949]
[2019,18,39.495042049287164,36.831728017263949]
[2020,18,34.68018396088366,36.831728017263949]
[2021,19,33.690321268875216,32.743055809668924]
[2022,19,39.490386334794238,32.743055809668924]
[2023,20,48.529311241889054,44.956649889950562]
[2024,20,69.893333506236559,44.956649889950562]
[2025,21,76.179686257123194,64.519723764838218]
[2026,21,77.021171172491478,64.519723764838218]
[2027,22,79.367712117318163,66.140554556899929]
[2028,22,80.214392151066463,66.140554556899929]
[2029,23,74.479091740793635,61.964220110890267]
[2030,23,72.307756483553064,61.964220110890267]
[2031,24,64.697402006356654,57.187436590607021]
[2032,24,58.666132255688829,57.187436590607021]
[2033,24,54.688320569654238,57.187436590607021]
[2034,25,56.010803650669743,58.732696445136142]
[2035,25,74.429117923707551,58.732696445136142]
[2036,25,85.508286621488935,58.732696445136142]
[2037,26,65.810037754962281,54.055056030406305]
[2038,26,55.169170142896903,54.055056030406305]
[2039,27,52.574263534655927,46.575969987699438]
[2040,27,49.431636890741032,46.575969987699438]
[2041,18,48.454661047569303,36.831728017263949]
[2042,18,44.967776680140588,36.831728017263949]
[2043,18,39.69019397354986,36.831728017263949]
[2044,18,35.601628231800525,36.831728017263949]
[2045,19,33.732088619659955,32.743055809668924]
[2046,19,34.350493839202279,32.743055809668924]
[2047,20,37.505831233263066,44.956649889950562]
[2048,20,42.256075346961232,44.956649889950562]
[2049,21,49.181539015461958,64.519723764838218]
[2050,21,52.718857826858553,{"$f":"VLOOKUP(B2052,$F$3:$G$122,2,FALSE)","v":64.519723764838218}]
[2051,22,55.070850247425007,66.140554556899929]
[2052,22,53.910497071420117,66.140554556899929]
[2053,23,52.125277032327375,61.964220110890267]
[2054,23,48.601377707168055,61.964220110890267]
[2055,24,45.637104135656216,57.187436590607021]
[2056,24,42.79183273947649,57.187436590607021]
[2057,24,41.129784784538238,57.187436590607021]
[2058,25,43.010294874934317,58.732696445136142]
[2059,25,51.996625179421642,58.732696445136142]
[2060,25,57.164633387845413,58.732696445136142]
[2061,26,54.133023448413581,54.055056030406305]
[2062,26,48.948236146706016,54.055056030406305]
[2063,27,49.544752506523352,46.575969987699438]
[2064,27,48.689073139975839,46.575969987699438]
[2065,18,47.429332091231103,36.831728017263949]
[2066,18,38.302862795465479,36.831728017263949]
[2067,18,28.249682688226169,36.831728017263949]
[2068,18,32.221037856987117,36.831728017263949]
[2069,19,29.634117827043532,32.743055809668924]
[2070,19,29.967153719137478,32.743055809668924]
[2071,20,27.091122029642623,44.956649889950562]
[2072,20,24.6825240605678,44.956649889950562]
[2073,21,29.674764060229933,64.519723764838218]
[2074,21,35.976610178434512,64.519723764838218]
[2075,22,38.177228821461128,66.140554556899929]
[2076,22,40.35279413386732,66.140554556899929]
[2077,23,38.931963369577716,61.964220110890267]
[2078,23,38.569669668521875,61.964220110890267]
[2079,24,32.251821577916431,57.187436590607021]
[2080,24,31.095662336070813,57.187436590607021]
[2081,24,29.744153780899072,57.187436590607021]
[2082,25,29.810174918741684,58.732696445136142]
[2083,25,38.117767510078025,58.732696445136142]
[2084,25,48.103587657958442,58.732696445136142]
[2085,26,53.344415262030104,54.055056030406305]
[2086,26,48.409677194107871,54.055056030406305]
[2087,27,47.57092157082112,46.575969987699438]
[2088,27,46.404988910146848,46.575969987699438]
[2089,18,31.147178566162737,36.831728017263949]
[2090,18,30.271940051256443,36.831728017263949]
[2091,18,29.026596992465301,36.831728017263949]
[2092,18,26.644009923795497,36.831728017263949]
[2093,19,26.156674180706201,32.743055809668924]
[2094,19,30.424384841821187,32.743055809668924]
[2095,20,39.606066981990885,44.956649889950562]
[2096,20,73.110571872470146,44.956649889950562]
[2097,21,109.92329009079894,64.519723764838218]
[2098,21,70.057312023175129,64.519723764838218]
[2099,22,65.21539655354664,66.140554556899929]
[2100,22,64.533404741318591,66.140554556899929]
[2101,23,63.773052242581052,61.964220110890267]
[2102,23,62.317208616971755,61.964220110890267]
[2103,24,79.298998716345551,57.187436590607021]
[2104,24,81.521362127692001,57.187436590607021]
[2105,24,102.2946065488066,57.187436590607021]
[2106,25,62.107441124182614,58.732696445136142]
[2107,25,64.630522316579174,58.732696445136142]
[2108,25,98.776628989152414,58.732696445136142]
[2109,26,62.866172478967343,54.055056030406305]
[2110,26,56.932445091111546,54.055056030406305]
[2111,27,47.649114477236381,46.575969987699438]
[2112,27,39.481614498752123,46.575969987699438]
[2113,18,41.378902290324746,36.831728017263949]
[2114,18,40.907160427222543,{"$f":"VLOOKUP(B2116,$F$3:$G$122,2,FALSE)","v":36.831728017263949}]
[2115,18,37.326164786826546,36.831728017263949]
[2116,18,33.05811432591215,36.831728017263949]
[2117,19,33.198843504472272,32.743055809668924]
[2118,19,38.053077601225745,32.743055809668924]
[2119,20,44.992507539985617,44.956649889950562]
[2120,20,59.625459300364156,44.956649889950562]
[2121,21,74.395618353235406,64.519723764838218]
[2122,21,80.00882319503242,64.519723764838218]
[2123,22,82.179504891880342,66.140554556899929]
[2124,22,83.522734313075418,66.140554556899929]
[2125,23,77.773379980042847,61.964220110890267]
[2126,23,74.267807837084845,61.964220110890267]
[2127,24,71.890125529797643,57.187436590607021]
[2128,24,67.401715702266756,57.187436590607021]
[2129,24,64.933129621706485,57.187436590607021]
[2130,25,62.712965462132324,58.732696445136142]
[2131,25,80.798217943045259,58.732696445136142]
[2132,25,85.78776674155489,58.732696445136142]
[2133,26,66.29815693723495,54.055056030406305]
[2134,26,55.440199742740965,54.055056030406305]
[2135,27,52.010898133109059,46.575969987699438]
[2136,27,45.12704244969602,46.575969987699438]
[2137,28,41.311017609403649,38.139723662669375]
[2138,28,39.781224955828257,38.139723662669375]
[2139,28,37.402036689003545,38.139723662669375]
[2140,28,34.624663809191709,38.139723662669375]
[2141,28,34.26672537011509,38.139723662669375]
[2142,28,37.909651314462998,38.139723662669375]
[2143,29,47.26138735597727,61.334657157997903]
[2144,29,59.834231331333967,61.334657157997903]
[2145,29,75.783431563083639,61.334657157997903]
[2146,30,74.823866527171973,79.97253389022778]
[2147,30,77.291464606073632,79.97253389022778]
[2148,31,77.959841820886609,79.641473064153232]
[2149,31,71.96029752310254,79.641473064153232]
[2150,32,72.227217578654717,69.904028311588434]
[2151,32,69.295518629059629,69.904028311588434]
[2152,32,66.428835978556052,69.904028311588434]
[2153,32,60.110151238259554,69.904028311588434]
[2154,33,57.783729835592069,69.819471973609154]
[2155,33,74.545113730534794,69.819471973609154]
[2156,33,81.592364805849684,69.819471973609154]
[2157,34,62.81722791911254,53.410488481573765]
[2158,34,54.56445329944038,53.410488481573765]
[2159,34,52.651802644810019,53.410488481573765]
[2160,34,45.338476998747957,53.410488481573765]
[2161,28,40.4412234319798,38.139723662669375]
[2162,28,38.42526149933731,38.139723662669375]
[2163,28,36.437528499613158,38.139723662669375]
[2164,28,34.433156737624294,38.139723662669375]
[2165,28,33.591338231366144,38.139723662669375]
[2166,28,39.051222348258399,38.139723662669375]
[2167,29,45.126111376702333,61.334657157997903]
[2168,29,57.417793815900936,61.334657157997903]
[2169,29,75.620739002708717,61.334657157997903]
[2170,30,79.001713982901137,79.97253389022778]
[2171,30,81.935898586429488,79.97253389022778]
[2172,31,84.535322949386966,79.641473064153232]
[2173,31,77.24312391007112,79.641473064153232]
[2174,32,76.058142195367012,69.904028311588434]
[2175,32,72.774610187522612,69.904028311588434]
[2176,32,69.112621357335897,69.904028311588434]
[2177,32,64.107754896322319,69.904028311588434]
[2178,33,62.5562631423293,{"$f":"VLOOKUP(B2180,$F$3:$G$122,2,FALSE)","v":69.819471973609154}]
[2179,33,63.344406585872612,69.819471973609154]
[2180,33,61.902986922478192,69.819471973609154]
[2181,34,55.380526451071063,53.410488481573765]
[2182,34,55.101773742161299,53.410488481573765]
[2183,34,50.4660746575614,53.410488481573765]
[2184,34,44.08315966413182,53.410488481573765]
[2185,18,39.673324947120364,36.831728017263949]
[2186,18,38.21881736032681,36.831728017263949]
[2187,18,36.403038915759197,36.831728017263949]
[2188,18,32.717331411411635,36.831728017263949]
[2189,19,30.986863492297928,32.743055809668924]
[2190,19,37.972403662638044,32.743055809668924]
[2191,20,42.745925120566476,44.956649889950562]
[2192,20,55.081914651913074,44.956649889950562]
[2193,21,73.487315686570014,64.519723764838218]
[2194,21,76.174637992971938,64.519723764838218]
[2195,22,78.162112795446689,66.140554556899929]
[2196,22,80.487877049732219,66.140554556899929]
[2197,23,74.192768258459438,61.964220110890267]
[2198,23,71.40709453107101,61.964220110890267]
[2199,24,66.529310492303495,57.187436590607021]
[2200,24,63.074419509892728,57.187436590607021]
[2201,24,58.786185819032582,57.187436590607021]
[2202,25,55.925505422219857,58.732696445136142]
[2203,25,58.315767163793438,58.732696445136142]
[2204,25,57.069947119276016,58.732696445136142]
[2205,26,51.030077595985134,54.055056030406305]
[2206,26,50.062494872203651,54.055056030406305]
[2207,27,46.593641712739391,46.575969987699438]
[2208,27,42.515618356477987,46.575969987699438]
[2209,18,39.188927358186902,36.831728017263949]
[2210,18,36.786256987409203,36.831728017263949]
[2211,18,35.208675663802914,36.831728017263949]
[2212,18,32.856902113777572,36.831728017263949]
[2213,19,31.642142371553788,32.743055809668924]
[2214,19,31.561676799009295,32.743055809668924]
[2215,20,34.324714183547179,44.956649889950562]
[2216,20,38.023686071351229,44.956649889950562]
[2217,21,43.133502470954149,64.519723764838218]
[2218,21,46.692785154433999,64.519723764838218]
[2219,22,49.293406915387465,66.140554556899929]
[2220,22,50.92316446312789,66.140554556899929]
[2221,23,49.608812033507235,61.964220110890267]
[2222,23,46.729275149948272,61.964220110890267]
[2223,24,43.442514790185079,57.187436590607021]
[2224,24,40.052046222466515,57.187436590607021]
[2225,24,38.382109266041915,57.187436590607021]
[2226,25,38.67827607106188,58.732696445136142]
[2227,25,39.488981396853852,58.732696445136142]
[2228,25,41.013414506268582,58.732696445136142]
[2229,26,45.045480553982138,54.055056030406305]
[2230,26,46.001684836547078,54.055056030406305]
[2231,27,45.819564696282356,46.575969987699438]
[2232,27,39.550542836861148,46.575969987699438]
[2233,18,36.984401150367404,36.831728017263949]
[2234,18,33.846047556788093,36.831728017263949]
[2235,18,32.093339731556092,36.831728017263949]
[2236,18,29.214591202810592,36.831728017263949]
[2237,19,25.411879014567045,32.743055809668924]
[2238,19,26.834056750465166,32.743055809668924]
[2239,20,20.197159780597605,44.956649889950562]
[2240,20,20.268957006728279,44.956649889950562]
[2241,21,32.321280837603744,64.519723764838218]
[2242,21,34.014710603699058,{"$f":"VLOOKUP(B2244,$F$3:$G$122,2,FALSE)","v":64.519723764838218}]
[2243,22,37.229823472434468,66.140554556899929]
[2244,22,38.712111440415363,66.140554556899929]
[2245,23,37.576922744029233,61.964220110890267]
[2246,23,36.160613936551968,61.964220110890267]
[2247,24,33.22320934202034,57.187436590607021]
[2248,24,30.97786076846393,57.187436590607021]
[2249,24,29.498944776534486,57.187436590607021]
[2250,25,30.746835773439603,58.732696445136142]
[2251,25,32.970669205176087,58.732696445136142]
[2252,25,34.290755430552366,58.732696445136142]
[2253,26,37.961630630612333,54.055056030406305]
[2254,26,39.797413309078493,54.055056030406305]
[2255,27,40.871182669862009,46.575969987699438]
[2256,27,38.596282829518572,46.575969987699438]
[2257,18,20.980591823805756,36.831728017263949]
[2258,18,19.505737409630473,36.831728017263949]
[2259,18,18.564053356040745,36.831728017263949]
[2260,18,17.53033350638567,36.831728017263949]
[2261,19,15.186895142025877,32.743055809668924]
[2262,19,20.444455836967581,32.743055809668924]
[2263,20,24.356480775762748,44.956649889950562]
[2264,20,32.228588777297382,44.956649889950562]
[2265,21,42.875768192024459,64.519723764838218]
[2266,21,44.936015844404963,64.519723764838218]
[2267,22,48.08680772366332,66.140554556899929]
[2268,22,50.75660838925976,66.140554556899929]
[2269,23,46.769032838082978,61.964220110890267]
[2270,23,43.551126326664992,61.964220110890267]
[2271,24,41.372967523585785,57.187436590607021]
[2272,24,38.573530677771281,57.187436590607021]
[2273,24,37.158335523842005,57.187436590607021]
[2274,25,35.450883018367747,58.732696445136142]
[2275,25,35.879757218575882,58.732696445136142]
[2276,25,34.884437608428236,58.732696445136142]
[2277,26,31.376610566507583,54.055056030406305]
[2278,26,31.393704991104944,54.055056030406305]
[2279,27,28.112628210515648,46.575969987699438]
[2280,27,24.182323200326945,46.575969987699438]
[2281,18,42.524043125414899,36.831728017263949]
[2282,18,40.19834624959006,36.831728017263949]
[2283,18,38.347666799775148,36.831728017263949]
[2284,18,35.438214312813756,36.831728017263949]
[2285,19,33.420008093543395,32.743055809668924]
[2286,19,40.512537708983658,32.743055809668924]
[2287,20,46.372129908604805,44.956649889950562]
[2288,20,63.507767302432903,44.956649889950562]
[2289,21,81.406968723546626,64.519723764838218]
[2290,21,84.657996325712404,64.519723764838218]
[2291,22,87.154447144145024,66.140554556899929]
[2292,22,92.450061062570384,66.140554556899929]
[2293,23,83.724242821173561,61.964220110890267]
[2294,23,81.389782066554247,61.964220110890267]
[2295,24,78.217861240945197,57.187436590607021]
[2296,24,72.870349673357936,57.187436590607021]
[2297,24,65.941830860172047,57.187436590607021]
[2298,25,64.459812842099083,58.732696445136142]
[2299,25,65.207849600828979,58.732696445136142]
[2300,25,64.593130811765761,58.732696445136142]
[2301,26,60.014018058271667,54.055056030406305]
[2302,26,56.862491046715256,54.055056030406305]
[2303,27,51.636388201776057,46.575969987699438]
[2304,27,43.959811162942586,46.575969987699438]
[2305,28,44.268633780064242,38.139723662669375]
[2306,28,41.769658973284393,{"$f":"VLOOKUP(B2308,$F$3:$G$122,2,FALSE)","v":38.139723662669375}]
[2307,28,38.700148473882372,38.139723662669375]
[2308,28,37.040316469798313,38.139723662669375]
[2309,28,36.252805302933737,38.139723662669375]
[2310,28,43.384696104097941,38.139723662669375]
[2311,29,47.280918809520067,61.334657157997903]
[2312,29,62.66436626980299,61.334657157997903]
[2313,29,84.568667181238339,61.334657157997903]
[2314,30,87.870830695696426,79.97253389022778]
[2315,30,92.721012100567151,79.97253389022778]
[2316,31,96.10018185800304,79.641473064153232]
[2317,31,88.021514828208709,79.641473064153232]
[2318,32,87.049819195683071,69.904028311588434]
[2319,32,83.545128834605762,69.904028311588434]
[2320,32,80.965039795112645,69.904028311588434]
[2321,32,71.916809108708875,69.904028311588434]
[2322,33,68.624792734986045,69.819471973609154]
[2323,33,69.534769877881246,69.819471973609154]
[2324,33,68.901401644808217,69.819471973609154]
[2325,34,63.561295309448084,53.410488481573765]
[2326,34,59.896616371038931,53.410488481573765]
[2327,34,54.466283235362582,53.410488481573765]
[2328,34,46.581811416812087,53.410488481573765]
[2329,28,40.581250106666509,38.139723662669375]
[2330,28,38.558307958744493,38.139723662669375]
[2331,28,36.563692485680122,38.139723662669375]
[2332,28,34.552380639073398,38.139723662669375]
[2333,28,33.70764735833226,38.139723662669375]
[2334,28,39.186436180675585,38.139723662669375]
[2335,29,45.282359352935039,61.334657157997903]
[2336,29,57.616601419963928,61.334657157997903]
[2337,29,75.882573826714761,61.334657157997903]
[2338,30,79.275255344036836,79.97253389022778]
[2339,30,82.219599484742389,79.97253389022778]
[2340,31,84.828024286330432,79.641473064153232]
[2341,31,77.510576199236738,79.641473064153232]
[2342,32,76.321491516447267,69.904028311588434]
[2343,32,73.026590365207412,69.904028311588434]
[2344,32,69.351921994811093,69.904028311588434]
[2345,32,64.32972631503722,69.904028311588434]
[2346,33,62.772862561567457,69.819471973609154]
[2347,33,63.563734931097912,69.819471973609154]
[2348,33,62.117324389951428,69.819471973609154]
[2349,34,55.572280070354765,53.410488481573765]
[2350,34,55.292562187506725,53.410488481573765]
[2351,34,50.640812116497955,53.410488481573765]
[2352,34,44.235796447433749,53.410488481573765]
[2353,18,38.112176837842142,36.831728017263949]
[2354,18,36.714904226238602,36.831728017263949]
[2355,18,34.97057679036218,36.831728017263949]
[2356,18,31.429902133889957,36.831728017263949]
[2357,19,29.767528248328816,32.743055809668924]
[2358,19,36.478186924774747,32.743055809668924]
[2359,20,41.0638699797315,44.956649889950562]
[2360,20,52.914437460906939,44.956649889950562]
[2361,21,70.595584678570702,64.519723764838218]
[2362,21,73.177160664409584,64.519723764838218]
[2363,22,75.086428194510333,66.140554556899929]
[2364,22,77.320673462851431,66.140554556899929]
[2365,23,71.273277642455042,61.964220110890267]
[2366,23,68.597220370918876,61.964220110890267]
[2367,24,63.911377474965562,57.187436590607021]
[2368,24,60.592436694161094,57.187436590607021]
[2369,24,56.47294529872368,57.187436590607021]
[2370,25,53.724832875446985,{"$f":"VLOOKUP(B2372,$F$3:$G$122,2,FALSE)","v":58.732696445136142}]
[2371,25,56.021037650443866,58.732696445136142]
[2372,25,54.824240711743556,58.732696445136142]
[2373,26,49.022040476296354,54.055056030406305]
[2374,26,48.092532200316128,54.055056030406305]
[2375,27,44.760178655100979,46.575969987699438]
[2376,27,40.842625802905097,46.575969987699438]
[2377,18,38.055000981288806,36.831728017263949]
[2378,18,35.721851556657839,36.831728017263949]
[2379,18,34.189917337862262,36.831728017263949]
[2380,18,31.906192041275741,36.831728017263949]
[2381,19,30.726581209883619,32.743055809668924]
[2382,19,30.648443897929326,32.743055809668924]
[2383,20,33.331533164927613,44.956649889950562]
[2384,20,36.923475795394531,44.956649889950562]
[2385,21,41.885440340220782,64.519723764838218]
[2386,21,45.341735654826117,64.519723764838218]
[2387,22,47.867108772607303,66.140554556899929]
[2388,22,49.44970950346319,66.140554556899929]
[2389,23,48.173387685776987,61.964220110890267]
[2390,23,45.377169817195771,61.964220110890267]
[2391,24,42.185511429283309,57.187436590607021]
[2392,24,38.893145616555742,57.187436590607021]
[2393,24,37.271528062837405,57.187436590607021]
[2394,25,37.559125320926306,58.732696445136142]
[2395,25,38.346372996438525,58.732696445136142]
[2396,25,39.826696837518782,58.732696445136142]
[2397,26,43.742095592884446,54.055056030406305]
[2398,26,44.670632232296185,54.055056030406305]
[2399,27,44.493781713956118,46.575969987699438]
[2400,27,38.406153164404714,46.575969987699438]
[2401,18,29.460186488431521,36.831728017263949]
[2402,18,26.960308722192035,36.831728017263949]
[2403,18,25.564176899450459,36.831728017263949]
[2404,18,23.271089384924139,36.831728017263949]
[2405,19,20.242012078196584,32.743055809668924]
[2406,19,21.374857818997171,32.743055809668924]
[2407,20,16.088190565906817,44.956649889950562]
[2408,20,16.145381154516382,44.956649889950562]
[2409,21,25.745745000695123,64.519723764838218]
[2410,21,27.094658465898906,64.519723764838218]
[2411,22,29.655679376017392,66.140554556899929]
[2412,22,30.836406347605571,66.140554556899929]
[2413,23,29.932163757354445,61.964220110890267]
[2414,23,28.803992953024039,61.964220110890267]
[2415,24,26.464182534165396,57.187436590607021]
[2416,24,24.675634236747619,57.187436590607021]
[2417,24,23.497593236547942,57.187436590607021]
[2418,25,24.491609641912778,58.732696445136142]
[2419,25,26.263019900843382,58.732696445136142]
[2420,25,27.314543926398905,58.732696445136142]
[2421,26,30.238605547130344,54.055056030406305]
[2422,26,31.700911232166654,54.055056030406305]
[2423,27,32.556229815956456,46.575969987699438]
[2424,27,30.744142247834368,46.575969987699438]
[2425,18,32.342845232931381,36.831728017263949]
[2426,18,30.06926837392912,36.831728017263949]
[2427,18,28.617605720208637,36.831728017263949]
[2428,18,27.024064346715654,36.831728017263949]
[2429,19,23.411513043686959,32.743055809668924]
[2430,19,31.516359336263921,32.743055809668924]
[2431,20,37.546981265587021,44.956649889950562]
[2432,20,49.682309615174603,44.956649889950562]
[2433,21,66.095577594919604,64.519723764838218]
[2434,21,69.27157336863489,{"$f":"VLOOKUP(B2436,$F$3:$G$122,2,FALSE)","v":64.519723764838218}]
[2435,22,74.128708713902071,66.140554556899929]
[2436,22,78.244367149818373,66.140554556899929]
[2437,23,72.097279403704576,61.964220110890267]
[2438,23,67.136682812966683,61.964220110890267]
[2439,24,63.778919902732483,57.187436590607021]
[2440,24,59.463419491499543,57.187436590607021]
[2441,24,57.281810973383578,57.187436590607021]
[2442,25,54.649670155293073,58.732696445136142]
[2443,25,55.310805551196921,58.732696445136142]
[2444,25,53.776460458425007,58.732696445136142]
[2445,26,48.368933918015372,54.055056030406305]
[2446,26,48.395286002539088,54.055056030406305]
[2447,27,43.337308639309732,46.575969987699438]
[2448,27,37.278506879556048,46.575969987699438]
[2449,18,35.834406549104621,36.831728017263949]
[2450,18,33.874574857830638,36.831728017263949]
[2451,18,32.315033597815656,36.831728017263949]
[2452,18,29.863279352679761,36.831728017263949]
[2453,19,28.162565665884486,32.743055809668924]
[2454,19,34.139339533592093,32.743055809668924]
[2455,20,39.077134570482478,44.956649889950562]
[2456,20,53.517092573475985,44.956649889950562]
[2457,21,68.600495126164049,64.519723764838218]
[2458,21,71.340089864481442,64.519723764838218]
[2459,22,73.443813475468332,66.140554556899929]
[2460,22,77.9063520332504,66.140554556899929]
[2461,23,70.553229062002913,61.964220110890267]
[2462,23,68.586012174670728,61.964220110890267]
[2463,24,65.913079592243875,57.187436590607021]
[2464,24,61.406807623376565,57.187436590607021]
[2465,24,55.568243326877763,57.187436590607021]
[2466,25,54.319367813886267,58.732696445136142]
[2467,25,54.949727755130453,58.732696445136142]
[2468,25,54.431712971453884,58.732696445136142]
[2469,26,50.572959758384471,54.055056030406305]
[2470,26,47.917212753107314,54.055056030406305]
[2471,27,43.513250188666746,46.575969987699438]
[2472,27,37.044307861057433,46.575969987699438]
[2473,28,34.44680975416064,38.139723662669375]
[2474,28,32.502279227710297,38.139723662669375]
[2475,28,30.113797018464524,38.139723662669375]
[2476,28,28.822229775784013,38.139723662669375]
[2477,28,28.209442684159839,38.139723662669375]
[2478,28,33.758990177215431,38.139723662669375]
[2479,29,36.790763033823389,61.334657157997903]
[2480,29,48.761105074650715,61.334657157997903]
[2481,29,65.805527318236969,61.334657157997903]
[2482,30,68.375044121597043,79.97253389022778]
[2483,30,72.149122105498776,79.97253389022778]
[2484,31,74.778559877166074,79.641473064153232]
[2485,31,68.492296162204596,79.641473064153232]
[2486,32,67.736189372036776,69.904028311588434]
[2487,32,65.009080089309421,69.904028311588434]
[2488,32,63.001432039139907,69.904028311588434]
[2489,32,55.960720491211561,69.904028311588434]
[2490,33,53.399099495709336,69.819471973609154]
[2491,33,54.107181197025845,69.819471973609154]
[2492,33,53.614337547560865,69.819471973609154]
[2493,34,49.459033638363252,53.410488481573765]
[2494,34,46.60743223524274,53.410488481573765]
[2495,34,42.381920028209215,53.410488481573765]
[2496,34,36.246765686311306,53.410488481573765]
[2497,28,34.635950789819624,38.139723662669375]
[2498,28,32.909376953333279,{"$f":"VLOOKUP(B2500,$F$3:$G$122,2,FALSE)","v":38.139723662669375}]
[2499,28,31.206979831803466,38.139723662669375]
[2500,28,29.490332415596658,38.139723662669375]
[2501,28,28.7693556032666,38.139723662669375]
[2502,28,33.44548212819403,38.139723662669375]
[2503,29,38.648330597818052,61.334657157997903]
[2504,29,49.175561773310001,61.334657157997903]
[2505,29,64.765503427288124,61.334657157997903]
[2506,30,67.661144881669898,79.97253389022778]
[2507,30,70.174132000048942,79.97253389022778]
[2508,31,72.400413172493828,79.641473064153232]
[2509,31,66.154997588068497,79.641473064153232]
[2510,32,65.140118094465663,69.904028311588434]
[2511,32,62.327931830324019,69.904028311588434]
[2512,32,59.191615612577813,69.904028311588434]
[2513,32,54.905189690156135,69.904028311588434]
[2514,33,53.576412084491039,69.819471973609154]
[2515,33,54.251418803113168,69.819471973609154]
[2516,33,53.016912616306563,69.819471973609154]
[2517,34,47.430740865192909,53.410488481573765]
[2518,34,47.192002659743551,53.410488481573765]
[2519,34,43.221750730034465,53.410488481573765]
[2520,34,37.755092927758241,53.410488481573765]
[2521,18,34.149611038579756,36.831728017263949]
[2522,18,32.897614428568673,36.831728017263949]
[2523,18,31.334646673865219,36.831728017263949]
[2524,18,28.162099935138205,36.831728017263949]
[2525,19,26.672564928146993,32.743055809668924]
[2526,19,32.685508890606684,32.743055809668924]
[2527,20,36.794413331811143,44.956649889950562]
[2528,20,47.412864012034632,44.956649889950562]
[2529,21,63.255682509863362,64.519723764838218]
[2530,21,65.568849143142629,64.519723764838218]
[2531,22,67.279607985361039,66.140554556899929]
[2532,22,69.28155626565129,66.140554556899929]
[2533,23,63.862914975715412,61.964220110890267]
[2534,23,61.465090382049475,61.964220110890267]
[2535,24,57.266439830926615,57.187436590607021]
[2536,24,54.292573047961454,57.187436590607021]
[2537,24,50.601389796227544,57.187436590607021]
[2538,25,48.139001705815289,58.732696445136142]
[2539,25,50.196467493316952,58.732696445136142]
[2540,25,49.124102875502786,58.732696445136142]
[2541,26,43.925163910365029,54.055056030406305]
[2542,26,43.092297653028922,54.055056030406305]
[2543,27,40.106412645822054,46.575969987699438]
[2544,27,36.596172160352509,46.575969987699438]
[2545,18,33.908826931156703,36.831728017263949]
[2546,18,31.829879144944869,36.831728017263949]
[2547,18,30.46485244791241,36.831728017263949]
[2548,18,28.429943924895092,36.831728017263949]
[2549,19,27.378854225870761,32.743055809668924]
[2550,19,27.309230141792387,32.743055809668924]
[2551,20,29.6999910733247,44.956649889950562]
[2552,20,32.900583843327077,44.956649889950562]
[2553,21,37.321931699073502,64.519723764838218]
[2554,21,40.401656219473459,64.519723764838218]
[2555,22,42.651884514817418,66.140554556899929]
[2556,22,44.062057498654688,66.140554556899929]
[2557,23,42.924793682903896,61.964220110890267]
[2558,23,40.433229753785916,61.964220110890267]
[2559,24,37.589309398815715,57.187436590607021]
[2560,24,34.655653909154097,57.187436590607021]
[2561,24,33.210715069063212,57.187436590607021]
[2562,25,33.466977988494143,{"$f":"VLOOKUP(B2564,$F$3:$G$122,2,FALSE)","v":58.732696445136142}]
[2563,25,34.168453339763339,58.732696445136142]
[2564,25,35.487492720525317,58.732696445136142]
[2565,26,38.976300376250791,54.055056030406305]
[2566,26,39.803670955495591,54.055056030406305]
[2567,27,39.646088680776238,46.575969987699438]
[2568,27,34.221720330098655,46.575969987699438]
[2569,18,32.174162489582514,36.831728017263949]
[2570,18,29.443987190567761,36.831728017263949]
[2571,18,27.919238793628608,36.831728017263949]
[2572,18,25.414903991668886,36.831728017263949]
[2573,19,22.106777429115411,32.743055809668924]
[2574,19,23.343984904175421,32.743055809668924]
[2575,20,17.570291268662402,44.956649889950562]
[2576,20,17.63275045545409,44.956649889950562]
[2577,21,28.1175335869988,64.519723764838218]
[2578,21,29.590713705220207,64.519723764838218]
[2579,22,32.387664869590033,66.140554556899929]
[2580,22,33.677164562832921,66.140554556899929]
[2581,23,32.689619964628662,61.964220110890267]
[2582,23,31.457518097629851,61.964220110890267]
[2583,24,28.902156113049823,57.187436590607021]
[2584,24,26.94884045552055,57.187436590607021]
[2585,24,25.662274174797975,57.187436590607021]
[2586,25,26.747862867730301,58.732696445136142]
[2587,25,28.682461670386459,58.732696445136142]
[2588,25,29.830855787755965,58.732696445136142]
[2589,26,33.024292249942263,54.055056030406305]
[2590,26,34.621310678127479,54.055056030406305]
[2591,27,35.555424218312261,46.575969987699438]
[2592,27,33.576400769665504,46.575969987699438]
[2593,18,30.551534098751624,36.831728017263949]
[2594,18,28.403879480436995,36.831728017263949]
[2595,18,27.032617281777121,36.831728017263949]
[2596,18,25.527334327868314,36.831728017263949]
[2597,19,22.114864474857566,32.743055809668924]
[2598,19,29.770823191213303,32.743055809668924]
[2599,20,35.46743863068604,44.956649889950562]
[2600,20,46.930650824969817,44.956649889950562]
[2601,21,62.434868612357072,64.519723764838218]
[2602,21,65.434961599827346,64.519723764838218]
[2603,22,70.023084105885914,66.140554556899929]
[2604,22,73.910796461992547,66.140554556899929]
[2605,23,68.104165674538095,61.964220110890267]
[2606,23,63.418312132569305,61.964220110890267]
[2607,24,60.246519196334624,57.187436590607021]
[2608,24,56.170033129094136,57.187436590607021]
[2609,24,54.109253177567709,57.187436590607021]
[2610,25,51.622893694428342,58.732696445136142]
[2611,25,52.247412052240655,58.732696445136142]
[2612,25,50.798046788193204,58.732696445136142]
[2613,26,45.690016548447481,54.055056030406305]
[2614,26,45.714909120609924,54.055056030406305]
[2615,27,40.937068248215851,46.575969987699438]
[2616,27,35.213833720530673,46.575969987699438]
[2617,18,33.95713519350987,36.831728017263949]
[2618,18,32.099973987116776,36.831728017263949]
[2619,18,30.622133037424572,36.831728017263949]
[2620,18,28.298819820300238,36.831728017263949]
[2621,19,26.687202100084281,32.743055809668924]
[2622,19,32.350868330154867,32.743055809668924]
[2623,20,37.029985128022382,44.956649889950562]
[2624,20,50.713471288853114,44.956649889950562]
[2625,21,65.006693612987249,64.519723764838218]
[2626,21,67.602768108514141,{"$f":"VLOOKUP(B2628,$F$3:$G$122,2,FALSE)","v":64.519723764838218}]
[2627,22,69.596283111202112,66.140554556899929]
[2628,22,73.825040880783277,66.140554556899929]
[2629,23,66.857128896891567,61.964220110890267]
[2630,23,64.992969385653225,61.964220110890267]
[2631,24,62.460064789054741,57.187436590607021]
[2632,24,58.189864688046647,57.187436590607021]
[2633,24,52.657167589225473,57.187436590607021]
[2634,25,51.473717416096392,58.732696445136142]
[2635,25,52.071054439553706,58.732696445136142]
[2636,25,51.580177103063207,58.732696445136142]
[2637,26,47.923573934400913,54.055056030406305]
[2638,26,45.40695460726409,54.055056030406305]
[2639,27,41.233704187086516,46.575969987699438]
[2640,27,35.103652922622736,46.575969987699438]
[2641,28,32.748335018414181,38.139723662669375]
[2642,28,30.899683790965245,38.139723662669375]
[2643,28,28.62897088221888,38.139723662669375]
[2644,28,27.401087166310994,38.139723662669375]
[2645,28,26.818514872543087,38.139723662669375]
[2646,28,32.094429878902538,38.139723662669375]
[2647,29,34.976714593118771,61.334657157997903]
[2648,29,46.356832933124764,61.334657157997903]
[2649,29,62.560842936136851,61.334657157997903]
[2650,30,65.003664135325451,79.97253389022778]
[2651,30,68.591653011058924,79.97253389022778]
[2652,31,71.091440645129509,79.641473064153232]
[2653,31,65.115134809527603,79.641473064153232]
[2654,32,64.396309506086453,69.904028311588434]
[2655,32,61.803666266844381,69.904028311588434]
[2656,32,59.89500966220551,69.904028311588434]
[2657,32,53.201455681877178,69.904028311588434]
[2658,33,50.766140970598926,69.819471973609154]
[2659,33,51.43930916645256,69.819471973609154]
[2660,33,50.970766243042142,69.819471973609154]
[2661,34,47.020348613865515,53.410488481573765]
[2662,34,44.30935160848707,53.410488481573765]
[2663,34,40.292187454015014,53.410488481573765]
[2664,34,34.459540215793375,53.410488481573765]
[2665,28,33.037610242637093,38.139723662669375]
[2666,28,31.39071237599223,38.139723662669375]
[2667,28,29.766875544701296,38.139723662669375]
[2668,28,28.129446025158838,38.139723662669375]
[2669,28,27.441740032495851,38.139723662669375]
[2670,28,31.902077977692883,38.139723662669375]
[2671,29,36.864831301082582,61.334657157997903]
[2672,29,46.906263760106242,61.334657157997903]
[2673,29,61.776778480348021,61.334657157997903]
[2674,30,64.538795159284007,79.97253389022778]
[2675,30,66.935815800223864,79.97253389022778]
[2676,31,69.059361075827312,79.641473064153232]
[2677,31,63.102151841594825,79.641473064153232]
[2678,32,62.134105855031322,69.904028311588434]
[2679,32,59.451693170933247,69.904028311588434]
[2680,32,56.460108114460176,69.904028311588434]
[2681,32,52.371487310652839,69.904028311588434]
[2682,33,51.104028625845757,69.819471973609154]
[2683,33,51.747885900511761,69.819471973609154]
[2684,33,50.570348304118468,69.819471973609154]
[2685,34,45.241960866982851,53.410488481573765]
[2686,34,45.01423968128406,53.410488481573765]
[2687,34,41.227202431613406,53.410488481573765]
[2688,34,36.012813749245908,53.410488481573765]
[2689,18,32.684275620559958,36.831728017263949]
[2690,18,31.486001290835386,{"$f":"VLOOKUP(B2692,$F$3:$G$122,2,FALSE)","v":36.831728017263949}]
[2691,18,29.990099366123452,36.831728017263949]
[2692,18,26.953684341937134,36.831728017263949]
[2693,19,25.528064218183061,32.743055809668924]
[2694,19,31.282997050009193,32.743055809668924]
[2695,20,35.215591336460967,44.956649889950562]
[2696,20,45.378411882313387,44.956649889950562]
[2697,21,60.541426354266065,64.519723764838218]
[2698,21,62.755336659509958,64.519723764838218]
[2699,22,64.392688061732613,66.140554556899929]
[2700,22,66.308734171223932,66.140554556899929]
[2701,23,61.122602908729277,61.964220110890267]
[2702,23,58.827667255711255,61.964220110890267]
[2703,24,54.809177800815753,57.187436590607021]
[2704,24,51.962917517398374,57.187436590607021]
[2705,24,48.430120302537823,57.187436590607021]
[2706,25,46.073391526303851,58.732696445136142]
[2707,25,48.042572926425976,58.732696445136142]
[2708,25,47.016222708416798,58.732696445136142]
[2709,26,42.040366500887423,54.055056030406305]
[2710,26,41.243237939771909,54.055056030406305]
[2711,27,38.38547512553091,46.575969987699438]
[2712,27,35.02585655207421,46.575969987699438]
[2713,18,32.566119643469285,36.831728017263949]
[2714,18,30.569493146311054,36.831728017263949]
[2715,18,29.258518195088445,36.831728017263949]
[2716,18,27.304187113136248,36.831728017263949]
[2717,19,26.294718016374524,32.743055809668924]
[2718,19,26.227850877125899,32.743055809668924]
[2719,20,28.523943475471569,44.956649889950562]
[2720,20,31.597800536039742,44.956649889950562]
[2721,21,35.844073742363321,64.519723764838218]
[2722,21,38.801848642801325,64.519723764838218]
[2723,22,40.962973356436216,66.140554556899929]
[2724,22,42.317306911025682,66.140554556899929]
[2725,23,41.225075983511694,61.964220110890267]
[2726,23,38.832171941748648,61.964220110890267]
[2727,24,36.100863933822296,57.187436590607021]
[2728,24,33.283374084851516,57.187436590607021]
[2729,24,31.895651317578245,57.187436590607021]
[2730,25,32.14176684706311,58.732696445136142]
[2731,25,32.815465476117922,58.732696445136142]
[2732,25,34.082274097234581,58.732696445136142]
[2733,26,37.432933433226296,54.055056030406305]
[2734,26,38.227542144635748,54.055056030406305]
[2735,27,38.0761997457194,46.575969987699438]
[2736,27,32.86662322285536,46.575969987699438]
[2737,18,31.008968573673496,36.831728017263949]
[2738,18,28.377667134974676,36.831728017263949]
[2739,18,26.908137815019444,36.831728017263949]
[2740,18,24.494498013297491,36.831728017263949]
[2741,19,21.306175935009687,32.743055809668924]
[2742,19,22.498577686746714,32.743055809668924]
[2743,20,16.933979554453103,44.956649889950562]
[2744,20,16.994176768941212,44.956649889950562]
[2745,21,27.099251321639244,64.519723764838218]
[2746,21,28.519079918703095,64.519723764838218]
[2747,22,31.214738921050873,66.140554556899929]
[2748,22,32.457539117527702,66.140554556899929]
[2749,23,31.505758650181196,61.964220110890267]
[2750,23,30.318277605858729,61.964220110890267]
[2751,24,27.855458581436309,57.187436590607021]
[2752,24,25.972882652431121,57.187436590607021]
[2753,24,24.732909634336501,57.187436590607021]
[2754,25,25.779183509343294,{"$f":"VLOOKUP(B2756,$F$3:$G$122,2,FALSE)","v":58.732696445136142}]
[2755,25,27.643720418226469,58.732696445136142]
[2756,25,28.75052520629928,58.732696445136142]
[2757,26,31.828310709807589,54.055056030406305]
[2758,26,33.367492786954344,54.055056030406305]
[2759,27,34.267777213043502,46.575969987699438]
[2760,27,32.360424505866732,46.575969987699438]
[2761,18,29.550482971863822,36.831728017263949]
[2762,18,27.473198373885346,36.831728017263949]
[2763,18,26.146866932705276,36.831728017263949]
[2764,18,24.69090605841528,36.831728017263949]
[2765,19,21.39024914353017,32.743055809668924]
[2766,19,28.795352826693726,32.743055809668924]
[2767,20,34.30531304660537,44.956649889950562]
[2768,20,45.392921794995068,44.956649889950562]
[2769,21,60.389128605342322,64.519723764838218]
[2770,21,63.290920589132448,64.519723764838218]
[2771,22,67.72870873914384,66.140554556899929]
[2772,22,71.489036368103328,66.140554556899929]
[2773,23,65.872665561519696,61.964220110890267]
[2774,23,61.340348629315152,61.964220110890267]
[2775,24,58.272482614812432,57.187436590607021]
[2776,24,54.329566631423162,57.187436590607021]
[2777,24,52.336310166150334,57.187436590607021]
[2778,25,49.931418702076712,58.732696445136142]
[2779,25,50.535474100358762,58.732696445136142]
[2780,25,49.133598717708331,58.732696445136142]
[2781,26,44.192938123334464,54.055056030406305]
[2782,26,44.217015065835447,54.055056030406305]
[2783,27,39.59572485875136,46.575969987699438]
[2784,27,34.060017751288811,46.575969987699438]
[2785,18,32.963751816898643,36.831728017263949]
[2786,18,31.160920077923951,36.831728017263949]
[2787,18,29.72631194585118,36.831728017263949]
[2788,18,27.470965025512502,36.831728017263949]
[2789,19,25.906493633854335,32.743055809668924]
[2790,19,31.404474747923089,32.743055809668924]
[2791,20,35.946708477836381,44.956649889950562]
[2792,20,49.229897393072115,44.956649889950562]
[2793,21,63.104985225763137,64.519723764838218]
[2794,21,65.625114055273016,64.519723764838218]
[2795,22,67.560310691190338,66.140554556899929]
[2796,22,71.665360213651169,66.140554556899929]
[2797,23,64.901287802651666,61.964220110890267]
[2798,23,63.09166248751859,61.964220110890267]
[2799,24,60.632855582214283,57.187436590607021]
[2800,24,56.487576083929945,57.187436590607021]
[2801,24,51.116732724962667,57.187436590607021]
[2802,25,49.967903250026602,58.732696445136142]
[2803,25,50.547765752563485,58.732696445136142]
[2804,25,50.071248561098365,58.732696445136142]
[2805,26,46.521615806221369,54.055056030406305]
[2806,26,44.078617760461476,54.055056030406305]
[2807,27,40.027451773208405,46.575969987699438]
[2808,27,34.076729270997127,46.575969987699438]
[2809,28,31.907233207707964,38.139723662669375]
[2810,28,30.106062375640871,38.139723662669375]
[2811,28,27.893670011681493,38.139723662669375]
[2812,28,26.697323020196578,38.139723662669375]
[2813,28,26.129713398908965,38.139723662669375]
[2814,28,31.270122839489698,38.139723662669375]
[2815,29,34.078379518670417,61.334657157997903]
[2816,29,45.166213132248394,61.334657157997903]
[2817,29,60.954042521908036,61.334657157997903]
[2818,30,63.334122780749169,{"$f":"VLOOKUP(B2820,$F$3:$G$122,2,FALSE)","v":79.97253389022778}]
[2819,30,66.829958454236589,79.97253389022778]
[2820,31,69.265542033224207,79.641473064153232]
[2821,31,63.442730464027974,79.641473064153232]
[2822,32,62.742367328631893,69.904028311588434]
[2823,32,60.216313029615797,69.904028311588434]
[2824,32,58.356677986692219,69.904028311588434]
[2825,32,51.835039933379669,69.904028311588434]
[2826,33,49.462273367286315,69.819471973609154]
[2827,33,50.118152043287296,69.819471973609154]
[2828,33,49.661643084383854,69.819471973609154]
[2829,34,45.812687206440621,53.410488481573765]
[2830,34,43.171318916194132,53.410488481573765]
[2831,34,39.257330817614097,53.410488481573765]
[2832,34,33.574488146571831,53.410488481573765]
[2833,28,32.30880021138627,38.139723662669375]
[2834,28,30.698232929091823,38.139723662669375]
[2835,28,29.110217955467583,38.139723662669375]
[2836,28,27.508910148438357,38.139723662669375]
[2837,28,26.836374957244452,38.139723662669375]
[2838,28,31.198317800212418,38.139723662669375]
[2839,29,36.051592732818207,61.334657157997903]
[2840,29,45.871511085630303,61.334657157997903]
[2841,29,60.413982093921376,61.334657157997903]
[2842,30,63.115068655717934,79.97253389022778]
[2843,30,65.459210995975567,79.97253389022778]
[2844,31,67.535910840347498,79.641473064153232]
[2845,31,61.710117704806237,79.641473064153232]
[2846,32,60.763426822941234,69.904028311588434]
[2847,32,58.140188191014822,69.904028311588434]
[2848,32,55.214597532516819,69.904028311588434]
[2849,32,51.216171746869428,69.904028311588434]
[2850,33,49.976673214049697,69.819471973609154]
[2851,33,50.606326990429231,69.819471973609154]
[2852,33,49.45476588586218,69.819471973609154]
[2853,34,44.243922731925458,53.410488481573765]
[2854,34,44.02122507799082,53.410488481573765]
[2855,34,40.317729910087287,53.410488481573765]
[2856,34,35.218370697183225,53.410488481573765]
[2857,35,32.083287893373821,28.315239199738794]
[2858,35,30.907047038532614,28.315239199738794]
[2859,35,29.438651267185158,28.315239199738794]
[2860,35,26.458068845359829,28.315239199738794]
[2861,36,25.058662556293495,23.612879162830648]
[2862,36,30.707775573023813,23.612879162830648]
[2863,37,34.568058607129124,34.549007945989857]
[2864,37,44.544008546070785,34.549007945989857]
[2865,38,59.428210487172784,49.946803116733996]
[2866,38,61.601412136731938,49.946803116733996]
[2867,39,63.208656459047099,57.779276885918939]
[2868,39,65.089470941871966,57.779276885918939]
[2869,40,59.998700558000401,56.126300039964555]
[2870,40,57.745963428154724,56.126300039964555]
[2871,41,53.80136463775662,49.627989056185115]
[2872,41,51.007440453770336,49.627989056185115]
[2873,41,47.539603153989965,49.627989056185115]
[2874,42,45.226209132586291,45.48451624154589]
[2875,42,47.159181871766521,45.48451624154589]
[2876,42,46.151703844531255,45.48451624154589]
[2877,43,41.267342046964778,42.024862192502759]
[2878,43,40.484870824068459,42.024862192502759]
[2879,44,37.679655614018131,41.697012250062983]
[2880,44,34.3818126036522,41.697012250062983]
[2881,35,31.999636758552075,28.315239199738794]
[2882,35,31.568276304160985,{"$f":"VLOOKUP(B2884,$F$3:$G$122,2,FALSE)","v":28.315239199738794}]
[2883,35,30.037444967884479,28.315239199738794]
[2884,35,26.063256190542358,28.315239199738794]
[2885,36,25.941712848742867,23.612879162830648]
[2886,36,25.577312753027229,23.612879162830648]
[2887,37,27.132035208906931,34.549007945989857]
[2888,37,31.901872859592512,34.549007945989857]
[2889,38,34.916268032878314,49.946803116733996]
[2890,38,38.848077857250686,49.946803116733996]
[2891,39,40.4617997054374,57.779276885918939]
[2892,39,42.208270588617047,57.779276885918939]
[2893,40,41.680310920093731,56.126300039964555]
[2894,40,38.230412685631087,56.126300039964555]
[2895,41,36.848239902273406,49.627989056185115]
[2896,41,34.58934783728845,49.627989056185115]
[2897,41,33.063791734613346,49.627989056185115]
[2898,42,33.473875998968126,45.48451624154589]
[2899,42,35.029868929292491,45.48451624154589]
[2900,42,34.356988164146102,45.48451624154589]
[2901,43,34.949951306036652,42.024862192502759]
[2902,43,35.445544029668291,42.024862192502759]
[2903,44,37.01581636817712,41.697012250062983]
[2904,44,33.271917875314635,41.697012250062983]
[2905,35,28.716921085817109,28.315239199738794]
[2906,35,25.824752372906186,28.315239199738794]
[2907,35,24.148200035790236,28.315239199738794]
[2908,35,22.814929218014203,28.315239199738794]
[2909,36,18.330950461467467,23.612879162830648]
[2910,36,19.615875180199353,23.612879162830648]
[2911,37,16.255204875992835,34.549007945989857]
[2912,37,15.553112722341414,34.549007945989857]
[2913,38,23.208631029911249,49.946803116733996]
[2914,38,29.189703156284573,49.946803116733996]
[2915,39,30.990296227705318,57.779276885918939]
[2916,39,32.966680688038331,57.779276885918939]
[2917,40,34.474156835123679,56.126300039964555]
[2918,40,32.550415569094717,56.126300039964555]
[2919,41,30.490406125334527,49.627989056185115]
[2920,41,28.935014335359568,49.627989056185115]
[2921,41,26.117274266628996,49.627989056185115]
[2922,42,28.121829882849692,45.48451624154589]
[2923,42,30.533202315488055,45.48451624154589]
[2924,42,32.757181356364761,45.48451624154589]
[2925,43,31.079767823119834,42.024862192502759]
[2926,43,30.901023893375346,42.024862192502759]
[2927,44,36.30186376991373,41.697012250062983]
[2928,44,32.342005552697401,41.697012250062983]
[2929,35,32.259812323178011,28.315239199738794]
[2930,35,23.950736535253043,28.315239199738794]
[2931,35,21.819419437969483,28.315239199738794]
[2932,35,19.868066445562775,28.315239199738794]
[2933,36,20.70731459530117,23.612879162830648]
[2934,36,25.144097844585424,23.612879162830648]
[2935,37,31.540903015683945,34.549007945989857]
[2936,37,45.007762319984209,34.549007945989857]
[2937,38,56.301314053033103,49.946803116733996]
[2938,38,60.506557467114099,49.946803116733996]
[2939,39,59.568350708179167,57.779276885918939]
[2940,39,64.861447707705622,57.779276885918939]
[2941,40,65.188365993738273,56.126300039964555]
[2942,40,58.915439836423808,56.126300039964555]
[2943,41,56.197870696411137,49.627989056185115]
[2944,41,56.141811903681202,49.627989056185115]
[2945,41,51.823409890954203,49.627989056185115]
[2946,42,50.975667544174904,{"$f":"VLOOKUP(B2948,$F$3:$G$122,2,FALSE)","v":45.48451624154589}]
[2947,42,52.73201355116403,45.48451624154589]
[2948,42,50.497945043463844,45.48451624154589]
[2949,43,47.629134666719651,42.024862192502759]
[2950,43,48.089926373571274,42.024862192502759]
[2951,44,50.334658591008818,41.697012250062983]
[2952,44,45.15902317809919,41.697012250062983]
[2953,35,34.006109709517055,28.315239199738794]
[2954,35,31.700084553486651,28.315239199738794]
[2955,35,29.778705007168927,28.315239199738794]
[2956,35,26.454203109923711,28.315239199738794]
[2957,36,21.964313137988245,23.612879162830648]
[2958,36,30.635420595772583,23.612879162830648]
[2959,37,37.545511865317877,34.549007945989857]
[2960,37,47.37178590852055,34.549007945989857]
[2961,38,58.482509363017769,49.946803116733996]
[2962,38,62.021552427374587,49.946803116733996]
[2963,39,64.33576561557858,57.779276885918939]
[2964,39,67.986507938657383,57.779276885918939]
[2965,40,63.004657699856679,56.126300039964555]
[2966,40,63.261454200433491,56.126300039964555]
[2967,41,60.969594580765573,49.627989056185115]
[2968,41,58.343442795944192,49.627989056185115]
[2969,41,53.706694350046554,49.627989056185115]
[2970,42,51.197929603924216,45.48451624154589]
[2971,42,50.864769059209131,45.48451624154589]
[2972,42,48.44584961323968,45.48451624154589]
[2973,43,46.187625791489545,42.024862192502759]
[2974,43,45.719212786856929,42.024862192502759]
[2975,44,45.359569401346924,41.697012250062983]
[2976,44,38.720664776949782,41.697012250062983]
[2977,45,34.303881089926406,29.33276457748677]
[2978,45,32.772088479440491,29.33276457748677]
[2979,45,28.790736309556628,29.33276457748677]
[2980,45,23.660926653364498,29.33276457748677]
[2981,45,20.931645460342615,29.33276457748677]
[2982,45,29.258799762016061,29.33276457748677]
[2983,46,36.741878693408175,47.966090788282415]
[2984,46,46.943532746005374,47.966090788282415]
[2985,46,58.033961086154903,47.966090788282415]
[2986,47,60.75887489858134,69.215986447771172]
[2987,47,63.002061176940074,69.215986447771172]
[2988,48,66.966140449142003,74.187380103848582]
[2989,48,64.370337351997179,74.187380103848582]
[2990,49,61.939568461925283,65.987713629176]
[2991,49,60.5476153268377,65.987713629176]
[2992,49,56.516873843068176,65.987713629176]
[2993,49,53.627876394027545,65.987713629176]
[2994,50,50.847157896475018,52.635095066642116]
[2995,50,49.703460466638383,52.635095066642116]
[2996,50,47.417329118560644,52.635095066642116]
[2997,51,44.792921852783351,45.698614409430235]
[2998,51,44.971090778776137,45.698614409430235]
[2999,51,43.109903178961709,45.698614409430235]
[3000,51,38.141566911573832,45.698614409430235]
[3001,45,35.374901688335314,29.33276457748677]
[3002,45,33.96187040681253,29.33276457748677]
[3003,45,32.324630825829985,29.33276457748677]
[3004,45,29.207685921971247,29.33276457748677]
[3005,45,27.375009292108629,29.33276457748677]
[3006,45,32.723145635513085,29.33276457748677]
[3007,46,36.22353853336962,47.966090788282415]
[3008,46,46.373630261149174,47.966090788282415]
[3009,46,57.122841721153407,47.966090788282415]
[3010,47,62.127540126278646,{"$f":"VLOOKUP(B3012,$F$3:$G$122,2,FALSE)","v":69.215986447771172}]
[3011,47,63.129405109627939,69.215986447771172]
[3012,48,64.502772825239518,74.187380103848582]
[3013,48,59.048161753117327,74.187380103848582]
[3014,49,58.097387345856866,65.987713629176]
[3015,49,57.037568861341434,65.987713629176]
[3016,49,55.629909136390062,65.987713629176]
[3017,49,51.16085106371164,65.987713629176]
[3018,50,49.284715562152769,52.635095066642116]
[3019,50,47.595033768590852,52.635095066642116]
[3020,50,45.829057786613276,52.635095066642116]
[3021,51,45.591980205113678,45.698614409430235]
[3022,51,44.269357539922765,45.698614409430235]
[3023,51,43.639898637926763,45.698614409430235]
[3024,51,37.68923919227079,45.698614409430235]
[3025,35,35.085579907844952,28.315239199738794]
[3026,35,32.070791277779492,28.315239199738794]
[3027,35,29.424010460837618,28.315239199738794]
[3028,35,27.432346802706977,28.315239199738794]
[3029,36,23.12451046890936,23.612879162830648]
[3030,36,30.92381182994129,23.612879162830648]
[3031,37,33.519318023141395,34.549007945989857]
[3032,37,47.420097827545298,34.549007945989857]
[3033,38,55.806402921583967,49.946803116733996]
[3034,38,57.443964712243577,49.946803116733996]
[3035,39,57.852750124760568,57.779276885918939]
[3036,39,58.954176937081584,57.779276885918939]
[3037,40,58.245196015016354,56.126300039964555]
[3038,40,55.735084334864823,56.126300039964555]
[3039,41,54.443180375761486,49.627989056185115]
[3040,41,52.0499136001742,49.627989056185115]
[3041,41,47.97594652794568,49.627989056185115]
[3042,42,46.295958720050415,45.48451624154589]
[3043,42,47.911514155848636,45.48451624154589]
[3044,42,45.154719013841913,45.48451624154589]
[3045,43,43.625139636522469,42.024862192502759]
[3046,43,43.769794261381023,42.024862192502759]
[3047,44,43.258669517930429,41.697012250062983]
[3048,44,38.235052770279175,41.697012250062983]
[3049,35,32.015561339922087,28.315239199738794]
[3050,35,31.583986219511264,28.315239199738794]
[3051,35,30.052393066831588,28.315239199738794]
[3052,35,26.076226539146795,28.315239199738794]
[3053,36,25.954622711447069,23.612879162830648]
[3054,36,25.590041272454968,23.612879162830648]
[3055,37,27.145537434125249,34.549007945989857]
[3056,37,31.917748788873883,34.549007945989857]
[3057,38,34.933644072350958,49.946803116733996]
[3058,38,38.867410557230194,49.946803116733996]
[3059,39,40.481935472185256,57.779276885918939]
[3060,39,42.229275484533439,57.779276885918939]
[3061,40,41.701053077505783,56.126300039964555]
[3062,40,38.249438005268779,56.126300039964555]
[3063,41,36.866577385260889,49.627989056185115]
[3064,41,34.606561185312572,49.627989056185115]
[3065,41,33.080245891448058,49.627989056185115]
[3066,42,33.490534233751767,45.48451624154589]
[3067,42,35.047301502116817,45.48451624154589]
[3068,42,34.374085878653823,45.48451624154589]
[3069,43,34.967344107950325,42.024862192502759]
[3070,43,35.463183462714476,42.024862192502759]
[3071,44,37.034237245394579,41.697012250062983]
[3072,44,33.288475605877011,41.697012250062983]
[3073,35,28.766926466785065,28.315239199738794]
[3074,35,25.869721559433916,{"$f":"VLOOKUP(B3076,$F$3:$G$122,2,FALSE)","v":28.315239199738794}]
[3075,35,24.190249806337416,28.315239199738794]
[3076,35,22.854657335937929,28.315239199738794]
[3077,36,18.362870532515164,23.612879162830648]
[3078,36,19.650032717787539,23.612879162830648]
[3079,37,16.283510407428711,34.549007945989857]
[3080,37,15.580195685887333,34.549007945989857]
[3081,38,23.249044709111995,49.946803116733996]
[3082,38,29.240531802653361,49.946803116733996]
[3083,39,31.0442602848041,57.779276885918939]
[3084,39,33.024086265123977,57.779276885918939]
[3085,40,34.534187412250581,56.126300039964555]
[3086,40,32.607096294940419,56.126300039964555]
[3087,41,30.543499713244195,49.627989056185115]
[3088,41,28.985399486707411,49.627989056185115]
[3089,41,26.162752827706086,49.627989056185115]
[3090,42,28.170799018942155,45.48451624154589]
[3091,42,30.586370425307177,45.48451624154589]
[3092,42,32.814222127841134,45.48451624154589]
[3093,43,31.133887678996658,42.024862192502759]
[3094,43,30.954832498673614,42.024862192502759]
[3095,44,36.36507697171335,41.697012250062983]
[3096,44,32.398323369781522,41.697012250062983]
[3097,35,33.527797963201387,28.315239199738794]
[3098,35,24.892130418467428,28.315239199738794]
[3099,35,22.677040996453073,28.315239199738794]
[3100,35,20.648989244977312,28.315239199738794]
[3101,36,21.521224400083987,23.612879162830648]
[3102,36,26.13239730147253,23.612879162830648]
[3103,37,32.780631619700728,34.549007945989857]
[3104,37,46.776811554976874,34.549007945989857]
[3105,38,58.514261140837455,49.946803116733996]
[3106,38,62.884793435350858,49.946803116733996]
[3107,39,61.909710060836616,57.779276885918939]
[3108,39,67.410854488519632,57.779276885918939]
[3109,40,67.750622436788305,56.126300039964555]
[3110,40,61.231136249653488,56.126300039964555]
[3111,41,58.406751899100037,49.627989056185115]
[3112,41,58.348489691686012,49.627989056185115]
[3113,41,53.860351051692525,49.627989056185115]
[3114,42,52.979287831518576,45.48451624154589]
[3115,42,54.804667765099225,45.48451624154589]
[3116,42,52.482788244792602,45.48451624154589]
[3117,43,49.501218056391089,42.024862192502759]
[3118,43,49.980121377206132,42.024862192502759]
[3119,44,52.313083748895494,41.697012250062983]
[3120,44,46.934017785435188,41.697012250062983]
[3121,35,38.571149721792537,28.315239199738794]
[3122,35,35.955559690611288,28.315239199738794]
[3123,35,33.776250772700273,28.315239199738794]
[3124,35,30.005461890220673,28.315239199738794]
[3125,36,24.912841187023002,23.612879162830648]
[3126,36,34.747973369589303,23.612879162830648]
[3127,37,42.585687451723516,34.549007945989857]
[3128,37,53.731057815028066,34.549007945989857]
[3129,38,66.333304339008066,49.946803116733996]
[3130,38,70.347434772427661,49.946803116733996]
[3131,39,72.972312011631018,57.779276885918939]
[3132,39,77.113136408834805,57.779276885918939]
[3133,40,71.462513826782953,56.126300039964555]
[3134,40,71.753783141514617,56.126300039964555]
[3135,41,69.154260253226042,49.627989056185115]
[3136,41,66.175569231237432,49.627989056185115]
[3137,41,60.916375514087399,49.627989056185115]
[3138,42,58.070829773453674,{"$f":"VLOOKUP(B3140,$F$3:$G$122,2,FALSE)","v":45.48451624154589}]
[3139,42,57.692945170911116,45.48451624154589]
[3140,42,54.949305721634978,45.48451624154589]
[3141,43,52.387933959969864,42.024862192502759]
[3142,43,51.856640369269513,42.024862192502759]
[3143,44,51.448717822778505,41.697012250062983]
[3144,44,43.91859495827871,41.697012250062983]
[3145,45,37.094190874655801,29.33276457748677]
[3146,45,35.437800819991189,29.33276457748677]
[3147,45,31.132601739404773,29.33276457748677]
[3148,45,25.585528566004502,29.33276457748677]
[3149,45,22.634245087054591,29.33276457748677]
[3150,45,31.638737911036941,29.33276457748677]
[3151,46,39.730497484349108,47.966090788282415]
[3152,46,50.761963622895543,47.966090788282415]
[3153,46,62.754497781137097,47.966090788282415]
[3154,47,65.701058632667539,69.215986447771172]
[3155,47,68.126707781774542,69.215986447771172]
[3156,48,72.413228971019961,74.187380103848582]
[3157,48,69.606280821156275,74.187380103848582]
[3158,49,66.977790915185238,65.987713629176]
[3159,49,65.472615009690486,65.987713629176]
[3160,49,61.114009242215182,65.987713629176]
[3161,49,57.990018037541361,65.987713629176]
[3162,50,54.983113295582299,52.635095066642116]
[3163,50,53.746386446687303,52.635095066642116]
[3164,50,51.274299035708232,52.635095066642116]
[3165,51,48.436420027371639,45.698614409430235]
[3166,51,48.629081380510762,45.698614409430235]
[3167,51,46.616503039882929,45.698614409430235]
[3168,51,41.244037651816946,45.698614409430235]
[3169,45,25.664305401208932,29.33276457748677]
[3170,45,24.639158627093074,29.33276457748677]
[3171,45,23.451349909164147,29.33276457748677]
[3172,45,21.190022750260688,29.33276457748677]
[3173,45,19.860425479720092,29.33276457748677]
[3174,45,23.740470310761879,29.33276457748677]
[3175,46,26.279986975607777,47.966090788282415]
[3176,46,33.643825220221629,47.966090788282415]
[3177,46,41.442321684246878,47.966090788282415]
[3178,47,45.073204094654542,69.215986447771172]
[3179,47,45.800051878713028,69.215986447771172]
[3180,48,46.796422944056197,74.187380103848582]
[3181,48,42.839131256488891,74.187380103848582]
[3182,49,42.149349417077261,65.987713629176]
[3183,49,41.380456672269453,65.987713629176]
[3184,49,40.359206934237072,65.987713629176]
[3185,49,37.116928772068285,65.987713629176]
[3186,50,35.755802318339249,52.635095066642116]
[3187,50,34.529947050587801,52.635095066642116]
[3188,50,33.24874074980486,52.635095066642116]
[3189,51,33.07674220945578,45.698614409430235]
[3190,51,32.117186411701773,45.698614409430235]
[3191,51,31.660517283949478,45.698614409430235]
[3192,51,27.343345106414862,45.698614409430235]
[3193,35,32.939701693335685,28.315239199738794]
[3194,35,30.109301329321401,28.315239199738794]
[3195,35,27.624400957524649,28.315239199738794]
[3196,35,25.75454995478799,28.315239199738794]
[3197,36,21.710186311612794,23.612879162830648]
[3198,36,29.032472587729778,23.612879162830648]
[3199,37,31.469234356290439,34.549007945989857]
[3200,37,44.519824976838471,34.549007945989857]
[3201,38,52.393213099038746,49.946803116733996]
[3202,38,53.930619550076813,{"$f":"VLOOKUP(B3204,$F$3:$G$122,2,FALSE)","v":49.946803116733996}]
[3203,39,54.314403132399356,57.779276885918939]
[3204,39,55.348465294979825,57.779276885918939]
[3205,40,54.682846538201829,56.126300039964555]
[3206,40,52.326256446821823,56.126300039964555]
[3207,41,51.113366959429065,49.627989056185115]
[3208,41,48.866475391227006,49.627989056185115]
[3209,41,45.041677271311244,49.627989056185115]
[3210,42,43.464439631635315,45.48451624154589]
[3211,42,44.981185664165373,45.48451624154589]
[3212,42,42.392999581853125,45.48451624154589]
[3213,43,40.956971203883654,42.024862192502759]
[3214,43,41.092778569870411,42.024862192502759]
[3215,44,40.612914858865288,41.697012250062983]
[3216,44,35.896548832597105,41.697012250062983]
[3217,35,34.194942805521968,28.315239199738794]
[3218,35,33.733989258525057,28.315239199738794]
[3219,35,32.09813662732649,28.315239199738794]
[3220,35,27.851302234644145,28.315239199738794]
[3221,36,27.721420522155178,23.612879162830648]
[3222,36,27.332021088488396,23.612879162830648]
[3223,37,28.993403867874438,34.549007945989857]
[3224,37,34.09047190297418,34.549007945989857]
[3225,38,37.311666922202072,49.946803116733996]
[3226,38,41.513214992296042,49.946803116733996]
[3227,39,43.237644763768948,57.779276885918939]
[3228,39,45.103930697339017,57.779276885918939]
[3229,40,44.539750834767538,56.126300039964555]
[3230,40,40.853175461976996,56.126300039964555]
[3231,41,39.376179968844291,49.627989056185115]
[3232,41,36.962318663204165,49.627989056185115]
[3233,41,35.332103168222076,49.627989056185115]
[3234,42,35.770320891468842,45.48451624154589]
[3235,42,37.433061305046145,45.48451624154589]
[3236,42,36.714018165502772,45.48451624154589]
[3237,43,37.34766100575505,42.024862192502759]
[3238,43,37.877253418546651,42.024862192502759]
[3239,44,39.555252866151399,41.697012250062983]
[3240,44,35.554507613976064,41.697012250062983]
[3241,35,31.652463451849492,28.315239199738794]
[3242,35,28.464647313467999,28.315239199738794]
[3243,35,26.616712034574729,28.315239199738794]
[3244,35,25.147149691698214,28.315239199738794]
[3245,36,20.204803216380505,23.612879162830648]
[3246,36,21.621077355815522,23.612879162830648]
[3247,37,17.91686778335724,34.549007945989857]
[3248,37,17.143005356850193,34.549007945989857]
[3249,38,25.581097055858812,49.946803116733996]
[3250,38,32.173574930389989,49.946803116733996]
[3251,39,34.158230813744666,57.779276885918939]
[3252,39,36.336648085935806,57.779276885918939]
[3253,40,37.998223625582348,56.126300039964555]
[3254,40,35.877830915938084,56.126300039964555]
[3255,41,33.607240227116364,49.627989056185115]
[3256,41,31.892850942890348,49.627989056185115]
[3257,41,28.787071800489343,49.627989056185115]
[3258,42,30.996539980939989,45.48451624154589]
[3259,42,33.654411190906842,45.48451624154589]
[3260,42,36.105733012583464,45.48451624154589]
[3261,43,34.256848503133206,42.024862192502759]
[3262,43,34.059832754593522,42.024862192502759]
[3263,44,40.012765044603285,41.697012250062983]
[3264,44,35.648116511413235,41.697012250062983]
[3265,35,32.733315243501288,28.315239199738794]
[3266,35,24.30228054238254,{"$f":"VLOOKUP(B3268,$F$3:$G$122,2,FALSE)","v":28.315239199738794}]
[3267,35,22.139680409116359,28.315239199738794]
[3268,35,20.159685857012096,28.315239199738794]
[3269,36,21.011252319262542,23.612879162830648]
[3270,36,25.513157764681463,23.612879162830648]
[3271,37,32.003853932383144,34.549007945989857]
[3272,37,45.668377040312777,34.549007945989857]
[3273,38,57.127693213428742,49.946803116733996]
[3274,38,61.394660329349357,49.946803116733996]
[3275,39,60.442682763697618,57.779276885918939]
[3276,39,65.81347075726093,57.779276885918939]
[3277,40,66.145187482961887,56.126300039964555]
[3278,40,59.780188599845268,56.126300039964555]
[3279,41,57.022731536397544,49.627989056185115]
[3280,41,56.965849924185534,49.627989056185115]
[3281,41,52.584063290876379,49.627989056185115]
[3282,42,51.723877955499987,45.48451624154589]
[3283,42,53.506003249580928,45.48451624154589]
[3284,42,51.239143541733618,45.48451624154589]
[3285,43,48.328225353647134,42.024862192502759]
[3286,43,48.795780466828248,42.024862192502759]
[3287,44,51.073460404161139,41.697012250062983]
[3288,44,45.82185807433364,41.697012250062983]
[3289,35,34.589899942266207,28.315239199738794]
[3290,35,32.244286754142045,28.315239199738794]
[3291,35,30.289922470019086,28.315239199738794]
[3292,35,26.908348130411415,28.315239199738794]
[3293,36,22.341379247241342,23.612879162830648]
[3294,36,31.161345480234417,23.612879162830648]
[3295,37,38.190063779599498,34.549007945989857]
[3296,37,48.185027592368279,34.549007945989857]
[3297,38,59.486491236993658,49.946803116733996]
[3298,38,63.086289818282538,49.946803116733996]
[3299,39,65.440231604297736,57.779276885918939]
[3300,39,69.153647009616833,57.779276885918939]
[3301,40,64.08627227138723,56.126300039964555]
[3302,40,64.347477252972936,56.126300039964555]
[3303,41,62.016272784034598,49.627989056185115]
[3304,41,59.345037284116387,49.627989056185115]
[3305,41,54.628688775831357,49.627989056185115]
[3306,42,52.0768555232682,45.48451624154589]
[3307,42,51.737975539499267,45.48451624154589]
[3308,42,49.277529980768712,45.48451624154589]
[3309,43,46.98053874275837,42.024862192502759]
[3310,43,46.504084390869821,42.024862192502759]
[3311,44,46.138266929656155,41.697012250062983]
[3312,44,39.385390795169123,41.697012250062983]
[3313,45,34.978078403254855,29.33276457748677]
[3314,45,33.416180439387539,29.33276457748677]
[3315,45,29.356580069852054,29.33276457748677]
[3316,45,24.125950804385255,29.33276457748677]
[3317,45,21.343029207152849,29.33276457748677]
[3318,45,29.833842689055569,29.33276457748677]
[3319,46,37.463991618088585,47.966090788282415]
[3320,46,47.866145658886452,47.966090788282415]
[3321,46,59.174541667795957,47.966090788282415]
[3322,47,61.953010049356237,69.215986447771172]
[3323,47,64.24028318069233,69.215986447771172]
[3324,48,68.282271176637025,74.187380103848582]
[3325,48,65.635451010332091,74.187380103848582]
[3326,49,63.156908579688718,65.987713629176]
[3327,49,61.737598450752685,65.987713629176]
[3328,49,57.627638085832217,65.987713629176]
[3329,49,54.681861221271518,65.987713629176]
[3330,50,51.846491387467623,{"$f":"VLOOKUP(B3332,$F$3:$G$122,2,FALSE)","v":52.635095066642116}]
[3331,50,50.680316100608479,52.635095066642116]
[3332,50,48.34925387113136,52.635095066642116]
[3333,51,45.673267359174055,45.698614409430235]
[3334,51,45.854937959245881,45.698614409430235]
[3335,51,43.957171184144968,45.698614409430235]
[3336,51,38.891188852907817,45.698614409430235]
[3337,45,36.157955067843695,29.33276457748677]
[3338,45,34.713645143341324,29.33276457748677]
[3339,45,33.040163878968428,29.33276457748677]
[3340,45,29.854222762421621,29.33276457748677]
[3341,45,27.980978284732782,29.33276457748677]
[3342,45,33.447500151146492,29.33276457748677]
[3343,46,37.025377207472857,47.966090788282415]
[3344,46,47.400149803620124,47.966090788282415]
[3345,46,58.387304154178949,47.966090788282415]
[3346,47,63.502785792967437,69.215986447771172]
[3347,47,64.526827905399216,69.215986447771172]
[3348,48,65.930596277399673,74.187380103848582]
[3349,48,60.355242774059995,74.187380103848582]
[3350,49,59.383422170846409,65.987713629176]
[3351,49,58.300143707465828,65.987713629176]
[3352,49,56.861324243484432,65.987713629176]
[3353,49,52.293339789105737,65.987713629176]
[3354,50,50.375674440825179,52.635095066642116]
[3355,50,48.648590111126218,52.635095066642116]
[3356,50,46.843522756598645,52.635095066642116]
[3357,51,46.601197262241662,45.698614409430235]
[3358,51,45.249297225288231,45.698614409430235]
[3359,51,44.605904717912559,45.698614409430235]
[3360,51,38.523522390585342,45.698614409430235]
[3361,35,35.9491206465866,28.315239199738794]
[3362,35,32.860130797456357,28.315239199738794]
[3363,35,30.14820632126894,28.315239199738794]
[3364,35,28.10752301714172,28.315239199738794]
[3365,36,23.693660441798819,23.612879162830648]
[3366,36,31.68492141919349,23.612879162830648]
[3367,37,34.344309279487931,34.549007945989857]
[3368,37,48.587220799910469,34.549007945989857]
[3369,38,57.179933087880102,49.946803116733996]
[3370,38,58.857799223577068,49.946803116733996]
[3371,39,59.276645830979213,57.779276885918939]
[3372,39,60.405181413503819,57.779276885918939]
[3373,40,59.678750761070674,56.126300039964555]
[3374,40,57.106859178740088,56.126300039964555]
[3375,41,55.783158347469964,49.627989056185115]
[3376,41,53.330987504604188,49.627989056185115]
[3377,41,49.156750277388873,49.627989056185115]
[3378,42,47.435413917851669,45.48451624154589]
[3379,42,49.09073206922055,45.48451624154589]
[3380,42,46.266085550102751,45.48451624154589]
[3381,43,44.698859535363496,42.024862192502759]
[3382,43,44.847074459408809,42.024862192502759]
[3383,44,44.323369703323173,41.697012250062983]
[3384,44,39.176109631867199,41.697012250062983]
[3385,35,32.882608695783574,28.315239199738794]
[3386,35,32.439345632030616,28.315239199738794]
[3387,35,30.866273781564349,28.315239199738794]
[3388,35,26.782424473068989,28.315239199738794]
[3389,36,26.657527363200945,23.612879162830648]
[3390,36,26.283072307772194,23.612879162830648]
[3391,37,27.880694509954754,34.549007945989857]
[3392,37,32.782147179350822,34.549007945989857]
[3393,38,35.879719120104959,49.946803116733996]
[3394,38,39.920020105287904,{"$f":"VLOOKUP(B3396,$F$3:$G$122,2,FALSE)","v":49.946803116733996}]
[3395,39,41.578269680998439,57.779276885918939]
[3396,39,43.372931260549898,57.779276885918939]
[3397,40,42.830403502556891,56.126300039964555]
[3398,40,39.285311583543418,56.126300039964555]
[3399,41,37.865000249135342,49.627989056185115]
[3400,41,35.543778154667045,49.627989056185115]
[3401,41,33.976127098305497,49.627989056185115]
[3402,42,34.397526894147639,45.48451624154589]
[3403,42,35.996454627212849,45.48451624154589]
[3404,42,35.305006937785087,45.48451624154589]
[3405,43,35.914331822093295,42.024862192502759]
[3406,43,36.423599528055661,42.024862192502759]
[3407,44,38.03720068367501,41.697012250062983]
[3408,44,34.189996102372085,41.697012250062983]
[3409,35,29.616801867039353,28.315239199738794]
[3410,35,26.634003415897674,28.315239199738794]
[3411,35,24.904914206100447,28.315239199738794]
[3412,35,23.529863673100216,28.315239199738794]
[3413,36,18.905373811816073,23.612879162830648]
[3414,36,20.230563260051824,23.612879162830648]
[3415,37,16.764582131967551,34.549007945989857]
[3416,37,16.040489039084875,34.549007945989857]
[3417,38,23.935902625632909,49.946803116733996]
[3418,38,30.104399157343533,49.946803116733996]
[3419,39,31.961416073609325,57.779276885918939]
[3420,39,33.999733022695047,57.779276885918939]
[3421,40,35.554447827743033,56.126300039964555]
[3422,40,33.570423713557396,56.126300039964555]
[3423,41,31.445861287183352,49.627989056185115]
[3424,41,29.84172934240954,49.627989056185115]
[3425,41,26.935691850471475,49.627989056185115]
[3426,42,29.003062733988322,45.48451624154589]
[3427,42,31.489998549693272,45.48451624154589]
[3428,42,33.783668766401298,45.48451624154589]
[3429,43,32.053691373813017,42.024862192502759]
[3430,43,31.869346278586459,42.024862192502759]
[3431,44,37.439428254332896,41.697012250062983]
[3432,44,33.355482907601903,41.697012250062983]
[3433,35,20.059628394465769,28.315239199738794]
[3434,35,14.892922186213161,28.315239199738794]
[3435,35,13.567637694971342,28.315239199738794]
[3436,35,12.354257545639733,28.315239199738794]
[3437,36,12.876114456828258,23.612879162830648]
[3438,36,15.634971897033749,23.612879162830648]
[3439,37,19.612599955081684,34.549007945989857]
[3440,37,27.986492232524565,34.549007945989857]
[3441,38,35.008989721013307,49.946803116733996]
[3442,38,37.623872267435672,49.946803116733996]
[3443,39,37.040481429545117,57.779276885918939]
[3444,39,40.331807423716391,57.779276885918939]
[3445,40,40.535090048781719,56.126300039964555]
[3446,40,36.634491793557395,56.126300039964555]
[3447,41,34.944667112037003,49.627989056185115]
[3448,41,34.909808925661345,49.627989056185115]
[3449,41,32.224562689092942,49.627989056185115]
[3450,42,31.697423960563302,45.48451624154589]
[3451,42,32.789545882394577,45.48451624154589]
[3452,42,31.400369044560165,45.48451624154589]
[3453,43,29.616500325326189,42.024862192502759]
[3454,43,29.903027423317205,42.024862192502759]
[3455,44,31.298835113572437,41.697012250062983]
[3456,44,28.08054847110456,41.697012250062983]
[3457,35,38.921635108553815,28.315239199738794]
[3458,35,36.282277933009489,{"$f":"VLOOKUP(B3460,$F$3:$G$122,2,FALSE)","v":28.315239199738794}]
[3459,35,34.083166236740155,28.315239199738794]
[3460,35,30.278113236924057,28.315239199738794]
[3461,36,25.13921729563619,23.612879162830648]
[3462,36,35.063718608542601,23.612879162830648]
[3463,37,42.972651834291028,34.549007945989857]
[3464,37,54.219297100484276,34.549007945989857]
[3465,38,66.936056758733713,49.946803116733996]
[3466,38,70.986662486968626,49.946803116733996]
[3467,39,73.63539126082982,57.779276885918939]
[3468,39,77.813842185913444,57.779276885918939]
[3469,40,72.111873956780897,56.126300039964555]
[3470,40,72.405789955346506,56.126300039964555]
[3471,41,69.782645920385647,49.627989056185115]
[3472,41,66.776888355594608,49.627989056185115]
[3473,41,61.469905797372874,49.627989056185115]
[3474,42,58.598503368342598,45.48451624154589]
[3475,42,58.217185032763084,45.48451624154589]
[3476,42,55.448614889420298,45.48451624154589]
[3477,43,52.863968649835748,42.024862192502759]
[3478,43,52.327847340984313,42.024862192502759]
[3479,44,51.916218114954148,41.697012250062983]
[3480,44,44.317671103298764,41.697012250062983]
[3481,45,42.785788052071048,29.33276457748677]
[3482,45,40.875247556662643,29.33276457748677]
[3483,45,35.909474452017434,29.33276457748677]
[3484,45,29.511278629161787,29.33276457748677]
[3485,45,26.107160991480562,29.33276457748677]
[3486,45,36.493270309382709,29.33276457748677]
[3487,46,45.826599919992901,47.966090788282415]
[3488,46,58.550693935207782,47.966090788282415]
[3489,46,72.383318737177035,47.966090788282415]
[3490,47,75.781989124734892,69.215986447771172]
[3491,47,78.579821020652773,69.215986447771172]
[3492,48,83.524050366522502,74.187380103848582]
[3493,48,80.286414343700514,74.187380103848582]
[3494,49,77.25461854597296,65.987713629176]
[3495,49,75.518493946539166,65.987713629176]
[3496,49,70.491119628013521,65.987713629176]
[3497,49,66.88779462191313,65.987713629176]
[3498,50,63.419521397759098,52.635095066642116]
[3499,50,61.993035697776342,52.635095066642116]
[3500,50,59.141640222680287,52.635095066642116]
[3501,51,55.868327423422798,45.698614409430235]
[3502,51,56.090550030975827,45.698614409430235]
[3503,51,53.769169019828738,45.698614409430235]
[3504,51,47.572372163210105,45.698614409430235]
[3505,45,40.480138258871683,29.33276457748677]
[3506,45,38.863181068598713,29.33276457748677]
[3507,45,36.989658275942453,29.33276457748677]
[3508,45,33.422881984516252,29.33276457748677]
[3509,45,31.325717050624593,29.33276457748677]
[3510,45,37.445685962925374,29.33276457748677]
[3511,46,41.451248712300554,47.966090788282415]
[3512,46,53.066181810933884,47.966090788282415]
[3513,46,65.366698428858541,47.966090788282415]
[3514,47,71.093665111856481,69.215986447771172]
[3515,47,72.240117288600615,69.215986447771172]
[3516,48,73.811686744765623,74.187380103848582]
[3517,48,67.569876879307031,74.187380103848582]
[3518,49,66.481888570590669,65.987713629176]
[3519,49,65.269119156827486,65.987713629176]
[3520,49,63.658308735656284,65.987713629176]
[3521,49,58.544284949447366,65.987713629176]
[3522,50,56.397389244560543,{"$f":"VLOOKUP(B3524,$F$3:$G$122,2,FALSE)","v":52.635095066642116}]
[3523,50,54.463855881853313,52.635095066642116]
[3524,50,52.443017702792837,52.635095066642116]
[3525,51,52.17172554877542,45.698614409430235]
[3526,51,50.658224569381886,45.698614409430235]
[3527,51,49.937923390722275,45.698614409430235]
[3528,51,43.128476421402652,45.698614409430235]
[3529,35,38.487785959554188,28.315239199738794]
[3530,35,35.18065693925508,28.315239199738794]
[3531,35,32.277221002557468,28.315239199738794]
[3532,35,30.092428139538114,28.315239199738794]
[3533,36,25.36686615083855,23.612879162830648]
[3534,36,33.922456288037296,23.612879162830648]
[3535,37,36.769645563031915,34.549007945989857]
[3536,37,52.018367094442759,34.549007945989857]
[3537,38,61.217882003378591,49.946803116733996]
[3538,38,63.014236171102041,49.946803116733996]
[3539,39,63.46266100836187,57.779276885918939]
[3540,39,64.670891840346684,57.779276885918939]
[3541,40,63.893161899740726,56.126300039964555]
[3542,40,61.139647739963422,56.126300039964555]
[3543,41,59.722469423718685,49.627989056185115]
[3544,41,57.097130476924754,49.627989056185115]
[3545,41,52.628115767917656,49.627989056185115]
[3546,42,50.78522158361843,45.48451624154589]
[3547,42,52.557435466989162,45.48451624154589]
[3548,42,49.533317249801897,45.48451624154589]
[3549,43,47.855416418832412,42.024862192502759]
[3550,43,48.014098026895873,42.024862192502759]
[3551,44,47.453410138132782,41.697012250062983]
[3552,44,41.942659378582071,41.697012250062983]
[3553,35,35.544410172296814,28.315239199738794]
[3554,35,35.065265579541787,28.315239199738794]
[3555,35,33.364855748899707,28.315239199738794]
[3556,35,28.950424514262817,28.315239199738794]
[3557,36,28.815417156922173,23.612879162830648]
[3558,36,28.410650485141772,23.612879162830648]
[3559,37,30.137597984353611,34.549007945989857]
[3560,37,35.43581643572157,34.549007945989857]
[3561,38,38.784132520341721,49.946803116733996]
[3562,38,43.151490255413755,49.946803116733996]
[3563,39,44.943972829785984,57.779276885918939]
[3564,39,46.883909770136412,57.779276885918939]
[3565,40,46.297465144092108,56.126300039964555]
[3566,40,42.465402960897151,56.126300039964555]
[3567,41,40.930119397794819,49.627989056185115]
[3568,41,38.420997600613362,49.627989056185115]
[3569,41,36.726447369825422,49.627989056185115]
[3570,42,37.181958893515933,45.48451624154589]
[3571,42,38.910317604521062,45.48451624154589]
[3572,42,38.162898185548428,45.48451624154589]
[3573,43,38.821547072454273,42.024862192502759]
[3574,43,39.372039291478004,42.024862192502759]
[3575,44,41.116259218201172,41.697012250062983]
[3576,44,36.957628772554536,41.697012250062983]
[3577,35,26.227288097104353,28.315239199738794]
[3578,35,23.585857916192325,28.315239199738794]
[3579,35,22.054655423278472,28.315239199738794]
[3580,35,20.836973425101299,28.315239199738794]
[3581,36,16.741736254033917,23.612879162830648]
[3582,36,17.915263551078166,23.612879162830648]
[3583,37,14.845948842707861,34.549007945989857]
[3584,37,14.204725045438501,34.549007945989857]
[3585,38,21.196542990867719,49.946803116733996]
[3586,38,26.6590820046838,{"$f":"VLOOKUP(B3588,$F$3:$G$122,2,FALSE)","v":49.946803116733996}]
[3587,39,28.30357143614745,57.779276885918939]
[3588,39,30.108611902598948,57.779276885918939]
[3589,40,31.485396380676125,56.126300039964555]
[3590,40,29.728435171023722,56.126300039964555]
[3591,41,27.847019645912358,49.627989056185115]
[3592,41,26.426473604167949,49.627989056185115]
[3593,41,23.853019425549533,49.627989056185115]
[3594,42,25.683788730384734,45.48451624154589]
[3595,42,27.886105591277492,45.48451624154589]
[3596,42,29.917275257854413,45.48451624154589]
[3597,43,28.385286230795227,42.024862192502759]
[3598,43,28.222038627509079,42.024862192502759]
[3599,44,33.1546490206985,41.697012250062983]
[3600,44,29.538093402627307,41.697012250062983]
[3601,35,34.330307596363355,28.315239199738794]
[3602,35,25.487939736832725,28.315239199738794]
[3603,35,23.219830709968903,28.315239199738794]
[3604,35,21.143236221839317,28.315239199738794]
[3605,36,22.036348892228204,23.612879162830648]
[3606,36,26.757893213702289,23.612879162830648]
[3607,37,33.565257340865507,34.549007945989857]
[3608,37,47.896444938674549,34.549007945989857]
[3609,38,59.914838008260027,49.946803116733996]
[3610,38,64.389981833546855,49.946803116733996]
[3611,39,63.391559204780293,57.779276885918939]
[3612,39,69.024377099401889,57.779276885918939]
[3613,40,69.37227761431943,56.126300039964555]
[3614,40,62.696743288437624,56.126300039964555]
[3615,41,59.804755462953942,49.627989056185115]
[3616,41,59.745098711742251,49.627989056185115]
[3617,41,55.149533556666739,49.627989056185115]
[3618,42,54.247381515736038,45.48451624154589]
[3619,42,56.116453104297634,45.48451624154589]
[3620,42,53.738997888738588,45.48451624154589]
[3621,43,50.686061880226646,42.024862192502759]
[3622,43,51.176428063253191,42.024862192502759]
[3623,44,53.565231405445296,41.697012250062983]
[3624,44,48.05741400242345,41.697012250062983]
[3625,35,32.455229426425248,28.315239199738794]
[3626,35,30.817412463991566,28.315239199738794]
[3627,35,28.281394984396222,28.315239199738794]
[3628,35,26.444197170878404,28.315239199738794]
[3629,36,24.104129822314192,23.612879162830648]
[3630,36,29.816996486101758,23.612879162830648]
[3631,37,39.057695353491994,34.549007945989857]
[3632,37,50.869364349332095,34.549007945989857]
[3633,38,58.198542421254395,49.946803116733996]
[3634,38,67.627519948071011,49.946803116733996]
[3635,39,74.034114654386116,57.779276885918939]
[3636,39,79.001826556695619,57.779276885918939]
[3637,40,74.001645793476698,56.126300039964555]
[3638,40,71.037641998950477,56.126300039964555]
[3639,41,66.554243309694257,49.627989056185115]
[3640,41,63.81758607419809,49.627989056185115]
[3641,41,59.528404962768612,49.627989056185115]
[3642,42,58.559750128051455,45.48451624154589]
[3643,42,56.906199016991351,45.48451624154589]
[3644,42,49.996718071748184,45.48451624154589]
[3645,43,48.060844086247641,42.024862192502759]
[3646,43,46.684203542940281,42.024862192502759]
[3647,44,49.056529284161627,41.697012250062983]
[3648,44,41.842490751446675,41.697012250062983]
[3649,45,32.322598514119413,29.33276457748677]
[3650,45,30.174091252589001,{"$f":"VLOOKUP(B3652,$F$3:$G$122,2,FALSE)","v":29.33276457748677}]
[3651,45,27.574944258898022,29.33276457748677]
[3652,45,25.446536976999592,29.33276457748677]
[3653,45,18.841985153023359,29.33276457748677]
[3654,45,25.770618629023232,29.33276457748677]
[3655,46,34.755872752001849,47.966090788282415]
[3656,46,45.987755919353283,47.966090788282415]
[3657,46,55.116523419436646,47.966090788282415]
[3658,47,66.174166591919501,69.215986447771172]
[3659,47,73.533530590111127,69.215986447771172]
[3660,48,81.334840128794383,74.187380103848582]
[3661,48,77.176017397224712,74.187380103848582]
[3662,49,75.755797214508277,65.987713629176]
[3663,49,73.561892616445022,65.987713629176]
[3664,49,67.590976439081885,65.987713629176]
[3665,49,60.633571635551085,65.987713629176]
[3666,50,55.253268857435003,52.635095066642116]
[3667,50,53.04332964523347,52.635095066642116]
[3668,50,49.678870023487306,52.635095066642116]
[3669,51,46.601067016464896,45.698614409430235]
[3670,51,45.203743032966919,45.698614409430235]
[3671,51,47.793130685059666,45.698614409430235]
[3672,51,40.504396248658324,45.698614409430235]
[3673,45,31.725350987073014,29.33276457748677]
[3674,45,30.177472633257683,29.33276457748677]
[3675,45,28.493163918403308,29.33276457748677]
[3676,45,25.824048272333663,29.33276457748677]
[3677,45,19.940555919486332,29.33276457748677]
[3678,45,25.601926433926096,29.33276457748677]
[3679,46,34.123417118392062,47.966090788282415]
[3680,46,47.06966038140942,47.966090788282415]
[3681,46,57.616984575000238,47.966090788282415]
[3682,47,68.266858669190867,69.215986447771172]
[3683,47,75.59033636315587,69.215986447771172]
[3684,48,79.191018238904974,74.187380103848582]
[3685,48,75.596698926719242,74.187380103848582]
[3686,49,77.470185583570057,65.987713629176]
[3687,49,73.379718406450991,65.987713629176]
[3688,49,66.912059216615305,65.987713629176]
[3689,49,59.857693741752577,65.987713629176]
[3690,50,54.239153931220926,52.635095066642116]
[3691,50,52.991714607709142,52.635095066642116]
[3692,50,48.033775821653421,52.635095066642116]
[3693,51,47.069925128452425,45.698614409430235]
[3694,51,44.603927859525449,45.698614409430235]
[3695,51,48.257010376950419,45.698614409430235]
[3696,51,41.854448003302437,45.698614409430235]
[3697,35,30.379372585953053,28.315239199738794]
[3698,35,29.109019072147323,28.315239199738794]
[3699,35,27.350020596769408,28.315239199738794]
[3700,35,25.536519227520557,28.315239199738794]
[3701,36,19.224409622010494,23.612879162830648]
[3702,36,24.462065614119034,23.612879162830648]
[3703,37,37.22219486879478,34.549007945989857]
[3704,37,50.91657736621994,34.549007945989857]
[3705,38,59.738223010146761,49.946803116733996]
[3706,38,65.567115765455867,49.946803116733996]
[3707,39,68.419071172999892,57.779276885918939]
[3708,39,73.324331823777214,57.779276885918939]
[3709,40,68.005578407699261,56.126300039964555]
[3710,40,64.790213583583451,56.126300039964555]
[3711,41,63.994767632612422,49.627989056185115]
[3712,41,61.865016869797827,49.627989056185115]
[3713,41,57.492588978849057,49.627989056185115]
[3714,42,53.926583868078943,{"$f":"VLOOKUP(B3716,$F$3:$G$122,2,FALSE)","v":45.48451624154589}]
[3715,42,53.342330054439209,45.48451624154589]
[3716,42,49.363800117352518,45.48451624154589]
[3717,43,46.325648326316937,42.024862192502759]
[3718,43,45.154156788001927,42.024862192502759]
[3719,44,47.326054599266044,41.697012250062983]
[3720,44,41.917787306356864,41.697012250062983]
[3721,35,32.0132731187866,28.315239199738794]
[3722,35,30.646131227817385,28.315239199738794]
[3723,35,27.994794699018666,28.315239199738794]
[3724,35,23.927185793500623,28.315239199738794]
[3725,36,20.811611431429963,23.612879162830648]
[3726,36,17.107503693166819,23.612879162830648]
[3727,37,24.167059071218112,34.549007945989857]
[3728,37,27.781544161486579,34.549007945989857]
[3729,38,35.802311752957742,49.946803116733996]
[3730,38,41.7420956936351,49.946803116733996]
[3731,39,44.854483499957865,57.779276885918939]
[3732,39,47.108058808198543,57.779276885918939]
[3733,40,46.966657992565011,56.126300039964555]
[3734,40,41.457882115617224,56.126300039964555]
[3735,41,41.897708804617828,49.627989056185115]
[3736,41,39.488608303230315,49.627989056185115]
[3737,41,36.778565500729137,49.627989056185115]
[3738,42,37.363201693604431,45.48451624154589]
[3739,42,39.160927110555939,45.48451624154589]
[3740,42,38.219369883616125,45.48451624154589]
[3741,43,34.789013875356112,42.024862192502759]
[3742,43,34.001462431189559,42.024862192502759]
[3743,44,38.799890075939011,41.697012250062983]
[3744,44,36.221124875370542,41.697012250062983]
[3745,35,31.879300138979904,28.315239199738794]
[3746,35,24.606670654596265,28.315239199738794]
[3747,35,20.884897494531597,28.315239199738794]
[3748,35,17.12249499978898,28.315239199738794]
[3749,36,15.969184345683306,23.612879162830648]
[3750,36,12.462616038623162,23.612879162830648]
[3751,37,12.177581057570917,34.549007945989857]
[3752,37,14.726400469960861,34.549007945989857]
[3753,38,19.229154380968712,49.946803116733996]
[3754,38,30.038663886027027,49.946803116733996]
[3755,39,34.725387572384989,57.779276885918939]
[3756,39,36.355658440102765,57.779276885918939]
[3757,40,38.35312913666769,56.126300039964555]
[3758,40,35.760667542553975,56.126300039964555]
[3759,41,33.253184937223203,49.627989056185115]
[3760,41,30.204686027967529,49.627989056185115]
[3761,41,29.623857457799932,49.627989056185115]
[3762,42,30.20378080622859,45.48451624154589]
[3763,42,34.480600677091182,45.48451624154589]
[3764,42,35.063262749946958,45.48451624154589]
[3765,43,34.94145756709581,42.024862192502759]
[3766,43,35.664050690784627,42.024862192502759]
[3767,44,40.427944796631472,41.697012250062983]
[3768,44,36.855433520435646,41.697012250062983]
[3769,35,27.354292728562751,28.315239199738794]
[3770,35,27.17019248038957,28.315239199738794]
[3771,35,24.207852478977763,28.315239199738794]
[3772,35,22.483671838192322,28.315239199738794]
[3773,36,23.984161960475944,23.612879162830648]
[3774,36,28.125751303357386,23.612879162830648]
[3775,37,36.20040973880328,34.549007945989857]
[3776,37,49.420208355980179,34.549007945989857]
[3777,38,56.4483760577575,49.946803116733996]
[3778,38,66.10354262887445,{"$f":"VLOOKUP(B3780,$F$3:$G$122,2,FALSE)","v":49.946803116733996}]
[3779,39,75.706416003283152,57.779276885918939]
[3780,39,79.401078687792534,57.779276885918939]
[3781,40,75.348968387236937,56.126300039964555]
[3782,40,74.946260901049939,56.126300039964555]
[3783,41,68.780971671580403,49.627989056185115]
[3784,41,65.412407130868161,49.627989056185115]
[3785,41,63.748375250853613,49.627989056185115]
[3786,42,58.857147168588206,45.48451624154589]
[3787,42,54.405779887636101,45.48451624154589]
[3788,42,51.140727682311599,45.48451624154589]
[3789,43,47.598220318608512,42.024862192502759]
[3790,43,43.906373077045622,42.024862192502759]
[3791,44,46.193225791801623,41.697012250062983]
[3792,44,40.909655873376401,41.697012250062983]
[3793,35,33.355371511874488,28.315239199738794]
[3794,35,31.672129882839968,28.315239199738794]
[3795,35,29.065776247772554,28.315239199738794]
[3796,35,27.177623962495673,28.315239199738794]
[3797,36,24.772655112988346,23.612879162830648]
[3798,36,30.643967481937011,23.612879162830648]
[3799,37,40.140956078178419,34.549007945989857]
[3800,37,52.280220366070125,34.549007945989857]
[3801,38,59.812672355659373,49.946803116733996]
[3802,38,69.503161498466355,49.946803116733996]
[3803,39,76.087442378057304,57.779276885918939]
[3804,39,81.19293320323014,57.779276885918939]
[3805,40,76.054072996994805,56.126300039964555]
[3806,40,73.007862895379233,56.126300039964555]
[3807,41,68.400117654970245,49.627989056185115]
[3808,41,65.587559543262316,49.627989056185115]
[3809,41,61.179418483043563,49.627989056185115]
[3810,42,60.183898116995643,45.48451624154589]
[3811,42,58.484485954517595,45.48451624154589]
[3812,42,51.3833713435343,45.48451624154589]
[3813,43,49.393806113902329,42.024862192502759]
[3814,43,47.978984602181981,42.024862192502759]
[3815,44,50.417106527186561,41.697012250062983]
[3816,44,43.002987458788745,41.697012250062983]
[3817,45,33.182194495715081,29.33276457748677]
[3818,45,30.97654924734757,29.33276457748677]
[3819,45,28.308279831139192,29.33276457748677]
[3820,45,26.12326910673228,29.33276457748677]
[3821,45,19.343074034096738,29.33276457748677]
[3822,45,26.455969474409812,29.33276457748677]
[3823,46,35.680179890904078,47.966090788282415]
[3824,46,47.210766816005368,47.966090788282415]
[3825,46,56.582307243412792,47.966090788282415]
[3826,47,67.934020387801922,69.215986447771172]
[3827,47,75.489101315038781,69.215986447771172]
[3828,48,83.497881002748159,74.187380103848582]
[3829,48,79.228457407616588,74.187380103848582]
[3830,49,77.770467502842976,65.987713629176]
[3831,49,75.51821760881981,65.987713629176]
[3832,49,69.388509261629636,65.987713629176]
[3833,49,62.24607734127104,65.987713629176]
[3834,50,56.722689326805039,52.635095066642116]
[3835,50,54.453978389751327,52.635095066642116]
[3836,50,51.00004341317468,52.635095066642116]
[3837,51,47.840388475348384,45.698614409430235]
[3838,51,46.405903677546533,45.698614409430235]
[3839,51,49.064154209570177,45.698614409430235]
[3840,51,41.581581185911944,45.698614409430235]
[3841,45,32.533310066167651,29.33276457748677]
[3842,45,30.946011427615083,{"$f":"VLOOKUP(B3844,$F$3:$G$122,2,FALSE)","v":29.33276457748677}]
[3843,45,29.21880791488379,29.33276457748677]
[3844,45,26.481717095890943,29.33276457748677]
[3845,45,20.448388069362565,29.33276457748677]
[3846,45,26.253938413652723,29.33276457748677]
[3847,46,34.992448470693638,47.966090788282415]
[3848,46,48.268397614310544,47.966090788282415]
[3849,46,59.084333693262018,47.966090788282415]
[3850,47,70.005431342051679,69.215986447771172]
[3851,47,77.515418250549786,69.215986447771172]
[3852,48,81.207799777269784,74.187380103848582]
[3853,48,77.5219428514378,74.187380103848582]
[3854,49,79.443142157853387,65.987713629176]
[3855,49,75.248501819818358,65.987713629176]
[3856,49,68.616128803331961,65.987713629176]
[3857,49,61.382107675959986,65.987713629176]
[3858,50,55.620478818028261,52.635095066642116]
[3859,50,54.341270581149317,52.635095066642116]
[3860,50,49.257066473161565,52.635095066642116]
[3861,51,48.268669103746326,45.698614409430235]
[3862,51,45.739869538849035,45.698614409430235]
[3863,51,49.48598621018575,45.698614409430235]
[3864,51,42.920367850132237,45.698614409430235]
[3865,35,31.11921098249309,28.315239199738794]
[3866,35,29.817920150807151,28.315239199738794]
[3867,35,28.016084233416304,28.315239199738794]
[3868,35,26.158418096071863,28.315239199738794]
[3869,36,19.692587703994768,23.612879162830648]
[3870,36,25.057797976556802,23.612879162830648]
[3871,37,38.128678664321328,34.549007945989857]
[3872,37,52.156564757314023,34.549007945989857]
[3873,38,61.193046706684001,49.946803116733996]
[3874,38,67.163892316927502,49.946803116733996]
[3875,39,70.085302289727977,57.779276885918939]
[3876,39,75.110022292873879,57.779276885918939]
[3877,40,69.661739605320392,56.126300039964555]
[3878,40,66.368069992353696,56.126300039964555]
[3879,41,65.553252296451618,49.627989056185115]
[3880,41,63.371635044790587,49.627989056185115]
[3881,41,58.892724044927242,49.627989056185115]
[3882,42,55.239874892340886,45.48451624154589]
[3883,42,54.64139256218283,45.48451624154589]
[3884,42,50.565972236694833,45.48451624154589]
[3885,43,47.453831381429396,42.024862192502759]
[3886,43,46.253810141955647,42.024862192502759]
[3887,44,48.478600862366847,41.697012250062983]
[3888,44,42.93862433844162,41.697012250062983]
[3889,35,32.7576352221405,28.315239199738794]
[3890,35,31.358704997320849,28.315239199738794]
[3891,35,28.645720463085365,28.315239199738794]
[3892,35,24.48353285237533,28.315239199738794]
[3893,36,21.29551617937004,23.612879162830648]
[3894,36,17.50528174556807,23.612879162830648]
[3895,37,24.728983584696657,34.549007945989857]
[3896,37,28.427511494152974,34.549007945989857]
[3897,38,36.634775337124161,49.946803116733996]
[3898,38,42.712669181501305,49.946803116733996]
[3899,39,45.89742520601191,57.779276885918939]
[3900,39,48.203399906538536,57.779276885918939]
[3901,40,48.058711285620291,56.126300039964555]
[3902,40,42.421847162792275,56.126300039964555]
[3903,41,42.871900557388422,49.627989056185115]
[3904,41,40.406784443047187,49.627989056185115]
[3905,41,37.633728616130668,49.627989056185115]
[3906,42,38.231958577584727,{"$f":"VLOOKUP(B3908,$F$3:$G$122,2,FALSE)","v":45.48451624154589}]
[3907,42,40.071484114994064,45.48451624154589]
[3908,42,39.108034108916286,45.48451624154589]
[3909,43,35.597916590357514,42.024862192502759]
[3910,43,34.79205325889022,42.024862192502759]
[3911,44,39.702052365926086,41.697012250062983]
[3912,44,37.063326564589659,41.697012250062983]
[3913,35,32.585801421605701,28.315239199738794]
[3914,35,25.151997694488401,28.315239199738794]
[3915,35,21.347743504421043,28.315239199738794]
[3916,35,17.501959562259508,28.315239199738794]
[3917,36,16.323089518429487,23.612879162830648]
[3918,36,12.738809498886553,23.612879162830648]
[3919,37,12.447457642029987,34.549007945989857]
[3920,37,15.052763369244428,34.549007945989857]
[3921,38,19.655306215379674,49.946803116733996]
[3922,38,30.70437343646644,49.946803116733996]
[3923,39,35.494963151290804,57.779276885918939]
[3924,39,37.161363684780703,57.779276885918939]
[3925,40,39.203101840260281,56.126300039964555]
[3926,40,36.553186743923668,56.126300039964555]
[3927,41,33.990133920015175,49.627989056185115]
[3928,41,30.874074920667091,49.627989056185115]
[3929,41,30.280374169240169,49.627989056185115]
[3930,42,30.873149637624518,45.48451624154589]
[3931,42,35.244751348463247,45.48451624154589]
[3932,42,35.840326236218189,45.48451624154589]
[3933,43,35.715821636581246,42.024862192502759]
[3934,43,36.454428693025079,42.024862192502759]
[3935,44,41.323899059373296,41.697012250062983]
[3936,44,37.67221465867901,41.697012250062983]
[3937,35,27.93100249490432,28.315239199738794]
[3938,35,27.7430208664973,28.315239199738794]
[3939,35,24.718225936091674,28.315239199738794]
[3940,35,22.95769444447836,28.315239199738794]
[3941,36,24.489819356826082,23.612879162830648]
[3942,36,28.718725708628828,23.612879162830648]
[3943,37,36.963621935481093,34.549007945989857]
[3944,37,50.462133186439011,34.549007945989857]
[3945,38,57.638475545602716,49.946803116733996]
[3946,38,67.497201715663465,49.946803116733996]
[3947,39,77.302532193054773,57.779276885918939]
[3948,39,81.075089344609523,57.779276885918939]
[3949,40,76.937548519206771,56.126300039964555]
[3950,40,76.526350762678391,56.126300039964555]
[3951,41,70.231078917820554,49.627989056185115]
[3952,41,66.791495027843553,49.627989056185115]
[3953,41,65.092380411593382,49.627989056185115]
[3954,42,60.098030708438792,45.48451624154589]
[3955,42,55.552815379212426,45.48451624154589]
[3956,42,52.218926172211049,45.48451624154589]
[3957,43,48.601732227712134,42.024862192502759]
[3958,43,44.83204987700649,42.024862192502759]
[3959,44,47.167116241732231,41.697012250062983]
[3960,44,41.772152970777633,41.697012250062983]
[3961,35,34.022970472766083,28.315239199738794]
[3962,35,32.30603920660451,28.315239199738794]
[3963,35,29.647520091147602,28.315239199738794]
[3964,35,27.721576936019151,28.315239199738794]
[3965,36,25.268473269475351,23.612879162830648]
[3966,36,31.257298406500507,23.612879162830648]
[3967,37,40.944366723970411,34.549007945989857]
[3968,37,53.326595183965544,34.549007945989857]
[3969,38,61.009807212891339,49.946803116733996]
[3970,38,70.894248939316398,{"$f":"VLOOKUP(B3972,$F$3:$G$122,2,FALSE)","v":49.946803116733996}]
[3971,39,77.610312463626769,57.779276885918939]
[3972,39,82.81798834071887,57.779276885918939]
[3973,40,77.57627520320591,56.126300039964555]
[3974,40,74.469096010067204,56.126300039964555]
[3975,41,69.769127964301219,49.627989056185115]
[3976,41,66.900277244005338,49.627989056185115]
[3977,41,62.403908403435885,49.627989056185115]
[3978,42,61.388462959902817,45.48451624154589]
[3979,42,59.655037511337014,45.48451624154589]
[3980,42,52.411795964853177,45.48451624154589]
[3981,43,50.382410112043452,42.024862192502759]
[3982,43,48.93927132102867,42.024862192502759]
[3983,44,51.426191613129248,41.697012250062983]
[3984,44,43.863680907593569,41.697012250062983]
[3985,45,33.81121238765931,29.33276457748677]
[3986,45,31.563755850267984,29.33276457748677]
[3987,45,28.844905415268354,29.33276457748677]
[3988,45,26.618474559956013,29.33276457748677]
[3989,45,19.709750796666491,29.33276457748677]
[3990,45,26.957481758363279,29.33276457748677]
[3991,46,36.356550814534998,47.966090788282415]
[3992,46,48.105717179324749,47.966090788282415]
[3993,46,57.654909106083089,47.966090788282415]
[3994,47,69.221810871374359,69.215986447771172]
[3995,47,76.920109604140393,69.215986447771172]
[3996,48,85.080707632763264,74.187380103848582]
[3997,48,80.730350757888161,74.187380103848582]
[3998,49,79.24472248409424,65.987713629176]
[3999,49,76.949777840612796,65.987713629176]
[4000,49,70.703871746969142,65.987713629176]
[4001,49,63.426044397279348,65.987713629176]
[4002,50,57.79795234083992,52.635095066642116]
[4003,50,55.486234610753264,52.635095066642116]
[4004,50,51.966825155140604,52.635095066642116]
[4005,51,48.747274254480395,45.698614409430235]
[4006,51,47.28559666195077,45.698614409430235]
[4007,51,49.994238289901745,45.698614409430235]
[4008,51,42.369821955962514,45.698614409430235]
[4009,45,33.115906232976236,29.33276457748677]
[4010,45,31.500182755373466,29.33276457748677]
[4011,45,29.742049031613259,29.33276457748677]
[4012,45,26.955943260987485,29.33276457748677]
[4013,45,20.814571297641383,29.33276457748677]
[4014,45,26.724085590571217,29.33276457748677]
[4015,46,35.619082105722171,47.966090788282415]
[4016,46,49.132772723111223,47.966090788282415]
[4017,46,60.142397144479382,47.966090788282415]
[4018,47,71.259066335623217,69.215986447771172]
[4019,47,78.90353970051865,69.215986447771172]
[4020,48,82.662043220957884,74.187380103848582]
[4021,48,78.910181141883683,74.187380103848582]
[4022,49,80.865784674285379,65.987713629176]
[4023,49,76.596028051522183,65.987713629176]
[4024,49,69.844884609020397,65.987713629176]
[4025,49,62.481318932666234,65.987713629176]
[4026,50,56.616512658099744,52.635095066642116]
[4027,50,55.31439676707064,52.635095066642116]
[4028,50,50.139146349360288,52.635095066642116]
[4029,51,49.133049074293453,45.698614409430235]
[4030,51,46.558964571277656,45.698614409430235]
[4031,51,50.372165508208617,45.698614409430235]
[4032,51,43.688972143290378,45.698614409430235]
[4033,35,31.644123119803353,28.315239199738794]
[4034,35,30.32088239510416,{"$f":"VLOOKUP(B4036,$F$3:$G$122,2,FALSE)","v":28.315239199738794}]
[4035,35,28.48865349818012,28.315239199738794]
[4036,35,26.599652649196912,28.315239199738794]
[4037,36,20.024758024980379,23.612879162830648]
[4038,36,25.480467506949548,23.612879162830648]
[4039,37,38.771824990292266,34.549007945989857]
[4040,37,53.036330439577775,34.549007945989857]
[4041,38,62.225237816972836,49.946803116733996]
[4042,38,68.296798362841969,49.946803116733996]
[4043,39,71.267486048809559,57.779276885918939]
[4044,39,76.376961944954189,57.779276885918939]
[4045,40,70.836778800419225,56.126300039964555]
[4046,40,67.487552278984992,56.126300039964555]
[4047,41,66.658990413974152,49.627989056185115]
[4048,41,64.440574113166093,49.627989056185115]
[4049,41,59.886113808820589,49.627989056185115]
[4050,42,56.171649184780442,45.48451624154589]
[4051,42,55.563071783791635,45.48451624154589]
[4052,42,51.418908147469281,45.48451624154589]
[4053,43,48.254272371658878,42.024862192502759]
[4054,43,47.034009432805789,42.024862192502759]
[4055,44,49.296327443120838,41.697012250062983]
[4056,44,43.662903790363899,41.697012250062983]
[4057,35,33.276394242265681,28.315239199738794]
[4058,35,31.855310169412441,28.315239199738794]
[4059,35,29.099362057707133,28.315239199738794]
[4060,35,24.871260886635763,28.315239199738794]
[4061,36,21.63275789512134,23.612879162830648]
[4062,36,17.782500254894661,23.612879162830648]
[4063,37,25.120598645005355,34.549007945989857]
[4064,37,28.87769747086648,34.549007945989857]
[4065,38,37.214933826206654,49.946803116733996]
[4066,38,43.389078887552074,49.946803116733996]
[4067,39,46.624269594035582,57.779276885918939]
[4068,39,48.966762351130292,57.779276885918939]
[4069,40,48.819782400978362,56.126300039964555]
[4070,40,43.093651330487383,56.126300039964555]
[4071,41,43.550831895784398,49.627989056185115]
[4072,41,41.046677517194283,49.627989056185115]
[4073,41,38.229706807113324,49.627989056185115]
[4074,42,38.837410504583701,45.48451624154589]
[4075,42,40.706067279910869,45.48451624154589]
[4076,42,39.727359811635246,45.48451624154589]
[4077,43,36.161655096012232,42.024862192502759]
[4078,43,35.343029888745541,42.024862192502759]
[4079,44,40.330785106938656,41.697012250062983]
[4080,44,37.650271710075344,41.697012250062983]
[4081,35,33.068483772663896,28.315239199738794]
[4082,35,25.524565648975972,28.315239199738794]
[4083,35,21.66396034043445,28.315239199738794]
[4084,35,17.761210113760004,28.315239199738794]
[4085,36,16.564877870458936,23.612879162830648]
[4086,36,12.927505134726529,23.612879162830648]
[4087,37,12.6318375822873,34.549007945989857]
[4088,37,15.275734813739026,34.549007945989857]
[4089,38,19.946453555660145,49.946803116733996]
[4090,38,31.159186837135351,49.946803116733996]
[4091,39,36.020737921808781,57.779276885918939]
[4092,39,37.711822277461053,57.779276885918939]
[4093,40,39.783804003150287,56.126300039964555]
[4094,40,37.094636619222051,56.126300039964555]
[4095,41,34.493618168907012,49.627989056185115]
[4096,41,31.331402051482215,49.627989056185115]
[4097,41,30.728907013524918,49.627989056185115]
[4098,42,31.330463062537845,{"$f":"VLOOKUP(B4100,$F$3:$G$122,2,FALSE)","v":45.48451624154589}]
[4099,42,35.766819816972905,45.48451624154589]
[4100,42,36.371216752199807,45.48451624154589]
[4101,43,36.244867908436632,42.024862192502759]
[4102,43,36.99441569903334,42.024862192502759]
[4103,44,41.936015867390317,41.697012250062983]
[4104,44,38.230240312421671,41.697012250062983]
[4105,35,28.316350706986285,28.315239199738794]
[4106,35,28.125775602586987,28.315239199738794]
[4107,35,25.059249290768928,28.315239199738794]
[4108,35,23.274428743912036,28.315239199738794]
[4109,36,24.827691515374095,23.612879162830648]
[4110,36,29.11494169146409,23.612879162830648]
[4111,37,37.47358807892725,34.549007945989857]
[4112,37,51.158330639601822,34.549007945989857]
[4113,38,58.433680927245582,49.946803116733996]
[4114,38,68.42842235503764,49.946803116733996]
[4115,39,78.369031420049481,57.779276885918939]
[4116,39,82.193636404602486,57.779276885918939]
[4117,40,77.999012273300636,56.126300039964555]
[4118,40,77.58214145436358,56.126300039964555]
[4119,41,71.200017311582371,49.627989056185115]
[4120,41,67.71297943199113,49.627989056185115]
[4121,41,65.990423094319965,49.627989056185115]
[4122,42,60.927169178759328,45.48451624154589]
[4123,42,56.319246089546034,45.48451624154589]
[4124,42,52.939361102571063,45.48451624154589]
[4125,43,49.272262783192637,42.024862192502759]
[4126,43,45.450572261486812,42.024862192502759]
[4127,44,47.81785421349425,41.697012250062983]
[4128,44,42.348459691778437,41.697012250062983]
[4129,35,34.458026309100013,28.315239199738794]
[4130,35,32.719140435285198,28.315239199738794]
[4131,35,30.026626514521368,28.315239199738794]
[4132,35,28.076056091448844,28.315239199738794]
[4133,36,25.591584291775209,23.612879162830648]
[4134,36,31.656989259792244,23.612879162830648]
[4135,37,41.467927290867969,34.549007945989857]
[4136,37,54.008488803018359,34.549007945989857]
[4137,38,61.78994699295032,49.946803116733996]
[4138,38,71.800782270621184,49.946803116733996]
[4139,39,78.602724911094541,57.779276885918939]
[4140,39,83.876991969161793,57.779276885918939]
[4141,40,78.568252412110056,56.126300039964555]
[4142,40,75.421341343014419,56.126300039964555]
[4143,41,70.661274237687167,49.627989056185115]
[4144,41,67.75573917642717,49.627989056185115]
[4145,41,63.201874723945593,49.627989056185115]
[4146,42,62.173444656772993,45.48451624154589]
[4147,42,60.417853687449615,45.48451624154589]
[4148,42,53.081991935704842,45.48451624154589]
[4149,43,51.026656080671032,42.024862192502759]
[4150,43,49.565063699480362,42.024862192502759]
[4151,44,52.083784541989722,41.697012250062983]
[4152,44,44.424571097861147,41.697012250062983]
[4153,45,34.209652189952088,29.33276457748677]
[4154,45,31.935711061350222,29.33276457748677]
[4155,45,29.184821011285496,29.33276457748677]
[4156,45,26.932153336670776,29.33276457748677]
[4157,45,19.942015440732614,29.33276457748677]
[4158,45,27.275155480883612,29.33276457748677]
[4159,46,36.784985522894573,47.966090788282415]
[4160,46,48.672607009311385,47.966090788282415]
[4161,46,58.334329007447536,47.966090788282415]
[4162,47,70.037538042636783,{"$f":"VLOOKUP(B4164,$F$3:$G$122,2,FALSE)","v":69.215986447771172}]
[4163,47,77.826555457415921,69.215986447771172]
[4164,48,86.083320018839686,74.187380103848582]
[4165,48,81.681697448039372,74.187380103848582]
[4166,49,80.178562158261983,65.987713629176]
[4167,49,77.856573311823908,65.987713629176]
[4168,49,71.537063895100403,65.987713629176]
[4169,49,64.173472803575962,65.987713629176]
[4170,50,58.47905789953964,52.635095066642116]
[4171,50,56.140098308239253,52.635095066642116]
[4172,50,52.579215249385044,52.635095066642116]
[4173,51,49.321724353860922,45.698614409430235]
[4174,51,47.842821986179601,45.698614409430235]
[4175,51,50.583382926054355,45.698614409430235]
[4176,51,42.869118558810015,45.698614409430235]
[4177,45,33.47313948749877,29.33276457748677]
[4178,45,31.839986616532826,29.33276457748677]
[4179,45,30.062887268591716,29.33276457748677]
[4180,45,27.24672676762329,29.33276457748677]
[4181,45,21.039105604322785,29.33276457748677]
[4182,45,27.012367964681577,29.33276457748677]
[4183,46,36.003318023477661,47.966090788282415]
[4184,46,49.662785707811466,47.966090788282415]
[4185,46,60.791174928652318,47.966090788282415]
[4186,47,72.027763649905481,69.215986447771172]
[4187,47,79.754700713062405,69.215986447771172]
[4188,48,83.553748569969287,74.187380103848582]
[4189,48,79.761413798056836,74.187380103848582]
[4190,49,81.738113132866019,65.987713629176]
[4191,49,77.422297101562464,65.987713629176]
[4192,49,70.5983266336806,65.987713629176]
[4193,49,63.155327511871306,65.987713629176]
[4194,50,57.22725545143539,52.635095066642116]
[4195,50,55.911093165473126,52.635095066642116]
[4196,50,50.68001545024957,52.635095066642116]
[4197,51,49.663065040093812,45.698614409430235]
[4198,51,47.061212956811325,45.698614409430235]
[4199,51,50.91554827101902,45.698614409430235]
[4200,51,44.160260882776861,45.698614409430235]
[4201,35,31.954108997883804,28.315239199738794]
[4202,35,30.617905805038323,28.315239199738794]
[4203,35,28.767728391060832,28.315239199738794]
[4204,35,26.860222886895684,28.315239199738794]
[4205,36,20.220920584967306,23.612879162830648]
[4206,36,25.73007420529725,23.612879162830648]
[4207,37,39.151633846707576,34.549007945989857]
[4208,37,53.555874413011161,34.549007945989857]
[4209,38,62.834796341013217,49.946803116733996]
[4210,38,68.965833903199254,49.946803116733996]
[4211,39,71.965622450244595,57.779276885918939]
[4212,39,77.125150780018089,57.779276885918939]
[4213,40,71.530695992995717,56.126300039964555]
[4214,40,68.148660443477311,56.126300039964555]
[4215,41,67.31198198518004,49.627989056185115]
[4216,41,65.071834074924283,49.627989056185115]
[4217,41,60.472758270529049,49.627989056185115]
[4218,42,56.72190674539759,45.48451624154589]
[4219,42,56.107367719265575,45.48451624154589]
[4220,42,51.922607849675799,45.48451624154589]
[4221,43,48.726971297005335,42.024862192502759]
[4222,43,47.49475466055231,42.024862192502759]
[4223,44,49.77923434152796,41.697012250062983]
[4224,44,44.090625662123649,41.697012250062983]
[4225,35,33.569550179162142,28.315239199738794]
[4226,35,32.135946744092166,{"$f":"VLOOKUP(B4228,$F$3:$G$122,2,FALSE)","v":28.315239199738794}]
[4227,35,29.355719482883963,28.315239199738794]
[4228,35,25.090369896281924,28.315239199738794]
[4229,36,21.823336578683868,23.612879162830648]
[4230,36,17.9391592211466,23.612879162830648]
[4231,37,25.341904252144207,34.549007945989857]
[4232,37,29.132102091627097,34.549007945989857]
[4233,38,37.542787220205234,49.946803116733996]
[4234,38,43.77132481178743,49.946803116733996]
[4235,39,47.035016664028888,57.779276885918939]
[4236,39,49.398146141973804,57.779276885918939]
[4237,40,49.249871338639231,56.126300039964555]
[4238,40,43.473294618702568,56.126300039964555]
[4239,41,43.934502819805751,49.627989056185115]
[4240,41,41.408287525671589,49.627989056185115]
[4241,41,38.566500073677091,49.627989056185115]
[4242,42,39.179557474601339,45.48451624154589]
[4243,42,41.064676605306339,45.48451624154589]
[4244,42,40.077346991772998,45.48451624154589]
[4245,43,36.480229392320261,42.024862192502759]
[4246,43,35.654392320755527,42.024862192502759]
[4247,44,40.686088298976735,41.697012250062983]
[4248,44,37.981960311827585,41.697012250062983]
[4249,35,33.327347192154498,28.315239199738794]
[4250,35,25.724374518059001,28.315239199738794]
[4251,35,21.83354800257182,28.315239199738794]
[4252,35,17.90024665429047,28.315239199738794]
[4253,36,16.694549401771656,23.612879162830648]
[4254,36,13.02870294614309,23.612879162830648]
[4255,37,12.73072087834286,34.549007945989857]
[4256,37,15.395314803444663,34.549007945989857]
[4257,38,20.102596401810146,49.946803116733996]
[4258,38,31.403104088033778,49.946803116733996]
[4259,39,36.302711883938919,57.779276885918939]
[4260,39,38.007034218143851,57.779276885918939]
[4261,40,40.095235625337722,56.126300039964555]
[4262,40,37.385017168449139,56.126300039964555]
[4263,41,34.763637683898743,49.627989056185115]
[4264,41,31.576667420412925,49.627989056185115]
[4265,41,30.969455990654176,49.627989056185115]
[4266,42,31.575721080968584,45.48451624154589]
[4267,42,36.046806082620193,45.48451624154589]
[4268,42,36.655934297891797,45.48451624154589]
[4269,43,36.528596382661959,42.024862192502759]
[4270,43,37.284011708809423,42.024862192502759]
[4271,44,42.264295220682556,41.697012250062983]
[4272,44,38.529510481663657,41.697012250062983]
[4273,35,28.510337364808663,28.315239199738794]
[4274,35,28.318456688658639,28.315239199738794]
[4275,35,25.230922543009541,28.315239199738794]
[4276,35,23.433874736493369,28.315239199738794]
[4277,36,24.997778436119997,23.612879162830648]
[4278,36,29.314399251863176,23.612879162830648]
[4279,37,37.730308169141772,34.549007945989857]
[4280,37,51.508800715468624,34.549007945989857]
[4281,38,58.833992202686126,49.946803116733996]
[4282,38,68.897204546997031,49.946803116733996]
[4283,39,78.905913684267276,57.779276885918939]
[4284,39,82.756719867771423,57.779276885918939]
[4285,40,78.53335964951853,56.126300039964555]
[4286,40,78.113632976105521,56.126300039964555]
[4287,41,71.687786852865869,49.627989056185115]
[4288,41,68.176860343310892,49.627989056185115]
[4289,41,66.44250329903339,49.627989056185115]
[4290,42,61.344562579549844,{"$f":"VLOOKUP(B4292,$F$3:$G$122,2,FALSE)","v":45.48451624154589}]
[4291,42,56.70507201863694,45.48451624154589]
[4292,42,53.302032473391662,45.48451624154589]
[4293,43,49.60981198505003,42.024862192502759]
[4294,43,45.761940230486601,42.024862192502759]
[4295,44,48.145439707087696,41.697012250062983]
[4296,44,42.638576036378829,41.697012250062983]
[4297,35,34.6605390208763,28.315239199738794]
[4298,35,32.911433568882025,28.315239199738794]
[4299,35,30.203095517893843,28.315239199738794]
[4300,35,28.241061428784747,28.315239199738794]
[4301,36,25.741988179887922,23.612879162830648]
[4302,36,31.84304004181223,23.612879162830648]
[4303,37,41.711637778871108,34.549007945989857]
[4304,37,54.325901223228577,34.549007945989857]
[4305,38,62.153091695836302,49.946803116733996]
[4306,38,72.222761492380684,49.946803116733996]
[4307,39,79.064679720460603,57.779276885918939]
[4308,39,84.369944088558924,57.779276885918939]
[4309,40,79.030004623707228,56.126300039964555]
[4310,40,75.864598894220848,56.126300039964555]
[4311,41,71.076556475128115,49.627989056185115]
[4312,41,68.153945340527784,49.627989056185115]
[4313,41,63.573317444572659,49.627989056185115]
[4314,42,62.538843207606149,45.48451624154589]
[4315,42,60.772934482855391,45.48451624154589]
[4316,42,53.393959256089289,45.48451624154589]
[4317,43,51.326544019785054,42.024862192502759]
[4318,43,49.856361737537036,42.024862192502759]
[4319,44,52.389885313767948,41.697012250062983]
[4320,44,44.685658029591494,41.697012250062983]
[4321,45,34.377513902593407,29.33276457748677]
[4322,45,32.092414880594283,29.33276457748677]
[4323,45,29.328026619190616,29.33276457748677]
[4324,45,27.06430543687658,29.33276457748677]
[4325,45,20.039867966295098,29.33276457748677]
[4326,45,27.408990641970814,29.33276457748677]
[4327,46,36.965484015982817,47.966090788282415]
[4328,46,48.911436305965289,47.966090788282415]
[4329,46,58.620566947506113,47.966090788282415]
[4330,47,70.381201901589193,69.215986447771172]
[4331,47,78.208438874865394,69.215986447771172]
[4332,48,86.505718160977409,74.187380103848582]
[4333,48,82.082497478070223,74.187380103848582]
[4334,49,80.571986525346233,65.987713629176]
[4335,49,78.238604022453174,65.987713629176]
[4336,49,71.888085706023418,65.987713629176]
[4337,49,64.488362560160908,65.987713629176]
[4338,50,58.766006002904184,52.635095066642116]
[4339,50,56.4155694822093,52.635095066642116]
[4340,50,52.837213695907998,52.635095066642116]
[4341,51,49.563738773489952,45.698614409430235]
[4342,51,48.077579650233048,45.698614409430235]
[4343,51,50.831588118028016,45.698614409430235]
[4344,51,43.079470994454454,45.698614409430235]
[4345,45,35.685036902799808,29.33276457748677]
[4346,45,34.446918417870442,29.33276457748677]
[4347,45,31.018120765354698,29.33276457748677]
[4348,45,29.585834696500108,29.33276457748677]
[4349,45,24.742932615216816,29.33276457748677]
[4350,45,32.259999734321241,29.33276457748677]
[4351,46,37.912843758364602,47.966090788282415]
[4352,46,50.643805320830516,47.966090788282415]
[4353,46,63.350761587355983,47.966090788282415]
[4354,47,69.578830594561481,{"$f":"VLOOKUP(B4356,$F$3:$G$122,2,FALSE)","v":69.215986447771172}]
[4355,47,77.509689690752737,69.215986447771172]
[4356,48,80.22856060407662,74.187380103848582]
[4357,48,76.772723231369298,74.187380103848582]
[4358,49,76.180176456616337,65.987713629176]
[4359,49,73.837258220830662,65.987713629176]
[4360,49,70.521762675550917,65.987713629176]
[4361,49,68.576038986147495,65.987713629176]
[4362,50,64.094381061500968,52.635095066642116]
[4363,50,61.700030603812046,52.635095066642116]
[4364,50,56.691137147023845,52.635095066642116]
[4365,51,51.319356369867158,45.698614409430235]
[4366,51,48.929998767793357,45.698614409430235]
[4367,51,51.246946142301248,45.698614409430235]
[4368,51,43.60672569751447,45.698614409430235]
[4369,52,35.070190398017438,28.60563217311234]
[4370,52,33.461037546490445,28.60563217311234]
[4371,52,31.337047736815759,28.60563217311234]
[4372,52,29.816249801099712,28.60563217311234]
[4373,53,28.940109002298989,22.30099907813953]
[4374,53,33.239099620015857,22.30099907813953]
[4375,54,37.507344394735249,31.47294475227363]
[4376,54,49.198124684409244,31.47294475227363]
[4377,55,61.119875624317721,50.501475671387389]
[4378,55,68.815674547912579,50.501475671387389]
[4379,56,76.03436920909401,61.513654530870475]
[4380,56,82.657120961762246,61.513654530870475]
[4381,57,76.051924878944888,59.370333256427784]
[4382,57,71.537766362086458,59.370333256427784]
[4383,58,66.762266677363314,52.696967168258567]
[4384,58,64.299038581611242,52.696967168258567]
[4385,58,60.655821455077216,52.696967168258567]
[4386,59,56.958077434411642,47.920176210417743]
[4387,59,54.603536871378246,47.920176210417743]
[4388,59,50.703361654866917,47.920176210417743]
[4389,60,46.752578031665834,43.819359460168663]
[4390,60,45.146495330359237,43.819359460168663]
[4391,61,47.479162540867776,42.400900975554315]
[4392,61,42.642507375766186,42.400900975554315]
[4393,52,32.407647693457847,28.60563217311234]
[4394,52,30.985032029690501,28.60563217311234]
[4395,52,29.48878131866519,28.60563217311234]
[4396,52,25.328694158946846,28.60563217311234]
[4397,53,23.105815982380498,22.30099907813953]
[4398,53,21.900175980395765,22.30099907813953]
[4399,54,22.833134817041824,31.47294475227363]
[4400,54,28.459093766347678,31.47294475227363]
[4401,55,34.973979818718611,50.501475671387389]
[4402,55,39.743998146469046,50.501475671387389]
[4403,56,44.674512899975063,61.513654530870475]
[4404,56,47.938664455560094,61.513654530870475]
[4405,57,46.096042743536806,59.370333256427784]
[4406,57,41.761127884663004,59.370333256427784]
[4407,58,39.338123224637194,52.696967168258567]
[4408,58,37.997266247559807,52.696967168258567]
[4409,58,36.255614820790875,52.696967168258567]
[4410,59,36.033348691282541,47.920176210417743]
[4411,59,36.972058635554845,47.920176210417743]
[4412,59,36.195538928453573,47.920176210417743]
[4413,60,35.434379843128902,43.819359460168663]
[4414,60,34.20805146638709,43.819359460168663]
[4415,61,38.295041065609098,42.400900975554315]
[4416,61,34.400560604254736,42.400900975554315]
[4417,52,26.724276900157175,28.60563217311234]
[4418,52,26.947648630775657,{"$f":"VLOOKUP(B4420,$F$3:$G$122,2,FALSE)","v":28.60563217311234}]
[4419,52,23.707940485975456,28.60563217311234]
[4420,52,21.317591396742863,28.60563217311234]
[4421,53,17.594843623355484,22.30099907813953]
[4422,53,15.65432234554245,22.30099907813953]
[4423,54,13.67708257975888,31.47294475227363]
[4424,54,17.159057156491929,31.47294475227363]
[4425,55,23.821269243013891,50.501475671387389]
[4426,55,28.818216202823958,50.501475671387389]
[4427,56,33.037400564149017,61.513654530870475]
[4428,56,34.581807968755115,61.513654530870475]
[4429,57,36.202220912140554,59.370333256427784]
[4430,57,34.680185910083864,59.370333256427784]
[4431,58,31.512738833796604,52.696967168258567]
[4432,58,29.250567028998692,52.696967168258567]
[4433,58,27.549400957873168,52.696967168258567]
[4434,59,29.487208012632788,47.920176210417743]
[4435,59,33.411676984986627,47.920176210417743]
[4436,59,35.599565142524234,47.920176210417743]
[4437,60,32.737789934068118,43.819359460168663]
[4438,60,33.066191699004179,43.819359460168663]
[4439,61,37.380575094035699,42.400900975554315]
[4440,61,34.936343768247369,42.400900975554315]
[4441,52,31.872518107154811,28.60563217311234]
[4442,52,29.498796459200758,28.60563217311234]
[4443,52,28.074969829911591,28.60563217311234]
[4444,52,25.303148580465567,28.60563217311234]
[4445,53,24.346381717644846,22.30099907813953]
[4446,53,30.099749634720631,22.30099907813953]
[4447,54,36.791856561889809,31.47294475227363]
[4448,54,48.910463400501932,31.47294475227363]
[4449,55,62.296482973216492,50.501475671387389]
[4450,55,71.362173421299588,50.501475671387389]
[4451,56,75.43111529724753,61.513654530870475]
[4452,56,79.881223308274386,61.513654530870475]
[4453,57,75.551751813679104,59.370333256427784]
[4454,57,77.624152204511972,59.370333256427784]
[4455,58,75.86898047275767,52.696967168258567]
[4456,58,71.490040724017604,52.696967168258567]
[4457,58,71.571912264558733,52.696967168258567]
[4458,59,66.734263799921749,47.920176210417743]
[4459,59,63.667770633759282,47.920176210417743]
[4460,59,58.131118374860449,47.920176210417743]
[4461,60,47.645295169784106,43.819359460168663]
[4462,60,45.894154307569188,43.819359460168663]
[4463,61,47.724397495430814,42.400900975554315]
[4464,61,40.955062445459625,42.400900975554315]
[4465,52,35.866958646708284,28.60563217311234]
[4466,52,34.415521397498168,28.60563217311234]
[4467,52,30.677630395370738,28.60563217311234]
[4468,52,29.076560421866645,28.60563217311234]
[4469,53,29.525786490537595,22.30099907813953]
[4470,53,32.596654368338093,22.30099907813953]
[4471,54,38.028530639308201,31.47294475227363]
[4472,54,50.365405118458654,31.47294475227363]
[4473,55,64.739924391881118,50.501475671387389]
[4474,55,72.797808206869362,50.501475671387389]
[4475,56,80.300864680674323,61.513654530870475]
[4476,56,87.67873528720007,61.513654530870475]
[4477,57,79.098825833582595,59.370333256427784]
[4478,57,79.539412616725372,59.370333256427784]
[4479,58,76.755832482436034,52.696967168258567]
[4480,58,71.999912622687404,52.696967168258567]
[4481,58,68.824257677620281,52.696967168258567]
[4482,59,64.092898494102869,{"$f":"VLOOKUP(B4484,$F$3:$G$122,2,FALSE)","v":47.920176210417743}]
[4483,59,61.374270854776398,47.920176210417743]
[4484,59,57.175293894512308,47.920176210417743]
[4485,60,49.846435327170134,43.819359460168663]
[4486,60,47.034110538091049,43.819359460168663]
[4487,61,50.402052323044458,42.400900975554315]
[4488,61,43.25607725694185,42.400900975554315]
[4489,62,33.872149282746065,26.7262461144092]
[4490,62,33.377704895911691,26.7262461144092]
[4491,62,31.027993695301671,26.7262461144092]
[4492,62,28.17946865723804,26.7262461144092]
[4493,62,28.591784995482588,26.7262461144092]
[4494,62,31.896441740002633,26.7262461144092]
[4495,63,34.996644529379452,44.446516874427935]
[4496,63,47.165737802499585,44.446516874427935]
[4497,63,64.116118294561289,44.446516874427935]
[4498,64,71.308422142339026,69.097192262774172]
[4499,64,78.444920630617062,69.097192262774172]
[4500,65,88.774878608918996,75.149858085294909]
[4501,65,81.402106242053421,75.149858085294909]
[4502,66,78.187111612046976,66.269019767651812]
[4503,66,75.317096476995133,66.269019767651812]
[4504,66,71.560326566052566,66.269019767651812]
[4505,66,68.149493573510625,66.269019767651812]
[4506,67,63.318039059581082,56.121650634622469]
[4507,67,60.035875027468954,56.121650634622469]
[4508,67,54.897671264383554,56.121650634622469]
[4509,68,49.161187816311042,47.492450685848297]
[4510,68,46.317061028145702,47.492450685848297]
[4511,68,49.436546280208816,47.492450685848297]
[4512,68,42.218860915673382,47.492450685848297]
[4513,62,35.615026819212389,26.7262461144092]
[4514,62,34.379337385396447,26.7262461144092]
[4515,62,30.95726665349201,26.7262461144092]
[4516,62,29.527790571009994,26.7262461144092]
[4517,62,24.694389726349765,26.7262461144092]
[4518,62,32.196709193692634,26.7262461144092]
[4519,63,37.838462964874331,44.446516874427935]
[4520,63,50.544447793098264,44.446516874427935]
[4521,63,63.226474421109302,44.446516874427935]
[4522,64,69.442324647850299,69.097192262774172]
[4523,64,77.357624278326085,69.097192262774172]
[4524,65,80.071161068543333,75.149858085294909]
[4525,65,76.622103665378589,75.149858085294909]
[4526,66,76.030719401661941,66.269019767651812]
[4527,66,73.692397711536898,66.269019767651812]
[4528,66,70.38340680070354,66.269019767651812]
[4529,66,68.441500405324632,66.269019767651812]
[4530,67,63.96863499634145,56.121650634622469]
[4531,67,61.578981988626779,56.121650634622469]
[4532,67,56.579915425125691,56.121650634622469]
[4533,68,51.218673485920775,47.492450685848297]
[4534,68,48.834003538392416,47.492450685848297]
[4535,68,51.146405319188339,47.492450685848297]
[4536,68,43.521174139325744,47.492450685848297]
[4537,52,34.974569431834574,28.60563217311234]
[4538,52,33.369804031549009,28.60563217311234]
[4539,52,31.251605406794013,28.60563217311234]
[4540,52,29.734954017370747,28.60563217311234]
[4541,53,28.861202068722896,22.30099907813953]
[4542,53,33.148471232070349,22.30099907813953]
[4543,54,37.405078382795359,31.47294475227363]
[4544,54,49.063983062612557,31.47294475227363]
[4545,55,60.953228637408166,50.501475671387389]
[4546,55,68.628044506155831,{"$f":"VLOOKUP(B4548,$F$3:$G$122,2,FALSE)","v":50.501475671387389}]
[4547,56,75.82705696572252,61.513654530870475]
[4548,56,82.431751390666207,61.513654530870475]
[4549,57,75.844564768992299,59.370333256427784]
[4550,57,71.342714374615838,59.370333256427784]
[4551,58,66.58023537465877,52.696967168258567]
[4552,58,64.123723417250162,52.696967168258567]
[4553,58,60.490439739542595,52.696967168258567]
[4554,59,56.802777838533054,47.920176210417743]
[4555,59,54.454657070801574,47.920176210417743]
[4556,59,50.565115914677506,47.920176210417743]
[4557,60,46.625104338703494,43.819359460168663]
[4558,60,45.023400717690606,43.819359460168663]
[4559,61,47.349707771897727,42.400900975554315]
[4560,61,42.526240035627623,42.400900975554315]
[4561,52,32.294495126179378,28.60563217311234]
[4562,52,30.876846580548108,28.60563217311234]
[4563,52,29.385820087301457,28.60563217311234]
[4564,52,25.240258034331891,28.60563217311234]
[4565,53,23.025141123711318,22.30099907813953]
[4566,53,21.823710660867732,22.30099907813953]
[4567,54,22.753412035308259,31.47294475227363]
[4568,54,28.359727729277019,31.47294475227363]
[4569,55,34.851866802622339,50.501475671387389]
[4570,55,39.60523042513605,50.501475671387389]
[4571,56,44.518530093868229,61.513654530870475]
[4572,56,47.771284736848116,61.513654530870475]
[4573,57,45.93509661047753,59.370333256427784]
[4574,57,41.615317276090259,59.370333256427784]
[4575,58,39.200772631441154,52.696967168258567]
[4576,58,37.864597308853,52.696967168258567]
[4577,58,36.12902692604343,52.696967168258567]
[4578,59,35.90753684740465,47.920176210417743]
[4579,59,36.842969249254594,47.920176210417743]
[4580,59,36.06916079102988,47.920176210417743]
[4581,60,35.31065932237108,43.819359460168663]
[4582,60,34.088612719038657,43.819359460168663]
[4583,61,38.161332434498455,42.400900975554315]
[4584,61,34.280449703734924,42.400900975554315]
[4585,52,26.610509566797507,28.60563217311234]
[4586,52,26.832930386518182,28.60563217311234]
[4587,52,23.607013932242463,28.60563217311234]
[4588,52,21.226840745717979,28.60563217311234]
[4589,53,17.519941000269068,22.30099907813953]
[4590,53,15.587680673048983,22.30099907813953]
[4591,54,13.618858171328579,31.47294475227363]
[4592,54,17.086009710420573,31.47294475227363]
[4593,55,23.719860239913626,50.501475671387389]
[4594,55,28.695534806360865,50.501475671387389]
[4595,56,32.896757770431499,61.513654530870475]
[4596,56,34.434590512130939,61.513654530870475]
[4597,57,36.048105231096713,59.370333256427784]
[4598,57,34.532549650882231,59.370333256427784]
[4599,58,31.378586644108744,52.696967168258567]
[4600,58,29.126045081311201,52.696967168258567]
[4601,58,27.432121006975226,52.696967168258567]
[4602,59,29.361678665801353,47.920176210417743]
[4603,59,33.269440867322608,47.920176210417743]
[4604,59,35.448015014146208,47.920176210417743]
[4605,60,32.598422606196053,43.819359460168663]
[4606,60,32.925426339177612,43.819359460168663]
[4607,61,37.221443067235214,42.400900975554315]
[4608,61,34.787617025043069,42.400900975554315]
[4609,52,32.389646875736361,28.60563217311234]
[4610,52,29.977411805383902,{"$f":"VLOOKUP(B4612,$F$3:$G$122,2,FALSE)","v":28.60563217311234}]
[4611,52,28.530483715802124,28.60563217311234]
[4612,52,25.713689913367499,28.60563217311234]
[4613,53,24.741399593381363,22.30099907813953]
[4614,53,30.588115392671895,22.30099907813953]
[4615,54,37.38880115891579,31.47294475227363]
[4616,54,49.704031314528052,31.47294475227363]
[4617,55,63.307237863011956,50.501475671387389]
[4618,55,72.520018331469259,50.501475671387389]
[4619,56,76.654978427084203,61.513654530870475]
[4620,56,81.177289044383357,61.513654530870475]
[4621,57,76.777572260254246,59.370333256427784]
[4622,57,78.883597162916288,59.370333256427784]
[4623,58,77.099947926082535,52.696967168258567]
[4624,58,72.649960269789474,52.696967168258567]
[4625,58,72.733160168786583,52.696967168258567]
[4626,59,67.817021288521403,47.920176210417743]
[4627,59,64.700774543757134,47.920176210417743]
[4628,59,59.074290594902635,47.920176210417743]
[4629,60,48.418335841908601,43.819359460168663]
[4630,60,46.638782875113634,43.819359460168663]
[4631,61,48.498721595746197,42.400900975554315]
[4632,61,41.619554687283681,42.400900975554315]
[4633,52,33.46239373688389,28.60563217311234]
[4634,52,32.108262621506874,28.60563217311234]
[4635,52,28.620964417865547,28.60563217311234]
[4636,52,27.127232139602995,28.60563217311234]
[4637,53,27.546341541512639,22.30099907813953]
[4638,53,30.411334669396378,22.30099907813953]
[4639,54,35.479051291249391,31.47294475227363]
[4640,54,46.988846570245926,31.47294475227363]
[4641,55,60.399680436691781,50.501475671387389]
[4642,55,67.917353835184613,50.501475671387389]
[4643,56,74.91739619811797,61.513654530870475]
[4644,56,81.800645307894527,61.513654530870475]
[4645,57,73.795943510015434,59.370333256427784]
[4646,57,74.206992814697529,59.370333256427784]
[4647,58,71.610027307550851,52.696967168258567]
[4648,58,67.172950149837064,52.696967168258567]
[4649,58,64.21019500823067,52.696967168258567]
[4650,59,59.796031948882138,47.920176210417743]
[4651,59,57.259664441751276,47.920176210417743]
[4652,59,53.342192048274271,47.920176210417743]
[4653,60,46.504669150445686,43.819359460168663]
[4654,60,43.880886065430758,43.819359460168663]
[4655,61,47.023036901276932,42.400900975554315]
[4656,61,40.356136770400461,42.400900975554315]
[4657,62,21.872475648467791,26.7262461144092]
[4658,62,21.553194969811091,26.7262461144092]
[4659,62,20.035901201787517,26.7262461144092]
[4660,62,18.196505242321955,26.7262461144092]
[4661,62,18.462752860459165,26.7262461144092]
[4662,62,20.596689610905599,26.7262461144092]
[4663,63,22.598603025077324,44.446516874427935]
[4664,63,30.456628037261453,44.446516874427935]
[4665,63,41.402103668290742,44.446516874427935]
[4666,64,46.046435194280825,69.097192262774172]
[4667,64,50.654731175064654,69.097192262774172]
[4668,65,57.32515980491236,75.149858085294909]
[4669,65,52.564293208882454,75.149858085294909]
[4670,66,50.488254538652861,66.269019767651812]
[4671,66,48.634981643917129,66.269019767651812]
[4672,66,46.209099019579384,66.269019767651812]
[4673,66,44.006600413789236,66.269019767651812]
[4674,67,40.886754952537885,{"$f":"VLOOKUP(B4676,$F$3:$G$122,2,FALSE)","v":56.121650634622469}]
[4675,67,38.767342562512262,56.121650634622469]
[4676,67,35.449417982444395,56.121650634622469]
[4677,68,31.745162504634568,47.492450685848297]
[4678,68,29.908606654693585,47.492450685848297]
[4679,68,31.922971454575386,47.492450685848297]
[4680,68,27.262250162392149,47.492450685848297]
[4681,62,35.064450311050471,26.7262461144092]
[4682,62,33.847863532332795,26.7262461144092]
[4683,62,30.47869495781881,26.7262461144092]
[4684,62,29.071317298959748,26.7262461144092]
[4685,62,24.312636514826458,26.7262461144092]
[4686,62,31.698976823248223,26.7262461144092]
[4687,63,37.253514119569061,44.446516874427935]
[4688,63,49.763075769593726,44.446516874427935]
[4689,63,62.249049591784605,44.446516874427935]
[4690,64,68.368808325166114,69.097192262774172]
[4691,64,76.161744492216059,69.097192262774172]
[4692,65,78.83333242701589,75.149858085294909]
[4693,65,75.437594371078475,75.149858085294909]
[4694,66,74.855352379935482,66.269019767651812]
[4695,66,72.553179054871151,66.269019767651812]
[4696,66,69.295342188381909,66.269019767651812]
[4697,66,67.383455931630778,66.269019767651812]
[4698,67,62.979737027319821,56.121650634622469]
[4699,67,60.627025920993709,56.121650634622469]
[4700,67,55.705240462082898,56.121650634622469]
[4701,68,50.426878535331227,47.492450685848297]
[4702,68,48.079073455531137,47.492450685848297]
[4703,68,50.355727569916446,47.492450685848297]
[4704,68,42.848375654282613,47.492450685848297]
[4705,52,38.920228743257354,28.60563217311234]
[4706,52,37.134421584712925,28.60563217311234]
[4707,52,34.777258184608897,28.60563217311234]
[4708,52,33.089505627277809,28.60563217311234]
[4709,53,32.117181271076078,22.30099907813953]
[4710,53,36.888119104824376,22.30099907813953]
[4711,54,41.624935788137357,31.47294475227363]
[4712,54,54.599140886464916,31.47294475227363]
[4713,55,67.829672809314459,50.501475671387389]
[4714,55,76.37032374588189,50.501475671387389]
[4715,56,84.381493467298469,61.513654530870475]
[4716,56,91.731297109602835,61.513654530870475]
[4717,57,84.400976415026534,59.370333256427784]
[4718,57,79.391249348663479,59.370333256427784]
[4719,58,74.091490836280684,52.696967168258567]
[4720,58,71.357847253355956,52.696967168258567]
[4721,58,67.314674338786517,52.696967168258567]
[4722,59,63.210988516583171,47.920176210417743]
[4723,59,60.597964285505199,47.920176210417743]
[4724,59,56.269624181198679,47.920176210417743]
[4725,60,51.885119831921074,43.819359460168663]
[4726,60,50.102719867563451,43.819359460168663]
[4727,61,52.691469468991919,42.400900975554315]
[4728,61,47.323841770322446,42.400900975554315]
[4729,52,37.236661553537289,28.60563217311234]
[4730,52,35.602064112416649,28.60563217311234]
[4731,52,33.882859378623628,28.60563217311234]
[4732,52,29.102884014014876,28.60563217311234]
[4733,53,26.548778170897652,22.30099907813953]
[4734,53,25.163487602018307,22.30099907813953]
[4735,54,26.235465203483784,31.47294475227363]
[4736,54,32.699739663974377,31.47294475227363]
[4737,55,40.185398891286006,50.501475671387389]
[4738,55,45.666190331464151,{"$f":"VLOOKUP(B4740,$F$3:$G$122,2,FALSE)","v":50.501475671387389}]
[4739,56,51.331393523551696,61.513654530870475]
[4740,56,55.081931294280068,61.513654530870475]
[4741,57,52.964743348063855,59.370333256427784]
[4742,57,47.983889477084844,59.370333256427784]
[4743,58,45.199836610259872,52.696967168258567]
[4744,58,43.659180592291349,52.696967168258567]
[4745,58,41.658008358617572,52.696967168258567]
[4746,59,41.402622694171846,47.920176210417743]
[4747,59,42.48120836698709,47.920176210417743]
[4748,59,41.588980649736911,47.920176210417743]
[4749,60,40.714402416946619,43.819359460168663]
[4750,60,39.305340730329597,43.819359460168663]
[4751,61,44.001326379105301,42.400900975554315]
[4752,61,39.526535359466102,42.400900975554315]
[4753,52,32.856983025819453,28.60563217311234]
[4754,52,33.13161426051289,28.60563217311234]
[4755,52,29.148455579737387,28.60563217311234]
[4756,52,26.209567476454918,28.60563217311234]
[4757,53,21.6325208885685,22.30099907813953]
[4758,53,19.246687403735489,22.30099907813953]
[4759,54,16.81570924612091,31.47294475227363]
[4760,54,21.096729832439554,31.47294475227363]
[4761,55,29.287791100779202,50.501475671387389]
[4762,55,35.431441013283809,50.501475671387389]
[4763,56,40.618846811419537,61.513654530870475]
[4764,56,42.517665928871288,61.513654530870475]
[4765,57,44.509932390356738,59.370333256427784]
[4766,57,42.638619710349829,59.370333256427784]
[4767,58,38.744304619633951,52.696967168258567]
[4768,58,35.963008015447997,52.696967168258567]
[4769,58,33.871457140866895,52.696967168258567]
[4770,59,36.253953540804119,47.920176210417743]
[4771,59,41.079012452284971,47.920176210417743]
[4772,59,43.76897874485028,47.920176210417743]
[4773,60,40.250481320233312,43.819359460168663]
[4774,60,40.654244956438184,43.819359460168663]
[4775,61,45.958696130441488,42.400900975554315]
[4776,61,42.953560856523893,42.400900975554315]
[4777,52,31.381587292606444,28.60563217311234]
[4778,52,29.044427961386297,28.60563217311234]
[4779,52,27.642532463002528,28.60563217311234]
[4780,52,24.913405438694227,28.60563217311234]
[4781,53,23.971375608376498,22.30099907813953]
[4782,53,29.636124684969378,22.30099907813953]
[4783,54,36.225153421273475,31.47294475227363]
[4784,54,48.157097960205682,31.47294475227363]
[4785,55,61.336933337799564,50.501475671387389]
[4786,55,70.262985405847601,50.501475671387389]
[4787,56,74.269253572024851,61.513654530870475]
[4788,56,78.650816790219949,61.513654530870475]
[4789,57,74.3880319301811,59.370333256427784]
[4790,57,76.428511240648703,59.370333256427784]
[4791,58,74.700374331968163,52.696967168258567]
[4792,58,70.388883174848004,52.696967168258567]
[4793,58,70.469493652113513,52.696967168258567]
[4794,59,65.706359246681345,47.920176210417743]
[4795,59,62.687099122565002,47.920176210417743]
[4796,59,57.235727643621928,47.920176210417743]
[4797,60,46.911417052954391,43.819359460168663]
[4798,60,45.187248926529783,43.819359460168663]
[4799,61,46.989300969405065,42.400900975554315]
[4800,61,40.324233651241592,42.400900975554315]
[4801,52,35.259377223312988,28.60563217311234]
[4802,52,33.832527124592289,{"$f":"VLOOKUP(B4804,$F$3:$G$122,2,FALSE)","v":28.60563217311234}]
[4803,52,30.157955489962365,28.60563217311234]
[4804,52,28.58400742503823,28.60563217311234]
[4805,53,29.02562366492727,22.30099907813953]
[4806,53,32.044471456647116,22.30099907813953]
[4807,54,37.384332479016656,31.47294475227363]
[4808,54,49.512221974797761,31.47294475227363]
[4809,55,63.643238837915618,50.501475671387389]
[4810,55,71.564623192046639,50.501475671387389]
[4811,56,78.94057890503511,61.513654530870475]
[4812,56,86.193469382387008,61.513654530870475]
[4813,57,77.758902433267323,59.370333256427784]
[4814,57,78.192025735955355,59.370333256427784]
[4815,58,75.455599072267901,52.696967168258567]
[4816,58,70.780243851032466,52.696967168258567]
[4817,58,67.658384070778212,52.696967168258567]
[4818,59,63.007173471243952,47.920176210417743]
[4819,59,60.334599016048706,47.920176210417743]
[4820,59,56.206752156985864,47.920176210417743]
[4821,60,49.002043461509594,43.819359460168663]
[4822,60,46.237359073592749,43.819359460168663]
[4823,61,49.548248380699597,42.400900975554315]
[4824,61,42.523325164712766,42.400900975554315]
[4825,62,33.246191988816726,26.7262461144092]
[4826,62,32.760884933888804,26.7262461144092]
[4827,62,30.454596394544584,26.7262461144092]
[4828,62,27.65871209709745,26.7262461144092]
[4829,62,28.063408829713318,26.7262461144092]
[4830,62,31.306995520015725,26.7262461144092]
[4831,63,34.349906564116175,44.446516874427935]
[4832,63,46.294115002464508,44.446516874427935]
[4833,63,62.931252475451295,44.446516874427935]
[4834,64,69.99064255339141,69.097192262774172]
[4835,64,76.995258554834507,69.097192262774172]
[4836,65,87.134318917265475,75.149858085294909]
[4837,65,79.897795378338017,75.149858085294909]
[4838,66,76.742213846738693,66.269019767651812]
[4839,66,73.925236589279933,66.269019767651812]
[4840,66,70.237891783539268,66.269019767651812]
[4841,66,66.890090982200633,66.269019767651812]
[4842,67,62.147921744148832,56.121650634622469]
[4843,67,58.926412100945512,56.121650634622469]
[4844,67,53.883162339637515,56.121650634622469]
[4845,68,48.252689101482652,47.492450685848297]
[4846,68,45.461121774278908,47.492450685848297]
[4847,68,48.522958941169342,47.492450685848297]
[4848,68,41.438656396882614,47.492450685848297]
[4849,62,34.901876330973082,26.7262461144092]
[4850,62,33.690930175535428,26.7262461144092]
[4851,62,30.337382525914077,26.7262461144092]
[4852,62,28.936530079497903,26.7262461144092]
[4853,62,24.199912600738902,26.7262461144092]
[4854,62,31.552006636040915,26.7262461144092]
[4855,63,37.080790691465609,44.446516874427935]
[4856,63,49.532352595068275,44.446516874427935]
[4857,63,61.960436034224237,44.446516874427935]
[4858,64,68.051820915297398,69.097192262774172]
[4859,64,75.808625654706873,69.097192262774172]
[4860,65,78.467826950622182,75.149858085294909]
[4861,65,75.087833007202079,75.149858085294909]
[4862,66,74.508290542132585,66.269019767651812]
[4863,66,72.216791089807273,66.269019767651812]
[4864,66,68.974058966188082,66.269019767651812]
[4865,66,67.071037042271428,66.269019767651812]
[4866,67,62.687735686305444,{"$f":"VLOOKUP(B4868,$F$3:$G$122,2,FALSE)","v":56.121650634622469}]
[4867,67,60.345932767763102,56.121650634622469]
[4868,67,55.446966838148903,56.121650634622469]
[4869,68,50.193077683652561,47.492450685848297]
[4870,68,47.856158045172187,47.492450685848297]
[4871,68,50.122256604933028,47.492450685848297]
[4872,68,42.649712024647087,47.492450685848297]
[4873,52,34.22009886079951,28.60563217311234]
[4874,52,32.649951421152181,28.60563217311234]
[4875,52,30.57744652621134,28.60563217311234]
[4876,52,29.093512304102163,28.60563217311234]
[4877,53,28.238608911486544,22.30099907813953]
[4878,53,32.433393207503286,22.30099907813953]
[4879,54,36.598176931096809,31.47294475227363]
[4880,54,48.00557599942767,31.47294475227363]
[4881,55,59.638347054487582,50.501475671387389]
[4882,55,67.147601979808385,50.501475671387389]
[4883,56,74.191317515653282,61.513654530870475]
[4884,56,80.65353563123135,61.513654530870475]
[4885,57,74.208447641011787,59.370333256427784]
[4886,57,69.8037110551235,59.370333256427784]
[4887,58,65.143968137668992,52.696967168258567]
[4888,58,62.740447997153879,52.696967168258567]
[4889,58,59.185541427601855,52.696967168258567]
[4890,59,55.577429680473742,47.920176210417743]
[4891,59,53.279962517497637,47.920176210417743]
[4892,59,49.474326449693372,47.920176210417743]
[4893,60,45.619308708722926,43.819359460168663]
[4894,60,44.052156999719408,43.819359460168663]
[4895,61,46.328281014074918,42.400900975554315]
[4896,61,41.608865007861013,42.400900975554315]
[4897,52,31.547689751373447,28.60563217311234]
[4898,52,30.162824116554894,28.60563217311234]
[4899,52,28.706277388196469,28.60563217311234]
[4900,52,24.656580838330541,28.60563217311234]
[4901,53,22.492688175316612,22.30099907813953]
[4902,53,21.319040612425528,22.30099907813953]
[4903,54,22.227242781484957,31.47294475227363]
[4904,54,27.703913262647131,31.47294475227363]
[4905,55,34.045922589884995,50.501475671387389]
[4906,55,38.689365388808469,50.501475671387389]
[4907,56,43.489045736777001,61.513654530870475]
[4908,56,46.666580914618606,61.513654530870475]
[4909,57,44.872854364333065,59.370333256427784]
[4910,57,40.652969281653135,59.370333256427784]
[4911,58,38.294260621164405,52.696967168258567]
[4912,58,36.988984153278679,52.696967168258567]
[4913,58,35.293548576267185,52.696967168258567]
[4914,59,35.077180422605004,47.920176210417743]
[4915,59,35.990981089921256,47.920176210417743]
[4916,59,35.235066836681476,47.920176210417743]
[4917,60,34.49410560116084,43.819359460168663]
[4918,60,33.300318642949549,43.819359460168663]
[4919,61,37.278857323477546,42.400900975554315]
[4920,61,33.487719426036278,42.400900975554315]
[4921,52,25.953682039797418,28.60563217311234]
[4922,52,26.170612843755567,28.60563217311234]
[4923,52,23.024321724036188,28.60563217311234]
[4924,52,20.702898380840047,28.60563217311234]
[4925,53,17.087496086295964,22.30099907813953]
[4926,53,15.202929763922443,22.30099907813953]
[4927,54,13.28270373164059,31.47294475227363]
[4928,54,16.664275527682573,31.47294475227363]
[4929,55,23.134382644940793,50.501475671387389]
[4930,55,27.987242576349455,{"$f":"VLOOKUP(B4932,$F$3:$G$122,2,FALSE)","v":50.501475671387389}]
[4931,56,32.084766703577458,61.513654530870475]
[4932,56,33.584641101257418,61.513654530870475]
[4933,57,35.15832941705056,59.370333256427784]
[4934,57,33.680182313411265,59.370333256427784]
[4935,58,30.604068613385881,52.696967168258567]
[4936,58,28.407126561016472,52.696967168258567]
[4937,58,26.755013634936759,52.696967168258567]
[4938,59,28.636943998912731,47.920176210417743]
[4939,59,32.448250859115298,47.920176210417743]
[4940,59,34.57305123412695,47.920176210417743]
[4941,60,31.793795349781274,43.819359460168663]
[4942,60,32.112727645697149,43.819359460168663]
[4943,61,36.302705741297984,42.400900975554315]
[4944,61,33.928953856514539,42.400900975554315]
[4945,52,30.880053570879436,28.60563217311234]
[4946,52,28.580246213182058,28.60563217311234]
[4947,52,27.200755504594959,28.60563217311234]
[4948,52,24.515244796466099,28.60563217311234]
[4949,53,23.58827028257873,22.30099907813953]
[4950,53,29.162486568062523,22.30099907813953]
[4951,54,35.646210876203945,31.47294475227363]
[4952,54,47.38746166544616,31.47294475227363]
[4953,55,60.356659772622841,50.501475671387389]
[4954,55,69.140057612499575,50.501475671387389]
[4955,56,73.082298469768432,61.513654530870475]
[4956,56,77.39383649493189,61.513654530870475]
[4957,57,73.199178537966588,59.370333256427784]
[4958,57,75.20704735065587,59.370333256427784]
[4959,58,73.506529151232542,52.696967168258567]
[4960,58,69.263943310661901,52.696967168258567]
[4961,58,69.343265488763436,52.696967168258567]
[4962,59,64.656254464317968,47.920176210417743]
[4963,59,61.685247500654938,47.920176210417743]
[4964,59,56.320998658335007,47.920176210417743]
[4965,60,46.161688960277601,43.819359460168663]
[4966,60,44.46507611489298,43.819359460168663]
[4967,61,46.238328152867879,42.400900975554315]
[4968,61,39.679780494990268,42.400900975554315]
[4969,52,34.667313955153517,28.60563217311234]
[4970,52,33.264423029825814,28.60563217311234]
[4971,52,29.651553531263303,28.60563217311234]
[4972,52,28.104034657907988,28.60563217311234]
[4973,53,28.538235430626262,22.30099907813953]
[4974,53,31.506391774271982,22.30099907813953]
[4975,54,36.75658769710224,31.47294475227363]
[4976,54,48.680829866804046,31.47294475227363]
[4977,55,62.574563581855905,50.501475671387389]
[4978,55,70.362934789459956,50.501475671387389]
[4979,56,77.615036005031399,61.513654530870475]
[4980,56,84.746138453841922,61.513654530870475]
[4981,57,76.453201835904153,59.370333256427784]
[4982,57,76.879052281885663,59.370333256427784]
[4983,58,74.188574748363521,52.696967168258567]
[4984,58,69.591726475068768,52.696967168258567]
[4985,58,66.522287884574226,52.696967168258567]
[4986,59,61.949178804843264,47.920176210417743]
[4987,59,59.321481295611093,47.920176210417743]
[4988,59,55.262947813422713,47.920176210417743]
[4989,60,48.179218094669842,43.819359460168663]
[4990,60,45.460957330850853,43.819359460168663]
[4991,61,48.716251329757426,42.400900975554315]
[4992,61,41.809288194899779,42.400900975554315]
[4993,62,32.660837640883344,26.7262461144092]
[4994,62,32.184075221526932,{"$f":"VLOOKUP(B4996,$F$3:$G$122,2,FALSE)","v":26.7262461144092}]
[4995,62,29.918392716839197,26.7262461144092]
[4996,62,27.171734599352156,26.7262461144092]
[4997,62,27.569305974811002,26.7262461144092]
[4998,62,30.755783942023982,26.7262461144092]
[4999,63,33.74511949060188,44.446516874427935]
[5000,63,45.479030330224873,44.446516874427935]
[5001,63,61.823243405727162,44.446516874427935]
[5002,64,68.758341213524872,69.097192262774172]
[5003,64,75.639629333283722,69.097192262774172]
[5004,65,85.600174722658409,75.149858085294909]
[5005,65,78.49106218222542,75.149858085294909]
[5006,66,75.391039896942218,66.269019767651812]
[5007,66,72.623660195986702,66.269019767651812]
[5008,66,69.001237210919385,66.269019767651812]
[5009,66,65.712379994931425,66.269019767651812]
[5010,67,61.053704511083517,56.121650634622469]
[5011,67,57.888914887941233,56.121650634622469]
[5012,67,52.934459902783487,56.121650634622469]
[5013,68,47.403120483984097,47.492450685848297]
[5014,68,44.660703329319723,47.492450685848297]
[5015,68,47.668631774907389,47.492450685848297]
[5016,68,40.709060126049792,47.492450685848297]
[5017,62,34.258735926321208,26.7262461144092]
[5018,62,33.070103998148426,26.7262461144092]
[5019,62,29.77835251019884,26.7262461144092]
[5020,62,28.403313713475939,26.7262461144092]
[5021,62,23.753978363995092,26.7262461144092]
[5022,62,30.970594619017806,26.7262461144092]
[5023,63,36.397499211547178,44.446516874427935]
[5024,63,48.619614924770552,44.446516874427935]
[5025,63,60.818684813585868,44.446516874427935]
[5026,64,66.797823129455679,69.097192262774172]
[5027,64,74.41169244351434,69.097192262774172]
[5028,65,77.021892368234361,75.149858085294909]
[5029,65,73.704181915016278,75.149858085294909]
[5030,66,73.135318737557654,66.269019767651812]
[5031,66,70.886044977371441,66.269019767651812]
[5032,66,67.703067006519987,66.269019767651812]
[5033,66,65.835112260041114,66.269019767651812]
[5034,67,61.532582441428985,56.121650634622469]
[5035,67,59.23393216208472,56.121650634622469]
[5036,67,54.425239973070298,56.121650634622469]
[5037,68,49.268164765330745,47.492450685848297]
[5038,68,46.974307781352913,47.492450685848297]
[5039,68,49.198648713790661,47.492450685848297]
[5040,68,41.863801468157163,47.492450685848297]
[5041,52,33.561249255947317,28.60563217311234]
[5042,52,32.021332325696811,28.60563217311234]
[5043,52,29.988729975650429,28.60563217311234]
[5044,52,28.533366374562547,28.60563217311234]
[5045,53,27.694922687826299,22.30099907813953]
[5046,53,31.808943570881755,22.30099907813953]
[5047,54,35.893541491338162,31.47294475227363]
[5048,54,47.081310558039469,31.47294475227363]
[5049,55,58.490112458476581,50.501475671387389]
[5050,55,65.854789495217702,50.501475671387389]
[5051,56,72.762890308955576,61.513654530870475]
[5052,56,79.100689442892573,61.513654530870475]
[5053,57,72.779690622983921,59.370333256427784]
[5054,57,68.45975972310184,59.370333256427784]
[5055,58,63.889732203383801,52.696967168258567]
[5056,58,61.532487741418713,52.696967168258567]
[5057,58,58.046024831195766,52.696967168258567]
[5058,59,54.507381118293033,{"$f":"VLOOKUP(B5060,$F$3:$G$122,2,FALSE)","v":47.920176210417743}]
[5059,59,52.254147764770394,47.920176210417743]
[5060,59,48.521782724898678,47.920176210417743]
[5061,60,44.740986771704712,43.819359460168663]
[5062,60,43.204007894416861,43.819359460168663]
[5063,61,45.436309025222187,42.400900975554315]
[5064,61,40.807757320232994,42.400900975554315]
[5065,52,30.914036943845982,28.60563217311234]
[5066,52,29.556987101704067,28.60563217311234]
[5067,52,28.129695920455212,28.60563217311234]
[5068,52,24.161339766944142,28.60563217311234]
[5069,53,22.040910085591083,22.30099907813953]
[5070,53,20.89083588351135,22.30099907813953]
[5071,54,21.78079630939521,31.47294475227363]
[5072,54,27.147464833087898,31.47294475227363]
[5073,55,33.362091393243915,50.501475671387389]
[5074,55,37.912268073813898,50.501475671387389]
[5075,56,42.615544185792622,61.513654530870475]
[5076,56,45.729256811101067,61.513654530870475]
[5077,57,43.971558251247863,59.370333256427784]
[5078,57,39.836431895788742,59.370333256427784]
[5079,58,37.525099204083695,52.696967168258567]
[5080,58,36.246039936411151,52.696967168258567]
[5081,58,34.584658121238377,52.696967168258567]
[5082,59,34.372635841683255,47.920176210417743]
[5083,59,35.268082316888169,47.920176210417743]
[5084,59,34.52735101975675,47.920176210417743]
[5085,60,33.801272400708406,43.819359460168663]
[5086,60,32.631463314208858,43.819359460168663]
[5087,61,36.53009084356728,42.400900975554315]
[5088,61,32.815100048857452,42.400900975554315]
[5089,52,30.922139208119674,28.60563217311234]
[5090,52,26.419671541069619,28.60563217311234]
[5091,52,22.719196205444565,28.60563217311234]
[5092,52,17.547514255073491,28.60563217311234]
[5093,53,13.594170045496359,22.30099907813953]
[5094,53,10.811211781991966,22.30099907813953]
[5095,54,9.9094490274601998,31.47294475227363]
[5096,54,14.137030222165327,31.47294475227363]
[5097,55,24.688024656528459,50.501475671387389]
[5098,55,32.163361846039464,50.501475671387389]
[5099,56,35.465852255866032,61.513654530870475]
[5100,56,36.51412922170416,61.513654530870475]
[5101,57,37.224164754399283,59.370333256427784]
[5102,57,35.708913151809277,59.370333256427784]
[5103,58,34.265050816944118,52.696967168258567]
[5104,58,32.761422677331375,52.696967168258567]
[5105,58,32.15791269775179,52.696967168258567]
[5106,59,31.593342489823318,47.920176210417743]
[5107,59,35.506126752369362,47.920176210417743]
[5108,59,36.656011579112381,47.920176210417743]
[5109,60,35.044539825305421,43.819359460168663]
[5110,60,35.674809711029717,43.819359460168663]
[5111,61,36.140493959673812,42.400900975554315]
[5112,61,34.63812287582283,42.400900975554315]
[5113,52,32.96497891473674,28.60563217311234]
[5114,52,30.083824383284504,28.60563217311234]
[5115,52,27.770363864006427,28.60563217311234]
[5116,52,23.76780487714349,28.60563217311234]
[5117,53,24.122035586320305,22.30099907813953]
[5118,53,28.55581472575648,22.30099907813953]
[5119,54,36.709055976333616,31.47294475227363]
[5120,54,42.324442514849082,31.47294475227363]
[5121,55,56.340551793498996,50.501475671387389]
[5122,55,59.035314504267312,{"$f":"VLOOKUP(B5124,$F$3:$G$122,2,FALSE)","v":50.501475671387389}]
[5123,56,68.049917147830129,61.513654530870475]
[5124,56,74.011004723545582,61.513654530870475]
[5125,57,70.261583573313615,59.370333256427784]
[5126,57,66.178174318883777,59.370333256427784]
[5127,58,63.998052571235512,52.696967168258567]
[5128,58,62.105842324234679,52.696967168258567]
[5129,58,56.838456666288785,52.696967168258567]
[5130,59,54.347886721155525,47.920176210417743]
[5131,59,54.434712316071476,47.920176210417743]
[5132,59,55.557261084005354,47.920176210417743]
[5133,60,54.636460236072132,43.819359460168663]
[5134,60,52.611224120064676,43.819359460168663]
[5135,61,51.242125521897201,42.400900975554315]
[5136,61,46.11696293693192,42.400900975554315]
[5137,52,31.989172906042864,28.60563217311234]
[5138,52,29.672405333321567,28.60563217311234]
[5139,52,26.931405699566788,28.60563217311234]
[5140,52,25.030144202821518,28.60563217311234]
[5141,53,17.02969392343627,22.30099907813953]
[5142,53,22.970508831474184,22.30099907813953]
[5143,54,32.318704336208036,31.47294475227363]
[5144,54,36.58649632632978,31.47294475227363]
[5145,55,56.521135597961113,50.501475671387389]
[5146,55,68.503177529573378,50.501475671387389]
[5147,56,75.155565851667561,61.513654530870475]
[5148,56,80.536132440549764,61.513654530870475]
[5149,57,75.931294435001973,59.370333256427784]
[5150,57,72.848198832474012,59.370333256427784]
[5151,58,70.341864797787778,52.696967168258567]
[5152,58,68.13324887554127,52.696967168258567]
[5153,58,63.199028529905455,52.696967168258567]
[5154,59,60.038069161799712,47.920176210417743]
[5155,59,59.900762396150867,47.920176210417743]
[5156,59,55.939524540788739,47.920176210417743]
[5157,60,54.101957343694323,43.819359460168663]
[5158,60,54.122832196372535,43.819359460168663]
[5159,61,54.571572763643317,42.400900975554315]
[5160,61,45.059946189639923,42.400900975554315]
[5161,62,32.196226314290989,26.7262461144092]
[5162,62,30.888769845791817,26.7262461144092]
[5163,62,27.335671711351193,26.7262461144092]
[5164,62,24.071680813213664,26.7262461144092]
[5165,62,16.02029298412215,26.7262461144092]
[5166,62,19.169108387518023,26.7262461144092]
[5167,63,30.940442779419691,44.446516874427935]
[5168,63,43.052078125849548,44.446516874427935]
[5169,63,55.219325976597823,44.446516874427935]
[5170,64,66.97615951311451,69.097192262774172]
[5171,64,72.807862947372087,69.097192262774172]
[5172,65,76.537853488712656,75.149858085294909]
[5173,65,72.718504907591097,75.149858085294909]
[5174,66,70.638670633686985,66.269019767651812]
[5175,66,68.033531255455571,66.269019767651812]
[5176,66,65.590956973143605,66.269019767651812]
[5177,66,61.312650697260892,66.269019767651812]
[5178,67,58.738857825664333,56.121650634622469]
[5179,67,58.188588998773035,56.121650634622469]
[5180,67,55.350339895255075,56.121650634622469]
[5181,68,54.875375482955384,47.492450685848297]
[5182,68,54.828964104500422,47.492450685848297]
[5183,68,51.98439953060376,47.492450685848297]
[5184,68,44.020135202571836,47.492450685848297]
[5185,62,32.244657743688471,26.7262461144092]
[5186,62,29.287979829421349,{"$f":"VLOOKUP(B5188,$F$3:$G$122,2,FALSE)","v":26.7262461144092}]
[5187,62,27.065820787422254,26.7262461144092]
[5188,62,25.217440178077187,26.7262461144092]
[5189,62,13.613766798947347,26.7262461144092]
[5190,62,19.454896566199817,26.7262461144092]
[5191,63,28.335279963459126,44.446516874427935]
[5192,63,37.039468337948151,44.446516874427935]
[5193,63,56.348767235625914,44.446516874427935]
[5194,64,68.597448805848614,69.097192262774172]
[5195,64,74.405135206399947,69.097192262774172]
[5196,65,80.553113375683182,75.149858085294909]
[5197,65,74.589027319074305,75.149858085294909]
[5198,66,71.996581407588096,66.269019767651812]
[5199,66,70.027798065162258,66.269019767651812]
[5200,66,64.936302805660205,66.269019767651812]
[5201,66,59.02896710980648,66.269019767651812]
[5202,67,57.063375198806554,56.121650634622469]
[5203,67,58.209052102246801,56.121650634622469]
[5204,67,53.677771738623882,56.121650634622469]
[5205,68,54.215965583400781,47.492450685848297]
[5206,68,54.515618224899995,47.492450685848297]
[5207,68,52.280503798630029,47.492450685848297]
[5208,68,44.743268532711248,47.492450685848297]
[5209,52,30.902138208089134,28.60563217311234]
[5210,52,29.903003244622354,28.60563217311234]
[5211,52,28.530181787228113,28.60563217311234]
[5212,52,24.081654393366335,28.60563217311234]
[5213,53,13.9106831157281,22.30099907813953]
[5214,53,18.956807491906265,22.30099907813953]
[5215,54,31.155676763870218,31.47294475227363]
[5216,54,40.204759943393697,31.47294475227363]
[5217,55,55.82172461624554,50.501475671387389]
[5218,55,65.606600164137831,50.501475671387389]
[5219,56,70.314688805899252,61.513654530870475]
[5220,56,72.28265023533875,61.513654530870475]
[5221,57,70.130715147824617,59.370333256427784]
[5222,57,64.970598728504044,59.370333256427784]
[5223,58,62.692203910477041,52.696967168258567]
[5224,58,57.599946703549158,52.696967168258567]
[5225,58,55.050208825186516,52.696967168258567]
[5226,59,54.108787332902772,47.920176210417743]
[5227,59,53.913966408599762,47.920176210417743]
[5228,59,51.830744707789741,47.920176210417743]
[5229,60,51.289066483678887,43.819359460168663]
[5230,60,51.282895587791479,43.819359460168663]
[5231,61,50.287064879415283,42.400900975554315]
[5232,61,45.042198504844443,42.400900975554315]
[5233,52,33.869333363332451,28.60563217311234]
[5234,52,30.905497397776259,28.60563217311234]
[5235,52,29.635205837671858,28.60563217311234]
[5236,52,28.197739374022895,28.60563217311234]
[5237,53,20.017682598602235,22.30099907813953]
[5238,53,22.403456307265621,22.30099907813953]
[5239,54,24.171632942343027,31.47294475227363]
[5240,54,26.897081123249016,31.47294475227363]
[5241,55,34.089625318914301,50.501475671387389]
[5242,55,40.857630399627553,50.501475671387389]
[5243,56,41.907116063306773,61.513654530870475]
[5244,56,45.965274517868281,61.513654530870475]
[5245,57,45.894252188601605,59.370333256427784]
[5246,57,43.085800334819133,59.370333256427784]
[5247,58,38.240934706788615,52.696967168258567]
[5248,58,36.088755812932476,52.696967168258567]
[5249,58,35.592887245309065,52.696967168258567]
[5250,59,35.050509143664534,{"$f":"VLOOKUP(B5252,$F$3:$G$122,2,FALSE)","v":47.920176210417743}]
[5251,59,37.740632859723284,47.920176210417743]
[5252,59,35.899928421365743,47.920176210417743]
[5253,60,37.892786629888384,43.819359460168663]
[5254,60,38.693043368097833,43.819359460168663]
[5255,61,37.377590109422009,42.400900975554315]
[5256,61,36.376704159555594,42.400900975554315]
[5257,52,30.329173223047661,28.60563217311234]
[5258,52,25.913045319151706,28.60563217311234]
[5259,52,22.283530662794515,28.60563217311234]
[5260,52,17.211021394544208,28.60563217311234]
[5261,53,13.333486902651325,22.30099907813953]
[5262,53,10.603894920730061,22.30099907813953]
[5263,54,9.7194244575382722,31.47294475227363]
[5264,54,13.865937139139623,31.47294475227363]
[5265,55,24.214604665711764,50.501475671387389]
[5266,55,31.54659405349112,50.501475671387389]
[5267,56,34.785755582159965,61.513654530870475]
[5268,56,35.813930685720933,61.513654530870475]
[5269,57,36.510350507153433,59.370333256427784]
[5270,57,35.024155518438505,59.370333256427784]
[5271,58,33.607980829823795,52.696967168258567]
[5272,58,32.133186411416006,52.696967168258567]
[5273,58,31.541249398607359,52.696967168258567]
[5274,59,30.987505444555875,47.920176210417743]
[5275,59,34.825257770954188,47.920176210417743]
[5276,59,35.953092293078242,47.920176210417743]
[5277,60,34.3725222802369,43.819359460168663]
[5278,60,34.990706048596074,43.819359460168663]
[5279,61,35.447460290251612,42.400900975554315]
[5280,61,33.973898822180558,42.400900975554315]
[5281,52,32.361738883515088,28.60563217311234]
[5282,52,29.533307812132488,28.60563217311234]
[5283,52,27.262182281130574,28.60563217311234]
[5284,52,23.332867806707544,28.60563217311234]
[5285,53,23.680616298965116,22.30099907813953]
[5286,53,28.033259846796,22.30099907813953]
[5287,54,36.037301502273223,31.47294475227363]
[5288,54,41.549929717794548,31.47294475227363]
[5289,55,55.309552310354718,50.501475671387389]
[5290,55,57.955002423472557,50.501475671387389]
[5291,56,66.804643057072653,61.513654530870475]
[5292,56,72.656646180934203,61.513654530870475]
[5293,57,68.975837267269384,59.370333256427784]
[5294,57,64.967152038372944,59.370333256427784]
[5295,58,62.826925256667778,52.696967168258567]
[5296,58,60.969341361815736,52.696967168258567]
[5297,58,55.798345812201909,52.696967168258567]
[5298,59,53.353351855312042,47.920176210417743]
[5299,59,53.438588592103038,47.920176210417743]
[5300,59,54.540595367409892,47.920176210417743]
[5301,60,53.636644641956437,43.819359460168663]
[5302,60,51.648469174493954,43.819359460168663]
[5303,61,50.304424288122874,42.400900975554315]
[5304,61,45.273049211584862,42.400900975554315]
[5305,52,31.432085772098798,28.60563217311234]
[5306,52,29.155664394350797,28.60563217311234]
[5307,52,26.462398899724754,28.60563217311234]
[5308,52,24.594247615650847,28.60563217311234]
[5309,53,16.733124099401845,22.30099907813953]
[5310,53,22.570480516651905,22.30099907813953]
[5311,54,31.75587845682924,31.47294475227363]
[5312,54,35.949347424751274,31.47294475227363]
[5313,55,55.536827640702725,50.501475671387389]
[5314,55,67.310203927282998,{"$f":"VLOOKUP(B5316,$F$3:$G$122,2,FALSE)","v":50.501475671387389}]
[5315,56,73.846741803505267,61.513654530870475]
[5316,56,79.133606550554958,61.513654530870475]
[5317,57,74.60896117813094,59.370333256427784]
[5318,57,71.579557269912556,59.370333256427784]
[5319,58,69.116870704580762,52.696967168258567]
[5320,58,66.946717530893636,52.696967168258567]
[5321,58,62.098425967432703,52.696967168258567]
[5322,59,58.992514280617875,47.920176210417743]
[5323,59,58.857598693783544,47.920176210417743]
[5324,59,54.965345261688498,47.920176210417743]
[5325,60,53.159779049623154,43.819359460168663]
[5326,60,53.180290369555955,43.819359460168663]
[5327,61,53.62121618033899,42.400900975554315]
[5328,61,44.275233300932548,42.400900975554315]
[5329,62,31.664257200327818,26.7262461144092]
[5330,62,30.378403464158307,26.7262461144092]
[5331,62,26.884012162249906,26.7262461144092]
[5332,62,23.673951259793125,26.7262461144092]
[5333,62,15.755594227783398,26.7262461144092]
[5334,62,18.852382647525143,26.7262461144092]
[5335,63,30.429222620562427,44.446516874427935]
[5336,63,42.340740851992841,44.446516874427935]
[5337,63,54.306952718108974,44.446516874427935]
[5338,64,65.86953142928121,69.097192262774172]
[5339,64,71.604879282032613,69.097192262774172]
[5340,65,75.273240247782581,75.149858085294909]
[5341,65,71.516997679793818,75.149858085294909]
[5342,66,69.471527917589867,66.269019767651812]
[5343,66,66.909432518278848,66.269019767651812]
[5344,66,64.507216197923881,66.269019767651812]
[5345,66,60.299599162967333,66.269019767651812]
[5346,67,57.768332340854407,56.121650634622469]
[5347,67,57.227155449689526,56.121650634622469]
[5348,67,54.435801930954284,56.121650634622469]
[5349,68,53.968685220901079,47.492450685848297]
[5350,68,53.923040684486345,47.492450685848297]
[5351,68,51.125476044097894,47.492450685848297]
[5352,68,43.292802996254949,47.492450685848297]
[5353,62,31.740890760100402,26.7262461144092]
[5354,62,28.830405822237363,26.7262461144092]
[5355,62,26.642964170217699,26.7262461144092]
[5356,62,24.823461309599072,26.7262461144092]
[5357,62,13.401075248920909,26.7262461144092]
[5358,62,19.150947470598368,26.7262461144092]
[5359,63,27.892590243202779,44.446516874427935]
[5360,63,36.460790735393473,44.446516874427935]
[5361,63,55.468415249109519,44.446516874427935]
[5362,64,67.52573236396691,69.097192262774172]
[5363,64,73.242683713680123,69.097192262774172]
[5364,65,79.294610362053334,75.149858085294909]
[5365,65,73.423702830286615,75.149858085294909]
[5366,66,70.871759400399867,66.269019767651812]
[5367,66,68.933734891069278,66.269019767651812]
[5368,66,63.921785435068109,66.269019767651812]
[5369,66,58.106741637866186,66.269019767651812]
[5370,67,56.171858699367711,56.121650634622469]
[5371,67,57.299636383582225,56.121650634622469]
[5372,67,52.839149435064527,56.121650634622469]
[5373,68,53.368934932265702,47.492450685848297]
[5374,68,53.663906019737205,47.492450685848297]
[5375,68,51.463711388908905,47.492450685848297]
[5376,68,44.044232382172268,47.492450685848297]
[5377,52,30.447356700988845,28.60563217311234]
[5378,52,29.462925836682526,{"$f":"VLOOKUP(B5380,$F$3:$G$122,2,FALSE)","v":28.60563217311234}]
[5379,52,28.11030795896194,28.60563217311234]
[5380,52,23.727248785419874,28.60563217311234]
[5381,53,13.705961960526309,22.30099907813953]
[5382,53,18.677823383333404,22.30099907813953]
[5383,54,30.697163973007957,31.47294475227363]
[5384,54,39.613073335931837,31.47294475227363]
[5385,55,55.000205798390141,50.501475671387389]
[5386,55,64.641078998661882,50.501475671387389]
[5387,56,69.279879501407038,61.513654530870475]
[5388,56,71.2188787775234,61.513654530870475]
[5389,57,69.098613352337864,59.370333256427784]
[5390,57,64.014437487880812,59.370333256427784]
[5391,58,61.769573418507321,52.696967168258567]
[5392,58,56.752258093966823,52.696967168258567]
[5393,58,54.240044273882091,52.696967168258567]
[5394,59,53.312477521428789,47.920176210417743]
[5395,59,53.120523743501622,47.920176210417743]
[5396,59,51.067960461806123,47.920176210417743]
[5397,60,50.534254023901958,43.819359460168663]
[5398,60,50.528173944038762,43.819359460168663]
[5399,61,49.546998706663388,42.400900975554315]
[5400,61,44.379320137619302,42.400900975554315]
[5401,52,33.401810906107976,28.60563217311234]
[5402,52,30.478886872846477,28.60563217311234]
[5403,52,29.226130049112605,28.60563217311234]
[5404,52,27.808505955729789,28.60563217311234]
[5405,53,19.741364312203068,22.30099907813953]
[5406,53,22.094205492354885,22.30099907813953]
[5407,54,23.837974729850227,31.47294475227363]
[5408,54,26.525801614319526,31.47294475227363]
[5409,55,33.619062015409348,50.501475671387389]
[5410,55,40.293643516393438,50.501475671387389]
[5411,56,41.328642384272996,61.513654530870475]
[5412,56,45.330783196203932,61.513654530870475]
[5413,57,45.260741238577303,59.370333256427784]
[5414,57,42.491056439864721,59.370333256427784]
[5415,58,37.713067932179051,52.696967168258567]
[5416,58,35.590597091742453,52.696967168258567]
[5417,58,35.101573350047822,52.696967168258567]
[5418,59,34.5666820784541,47.920176210417743]
[5419,59,37.219672106746465,47.920176210417743]
[5420,59,35.404376218737795,47.920176210417743]
[5421,60,37.369725590385691,43.819359460168663]
[5422,60,38.158935816617927,43.819359460168663]
[5423,61,36.861640693304928,42.400900975554315]
[5424,61,35.874570682880346,42.400900975554315]
[5425,52,29.938405096389054,28.60563217311234]
[5426,52,25.579175612222485,28.60563217311234]
[5427,52,21.996424467435961,28.60563217311234]
[5428,52,16.989270589180467,28.60563217311234]
[5429,53,13.161695154143763,22.30099907813953]
[5430,53,10.467271870606508,22.30099907813953]
[5431,54,9.5941971307153366,31.47294475227363]
[5432,54,13.687285177861957,31.47294475227363]
[5433,55,23.902618063458846,50.501475671387389]
[5434,55,31.140140393508911,50.501475671387389]
[5435,56,34.337567811155537,61.513654530870475]
[5436,56,35.352495667383366,61.513654530870475]
[5437,57,36.039942653750842,59.370333256427784]
[5438,57,34.572896147169537,59.370333256427784]
[5439,58,33.174967782845357,52.696967168258567]
[5440,58,31.719174958969987,52.696967168258567]
[5441,58,31.134864600402594,52.696967168258567]
[5442,59,30.588255212334229,{"$f":"VLOOKUP(B5444,$F$3:$G$122,2,FALSE)","v":47.920176210417743}]
[5443,59,34.376561044555551,47.920176210417743]
[5444,59,35.489864284202824,47.920176210417743]
[5445,60,33.929658703270931,43.819359460168663]
[5446,60,34.539877648081649,43.819359460168663]
[5447,61,34.990746961782087,42.400900975554315]
[5448,61,33.536171202624352,42.400900975554315]
[5449,52,31.974733637631978,28.60563217311234]
[5450,52,29.180127005232212,28.60563217311234]
[5451,52,26.936161247619502,28.60563217311234]
[5452,52,23.053836377797133,28.60563217311234]
[5453,53,23.397426240284037,22.30099907813953]
[5454,53,27.698017706101243,22.30099907813953]
[5455,54,35.606341201312532,31.47294475227363]
[5456,54,41.053045393230271,31.47294475227363]
[5457,55,54.648120396309551,50.501475671387389]
[5458,55,57.26193429002695,50.501475671387389]
[5459,56,66.005744474845798,61.513654530870475]
[5460,56,71.787765082748905,61.513654530870475]
[5461,57,68.150973963177563,59.370333256427784]
[5462,57,64.190227512177501,59.370333256427784]
[5463,58,62.075595121270709,52.696967168258567]
[5464,58,60.240225567698751,52.696967168258567]
[5465,58,55.131068549424107,52.696967168258567]
[5466,59,52.715313611206099,47.920176210417743]
[5467,59,52.799531025012044,47.920176210417743]
[5468,59,53.88835920059725,47.920176210417743]
[5469,60,52.995218576357132,43.819359460168663]
[5470,60,51.030819159323009,43.819359460168663]
[5471,61,49.702847340706434,42.400900975554315]
[5472,61,44.7316411121909,42.400900975554315]
[5473,52,31.08546732712589,28.60563217311234]
[5474,52,28.834149267171664,28.60563217311234]
[5475,52,26.170583853679751,28.60563217311234]
[5476,52,24.323033674405409,28.60563217311234]
[5477,53,16.548598977622568,22.30099907813953]
[5478,53,22.321583739145726,22.30099907813953]
[5479,54,31.405689376497019,31.47294475227363]
[5480,54,35.552914716069267,31.47294475227363]
[5481,55,54.924393296538504,50.501475671387389]
[5482,55,66.567938256934312,50.501475671387389]
[5483,56,73.032394228996921,61.513654530870475]
[5484,56,78.26095788681279,61.513654530870475]
[5485,57,73.786208202330542,59.370333256427784]
[5486,57,70.790211153570183,59.370333256427784]
[5487,58,68.354681952020115,52.696967168258567]
[5488,58,66.208460219722852,52.696967168258567]
[5489,58,61.413633364098594,52.696967168258567]
[5490,59,58.341972228994287,47.920176210417743]
[5491,59,58.208544428597357,47.920176210417743]
[5492,59,54.35921295980615,47.920176210417743]
[5493,60,52.573557693430494,43.819359460168663]
[5494,60,52.593842824052444,43.819359460168663]
[5495,61,53.029906309758161,42.400900975554315]
[5496,61,43.786986589312647,42.400900975554315]
[5497,62,31.344733162630664,26.7262461144092]
[5498,62,30.071854977255526,26.7262461144092]
[5499,62,26.612725579992976,26.7262461144092]
[5500,62,23.435057403956954,26.7262461144092]
[5501,62,15.596604517330718,26.7262461144092]
[5502,62,18.662143243340211,26.7262461144092]
[5503,63,30.122161317523023,44.446516874427935]
[5504,63,41.913480411600212,44.446516874427935]
[5505,63,53.758941226863918,44.446516874427935]
[5506,64,65.204841949583411,{"$f":"VLOOKUP(B5508,$F$3:$G$122,2,FALSE)","v":69.097192262774172}]
[5507,64,70.882314403840056,69.097192262774172]
[5508,65,74.513657936965899,75.149858085294909]
[5509,65,70.795319614900222,75.149858085294909]
[5510,66,68.77049068924812,66.269019767651812]
[5511,66,66.234249396091343,66.269019767651812]
[5512,66,63.856273842012548,66.269019767651812]
[5513,66,59.691115872985989,66.269019767651812]
[5514,67,57.185392065837007,56.121650634622469]
[5515,67,56.649676190993453,56.121650634622469]
[5516,67,53.886490222227998,56.121650634622469]
[5517,68,53.424087187165739,47.492450685848297]
[5518,68,53.37890324979432,47.492450685848297]
[5519,68,50.609568835807856,47.492450685848297]
[5520,68,42.855935296214682,47.492450685848297]
[5521,62,31.450478216560693,26.7262461144092]
[5522,62,28.566622693105938,26.7262461144092]
[5523,62,26.399194987727189,26.7262461144092]
[5524,62,24.596339626314673,26.7262461144092]
[5525,62,13.278462421870122,26.7262461144092]
[5526,62,18.975726321067082,26.7262461144092]
[5527,63,27.637387635952013,44.446516874427935]
[5528,63,36.127193576543569,44.446516874427935]
[5529,63,54.960908270796864,44.446516874427935]
[5530,64,66.907907242472461,69.097192262774172]
[5531,64,72.57255147845936,69.097192262774172]
[5532,65,78.569106164383442,75.149858085294909]
[5533,65,72.751914364858564,75.149858085294909]
[5534,66,70.22331988217195,66.269019767651812]
[5535,66,68.303027283122361,66.269019767651812]
[5536,66,63.336934542378835,66.269019767651812]
[5537,66,57.575095353475518,66.269019767651812]
[5538,67,55.657915581528599,56.121650634622469]
[5539,67,56.77537468998873,56.121650634622469]
[5540,67,52.355698863311787,56.121650634622469]
[5541,68,52.880637100398701,47.492450685848297]
[5542,68,53.172909356749457,47.492450685848297]
[5543,68,50.992845355645784,47.492450685848297]
[5544,68,43.641250699930403,47.492450685848297]
[5545,52,30.197587151368317,28.60563217311234]
[5546,52,29.221231892968451,28.60563217311234]
[5547,52,27.879709978731483,28.60563217311234]
[5548,52,23.532606462243226,28.60563217311234]
[5549,53,13.593527505883307,22.30099907813953]
[5550,53,18.524603135672447,22.30099907813953]
[5551,54,30.445345173252615,31.47294475227363]
[5552,54,39.288114437746778,31.47294475227363]
[5553,55,54.549021258260453,50.501475671387389]
[5554,55,64.110807246435982,50.501475671387389]
[5555,56,68.711554162995341,61.513654530870475]
[5556,56,70.634647198689407,61.513654530870475]
[5557,57,68.531774998982357,59.370333256427784]
[5558,57,63.48930627936312,59.370333256427784]
[5559,58,61.262857558588635,52.696967168258567]
[5560,58,56.286700900175418,52.696967168258567]
[5561,58,53.795095585471145,52.696967168258567]
[5562,59,52.875137964157815,47.920176210417743]
[5563,59,52.684758845375342,47.920176210417743]
[5564,59,50.649033406500529,47.920176210417743]
[5565,60,50.119705135736915,43.819359460168663]
[5566,60,50.113674932742313,43.819359460168663]
[5567,61,49.140548594308967,42.400900975554315]
[5568,61,44.015262169891734,42.400900975554315]
[5569,52,33.159550556136345,28.60563217311234]
[5570,52,30.25782622971796,{"$f":"VLOOKUP(B5572,$F$3:$G$122,2,FALSE)","v":28.60563217311234}]
[5571,52,29.01415553928986,28.60563217311234]
[5572,52,27.606813346788304,28.60563217311234]
[5573,53,19.598181960784,22.30099907813953]
[5574,53,21.933958194088063,22.30099907813953]
[5575,54,23.665080029113739,31.47294475227363]
[5576,54,26.333412345353633,31.47294475227363]
[5577,55,33.375225962553849,50.501475671387389]
[5578,55,40.00139732030086,50.501475671387389]
[5579,56,41.028889433871278,61.513654530870475]
[5580,56,45.00200307609397,61.513654530870475]
[5581,57,44.932469126527593,59.370333256427784]
[5582,57,42.182872604182229,59.370333256427784]
[5583,58,37.439538420218284,52.696967168258567]
[5584,58,35.332461671139612,52.696967168258567]
[5585,58,34.846984774948069,52.696967168258567]
[5586,59,34.315973021953425,47.920176210417743]
[5587,59,36.949721150621485,47.920176210417743]
[5588,59,35.147591441487592,47.920176210417743]
[5589,60,37.0986863097515,43.819359460168663]
[5590,60,37.882172464730672,43.819359460168663]
[5591,61,36.594286507030695,42.400900975554315]
[5592,61,35.61437562719469,42.400900975554315]
[5593,52,29.749834828143868,28.60563217311234]
[5594,52,25.418062420281966,28.60563217311234]
[5595,52,21.857877619368903,28.60563217311234]
[5596,52,16.882261838982277,28.60563217311234]
[5597,53,13.078794799973673,22.30099907813953]
[5598,53,10.401342631621308,22.30099907813953]
[5599,54,9.5337670469913895,31.47294475227363]
[5600,54,13.60107433833233,31.47294475227363]
[5601,55,23.752064849769706,50.501475671387389]
[5602,55,30.944000866092839,50.501475671387389]
[5603,56,34.121288942852779,61.513654530870475]
[5604,56,35.129824166691456,61.513654530870475]
[5605,57,35.812941194191509,59.370333256427784]
[5606,57,34.355135038002402,59.370333256427784]
[5607,58,32.966011676008826,52.696967168258567]
[5608,58,31.519388319993336,52.696967168258567]
[5609,58,30.938758303137494,52.696967168258567]
[5610,59,30.395591793158374,47.920176210417743]
[5611,59,34.16003657317345,47.920176210417743]
[5612,59,35.266327552486132,47.920176210417743]
[5613,60,33.715949094407527,43.819359460168663]
[5614,60,34.322324509486421,43.819359460168663]
[5615,61,34.770353974265241,42.400900975554315]
[5616,61,33.324940017154219,42.400900975554315]
[5617,52,31.803963177087418,28.60563217311234]
[5618,52,29.024281962583679,28.60563217311234]
[5619,52,26.792300763473207,28.60563217311234]
[5620,52,22.93071059041225,28.60563217311234]
[5621,53,23.272465410277054,22.30099907813953]
[5622,53,27.550088303672212,22.30099907813953]
[5623,54,35.416175073451541,31.47294475227363]
[5624,54,40.833789541156257,31.47294475227363]
[5625,55,54.356256051363481,50.501475671387389]
[5626,55,56.956110103930477,50.501475671387389]
[5627,56,65.65322140114958,61.513654530870475]
[5628,56,71.404361428989702,61.513654530870475]
[5629,57,67.786993661038153,59.370333256427784]
[5630,57,63.847400740297424,59.370333256427784]
[5631,58,61.744062165044269,52.696967168258567]
[5632,58,59.918494941883722,52.696967168258567]
[5633,58,54.836624877955387,52.696967168258567]
[5634,59,52.433771988837691,{"$f":"VLOOKUP(B5636,$F$3:$G$122,2,FALSE)","v":47.920176210417743}]
[5635,59,52.517539614798501,47.920176210417743]
[5636,59,53.600552583567428,47.920176210417743]
[5637,60,52.712182039274204,43.819359460168663]
[5638,60,50.758274074551856,43.819359460168663]
[5639,61,49.437394679647852,42.400900975554315]
[5640,61,44.492738638750048,42.400900975554315]
[5641,52,30.949317571124144,28.60563217311234]
[5642,52,28.707859951784158,28.60563217311234]
[5643,52,26.055960561431785,28.60563217311234]
[5644,52,24.216502379085206,28.60563217311234]
[5645,53,16.476118558098424,22.30099907813953]
[5646,53,22.223818498955652,22.30099907813953]
[5647,54,31.268137095211369,31.47294475227363]
[5648,54,35.397198200283782,31.47294475227363]
[5649,55,54.68383256546845,50.501475671387389]
[5650,55,66.276380518527333,50.501475671387389]
[5651,56,72.712523128142522,61.513654530870475]
[5652,56,77.918186449323258,61.513654530870475]
[5653,57,73.463035507600779,59.370333256427784]
[5654,57,70.480160483446909,59.370333256427784]
[5655,58,68.055298540105838,52.696967168258567]
[5656,58,65.918476942028946,52.696967168258567]
[5657,58,61.144650719903112,52.696967168258567]
[5658,59,58.086443006928938,47.920176210417743]
[5659,59,57.953599600592312,47.920176210417743]
[5660,59,54.121127635141718,47.920176210417743]
[5661,60,52.343293275116345,43.819359460168663]
[5662,60,52.363489559861996,43.819359460168663]
[5663,61,52.797643151900836,42.400900975554315]
[5664,61,43.59520605478022,42.400900975554315]
[5665,62,31.237654201199522,26.7262461144092]
[5666,62,29.969124385083461,26.7262461144092]
[5667,62,26.521811964580383,26.7262461144092]
[5668,62,23.354999245705134,26.7262461144092]
[5669,62,15.543323852764107,26.7262461144092]
[5670,62,18.598390174963207,26.7262461144092]
[5671,63,30.019258870301456,44.446516874427935]
[5672,63,41.770296804671645,44.446516874427935]
[5673,63,53.575291502862655,44.446516874427935]
[5674,64,64.982091074021085,69.097192262774172]
[5675,64,70.640168312794458,69.097192262774172]
[5676,65,74.259106556262552,75.149858085294909]
[5677,65,70.553470712910311,75.149858085294909]
[5678,66,68.535558948661659,66.269019767651812]
[5679,66,66.007981888893028,66.269019767651812]
[5680,66,63.638129905409592,66.269019767651812]
[5681,66,59.487200827316833,66.269019767651812]
[5682,67,56.990037000612119,56.121650634622469]
[5683,67,56.456151222684774,56.121650634622469]
[5684,67,53.702404769076175,56.121650634622469]
[5685,68,53.24158138174932,47.492450685848297]
[5686,68,53.196551800424331,47.492450685848297]
[5687,68,50.43667790573361,47.492450685848297]
[5688,68,42.709532102451014,47.492450685848297]
[5689,62,31.373420113069344,26.7262461144092]
[5690,62,28.496630442027076,26.7262461144092]
[5691,62,26.334513239950724,26.7262461144092]
[5692,62,24.536075128223988,26.7262461144092]
[5693,62,13.245928317794982,26.7262461144092]
[5694,62,18.929233117605953,26.7262461144092]
[5695,63,27.569672141706828,44.446516874427935]
[5696,63,36.038676861398436,44.446516874427935]
[5697,63,54.826246300687941,44.446516874427935]
[5698,64,66.743973441365242,{"$f":"VLOOKUP(B5700,$F$3:$G$122,2,FALSE)","v":69.097192262774172}]
[5699,64,72.394738500737645,69.097192262774172]
[5700,65,78.376600782673535,75.149858085294909]
[5701,65,72.573661922790151,75.149858085294909]
[5702,66,70.051262852904358,66.269019767651812]
[5703,66,68.135675241321479,66.269019767651812]
[5704,66,63.181750127592359,66.269019767651812]
[5705,66,57.434028256634477,66.269019767651812]
[5706,67,55.521545845289232,56.121650634622469]
[5707,67,56.636267021466296,56.121650634622469]
[5708,67,52.22742002336566,56.121650634622469]
[5709,68,52.751072087799763,47.492450685848297]
[5710,68,53.042628235936768,47.492450685848297]
[5711,68,50.867905698840666,47.492450685848297]
[5712,68,43.534323485985631,47.492450685848297]
[5713,52,30.152829559227538,28.60563217311234]
[5714,52,29.17792141348011,28.60563217311234]
[5715,52,27.838387846536733,28.60563217311234]
[5716,52,23.497727423836384,28.60563217311234]
[5717,53,13.573379751799077,22.30099907813953]
[5718,53,18.497146748923392,22.30099907813953]
[5719,54,30.400220364604188,31.47294475227363]
[5720,54,39.229883248838519,31.47294475227363]
[5721,55,54.468170995856447,50.501475671387389]
[5722,55,64.015784907460059,50.501475671387389]
[5723,56,68.609712790664148,61.513654530870475]
[5724,56,70.529955498836685,61.513654530870475]
[5725,57,68.430200087758053,59.370333256427784]
[5726,57,63.395205102950946,59.370333256427784]
[5727,58,61.172056330720935,52.696967168258567]
[5728,58,56.203275122174944,52.696967168258567]
[5729,58,53.715362759953678,52.696967168258567]
[5730,59,52.796768661089843,47.920176210417743]
[5731,59,52.606671714220894,47.920176210417743]
[5732,59,50.573963541872942,47.920176210417743]
[5733,60,50.045419819183742,43.819359460168663]
[5734,60,50.039398553902096,43.819359460168663]
[5735,61,49.067714542351986,42.400900975554315]
[5736,61,43.95002460166171,42.400900975554315]
[5737,52,33.142552313417575,28.60563217311234]
[5738,52,30.242315468390711,28.60563217311234]
[5739,52,28.999282308203625,28.60563217311234]
[5740,52,27.592661547198439,28.60563217311234]
[5741,53,19.588135544345029,22.30099907813953]
[5742,53,21.922714412465172,22.30099907813953]
[5743,54,23.652948840133572,31.47294475227363]
[5744,54,26.319913316351354,31.47294475227363]
[5745,55,33.358117160347838,50.501475671387389]
[5746,55,39.980891811349842,50.501475671387389]
[5747,56,41.007857212101626,61.513654530870475]
[5748,56,44.978934157538419,61.513654530870475]
[5749,57,44.909435852452496,59.370333256427784]
[5750,57,42.161248827771658,59.370333256427784]
[5751,58,37.420346170906335,52.696967168258567]
[5752,58,35.314349551123968,52.696967168258567]
[5753,58,34.829121520009828,52.696967168258567]
[5754,59,34.298381974162524,47.920176210417743]
[5755,59,36.930779991348359,47.920176210417743]
[5756,59,35.129574089615126,47.920176210417743]
[5757,60,37.079668787985845,43.819359460168663]
[5758,60,37.862753312436084,43.819359460168663]
[5759,61,36.575527550599311,42.400900975554315]
[5760,61,35.596118992498639,42.400900975554315]
[5761,52,29.763462418312105,28.60563217311234]
[5762,52,25.429705743330153,{"$f":"VLOOKUP(B5764,$F$3:$G$122,2,FALSE)","v":28.60563217311234}]
[5763,52,21.867890118593351,28.60563217311234]
[5764,52,16.88999514394963,28.60563217311234]
[5765,53,13.084785840141059,22.30099907813953]
[5766,53,10.406107203774463,22.30099907813953]
[5767,54,9.5381342063664381,31.47294475227363]
[5768,54,13.607304620550742,31.47294475227363]
[5769,55,23.762945024644353,50.501475671387389]
[5770,55,30.958175471242903,50.501475671387389]
[5771,56,34.136918977251668,61.513654530870475]
[5772,56,35.145916183645213,61.513654530870475]
[5773,57,35.829346128475436,59.370333256427784]
[5774,57,34.370872190937092,59.370333256427784]
[5775,58,32.981112509314194,52.696967168258567]
[5776,58,31.533826494486057,52.696967168258567]
[5777,58,30.952930506812063,52.696967168258567]
[5778,59,30.409515187028326,47.920176210417743]
[5779,59,34.175684356807892,47.920176210417743]
[5780,59,35.28248209792816,47.920176210417743]
[5781,60,33.731393453646696,43.819359460168663]
[5782,60,34.338046632810418,43.819359460168663]
[5783,61,34.786281327701083,42.400900975554315]
[5784,61,33.340205265770166,42.400900975554315]
[5785,52,31.849427501881419,28.60563217311234]
[5786,52,29.065772684186896,28.60563217311234]
[5787,52,26.830600828691704,28.60563217311234]
[5788,52,22.963490444552903,28.60563217311234]
[5789,53,23.305733808944183,22.30099907813953]
[5790,53,27.589471639508918,22.30099907813953]
[5791,54,35.466803118690272,31.47294475227363]
[5792,54,40.892162161572514,31.47294475227363]
[5793,55,54.43395927551655,50.501475671387389]
[5794,55,57.037529865183167,50.501475671387389]
[5795,56,65.747073835984011,61.513654530870475]
[5796,56,71.506435219656595,61.513654530870475]
[5797,57,67.883896360851196,59.370333256427784]
[5798,57,63.938671722732742,59.370333256427784]
[5799,58,61.832326387988495,52.696967168258567]
[5800,58,60.004149484370679,52.696967168258567]
[5801,58,54.915014797795756,52.696967168258567]
[5802,59,52.508726988206838,47.920176210417743]
[5803,59,52.592614361462445,47.920176210417743]
[5804,59,53.677175516320432,47.920176210417743]
[5805,60,52.787535030707687,43.819359460168663]
[5806,60,50.830833920180481,43.819359460168663]
[5807,61,49.508066304947178,42.400900975554315]
[5808,61,44.556341791262305,42.400900975554315]
[5809,52,31.023636504093567,28.60563217311234]
[5810,52,28.776796448188293,28.60563217311234]
[5811,52,26.118529022980862,28.60563217311234]
[5812,52,24.27465372969024,28.60563217311234]
[5813,53,16.515682840829427,22.30099907813953]
[5814,53,22.277184796081681,22.30099907813953]
[5815,54,31.3432216129723,31.47294475227363]
[5816,54,35.48219787739481,31.47294475227363]
[5817,55,54.815145447492583,50.501475671387389]
[5818,55,66.435530712062075,50.501475671387389]
[5819,56,72.887128500942083,61.513654530870475]
[5820,56,78.105292238086406,61.513654530870475]
[5821,57,73.639443093941665,59.370333256427784]
[5822,57,70.649405259542732,59.370333256427784]
[5823,58,68.218720468837958,52.696967168258567]
[5824,58,66.076767697811945,52.696967168258567]
[5825,58,61.291478034846257,52.696967168258567]
[5826,59,58.225926614421844,{"$f":"VLOOKUP(B5828,$F$3:$G$122,2,FALSE)","v":47.920176210417743}]
[5827,59,58.09276420976844,47.920176210417743]
[5828,59,54.251089287695187,47.920176210417743]
[5829,60,52.468985794680705,43.819359460168663]
[5830,60,52.489230576984625,43.819359460168663]
[5831,61,52.924426706767015,42.400900975554315]
[5832,61,43.699891697335261,42.400900975554315]
[5833,62,31.489794980939081,26.7262461144092]
[5834,62,29.718883117713954,26.7262461144092]
[5835,62,27.567109203309332,26.7262461144092]
[5836,62,23.299920669313121,26.7262461144092]
[5837,62,16.323546321837359,26.7262461144092]
[5838,62,29.610831140948825,26.7262461144092]
[5839,63,38.261839663877666,44.446516874427935]
[5840,63,49.031519989282529,44.446516874427935]
[5841,63,59.189965614476144,44.446516874427935]
[5842,64,62.503201767559418,69.097192262774172]
[5843,64,67.265591944266149,69.097192262774172]
[5844,65,76.349630130307077,75.149858085294909]
[5845,65,65.301770252463228,75.149858085294909]
[5846,66,63.793522265613554,66.269019767651812]
[5847,66,63.596754985275204,66.269019767651812]
[5848,66,61.458934668032178,66.269019767651812]
[5849,66,57.300405446691634,66.269019767651812]
[5850,67,55.309208623782624,56.121650634622469]
[5851,67,55.770585393407472,56.121650634622469]
[5852,67,56.698792264060458,56.121650634622469]
[5853,68,56.835153020575717,47.492450685848297]
[5854,68,49.284709491406119,47.492450685848297]
[5855,68,42.577633312707093,47.492450685848297]
[5856,68,34.792547696352237,47.492450685848297]
[5857,62,31.609878765013992,26.7262461144092]
[5858,62,29.076888670367591,26.7262461144092]
[5859,62,27.091592322656435,26.7262461144092]
[5860,62,22.931710357431555,26.7262461144092]
[5861,62,15.984291012113193,26.7262461144092]
[5862,62,29.122268829675004,26.7262461144092]
[5863,63,38.221538403916405,44.446516874427935]
[5864,63,48.565716273887084,44.446516874427935]
[5865,63,60.044835959143285,44.446516874427935]
[5866,64,64.916595096320862,69.097192262774172]
[5867,64,67.216668302884941,69.097192262774172]
[5868,65,74.354657943347021,75.149858085294909]
[5869,65,66.653229639431729,75.149858085294909]
[5870,66,65.918248631165696,66.269019767651812]
[5871,66,64.200351252913919,66.269019767651812]
[5872,66,61.025246904530384,66.269019767651812]
[5873,66,58.98481925654216,66.269019767651812]
[5874,67,56.041707481750585,56.121650634622469]
[5875,67,55.420057436126029,56.121650634622469]
[5876,67,55.012887550461464,56.121650634622469]
[5877,68,56.825959177577424,47.492450685848297]
[5878,68,47.930855686262326,47.492450685848297]
[5879,68,42.064143391728372,47.492450685848297]
[5880,68,35.447990165108585,47.492450685848297]
[5881,69,32.759122598272228,32.555553346132236]
[5882,69,30.839789083720625,32.555553346132236]
[5883,69,28.552984362080423,32.555553346132236]
[5884,69,23.263325046677043,32.555553346132236]
[5885,70,17.399916967948812,24.564664754138789]
[5886,70,29.959115391435429,24.564664754138789]
[5887,71,37.166762111783527,44.614086251465196]
[5888,71,47.643485301037984,44.614086251465196]
[5889,72,58.030872726638272,60.174888847080453]
[5890,72,62.001602247072121,{"$f":"VLOOKUP(B5892,$F$3:$G$122,2,FALSE)","v":60.174888847080453}]
[5891,73,65.746693737003028,68.048101059795684]
[5892,73,67.890522639232174,68.048101059795684]
[5893,74,63.488724442927555,65.221760771411553]
[5894,74,60.735357164252171,65.221760771411553]
[5895,75,58.784623833076928,57.00554689534146]
[5896,75,56.932464055940763,57.00554689534146]
[5897,75,52.985002259442268,57.00554689534146]
[5898,76,51.511816797033994,59.686159325651666]
[5899,76,52.474833030262914,59.686159325651666]
[5900,76,51.871439744988443,59.686159325651666]
[5901,77,50.777597439887373,58.793732008412952]
[5902,77,45.647244780138436,58.793732008412952]
[5903,78,41.864056761967113,47.783959608661071]
[5904,78,34.007064522924878,47.783959608661071]
[5905,69,32.876410967667447,32.555553346132236]
[5906,69,31.280124295514934,32.555553346132236]
[5907,69,28.695562019208346,32.555553346132236]
[5908,69,25.729023259477874,32.555553346132236]
[5909,70,15.692909174840636,24.564664754138789]
[5910,70,23.465778109498988,24.564664754138789]
[5911,71,25.915616239169381,44.614086251465196]
[5912,71,28.674935571345113,44.614086251465196]
[5913,72,35.693439493123854,60.174888847080453]
[5914,72,40.604713321313049,60.174888847080453]
[5915,73,43.670688815256582,68.048101059795684]
[5916,73,45.005840442911818,68.048101059795684]
[5917,74,43.945692306988434,65.221760771411553]
[5918,74,42.203692535801864,65.221760771411553]
[5919,75,39.108701052454812,57.00554689534146]
[5920,75,36.099261638430193,57.00554689534146]
[5921,75,34.946142538702773,57.00554689534146]
[5922,76,35.167824687122561,59.686159325651666]
[5923,76,37.17385493489342,59.686159325651666]
[5924,76,38.491045565903505,59.686159325651666]
[5925,77,41.276351421211032,58.793732008412952]
[5926,77,38.759039807666149,58.793732008412952]
[5927,78,37.14388544560029,47.783959608661071]
[5928,78,31.61759972857228,47.783959608661071]
[5929,69,27.481464822813312,32.555553346132236]
[5930,69,26.320276282725885,32.555553346132236]
[5931,69,22.137957940361623,32.555553346132236]
[5932,69,18.453924993609803,32.555553346132236]
[5933,70,15.027816426065751,24.564664754138789]
[5934,70,14.284287999287031,24.564664754138789]
[5935,71,16.890947594288757,44.614086251465196]
[5936,71,16.830285227385623,44.614086251465196]
[5937,72,22.094954783042986,60.174888847080453]
[5938,72,29.017122885976491,60.174888847080453]
[5939,73,34.069282461538968,68.048101059795684]
[5940,73,36.861533532396955,68.048101059795684]
[5941,74,37.619376465933229,65.221760771411553]
[5942,74,34.492507801840553,65.221760771411553]
[5943,75,30.006452772415756,57.00554689534146]
[5944,75,28.450454617462853,57.00554689534146]
[5945,75,26.537331057756745,57.00554689534146]
[5946,76,26.105596116420113,59.686159325651666]
[5947,76,32.291962465941673,59.686159325651666]
[5948,76,37.530273464523106,59.686159325651666]
[5949,77,39.154435561760565,58.793732008412952]
[5950,77,37.846952295683785,58.793732008412952]
[5951,78,37.653771769858295,47.783959608661071]
[5952,78,32.364183935683045,47.783959608661071]
[5953,69,25.98360331498715,32.555553346132236]
[5954,69,24.849791545458967,{"$f":"VLOOKUP(B5956,$F$3:$G$122,2,FALSE)","v":32.555553346132236}]
[5955,69,23.570800672782656,32.555553346132236]
[5956,69,16.586613358497516,32.555553346132236]
[5957,70,13.278122995662921,24.564664754138789]
[5958,70,23.152391861405231,24.564664754138789]
[5959,71,34.101303057382481,44.614086251465196]
[5960,71,51.0242176425145,44.614086251465196]
[5961,72,61.42393592572477,60.174888847080453]
[5962,72,63.036227880647672,60.174888847080453]
[5963,73,66.59474136671696,68.048101059795684]
[5964,73,77.003082053399993,68.048101059795684]
[5965,74,70.636046948730353,65.221760771411553]
[5966,74,66.113268073379515,65.221760771411553]
[5967,75,65.273795120514706,57.00554689534146]
[5968,75,63.046380745694677,57.00554689534146]
[5969,75,61.542184734322788,57.00554689534146]
[5970,76,57.966286382010452,59.686159325651666]
[5971,76,58.510459037799627,59.686159325651666]
[5972,76,58.543277675928593,59.686159325651666]
[5973,77,55.780021024816449,58.793732008412952]
[5974,77,48.432319621019772,58.793732008412952]
[5975,78,43.911459244978978,47.783959608661071]
[5976,78,36.177787424760602,47.783959608661071]
[5977,69,33.509858895817139,32.555553346132236]
[5978,69,30.601275328856349,32.555553346132236]
[5979,69,28.917777333040078,32.555553346132236]
[5980,69,23.460400097915883,32.555553346132236]
[5981,70,18.570133883506106,24.564664754138789]
[5982,70,30.988980216873081,24.564664754138789]
[5983,71,40.342926725223769,44.614086251465196]
[5984,71,50.569081359091271,44.614086251465196]
[5985,72,61.16428542942122,60.174888847080453]
[5986,72,65.303652912239116,60.174888847080453]
[5987,73,70.359413421192912,68.048101059795684]
[5988,73,81.387199743751097,68.048101059795684]
[5989,74,67.931395929079883,65.221760771411553]
[5990,74,66.960404379011038,65.221760771411553]
[5991,75,64.308202080532794,57.00554689534146]
[5992,75,61.65337760868433,57.00554689534146]
[5993,75,57.829614822868052,57.00554689534146]
[5994,76,55.728201827489606,59.686159325651666]
[5995,76,57.807071231107301,59.686159325651666]
[5996,76,58.32151074976025,59.686159325651666]
[5997,77,56.574435973224517,58.793732008412952]
[5998,77,49.28112282757975,58.793732008412952]
[5999,78,44.434894251789927,47.783959608661071]
[6000,78,36.694887768902653,47.783959608661071]
[6001,79,32.094100292509417,33.387130271002924]
[6002,79,30.28920372262241,33.387130271002924]
[6003,79,28.096136163512885,33.387130271002924]
[6004,79,23.747058093616968,33.387130271002924]
[6005,79,16.636803545389355,33.387130271002924]
[6006,79,30.179078173021249,33.387130271002924]
[6007,80,38.996103985170627,63.536417516121539]
[6008,80,49.972459998000453,63.536417516121539]
[6009,80,60.325851403321217,63.536417516121539]
[6010,81,63.702670256990721,79.174045004729408]
[6011,81,68.55645314302744,79.174045004729408]
[6012,82,77.814818679553042,81.988957271848534]
[6013,82,66.554944706040828,81.988957271848534]
[6014,83,65.017752666993601,73.812427465669259]
[6015,83,64.817209321656307,73.812427465669259]
[6016,83,62.638363136392385,73.812427465669259]
[6017,83,58.400029607075311,73.812427465669259]
[6018,84,56.370620696180531,{"$f":"VLOOKUP(B6020,$F$3:$G$122,2,FALSE)","v":72.102586943222008}]
[6019,84,56.840851522577992,72.102586943222008]
[6020,84,57.786871159001954,72.102586943222008]
[6021,85,57.925848748351541,58.589479422734449]
[6022,85,50.23050833648864,58.589479422734449]
[6023,85,43.394719926974908,58.589479422734449]
[6024,85,35.460234525964708,58.589479422734449]
[6025,79,32.308289903902029,33.387130271002924]
[6026,79,29.719334124921776,33.387130271002924]
[6027,79,27.690173227980846,33.387130271002924]
[6028,79,23.438379872567776,33.387130271002924]
[6029,79,16.337459303996798,33.387130271002924]
[6030,79,29.765716945738284,33.387130271002924]
[6031,80,39.0660322523483,63.536417516121539]
[6032,80,49.638761743814676,63.536417516121539]
[6033,80,61.371509262078746,63.536417516121539]
[6034,81,66.350908509890047,79.174045004729408]
[6035,81,68.701801169437914,79.174045004729408]
[6036,82,75.997502628766057,81.988957271848534]
[6037,82,68.125913491499034,81.988957271848534]
[6038,83,67.374693290199076,73.812427465669259]
[6039,83,65.61883946569337,73.812427465669259]
[6040,83,62.373582104053192,73.812427465669259]
[6041,83,60.288071796683582,73.812427465669259]
[6042,84,57.279932817523793,72.102586943222008]
[6043,84,56.644547593742359,72.102586943222008]
[6044,84,56.228381407089685,72.102586943222008]
[6045,85,58.081512327991391,58.589479422734449]
[6046,85,48.989874094924225,58.589479422734449]
[6047,85,42.993538487197149,58.589479422734449]
[6048,85,36.231203266511145,58.589479422734449]
[6049,69,33.577441303495497,32.555553346132236]
[6050,69,31.610163082494324,32.555553346132236]
[6051,69,29.266234270509603,32.555553346132236]
[6052,69,23.844439939918686,32.555553346132236]
[6053,70,17.834564675056672,24.564664754138789]
[6054,70,30.707490273675013,24.564664754138789]
[6055,71,38.095183090013883,44.614086251465196]
[6056,71,48.833613488595901,44.614086251465196]
[6057,72,59.480476527539317,60.174888847080453]
[6058,72,63.550394365065792,60.174888847080453]
[6059,73,67.389037762859601,68.048101059795684]
[6060,73,69.586419237695949,68.048101059795684]
[6061,74,65.074664683743222,65.221760771411553]
[6062,74,62.252518641542316,65.221760771411553]
[6063,75,60.253056240502197,57.00554689534146]
[6064,75,58.354629748311453,57.00554689534146]
[6065,75,54.308560859497256,57.00554689534146]
[6066,76,52.79857541209136,59.686159325651666]
[6067,76,53.785647668027259,59.686159325651666]
[6068,76,53.167181695428376,59.686159325651666]
[6069,77,52.046015349027243,58.793732008412952]
[6070,77,46.787507134035017,58.793732008412952]
[6071,78,42.909815561583237,47.783959608661071]
[6072,78,34.856556658294579,47.783959608661071]
[6073,69,33.791772243192298,32.555553346132236]
[6074,69,32.151040968927902,32.555553346132236]
[6075,69,29.494518032917913,32.555553346132236]
[6076,69,26.445383435531337,32.555553346132236]
[6077,70,16.129838904582268,24.564664754138789]
[6078,70,24.119123896014994,24.564664754138789]
[6079,71,26.63717162914271,44.614086251465196]
[6080,71,29.473317293303545,44.614086251465196]
[6081,72,36.687233868502204,60.174888847080453]
[6082,72,41.735249808847264,{"$f":"VLOOKUP(B6084,$F$3:$G$122,2,FALSE)","v":60.174888847080453}]
[6083,73,44.886589707123861,68.048101059795684]
[6084,73,46.258915285978077,68.048101059795684]
[6085,74,45.16924998192772,65.221760771411553]
[6086,74,43.378748592541839,65.221760771411553]
[6087,75,40.197584827350489,57.00554689534146]
[6088,75,37.104355114459437,57.00554689534146]
[6089,75,35.919130303101973,57.00554689534146]
[6090,76,36.146984635411854,59.686159325651666]
[6091,76,38.208867768345478,59.686159325651666]
[6092,76,39.562732271612994,59.686159325651666]
[6093,77,42.425587988520334,58.793732008412952]
[6094,77,39.838188141447333,58.793732008412952]
[6095,78,38.178063853726151,47.783959608661071]
[6096,78,32.497912559709562,47.783959608661071]
[6097,69,28.324573034580855,32.555553346132236]
[6098,69,27.127760207364989,32.555553346132236]
[6099,69,22.817131858186745,32.555553346132236]
[6100,69,19.020075881190547,32.555553346132236]
[6101,70,15.488857186281464,24.564664754138789]
[6102,70,14.722517933138811,24.564664754138789]
[6103,71,17.409147650693985,44.614086251465196]
[6104,71,17.346624213429028,44.614086251465196]
[6105,72,22.772809400193964,60.174888847080453]
[6106,72,29.907343794678773,60.174888847080453]
[6107,73,35.114499374012517,68.048101059795684]
[6108,73,37.992414357705414,68.048101059795684]
[6109,74,38.773507274625544,65.221760771411553]
[6110,74,35.550708911558942,65.221760771411553]
[6111,75,30.927025489392523,57.00554689534146]
[6112,75,29.323290620607438,57.00554689534146]
[6113,75,27.351474040215795,57.00554689534146]
[6114,76,26.906493834236436,59.686159325651666]
[6115,76,33.282652696781327,59.686159325651666]
[6116,76,38.681670668123182,59.686159325651666]
[6117,77,40.35566069157386,58.793732008412952]
[6118,77,39.008064939300105,58.793732008412952]
[6119,78,38.808957797527206,47.783959608661071]
[6120,78,33.357089860431209,47.783959608661071]
[6121,69,26.853704471000356,32.555553346132236]
[6122,69,25.681925260259018,32.555553346132236]
[6123,69,24.360105399495279,32.555553346132236]
[6124,69,17.142041767814732,32.555553346132236]
[6125,70,13.722761486643423,24.564664754138789]
[6126,70,23.927685521752178,24.564664754138789]
[6127,71,35.243237948093764,44.614086251465196]
[6128,71,52.732842509405614,44.614086251465196]
[6129,72,63.480811448644559,60.174888847080453]
[6130,72,65.147093494041158,60.174888847080453]
[6131,73,68.824769309537317,68.048101059795684]
[6132,73,79.581649386768945,68.048101059795684]
[6133,74,73.001404261233802,65.221760771411553]
[6134,74,68.327173138089236,65.221760771411553]
[6135,75,67.459589134656312,57.00554689534146]
[6136,75,65.157586343481682,57.00554689534146]
[6137,75,63.603020001540195,57.00554689534146]
[6138,76,59.907377160658868,59.686159325651666]
[6139,76,60.469772279712011,59.686159325651666]
[6140,76,60.503689900712168,59.686159325651666]
[6141,77,57.647901325626762,58.793732008412952]
[6142,77,50.054150772757836,58.793732008412952]
[6143,78,45.381902392840814,47.783959608661071]
[6144,78,37.389256607024777,47.783959608661071]
[6145,69,34.724975064052174,32.555553346132236]
[6146,69,31.710922031228673,{"$f":"VLOOKUP(B6148,$F$3:$G$122,2,FALSE)","v":32.555553346132236}]
[6147,69,29.966377952220355,32.555553346132236]
[6148,69,24.311108289820531,32.555553346132236]
[6149,70,19.24351391767134,24.564664754138789]
[6150,70,32.11268566176048,24.564664754138789]
[6151,71,41.805819860350034,44.614086251465196]
[6152,71,52.402789718271947,44.614086251465196]
[6153,72,63.382191281394526,60.174888847080453]
[6154,72,67.671658243003904,60.174888847080453]
[6155,73,72.910747973255042,68.048101059795684]
[6156,73,84.338417849547142,68.048101059795684]
[6157,74,70.394687039341903,65.221760771411553]
[6158,74,69.388485924966133,65.221760771411553]
[6159,75,66.640110917902902,57.00554689534146]
[6160,75,63.889018653653451,57.00554689534146]
[6161,75,59.926600673884067,57.00554689534146]
[6162,76,57.748987390263217,59.686159325651666]
[6163,76,59.903239618733693,59.686159325651666]
[6164,76,60.436333461734527,59.686159325651666]
[6165,77,58.625907215570571,58.793732008412952]
[6166,77,51.0681279392021,58.793732008412952]
[6167,78,46.046168074429147,47.783959608661071]
[6168,78,38.025497711433012,47.783959608661071]
[6169,79,33.345795590373207,33.387130271002924]
[6170,79,31.470506626586157,33.387130271002924]
[6171,79,29.191907697953379,33.387130271002924]
[6172,79,24.673212143207703,33.387130271002924]
[6173,79,17.285652043382864,33.387130271002924]
[6174,79,31.356086093441164,33.387130271002924]
[6175,80,40.516982886537996,63.536417516121539]
[6176,80,51.921425466173517,63.536417516121539]
[6177,80,62.678607325841682,63.536417516121539]
[6178,81,66.187124785870381,79.174045004729408]
[6179,81,71.23020904380823,79.174045004729408]
[6180,82,80.849658159631986,81.988957271848534]
[6181,82,69.150640194584554,81.988957271848534]
[6182,83,67.553496450094499,73.812427465669259]
[6183,83,67.345131755659125,73.812427465669259]
[6184,83,65.081308845701045,73.812427465669259]
[6185,83,60.677676956215798,73.812427465669259]
[6186,84,58.569119492532231,72.102586943222008]
[6187,84,59.057689693112124,72.102586943222008]
[6188,84,60.040604843658812,72.102586943222008]
[6189,85,60.185002668924398,58.589479422734449]
[6190,85,52.189537893979164,58.589479422734449]
[6191,85,45.087148329380938,58.589479422734449]
[6192,85,36.84321172154781,58.589479422734449]
[6193,79,33.655597611660376,33.387130271002924]
[6194,79,30.95867820828401,33.387130271002924]
[6195,79,28.844898034839673,33.387130271002924]
[6196,79,24.415798050800252,33.387130271002924]
[6197,79,17.018757661506111,33.387130271002924]
[6198,79,31.006995267408378,33.387130271002924]
[6199,80,40.695148696507978,63.536417516121539]
[6200,80,51.708778030654557,63.536417516121539]
[6201,80,63.930800011032154,63.536417516121539]
[6202,81,69.117848224682788,79.174045004729408]
[6203,81,71.566776893246981,79.174045004729408]
[6204,82,79.166720850054688,81.988957271848534]
[6205,82,70.966873771915786,81.988957271848534]
[6206,83,70.184326478700825,73.812427465669259]
[6207,83,68.355250722657132,73.812427465669259]
[6208,83,64.974660903929234,73.812427465669259]
[6209,83,62.802181458914575,73.812427465669259]
[6210,84,59.668598240994854,{"$f":"VLOOKUP(B6212,$F$3:$G$122,2,FALSE)","v":72.102586943222008}]
[6211,84,59.006716430363959,72.102586943222008]
[6212,84,58.573195443669142,72.102586943222008]
[6213,85,60.503604907651983,58.589479422734449]
[6214,85,51.032830722047677,58.589479422734449]
[6215,85,44.786438264929117,58.589479422734449]
[6216,85,37.742102777674511,58.589479422734449]
[6217,69,35.066973575261514,32.555553346132236]
[6218,69,33.012424726006174,32.555553346132236]
[6219,69,30.564516650782892,32.555553346132236]
[6220,69,24.902205553196612,32.555553346132236]
[6221,70,18.625725603499113,24.564664754138789]
[6222,70,32.069708357362593,24.564664754138789]
[6223,71,39.785127362375796,44.614086251465196]
[6224,71,50.999926358619135,44.614086251465196]
[6225,72,62.119095966316145,60.174888847080453]
[6226,72,66.369559840916637,60.174888847080453]
[6227,73,70.378489686958076,68.048101059795684]
[6228,73,72.673349423778873,68.048101059795684]
[6229,74,67.961448469460009,65.221760771411553]
[6230,74,65.014108921074424,65.221760771411553]
[6231,75,62.92594816611232,57.00554689534146]
[6232,75,60.943305384177087,57.00554689534146]
[6233,75,56.717748423916241,57.00554689534146]
[6234,76,55.140778359264544,59.686159325651666]
[6235,76,56.171638227439637,59.686159325651666]
[6236,76,55.525736423240332,59.686159325651666]
[6237,77,54.354833903082323,58.793732008412952]
[6238,77,48.863052472993679,58.793732008412952]
[6239,78,44.813342232266514,47.783959608661071]
[6240,78,36.402831895763775,47.783959608661071]
[6241,69,35.379195030127057,32.555553346132236]
[6242,69,33.661387768451903,32.555553346132236]
[6243,69,30.880070399871517,32.555553346132236]
[6244,69,27.68769780639855,32.555553346132236]
[6245,70,16.887563999390785,24.564664754138789]
[6246,70,25.25215848792369,24.564664754138789]
[6247,71,27.888495558508737,44.614086251465196]
[6248,71,30.857873721455199,44.614086251465196]
[6249,72,38.410675616787486,60.174888847080453]
[6250,72,43.695830215467574,60.174888847080453]
[6251,73,46.995209368030665,68.048101059795684]
[6252,73,48.432002145565335,68.048101059795684]
[6253,74,47.291148063331541,65.221760771411553]
[6254,74,45.416534994774352,65.221760771411553]
[6255,75,42.085930951236747,57.00554689534146]
[6256,75,38.847391803370549,57.00554689534146]
[6257,75,37.60648915245946,57.00554689534146]
[6258,76,37.845047308073049,59.686159325651666]
[6259,76,40.003790713550522,59.686159325651666]
[6260,76,41.421255176815457,59.686159325651666]
[6261,77,44.418598140145356,58.793732008412952]
[6262,77,41.709651028649645,58.793732008412952]
[6263,78,39.971539735556078,47.783959608661071]
[6264,78,34.024554209452845,47.783959608661071]
[6265,69,29.727931742072187,32.555553346132236]
[6266,69,28.471822073902697,32.555553346132236]
[6267,69,23.947620943902912,32.555553346132236]
[6268,69,19.962437450857525,32.555553346132236]
[6269,70,16.256262314504234,24.564664754138789]
[6270,70,15.451954303192581,24.564664754138789]
[6271,71,18.271694772437922,44.614086251465196]
[6272,71,18.206073572322271,44.614086251465196]
[6273,72,23.901102501974712,60.174888847080453]
[6274,72,31.389121870590387,{"$f":"VLOOKUP(B6276,$F$3:$G$122,2,FALSE)","v":60.174888847080453}]
[6275,73,36.854269233757847,68.048101059795684]
[6276,73,39.874772317432146,68.048101059795684]
[6277,74,40.694564972031692,65.221760771411553]
[6278,74,37.312091045990961,65.221760771411553]
[6279,75,32.459324333380636,57.00554689534146]
[6280,75,30.776131416282901,57.00554689534146]
[6281,75,28.706619948688896,57.00554689534146]
[6282,76,28.239592919763261,59.686159325651666]
[6283,76,34.931662565823792,59.686159325651666]
[6284,76,40.598178263353233,59.686159325651666]
[6285,77,42.355107170747367,58.793732008412952]
[6286,77,40.940743943079617,58.793732008412952]
[6287,78,40.73177191328918,47.783959608661071]
[6288,78,35.009787765358325,47.783959608661071]
[6289,69,28.251864744159498,32.555553346132236]
[6290,69,27.019075882286351,32.555553346132236]
[6291,69,25.628434380188608,32.555553346132236]
[6292,69,18.034556311812775,32.555553346132236]
[6293,70,14.437248382460087,24.564664754138789]
[6294,70,25.173500204835747,24.564664754138789]
[6295,71,37.078206201718984,44.614086251465196]
[6296,71,55.478421450554279,44.614086251465196]
[6297,72,66.785992257916135,60.174888847080453]
[6298,72,68.539030652414141,60.174888847080453]
[6299,73,72.408187692719991,68.048101059795684]
[6300,73,83.725133603824332,68.048101059795684]
[6301,74,76.802282588211426,65.221760771411553]
[6302,74,71.88468376617071,65.221760771411553]
[6303,75,70.971928285985356,57.00554689534146]
[6304,75,68.550069820715649,57.00554689534146]
[6305,75,66.91456369992018,57.00554689534146]
[6306,76,63.026504166232641,59.686159325651666]
[6307,76,63.618180851042496,59.686159325651666]
[6308,76,63.653864420956452,59.686159325651666]
[6309,77,60.649386858154728,58.793732008412952]
[6310,77,52.66026141915912,58.793732008412952]
[6311,78,47.744748573507522,47.783959608661071]
[6312,78,39.335959092238639,47.783959608661071]
[6313,69,36.618702830973774,32.555553346132236]
[6314,69,33.440278307351392,32.555553346132236]
[6315,69,31.600595454105143,32.555553346132236]
[6316,69,25.636915456799056,32.555553346132236]
[6317,70,20.292959642882579,24.564664754138789]
[6318,70,33.863952131957468,24.564664754138789]
[6319,71,44.085701753495698,44.614086251465196]
[6320,71,55.260577744630432,44.614086251465196]
[6321,72,66.838741367795265,60.174888847080453]
[6322,72,71.362134564787354,60.174888847080453]
[6323,73,76.88693824234214,68.048101059795684]
[6324,73,88.937816507294841,68.048101059795684]
[6325,74,74.233663834696344,65.221760771411553]
[6326,74,73.172589506275457,65.221760771411553]
[6327,75,70.274331769125652,57.00554689534146]
[6328,75,67.373208589070998,57.00554689534146]
[6329,75,63.194700001933349,57.00554689534146]
[6330,76,60.898330499389274,59.686159325651666]
[6331,76,63.170064950798206,59.686159325651666]
[6332,76,63.732231085744637,59.686159325651666]
[6333,77,61.823073178981922,58.793732008412952]
[6334,77,53.853130137325678,58.793732008412952]
[6335,78,48.557297510290283,47.783959608661071]
[6336,78,40.099219599910342,47.783959608661071]
[6337,79,35.244880874530452,33.387130271002924]
[6338,79,33.262791829605177,{"$f":"VLOOKUP(B6340,$F$3:$G$122,2,FALSE)","v":33.387130271002924}]
[6339,79,30.854423806630788,33.387130271002924]
[6340,79,26.078382818085306,33.387130271002924]
[6341,79,18.270091815817857,33.387130271002924]
[6342,79,33.14185490220855,33.387130271002924]
[6343,80,42.824476367979734,63.536417516121539]
[6344,80,54.878416393801686,63.536417516121539]
[6345,80,66.248233382037498,63.536417516121539]
[6346,81,69.956565354198375,79.174045004729408]
[6347,81,75.286859646608434,79.174045004729408]
[6348,82,85.454148570543822,81.988957271848534]
[6349,82,73.088856718094334,81.988957271848534]
[6350,83,71.400753614916184,73.812427465669259]
[6351,83,71.180522287283594,73.812427465669259]
[6352,83,68.787771795958093,73.812427465669259]
[6353,83,64.133347494113025,73.812427465669259]
[6354,84,61.904705012837702,72.102586943222008]
[6355,84,62.42109990500979,72.102586943222008]
[6356,84,63.459993318030975,72.102586943222008]
[6357,85,63.612614782294258,58.589479422734449]
[6358,85,55.161798163877648,58.589479422734449]
[6359,85,47.654918519925182,58.589479422734449]
[6360,85,38.941479283101522,58.589479422734449]
[6361,79,35.651801888289015,33.387130271002924]
[6362,79,32.794920920454274,33.387130271002924]
[6363,79,30.555766743232912,33.387130271002924]
[6364,79,25.863964892128973,33.387130271002924]
[6365,79,18.028186084641128,33.387130271002924]
[6366,79,32.846103794685277,33.387130271002924]
[6367,80,43.108887736395424,63.536417516121539]
[6368,80,54.77576513440669,63.536417516121539]
[6369,80,67.722708206003475,63.536417516121539]
[6370,81,73.217414240699043,79.174045004729408]
[6371,81,75.811595474312099,79.174045004729408]
[6372,82,83.862312607212857,81.988957271848534]
[6373,82,75.176110480681913,81.988957271848534]
[6374,83,74.347148196670958,73.812427465669259]
[6375,83,72.409585023805178,73.812427465669259]
[6376,83,68.828483304158496,73.812427465669259]
[6377,83,66.527148243235118,73.812427465669259]
[6378,84,63.207703752163745,72.102586943222008]
[6379,84,62.506563945990784,72.102586943222008]
[6380,84,62.047329660199814,72.102586943222008]
[6381,85,64.092236916559145,58.589479422734449]
[6382,85,54.059725567632654,58.589479422734449]
[6383,85,47.44284272492424,58.589479422734449]
[6384,85,39.980688698598662,58.589479422734449]
[6385,69,37.227719413570284,32.555553346132236]
[6386,69,35.046574014256159,32.555553346132236]
[6387,69,32.447831502900279,32.555553346132236]
[6388,69,26.436621886510821,32.555553346132236]
[6389,70,19.773399753276141,24.564664754138789]
[6390,70,34.045769642498193,24.564664754138789]
[6391,71,42.23659492886928,44.614086251465196]
[6392,71,54.142423911107684,44.614086251465196]
[6393,72,65.946731042968736,60.174888847080453]
[6394,72,70.45909867462467,60.174888847080453]
[6395,73,74.715049509298467,68.048101059795684]
[6396,73,77.15131319748096,68.048101059795684]
[6397,74,72.149075800077924,65.221760771411553]
[6398,74,69.02012800284848,65.221760771411553]
[6399,75,66.803299609907285,57.00554689534146]
[6400,75,64.698490963537665,57.00554689534146]
[6401,75,60.212564952699239,57.00554689534146]
[6402,76,58.538425638553562,{"$f":"VLOOKUP(B6404,$F$3:$G$122,2,FALSE)","v":59.686159325651666}]
[6403,76,59.632804708500032,59.686159325651666]
[6404,76,58.94710392842434,59.686159325651666]
[6405,77,57.704053102052598,58.793732008412952]
[6406,77,51.873880797014408,58.793732008412952]
[6407,78,47.574636774016945,47.783959608661071]
[6408,78,38.645890235332466,47.783959608661071]
[6409,69,37.638679328471738,32.555553346132236]
[6410,69,35.811164694086933,32.555553346132236]
[6411,69,32.852219120069165,32.555553346132236]
[6412,69,29.455966372079519,32.555553346132236]
[6413,70,17.966084459266192,24.564664754138789]
[6414,70,26.864881885225081,24.564664754138789]
[6415,71,29.66958802726748,44.614086251465196]
[6416,71,32.828604855800073,44.614086251465196]
[6417,72,40.863764737979693,60.174888847080453]
[6418,72,46.486454541173991,60.174888847080453]
[6419,73,49.99654779797698,68.048101059795684]
[6420,73,51.525101021673585,68.048101059795684]
[6421,74,50.311386551199917,65.221760771411553]
[6422,74,48.317051742499402,65.221760771411553]
[6423,75,44.773739424113586,57.00554689534146]
[6424,75,41.328371705163541,57.00554689534146]
[6425,75,40.00821908677522,57.00554689534146]
[6426,76,40.262012705106159,59.686159325651666]
[6427,76,42.558623770508561,59.686159325651666]
[6428,76,44.066614281510915,59.686159325651666]
[6429,77,47.255381876086119,58.793732008412952]
[6430,77,44.373428469273108,58.793732008412952]
[6431,78,42.524313091090079,47.783959608661071]
[6432,78,36.197524677802136,47.783959608661071]
[6433,69,31.69154094528729,32.555553346132236]
[6434,69,30.352461882339004,32.555553346132236]
[6435,69,25.529425197510122,32.555553346132236]
[6436,69,21.281009702610731,32.555553346132236]
[6437,70,17.330031810734052,24.564664754138789]
[6438,70,16.472597109448341,24.564664754138789]
[6439,71,19.478588959520561,44.614086251465196]
[6440,71,19.408633304065368,44.614086251465196]
[6441,72,25.479834088385228,60.174888847080453]
[6442,72,33.462457113711324,60.174888847080453]
[6443,73,39.288592040774965,68.048101059795684]
[6444,73,42.508607411577145,68.048101059795684]
[6445,74,43.382549558151652,65.221760771411553]
[6446,74,39.776654205136623,65.221760771411553]
[6447,75,34.603349304380103,57.00554689534146]
[6448,75,32.808977004489243,57.00554689534146]
[6449,75,30.60276878317605,57.00554689534146]
[6450,76,30.104893373000579,59.686159325651666]
[6451,76,37.238992073069049,59.686159325651666]
[6452,76,43.279796250213259,59.686159325651666]
[6453,77,45.152774999281085,58.793732008412952]
[6454,77,43.644989307022335,58.793732008412952]
[6455,78,43.422214117144236,47.783959608661071]
[6456,78,37.322277650464379,47.783959608661071]
[6457,69,30.178084134464566,32.555553346132236]
[6458,69,28.861243411540972,32.555553346132236]
[6459,69,27.375787614862638,32.555553346132236]
[6460,69,19.264156990491657,32.555553346132236]
[6461,70,15.421583683112909,24.564664754138789]
[6462,70,26.889835910655925,24.564664754138789]
[6463,71,39.606207818258135,44.614086251465196]
[6464,71,59.260954465960495,44.614086251465196]
[6465,72,71.339478353539491,60.174888847080453]
[6466,72,73.212039355766578,{"$f":"VLOOKUP(B6468,$F$3:$G$122,2,FALSE)","v":60.174888847080453}]
[6467,73,77.344996516264985,68.048101059795684]
[6468,73,89.433534704566156,68.048101059795684]
[6469,74,82.038681929663227,65.221760771411553]
[6470,74,76.785799957623908,65.221760771411553]
[6471,75,75.810812574501838,57.00554689534146]
[6472,75,73.223831177396576,57.00554689534146]
[6473,75,71.476815829462723,57.00554689534146]
[6474,76,67.323667398731772,59.686159325651666]
[6475,76,67.955684751791054,59.686159325651666]
[6476,76,67.993801236661469,59.686159325651666]
[6477,77,64.784477622400374,58.793732008412952]
[6478,77,56.250651560223631,58.793732008412952]
[6479,78,50.999997786979094,47.783959608661071]
[6480,78,42.017894880402174,47.783959608661071]
[6481,69,39.19104219658194,32.555553346132236]
[6482,69,35.789344157224527,32.555553346132236]
[6483,69,33.820429838694452,32.555553346132236]
[6484,69,27.437821598851471,32.555553346132236]
[6485,70,21.71847105913983,24.564664754138789]
[6486,70,36.242779627464039,24.564664754138789]
[6487,71,47.182572404660782,44.614086251465196]
[6488,71,59.142445438166739,44.614086251465196]
[6489,72,71.533935688623458,60.174888847080453]
[6490,72,76.375081877589494,60.174888847080453]
[6491,73,82.287984228454192,68.048101059795684]
[6492,73,95.185395716994194,68.048101059795684]
[6493,74,79.44832631514322,65.221760771411553]
[6494,74,78.312715122939053,65.221760771411553]
[6495,75,75.21086463420103,57.00554689534146]
[6496,75,72.105947414936963,57.00554689534146]
[6497,75,67.633912807015918,57.00554689534146]
[6498,76,65.176231154867793,59.686159325651666]
[6499,76,67.607547227300842,59.686159325651666]
[6500,76,68.209203621790593,59.686159325651666]
[6501,77,66.165933863458577,58.793732008412952]
[6502,77,57.636129421950493,58.793732008412952]
[6503,78,51.96828255937335,47.783959608661071]
[6504,78,42.91605343433465,47.783959608661071]
[6505,79,37.791356144981144,33.387130271002924]
[6506,79,35.66605933167947,33.387130271002924]
[6507,79,33.083684489545135,33.387130271002924]
[6508,79,27.962570118249797,33.387130271002924]
[6509,79,19.590122862694354,33.387130271002924]
[6510,79,35.536384599323426,33.387130271002924]
[6511,80,45.918584429495873,63.536417516121539]
[6512,80,58.843432780884989,63.536417516121539]
[6513,80,71.034729571908713,63.536417516121539]
[6514,81,75.010991961974696,79.174045004729408]
[6515,81,80.726404951428108,79.174045004729408]
[6516,82,91.628289912288636,81.988957271848534]
[6517,82,78.369594276570226,81.988957271848534]
[6518,83,76.559524161458697,73.812427465669259]
[6519,83,76.323380916529757,73.812427465669259]
[6520,83,73.757751987163573,73.812427465669259]
[6521,83,68.767041220767041,73.812427465669259]
[6522,84,66.377377257096953,72.102586943222008]
[6523,84,66.931082158271053,72.102586943222008]
[6524,84,68.04503658211847,72.102586943222008]
[6525,85,68.208685088461138,58.589479422734449]
[6526,85,59.147289146184121,58.589479422734449]
[6527,85,51.098030498607649,58.589479422734449]
[6528,85,41.755037210625858,58.589479422734449]
[6529,79,38.296902733787938,33.387130271002924]
[6530,79,35.228062261432569,{"$f":"VLOOKUP(B6532,$F$3:$G$122,2,FALSE)","v":33.387130271002924}]
[6531,79,32.822779353160556,33.387130271002924]
[6532,79,27.782880396553935,33.387130271002924]
[6533,79,19.365744573401845,33.387130271002924]
[6534,79,35.283042527568966,33.387130271002924]
[6535,80,46.307249372010659,63.536417516121539]
[6536,80,58.83972305507109,63.536417516121539]
[6537,80,72.747233846992728,63.536417516121539]
[6538,81,78.649606557938824,79.174045004729408]
[6539,81,81.436256912633297,79.174045004729408]
[6540,82,90.084277900240593,81.988957271848534]
[6541,82,80.753623617797473,81.988957271848534]
[6542,83,79.86315844410943,73.812427465669259]
[6543,83,77.781842369137507,73.812427465669259]
[6544,83,73.935049304740957,73.812427465669259]
[6545,83,71.462972149645239,73.812427465669259]
[6546,84,67.897249351030482,72.102586943222008]
[6547,84,67.144090140622851,72.102586943222008]
[6548,84,66.650784056681715,72.102586943222008]
[6549,85,68.847408354712925,58.589479422734449]
[6550,85,58.070558631679162,58.589479422734449]
[6551,85,50.962751867182533,58.589479422734449]
[6552,85,42.946961029283607,58.589479422734449]
[6553,69,41.954889766320477,32.555553346132236]
[6554,69,39.561354151338477,32.555553346132236]
[6555,69,36.916500363576567,32.555553346132236]
[6556,69,22.201938202334563,32.555553346132236]
[6557,70,19.589092784131946,24.564664754138789]
[6558,70,36.60043384096506,24.564664754138789]
[6559,71,49.194221071202257,44.614086251465196]
[6560,71,67.299408949734712,44.614086251465196]
[6561,72,71.591546089238037,60.174888847080453]
[6562,72,72.283133193334805,60.174888847080453]
[6563,73,73.654469583820401,68.048101059795684]
[6564,73,74.284515665210478,68.048101059795684]
[6565,74,72.919400056783246,65.221760771411553]
[6566,74,71.232847567126356,65.221760771411553]
[6567,75,67.005370191606261,57.00554689534146]
[6568,75,64.695535206582591,57.00554689534146]
[6569,75,59.173006611058312,57.00554689534146]
[6570,76,56.678879834701341,59.686159325651666]
[6571,76,65.284624156704083,59.686159325651666]
[6572,76,73.133155002915061,59.686159325651666]
[6573,77,69.074414193336466,58.793732008412952]
[6574,77,54.734783553985956,58.793732008412952]
[6575,78,54.415435711589609,47.783959608661071]
[6576,78,46.231987682307313,47.783959608661071]
[6577,69,41.877745959493048,32.555553346132236]
[6578,69,40.55949314516846,32.555553346132236]
[6579,69,35.691091150006102,32.555553346132236]
[6580,69,32.135997701560619,32.555553346132236]
[6581,70,18.007898569885555,24.564664754138789]
[6582,70,30.570312961483697,24.564664754138789]
[6583,71,33.716086334462673,44.614086251465196]
[6584,71,42.480721518773308,44.614086251465196]
[6585,72,48.078911891949105,60.174888847080453]
[6586,72,53.168763687314076,60.174888847080453]
[6587,73,55.263259405145476,68.048101059795684]
[6588,73,56.360532404098898,68.048101059795684]
[6589,74,56.707499782553249,65.221760771411553]
[6590,74,53.050065350067378,65.221760771411553]
[6591,75,50.271515192448902,57.00554689534146]
[6592,75,45.319566025653437,57.00554689534146]
[6593,75,41.518331549585582,57.00554689534146]
[6594,76,42.211333917369849,{"$f":"VLOOKUP(B6596,$F$3:$G$122,2,FALSE)","v":59.686159325651666}]
[6595,76,49.348235058212396,59.686159325651666]
[6596,76,55.777491854357081,59.686159325651666]
[6597,77,56.57799574472547,58.793732008412952]
[6598,77,48.975052648036709,58.793732008412952]
[6599,78,49.459239648816805,47.783959608661071]
[6600,78,43.03362465081338,47.783959608661071]
[6601,69,36.730604009284356,32.555553346132236]
[6602,69,33.694906688061067,32.555553346132236]
[6603,69,27.803470400282613,32.555553346132236]
[6604,69,20.787279581416076,32.555553346132236]
[6605,70,16.407899007049753,24.564664754138789]
[6606,70,17.216753739800225,24.564664754138789]
[6607,71,20.298838012633684,44.614086251465196]
[6608,71,28.438689586125371,44.614086251465196]
[6609,72,32.68765012942783,60.174888847080453]
[6610,72,39.920963723558103,60.174888847080453]
[6611,73,44.261470797244741,68.048101059795684]
[6612,73,47.919089233087469,68.048101059795684]
[6613,74,47.964524074974769,65.221760771411553]
[6614,74,42.552692363249712,65.221760771411553]
[6615,75,39.622140496040529,57.00554689534146]
[6616,75,36.091930206140965,57.00554689534146]
[6617,75,19.256818517688121,57.00554689534146]
[6618,76,38.764046627847783,59.686159325651666]
[6619,76,47.64829029099171,59.686159325651666]
[6620,76,57.279505418718983,59.686159325651666]
[6621,77,53.452872934713064,58.793732008412952]
[6622,77,48.737035541822472,58.793732008412952]
[6623,78,47.645039990197752,47.783959608661071]
[6624,78,44.577018478951878,47.783959608661071]
[6625,69,37.355123207875216,32.555553346132236]
[6626,69,37.175501408051922,32.555553346132236]
[6627,69,33.325672784796716,32.555553346132236]
[6628,69,28.6743207043897,32.555553346132236]
[6629,70,18.482304355051198,24.564664754138789]
[6630,70,40.534483023482977,24.564664754138789]
[6631,71,48.56045645662541,44.614086251465196]
[6632,71,69.259713623007372,44.614086251465196]
[6633,72,68.843217429570871,60.174888847080453]
[6634,72,72.110716538056934,60.174888847080453]
[6635,73,74.859068649535189,68.048101059795684]
[6636,73,76.267269998550461,68.048101059795684]
[6637,74,74.984317985858723,65.221760771411553]
[6638,74,72.553316744148148,65.221760771411553]
[6639,75,69.583676845667156,57.00554689534146]
[6640,75,64.902429537684696,57.00554689534146]
[6641,75,66.525248472409956,57.00554689534146]
[6642,76,67.948757883821585,59.686159325651666]
[6643,76,76.509703948043821,59.686159325651666]
[6644,76,82.15243548882269,59.686159325651666]
[6645,77,77.109299134407237,58.793732008412952]
[6646,77,67.529762904927452,58.793732008412952]
[6647,78,61.557811474451718,47.783959608661071]
[6648,78,50.415514623675016,47.783959608661071]
[6649,69,35.349538260430293,32.555553346132236]
[6650,69,32.600165955232441,32.555553346132236]
[6651,69,31.124595176229498,32.555553346132236]
[6652,69,25.165762224329058,32.555553346132236]
[6653,70,22.068089809387736,24.564664754138789]
[6654,70,33.919967482088232,24.564664754138789]
[6655,71,48.422853402781925,44.614086251465196]
[6656,71,69.467942474922765,44.614086251465196]
[6657,72,75.962339932203619,60.174888847080453]
[6658,72,82.074977425428074,{"$f":"VLOOKUP(B6660,$F$3:$G$122,2,FALSE)","v":60.174888847080453}]
[6659,73,83.346417616674188,68.048101059795684]
[6660,73,86.65190486929103,68.048101059795684]
[6661,74,82.90546841667225,65.221760771411553]
[6662,74,79.898799910087178,65.221760771411553]
[6663,75,77.510928641983952,57.00554689534146]
[6664,75,73.942779239082213,57.00554689534146]
[6665,75,72.236258641851038,57.00554689534146]
[6666,76,71.091389162085719,59.686159325651666]
[6667,76,77.491944238775815,59.686159325651666]
[6668,76,87.684013177717617,59.686159325651666]
[6669,77,81.297419057638336,58.793732008412952]
[6670,77,68.103662531140131,58.793732008412952]
[6671,78,61.446279431199876,47.783959608661071]
[6672,78,50.476726257408387,47.783959608661071]
[6673,79,42.615969140162193,33.387130271002924]
[6674,79,40.315234124948425,33.387130271002924]
[6675,79,36.327825794507199,33.387130271002924]
[6676,79,29.921394165797729,33.387130271002924]
[6677,79,26.661634874256531,33.387130271002924]
[6678,79,39.917054472503523,33.387130271002924]
[6679,80,50.989696800758274,63.536417516121539]
[6680,80,72.437644627915034,63.536417516121539]
[6681,80,77.693300189584292,63.536417516121539]
[6682,81,79.255763865097535,79.174045004729408]
[6683,81,79.751865934680708,79.174045004729408]
[6684,82,81.251877363283299,81.988957271848534]
[6685,82,77.997494124828833,81.988957271848534]
[6686,83,76.575456084473956,73.812427465669259]
[6687,83,73.589779074940822,73.812427465669259]
[6688,83,71.085053675954796,73.812427465669259]
[6689,83,69.609910059279514,73.812427465669259]
[6690,84,67.11528910511683,72.102586943222008]
[6691,84,74.817199262907081,72.102586943222008]
[6692,84,81.994596561351869,72.102586943222008]
[6693,85,75.094441815924242,58.589479422734449]
[6694,85,64.694044200778436,58.589479422734449]
[6695,85,56.892750811936374,58.589479422734449]
[6696,85,49.372510974611707,58.589479422734449]
[6697,79,43.269729391417684,33.387130271002924]
[6698,79,42.05914537326921,33.387130271002924]
[6699,79,38.585437006836102,33.387130271002924]
[6700,79,24.225135963822847,33.387130271002924]
[6701,79,17.889502721109711,33.387130271002924]
[6702,79,39.375955379900184,33.387130271002924]
[6703,80,49.602055100564691,63.536417516121539]
[6704,80,75.216283417453937,63.536417516121539]
[6705,80,80.21356669607006,63.536417516121539]
[6706,81,80.981281650806039,79.174045004729408]
[6707,81,78.804534020868658,79.174045004729408]
[6708,82,79.531668504335357,81.988957271848534]
[6709,82,79.674289261093023,81.988957271848534]
[6710,83,76.232380668773175,73.812427465669259]
[6711,83,75.710106592304086,73.812427465669259]
[6712,83,73.364461510063151,73.812427465669259]
[6713,83,70.138031295443341,73.812427465669259]
[6714,84,68.33914957580464,72.102586943222008]
[6715,84,78.858633079257473,72.102586943222008]
[6716,84,88.37925517509079,72.102586943222008]
[6717,85,76.585453128706462,58.589479422734449]
[6718,85,63.746854477166188,58.589479422734449]
[6719,85,59.653358131357592,58.589479422734449]
[6720,85,48.108345448312015,58.589479422734449]
[6721,69,44.844561908988801,32.555553346132236]
[6722,69,42.286169867792331,{"$f":"VLOOKUP(B6724,$F$3:$G$122,2,FALSE)","v":32.555553346132236}]
[6723,69,39.459149940290928,32.555553346132236]
[6724,69,23.731112100630249,32.555553346132236]
[6725,70,20.938305141350249,24.564664754138789]
[6726,70,39.121314116634714,24.564664754138789]
[6727,71,52.582507180437524,44.614086251465196]
[6728,71,71.934702436221386,44.614086251465196]
[6729,72,76.522463499267744,60.174888847080453]
[6730,72,77.261684145010506,60.174888847080453]
[6731,73,78.727472280879894,68.048101059795684]
[6732,73,79.400913223277371,68.048101059795684]
[6733,74,77.941774330146856,65.221760771411553]
[6734,74,76.139059367565963,65.221760771411553]
[6735,75,71.620411554610769,57.00554689534146]
[6736,75,69.15148508233591,57.00554689534146]
[6737,75,63.248588498039396,57.00554689534146]
[6738,76,60.582677009434001,59.686159325651666]
[6739,76,69.781147942630952,59.686159325651666]
[6740,76,78.170251796505383,59.686159325651666]
[6741,77,73.831962397547215,58.793732008412952]
[6742,77,58.504679748491085,58.793732008412952]
[6743,78,58.163336601873141,47.783959608661071]
[6744,78,49.416247911564142,47.783959608661071]
[6745,69,44.683058361844886,32.555553346132236]
[6746,69,43.276498240507237,32.555553346132236]
[6747,69,38.081971040089712,32.555553346132236]
[6748,69,34.288728486100432,32.555553346132236]
[6749,70,19.214214240439027,24.564664754138789]
[6750,70,32.618161433977406,24.564664754138789]
[6751,71,35.974664321069731,44.614086251465196]
[6752,71,45.326426133647765,44.614086251465196]
[6753,72,51.299628879738464,60.174888847080453]
[6754,72,56.730440391070026,60.174888847080453]
[6755,73,58.965242485934915,68.048101059795684]
[6756,73,60.136019764600704,68.048101059795684]
[6757,74,60.50622984315001,65.221760771411553]
[6758,74,56.603790672726113,65.221760771411553]
[6759,75,53.639110601972781,57.00554689534146]
[6760,75,48.355439560106376,57.00554689534146]
[6761,75,44.299567448329213,57.00554689534146]
[6762,76,45.038992757288135,59.686159325651666]
[6763,76,52.653981646791514,59.686159325651666]
[6764,76,59.513922411590464,59.686159325651666]
[6765,77,60.368050570417658,58.793732008412952]
[6766,77,52.255800440247512,58.793732008412952]
[6767,78,52.772422228698844,47.783959608661071]
[6768,78,45.916367219332983,47.783959608661071]
[6769,69,39.123594169042107,32.555553346132236]
[6770,69,35.890121885668613,32.555553346132236]
[6771,69,29.614859917813401,32.555553346132236]
[6772,69,22.141565927316844,32.555553346132236]
[6773,70,17.476869744809584,24.564664754138789]
[6774,70,18.338421172002004,24.564664754138789]
[6775,71,21.621302505906666,44.614086251465196]
[6776,71,30.2914634833039,44.614086251465196]
[6777,72,34.81724280058436,60.174888847080453]
[6778,72,42.521805063776014,60.174888847080453]
[6779,73,47.145095146232819,68.048101059795684]
[6780,73,51.041006557679971,68.048101059795684]
[6781,74,51.089401468765125,65.221760771411553]
[6782,74,45.324990201605878,65.221760771411553]
[6783,75,42.203513573695268,57.00554689534146]
[6784,75,38.443310918751294,57.00554689534146]
[6785,75,20.51139568743519,57.00554689534146]
[6786,76,41.289515093037814,{"$f":"VLOOKUP(B6788,$F$3:$G$122,2,FALSE)","v":59.686159325651666}]
[6787,76,50.752565128584976,59.686159325651666]
[6788,76,61.011251642879586,59.686159325651666]
[6789,77,56.935314958024676,58.793732008412952]
[6790,77,51.912241874881005,58.793732008412952]
[6791,78,50.749103071463395,47.783959608661071]
[6792,78,47.481200684736116,47.783959608661071]
[6793,69,39.721876090236798,32.555553346132236]
[6794,69,39.530873778827406,32.555553346132236]
[6795,69,35.437126993664862,32.555553346132236]
[6796,69,30.491073678251318,32.555553346132236]
[6797,70,19.65330965094002,24.564664754138789]
[6798,70,43.102674379645855,24.564664754138789]
[6799,71,51.637158938583283,44.614086251465196]
[6800,71,73.647883511688988,44.614086251465196]
[6801,72,73.20499887453559,60.174888847080453]
[6802,72,76.679520802624964,60.174888847080453]
[6803,73,79.602003521179213,68.048101059795684]
[6804,73,81.099425954627279,68.048101059795684]
[6805,74,79.735188428377683,65.221760771411553]
[6806,74,77.150163355348809,65.221760771411553]
[6807,75,73.992372456797668,57.00554689534146]
[6808,75,69.01452980638895,57.00554689534146]
[6809,75,70.740167606680203,57.00554689534146]
[6810,76,72.253867993604871,59.686159325651666]
[6811,76,81.357220079632654,59.686159325651666]
[6812,76,87.357464860676117,59.686159325651666]
[6813,77,81.994804529949988,58.793732008412952]
[6814,77,71.808326252477485,58.793732008412952]
[6815,78,65.458002806395001,47.783959608661071]
[6816,78,53.609750227913892,47.783959608661071]
[6817,69,37.527465058365749,32.555553346132236]
[6818,69,34.608700678598851,32.555553346132236]
[6819,69,33.042218241339867,32.555553346132236]
[6820,69,26.71625455424417,32.555553346132236]
[6821,70,23.427730883650717,24.564664754138789]
[6822,70,36.00981673613164,24.564664754138789]
[6823,71,51.40624258544829,44.614086251465196]
[6824,71,73.747944448327075,44.614086251465196]
[6825,72,80.64246940244962,60.174888847080453]
[6826,72,87.131713710294363,60.174888847080453]
[6827,73,88.481488833218677,68.048101059795684]
[6828,73,91.990631059053854,68.048101059795684]
[6829,74,88.013372232269745,65.221760771411553]
[6830,74,84.821459328296584,65.221760771411553]
[6831,75,82.286468491431037,57.00554689534146]
[6832,75,78.498481190043478,57.00554689534146]
[6833,75,76.686819843517171,57.00554689534146]
[6834,76,75.471413603080492,59.686159325651666]
[6835,76,82.2663144367218,59.686159325651666]
[6836,76,93.086328779221375,59.686159325651666]
[6837,77,86.306249053214728,58.793732008412952]
[6838,77,72.299609606074199,58.793732008412952]
[6839,78,65.232057271371616,47.783959608661071]
[6840,78,53.586656972150443,47.783959608661071]
[6841,79,45.168948693639173,33.387130271002924]
[6842,79,42.730384372408906,33.387130271002924]
[6843,79,38.504103803593864,33.387130271002924]
[6844,79,31.713884376816228,33.387130271002924]
[6845,79,28.258843856466406,33.387130271002924]
[6846,79,42.308351114571167,33.387130271002924]
[6847,80,54.04431824893382,63.536417516121539]
[6848,80,76.777140581388849,63.536417516121539]
[6849,80,82.34764481269481,63.536417516121539]
[6850,81,84.003710438301383,{"$f":"VLOOKUP(B6852,$F$3:$G$122,2,FALSE)","v":79.174045004729408}]
[6851,81,84.529532316342213,79.174045004729408]
[6852,82,86.119404390718444,81.988957271848534]
[6853,82,82.670061984736265,81.988957271848534]
[6854,83,81.162834422365549,73.812427465669259]
[6855,83,77.998295532827882,73.812427465669259]
[6856,83,75.343520449188333,73.812427465669259]
[6857,83,73.780005933814778,73.812427465669259]
[6858,84,71.135940618344577,72.102586943222008]
[6859,84,79.299246341043485,72.102586943222008]
[6860,84,86.906617400963569,72.102586943222008]
[6861,85,79.593097564084758,58.589479422734449]
[6862,85,68.569647065355099,58.589479422734449]
[6863,85,60.301004396085226,58.589479422734449]
[6864,85,52.330252252474899,58.589479422734449]
[6865,79,45.789870091970499,33.387130271002924]
[6866,79,44.508778536601788,33.387130271002924]
[6867,79,40.832752430741465,33.387130271002924]
[6868,79,25.636070397144373,33.387130271002924]
[6869,79,18.931433524796713,33.387130271002924]
[6870,79,41.669312633845024,33.387130271002924]
[6871,80,52.491006791461785,63.536417516121539]
[6872,80,79.597073864972614,63.536417516121539]
[6873,80,84.885411817601351,63.536417516121539]
[6874,81,85.697840472447425,79.174045004729408]
[6875,81,83.394313443281234,79.174045004729408]
[6876,82,84.163798115490366,81.988957271848534]
[6877,82,84.314725473165197,81.988957271848534]
[6878,83,80.672351242324211,73.812427465669259]
[6879,83,80.119658575873956,73.812427465669259]
[6880,83,77.637397070929438,73.812427465669259]
[6881,83,74.22305123456394,73.812427465669259]
[6882,84,72.31939800142365,72.102586943222008]
[6883,84,83.451563370437313,72.102586943222008]
[6884,84,93.526691065814575,72.102586943222008]
[6885,85,81.045987553454097,58.589479422734449]
[6886,85,67.459635785477033,58.589479422734449]
[6887,85,63.12772364891282,58.589479422734449]
[6888,85,50.910299634431624,58.589479422734449]
[6889,69,47.383532055134246,32.555553346132236]
[6890,69,44.680291213141885,32.555553346132236]
[6891,69,41.693213546353128,32.555553346132236]
[6892,69,25.074699429693972,32.555553346132236]
[6893,70,22.123771771008993,24.564664754138789]
[6894,70,41.3362504297979,24.564664754138789]
[6895,71,55.559577537631689,44.614086251465196]
[6896,71,76.007438442163121,44.614086251465196]
[6897,72,80.85494534463507,60.174888847080453]
[6898,72,81.636018537733833,60.174888847080453]
[6899,73,83.184795383028003,68.048101059795684]
[6900,73,83.896364615125563,68.048101059795684]
[6901,74,82.354613473574446,65.221760771411553]
[6902,74,80.449833973462972,65.221760771411553]
[6903,75,75.675353314569364,57.00554689534146]
[6904,75,73.066643324755503,57.00554689534146]
[6905,75,66.829541709451448,57.00554689534146]
[6906,76,64.012693978106697,59.686159325651666]
[6907,76,73.731955885624487,59.686159325651666]
[6908,76,82.596026677098365,59.686159325651666]
[6909,77,78.012115806987268,58.793732008412952]
[6910,77,61.817046487465625,58.793732008412952]
[6911,78,61.456377473407748,47.783959608661071]
[6912,78,52.214053773434642,47.783959608661071]
[6913,69,47.141899989810874,32.555553346132236]
[6914,69,45.657938976381764,{"$f":"VLOOKUP(B6916,$F$3:$G$122,2,FALSE)","v":32.555553346132236}]
[6915,69,40.177564741623932,32.555553346132236]
[6916,69,36.17558574392055,32.555553346132236]
[6917,70,20.271543607655996,24.564664754138789]
[6918,70,34.413089894605427,24.564664754138789]
[6919,71,37.954296097131909,44.614086251465196]
[6920,71,47.820671324337454,44.614086251465196]
[6921,72,54.122570451177914,60.174888847080453]
[6922,72,59.852231367793287,60.174888847080453]
[6923,73,62.210011267279796,68.048101059795684]
[6924,73,63.44521466213817,68.048101059795684]
[6925,74,63.835796845588121,65.221760771411553]
[6926,74,59.718612305562644,65.221760771411553]
[6927,75,56.590790340793532,57.00554689534146]
[6928,75,51.0163668128056,57.00554689534146]
[6929,75,46.737306146982192,57.00554689534146]
[6930,76,47.517420920742666,59.686159325651666]
[6931,76,55.551451217984557,59.686159325651666]
[6932,76,62.788884225621374,59.686159325651666]
[6933,77,63.690013774898055,58.793732008412952]
[6934,77,55.131358697353775,58.793732008412952]
[6935,78,55.67640940732322,47.783959608661071]
[6936,78,48.443075982408075,47.783959608661071]
[6937,69,41.215729344278614,32.555553346132236]
[6938,69,37.809347049801111,32.555553346132236]
[6939,69,31.198515291500566,32.555553346132236]
[6940,69,23.325586718229061,32.555553346132236]
[6941,70,18.411445790869163,24.564664754138789]
[6942,70,19.319068702146517,24.564664754138789]
[6943,71,22.77750219736626,44.614086251465196]
[6944,71,31.911300249552724,44.614086251465196]
[6945,72,36.679095728848601,60.174888847080453]
[6946,72,44.795659651473116,60.174888847080453]
[6947,73,49.666180286548311,68.048101059795684]
[6948,73,53.770425658016535,68.048101059795684]
[6949,74,53.821408488180552,65.221760771411553]
[6950,74,47.748745184553336,65.221760771411553]
[6951,75,44.460347516011495,57.00554689534146]
[6952,75,40.499067930189554,57.00554689534146]
[6953,75,21.608243084058934,57.00554689534146]
[6954,76,43.497472943775286,59.686159325651666]
[6955,76,53.466559816297341,59.686159325651666]
[6956,76,64.273829848137567,59.686159325651666]
[6957,77,59.979932347270264,58.793732008412952]
[6958,77,54.688250305562548,58.793732008412952]
[6959,78,53.462912625584721,47.783959608661071]
[6960,78,50.020259077116755,47.783959608661071]
[6961,69,41.785630629491401,32.555553346132236]
[6962,69,41.58470477151328,32.555553346132236]
[6963,69,37.278266911758848,32.555553346132236]
[6964,69,32.075240840126746,32.555553346132236]
[6965,70,20.674399563998609,24.564664754138789]
[6966,70,45.342078674219728,24.564664754138789]
[6967,71,54.3199733381757,44.614086251465196]
[6968,71,77.474267581727929,44.614086251465196]
[6969,72,77.008372823445939,60.174888847080453]
[6970,72,80.663413929042051,60.174888847080453]
[6971,73,83.737734565891188,68.048101059795684]
[6972,73,85.312955750264081,68.048101059795684]
[6973,74,83.877839109920671,65.221760771411553]
[6974,74,81.158508768519525,65.221760771411553]
[6975,75,77.836654488719773,57.00554689534146]
[6976,75,72.600187463617914,57.00554689534146]
[6977,75,74.415480969882623,57.00554689534146]
[6978,76,76.007825830635539,{"$f":"VLOOKUP(B6980,$F$3:$G$122,2,FALSE)","v":59.686159325651666}]
[6979,76,85.584143598024738,59.686159325651666]
[6980,76,91.896131771434327,59.686159325651666]
[6981,77,86.254853820158885,58.793732008412952]
[6982,77,75.539135918243772,58.793732008412952]
[6983,78,68.858880703384429,47.783959608661071]
[6984,78,56.395050829774355,47.783959608661071]
[6985,69,39.421373147957567,32.555553346132236]
[6986,69,36.355306746541842,32.555553346132236]
[6987,69,34.709768243132004,32.555553346132236]
[6988,69,28.064550543466545,32.555553346132236]
[6989,70,24.610064115386951,24.564664754138789]
[6990,70,37.827133283231461,24.564664754138789]
[6991,71,54.000574457763136,44.614086251465196]
[6992,71,77.469800650557247,44.614086251465196]
[6993,72,84.712273342801637,60.174888847080453]
[6994,72,91.52901198768329,60.174888847080453]
[6995,73,92.946906553806343,68.048101059795684]
[6996,73,96.633145549665855,68.048101059795684]
[6997,74,92.455165393723718,65.221760771411553]
[6998,74,89.102165412307258,65.221760771411553]
[6999,75,86.439240550441241,57.00554689534146]
[7000,75,82.460083933934456,57.00554689534146]
[7001,75,80.556993015108219,57.00554689534146]
[7002,76,79.280248559918064,59.686159325651666]
[7003,76,86.418069375945407,59.686159325651666]
[7004,76,97.784140124356995,59.686159325651666]
[7005,77,90.661888396559377,58.793732008412952]
[7006,77,75.948372326772542,58.793732008412952]
[7007,78,68.524140037282478,47.783959608661071]
[7008,78,56.291028369895926,47.783959608661071]
[7009,79,47.382679626001355,33.387130271002924]
[7010,79,44.824601226525068,33.387130271002924]
[7011,79,40.391190576213468,33.387130271002924]
[7012,79,33.268182381547128,33.387130271002924]
[7013,79,29.643810267399548,33.387130271002924]
[7014,79,44.381884111648773,33.387130271002924]
[7015,80,56.693031191923765,63.536417516121539]
[7016,80,80.539989527821703,63.536417516121539]
[7017,80,86.383504264847801,63.536417516121539]
[7018,81,88.120733694515692,79.174045004729408]
[7019,81,88.672326111610417,79.174045004729408]
[7020,82,90.340117842992967,81.988957271848534]
[7021,82,86.721723107893681,81.988957271848534]
[7022,83,85.140626297434878,73.812427465669259]
[7023,83,81.820993303893417,73.812427465669259]
[7024,83,79.036107648919184,73.812427465669259]
[7025,83,77.395965260947648,73.812427465669259]
[7026,84,74.622314260060193,72.102586943222008]
[7027,84,83.185703733019437,72.102586943222008]
[7028,84,91.165912176061397,72.102586943222008]
[7029,85,83.493956609425979,58.589479422734449]
[7030,85,71.930246617035849,58.589479422734449]
[7031,85,63.256357631989083,58.589479422734449]
[7032,85,54.894958792256134,58.589479422734449]
[7033,79,47.968645658343789,33.387130271002924]
[7034,79,46.626597149537162,33.387130271002924]
[7035,79,42.775658211543615,33.387130271002924]
[7036,79,26.855887000400429,33.387130271002924]
[7037,79,19.832229808284751,33.387130271002924]
[7038,79,43.652023658179452,33.387130271002924]
[7039,80,54.988636132227832,63.536417516121539]
[7040,80,83.384465254017485,63.536417516121539]
[7041,80,88.924433130355737,63.536417516121539]
[7042,81,89.775518800367948,{"$f":"VLOOKUP(B7044,$F$3:$G$122,2,FALSE)","v":79.174045004729408}]
[7043,81,87.362385249114055,79.174045004729408]
[7044,82,88.168483574062108,81.988957271848534]
[7045,82,88.32659236375541,81.988957271848534]
[7046,83,84.510906525744431,73.812427465669259]
[7047,83,83.931915613089146,73.812427465669259]
[7048,83,81.331543034549981,73.812427465669259]
[7049,83,77.75473564787913,73.812427465669259]
[7050,84,75.760502704796835,72.102586943222008]
[7051,84,87.422359244764195,72.102586943222008]
[7052,84,97.976882099085756,72.102586943222008]
[7053,85,84.90232121588619,58.589479422734449]
[7054,85,70.669503074260007,58.589479422734449]
[7055,85,66.131469708265257,58.589479422734449]
[7056,85,53.332715699326577,58.589479422734449]
[7057,69,49.571800204756798,32.555553346132236]
[7058,69,46.743718187387138,32.555553346132236]
[7059,69,43.618691181763175,32.555553346132236]
[7060,69,26.232700189525733,32.555553346132236]
[7061,70,23.145492673108176,24.564664754138789]
[7062,70,43.245242780454596,24.564664754138789]
[7063,71,58.125432142784746,44.614086251465196]
[7064,71,79.517616967559903,44.614086251465196]
[7065,72,84.588991625339986,60.174888847080453]
[7066,72,85.406136371504786,60.174888847080453]
[7067,73,87.026438890264728,68.048101059795684]
[7068,73,87.77086984075504,68.048101059795684]
[7069,74,86.15791748706603,65.221760771411553]
[7070,74,84.165171384817384,65.221760771411553]
[7071,75,79.170195471482018,57.00554689534146]
[7072,75,76.441009933841329,57.00554689534146]
[7073,75,69.915866245294453,57.00554689534146]
[7074,76,66.968930740719415,59.686159325651666]
[7075,76,77.137047985684688,59.686159325651666]
[7076,76,86.410479644693979,59.686159325651666]
[7077,77,81.614874421656623,58.793732008412952]
[7078,77,64.671883770909545,58.793732008412952]
[7079,78,64.294558326193439,47.783959608661071]
[7080,78,54.625405267918808,47.783959608661071]
[7081,69,49.254270843391026,32.555553346132236]
[7082,69,47.703815352792034,32.555553346132236]
[7083,69,41.977872254608748,32.555553346132236]
[7084,69,37.796569475020981,32.555553346132236]
[7085,70,21.179886671536469,24.564664754138789]
[7086,70,35.95509834336778,24.564664754138789]
[7087,71,39.65498166264922,44.614086251465196]
[7088,71,49.963457090842404,44.614086251465196]
[7089,72,56.54773660626747,60.174888847080453]
[7090,72,62.53413661748386,60.174888847080453]
[7091,73,64.997565749180126,68.048101059795684]
[7092,73,66.288117096711289,68.048101059795684]
[7093,74,66.696200789867618,65.221760771411553]
[7094,74,62.394530248576991,65.221760771411553]
[7095,75,59.126554408911154,57.00554689534146]
[7096,75,53.302347783751109,57.00554689534146]
[7097,75,48.831547645544532,57.00554689534146]
[7098,76,49.646618407733449,59.686159325651666]
[7099,76,58.040643771791522,59.686159325651666]
[7100,76,65.602377296449831,59.686159325651666]
[7101,77,66.543885358166676,58.793732008412952]
[7102,77,57.601727419355505,58.793732008412952]
[7103,78,58.171201184689949,47.783959608661071]
[7104,78,50.613750940038642,47.783959608661071]
[7105,69,43.007009534993891,32.555553346132236]
[7106,69,39.452582180458556,{"$f":"VLOOKUP(B7108,$F$3:$G$122,2,FALSE)","v":32.555553346132236}]
[7107,69,32.554436521344094,32.555553346132236]
[7108,69,24.339341954152722,32.555553346132236]
[7109,70,19.21162714522848,24.564664754138789]
[7110,70,20.158696330233763,24.564664754138789]
[7111,71,23.767437087012453,44.614086251465196]
[7112,71,33.298199884871835,44.614086251465196]
[7113,72,38.273208914220547,60.174888847080453]
[7114,72,46.742527486649394,60.174888847080453]
[7115,73,51.824726218191209,68.048101059795684]
[7116,73,56.107346534097154,68.048101059795684]
[7117,74,56.160545133221035,65.221760771411553]
[7118,74,49.823957312092084,65.221760771411553]
[7119,75,46.392642322989211,57.00554689534146]
[7120,75,42.259201240455752,57.00554689534146]
[7121,75,22.547360707559346,57.00554689534146]
[7122,76,45.387920180060192,59.686159325651666]
[7123,76,55.79027435412879,59.686159325651666]
[7124,76,67.067240034492912,59.686159325651666]
[7125,77,62.58672510244984,58.793732008412952]
[7126,77,57.065060833867115,58.793732008412952]
[7127,78,55.786468652561723,47.783959608661071]
[7128,78,52.194193656093773,47.783959608661071]
[7129,69,43.546386825639068,32.555553346132236]
[7130,69,43.336994386109545,32.555553346132236]
[7131,69,38.849092539078683,32.555553346132236]
[7132,69,33.426822190016004,32.555553346132236]
[7133,70,21.545574094226971,24.564664754138789]
[7134,70,47.252695907204618,24.564664754138789]
[7135,71,56.608899655402688,44.614086251465196]
[7136,71,80.738865833124237,44.614086251465196]
[7137,72,80.253339276301944,60.174888847080453]
[7138,72,84.062395917308223,60.174888847080453]
[7139,73,87.266261783671197,68.048101059795684]
[7140,73,88.907859385460867,68.048101059795684]
[7141,74,87.412270030487775,65.221760771411553]
[7142,74,84.578352983660295,65.221760771411553]
[7143,75,81.11652294143353,57.00554689534146]
[7144,75,75.659402509371631,57.00554689534146]
[7145,75,77.551188562017259,57.00554689534146]
[7146,76,79.210631394913619,59.686159325651666]
[7147,76,89.190474503220116,59.686159325651666]
[7148,76,95.768436221097346,59.686159325651666]
[7149,77,89.889447005033944,58.793732008412952]
[7150,77,78.722191902226342,58.793732008412952]
[7151,78,71.760445165419995,47.783959608661071]
[7152,78,58.771416429256419,47.783959608661071]
[7153,69,41.031262529205762,32.555553346132236]
[7154,69,37.83998415906143,32.555553346132236]
[7155,69,36.127245181605907,32.555553346132236]
[7156,69,29.210650191996187,32.555553346132236]
[7157,70,25.615089504596451,24.564664754138789]
[7158,70,39.371917123387718,24.564664754138789]
[7159,71,56.205849019726472,44.614086251465196]
[7160,71,80.633511081613307,44.614086251465196]
[7161,72,88.171751753259727,60.174888847080453]
[7162,72,95.266872257594898,60.174888847080453]
[7163,73,96.74267077843723,68.048101059795684]
[7164,73,100.57944834112708,68.048101059795684]
[7165,74,96.230847901034167,65.221760771411553]
[7166,74,92.740918162119243,65.221760771411553]
[7167,75,89.969244819014619,57.00554689534146]
[7168,75,85.827587470755191,57.00554689534146]
[7169,75,83.846778156624197,57.00554689534146]
[7170,76,82.517894032598477,{"$f":"VLOOKUP(B7172,$F$3:$G$122,2,FALSE)","v":59.686159325651666}]
[7171,76,89.947209056446695,59.686159325651666]
[7172,76,101.77744721312452,59.686159325651666]
[7173,77,94.364337087672311,58.793732008412952]
[7174,77,79.049950693235175,58.793732008412952]
[7175,78,71.322527728932457,47.783959608661071]
[7176,78,58.589840450644878,47.783959608661071]
[7177,79,49.257161937248753,33.387130271002924]
[7178,79,46.597884687296919,33.387130271002924]
[7179,79,41.989086112366032,33.387130271002924]
[7180,79,34.584288179990445,33.387130271002924]
[7181,79,30.816534107055968,33.387130271002924]
[7182,79,46.137653463736349,33.387130271002924]
[7183,80,58.935835629728118,63.536417516121539]
[7184,80,83.726191467213653,63.536417516121539]
[7185,80,89.800878546043251,63.536417516121539]
[7186,81,91.606833633740493,79.174045004729408]
[7187,81,92.180247320485293,79.174045004729408]
[7188,82,93.914017720106912,81.988957271848534]
[7189,82,90.152477494301095,81.988957271848534]
[7190,83,88.508831709681928,73.812427465669259]
[7191,83,85.057872388137469,73.812427465669259]
[7192,83,82.162815275147324,73.812427465669259]
[7193,83,80.457788040678182,73.812427465669259]
[7194,84,77.574410030263692,72.102586943222008]
[7195,84,86.476571438834966,72.102586943222008]
[7196,84,94.77248088664534,72.102586943222008]
[7197,85,86.797018951947905,58.589479422734449]
[7198,85,74.77584285582067,58.589479422734449]
[7199,85,65.758810519647952,58.589479422734449]
[7200,85,57.066630593955423,58.589479422734449]
[7201,79,49.806056090537552,33.387130271002924]
[7202,79,48.412601212075323,33.387130271002924]
[7203,79,44.414154349242551,33.387130271002924]
[7204,79,27.884585773591027,33.387130271002924]
[7205,79,20.591891571573832,33.387130271002924]
[7206,79,45.324088452903482,33.387130271002924]
[7207,80,57.09494312286283,63.536417516121539]
[7208,80,86.578457584588534,63.536417516121539]
[7209,80,92.330630634333247,63.536417516121539]
[7210,81,93.214316634567595,79.174045004729408]
[7211,81,90.708749438367178,79.174045004729408]
[7212,82,91.545724880050656,81.988957271848534]
[7213,82,91.709889932863689,81.988957271848534]
[7214,83,87.748046519033892,73.812427465669259]
[7215,83,87.14687770394967,73.812427465669259]
[7216,83,84.446899400924778,73.812427465669259]
[7217,83,80.733084535388969,73.812427465669259]
[7218,84,78.662463685924209,72.102586943222008]
[7219,84,90.771020702238147,72.102586943222008]
[7220,84,101.72982827490436,72.102586943222008]
[7221,85,88.15445411600281,58.589479422734449]
[7222,85,73.376456343515144,58.589479422734449]
[7223,85,68.664596309414918,58.589479422734449]
[7224,85,55.37559364299689,58.589479422734449]
[7225,86,51.409366357856477,39.247146471266376]
[7226,86,48.476450790528112,39.247146471266376]
[7227,86,45.235582846521083,39.247146471266376]
[7228,86,27.205114380125544,39.247146471266376]
[7229,87,24.003467847647816,29.579877140383346]
[7230,87,44.84829116860486,29.579877140383346]
[7231,88,60.280070995896736,55.611495709192049]
[7232,88,82.46523801241176,55.611495709192049]
[7233,89,87.724602341382578,75.492960183974958]
[7234,89,88.57203764632338,{"$f":"VLOOKUP(B7236,$F$3:$G$122,2,FALSE)","v":75.492960183974958}]
[7235,90,90.252402802590083,82.267944222347396]
[7236,90,91.024428900165859,82.267944222347396]
[7237,91,89.351686370621636,80.039585270431076]
[7238,91,87.285071601629241,80.039585270431076]
[7239,92,82.104938025348773,69.169866661795552]
[7240,92,79.274584909593486,69.169866661795552]
[7241,92,72.507562105568439,69.169866661795552]
[7242,93,69.451387297272191,77.242134697061232]
[7243,93,79.996424242811599,77.242134697061232]
[7244,93,89.613610699292281,77.242134697061232]
[7245,94,84.640238241555323,72.967687837997147]
[7246,94,67.069191598822897,72.967687837997147]
[7247,95,66.677879160230248,59.462244704521183]
[7248,95,56.650302395016659,59.462244704521183]
[7249,86,51.020170922585343,39.247146471266376]
[7250,86,49.414127369738075,39.247146471266376]
[7251,86,43.482893579044202,39.247146471266376]
[7252,86,39.151679679401745,39.247146471266376]
[7253,87,21.939243432080442,29.579877140383346]
[7254,87,37.244186780264464,29.579877140383346]
[7255,88,41.076721017621679,55.611495709192049]
[7256,88,51.754783433162615,55.611495709192049]
[7257,89,58.575127345007161,75.492960183974958]
[7258,89,64.776156140141779,75.492960183974958]
[7259,90,67.327905931635925,82.267944222347396]
[7260,90,68.664727068320119,82.267944222347396]
[7261,91,69.087441675988472,80.039585270431076]
[7262,91,64.631544501769199,80.039585270431076]
[7263,92,61.246402806325676,69.169866661795552]
[7264,92,55.213382472942925,69.169866661795552]
[7265,92,50.582291944016241,69.169866661795552]
[7266,93,51.426585218260506,77.242134697061232]
[7267,93,60.121559308212433,77.242134697061232]
[7268,93,67.954401624075857,77.242134697061232]
[7269,94,68.929665320223549,72.967687837997147]
[7270,94,59.666906606252724,72.967687837997147]
[7271,95,60.256797560799058,59.462244704521183]
[7272,95,52.428392092224712,59.462244704521183]
[7273,86,44.497434741187924,39.247146471266376]
[7274,86,40.819827277640954,39.247146471266376]
[7275,86,33.682623607343999,39.247146471266376]
[7276,86,25.18283163508783,39.247146471266376]
[7277,87,19.877413807887542,29.579877140383346]
[7278,87,20.857304056263736,29.579877140383346]
[7279,88,24.591107174845245,55.611495709192049]
[7280,88,34.452162389261225,55.611495709192049]
[7281,89,39.599582356700175,75.492960183974958]
[7282,89,48.362408569304861,75.492960183974958]
[7283,90,53.620732941161506,82.267944222347396]
[7284,90,58.05176918592182,82.267944222347396]
[7285,91,58.106811403886582,80.039585270431076]
[7286,91,51.550626584222115,80.039585270431076]
[7287,92,48.000397994628393,69.169866661795552]
[7288,92,43.723710849549875,69.169866661795552]
[7289,92,23.328748557936418,69.169866661795552]
[7290,93,46.960856801892533,77.242134697061232]
[7291,93,57.723708742079332,77.242134697061232]
[7292,93,69.391482201945621,77.242134697061232]
[7293,94,64.75569322356337,72.967687837997147]
[7294,94,59.042673459794685,72.967687837997147]
[7295,95,57.719771152394387,59.462244704521183]
[7296,95,54.003004421667178,59.462244704521183]
[7297,86,26.125561734576539,39.247146471266376]
[7298,86,25.999937187869914,{"$f":"VLOOKUP(B7300,$F$3:$G$122,2,FALSE)","v":39.247146471266376}]
[7299,86,23.307430063621172,39.247146471266376]
[7300,86,20.054350552955665,39.247146471266376]
[7301,87,12.926221143431436,29.579877140383346]
[7302,87,28.34915394914006,29.579877140383346]
[7303,88,33.96238839735166,55.611495709192049]
[7304,88,48.439110049448381,55.611495709192049]
[7305,89,51.386447443985084,75.492960183974958]
[7306,89,53.825397532034948,75.492960183974958]
[7307,90,55.876842200182892,82.267944222347396]
[7308,90,56.927961937370533,82.267944222347396]
[7309,91,55.970331706901078,80.039585270431076]
[7310,91,54.155766347993769,80.039585270431076]
[7311,92,51.939146464895344,69.169866661795552]
[7312,92,48.444936319792362,69.169866661795552]
[7313,92,49.656252452506159,69.169866661795552]
[7314,93,50.718798543271845,77.242134697061232]
[7315,93,57.108921222386861,77.242134697061232]
[7316,93,61.320809315173761,77.242134697061232]
[7317,94,53.928981672350176,72.967687837997147]
[7318,94,47.229210833443553,72.967687837997147]
[7319,95,43.052525753205501,59.462244704521183]
[7320,95,35.259785715379181,59.462244704521183]
[7321,86,45.091295290690987,39.247146471266376]
[7322,86,41.584240755370587,39.247146471266376]
[7323,86,39.702026701309933,39.247146471266376]
[7324,86,32.101036435397141,39.247146471266376]
[7325,87,28.149695952619169,29.579877140383346]
[7326,87,43.267758088302074,29.579877140383346]
[7327,88,61.767403169924805,55.611495709192049]
[7328,88,88.61217604304143,55.611495709192049]
[7329,89,103.4139843259389,75.492960183974958]
[7330,89,111.73563685110648,75.492960183974958]
[7331,90,113.46655635840766,82.267944222347396]
[7332,90,117.96659686843928,82.267944222347396]
[7333,91,112.86625476556266,80.039585270431076]
[7334,91,108.77302159119243,80.039585270431076]
[7335,92,105.52220964790079,69.169866661795552]
[7336,92,100.66458484653717,69.169866661795552]
[7337,92,98.341353434083786,69.169866661795552]
[7338,93,96.782745385129999,77.242134697061232]
[7339,93,105.4963645675945,77.242134697061232]
[7340,93,119.37169355879347,77.242134697061232]
[7341,94,103.70166371317113,72.967687837997147]
[7342,94,86.87192276586832,72.967687837997147]
[7343,95,78.379873307935512,59.462244704521183]
[7344,95,64.387289933231273,59.462244704521183]
[7345,96,58.694574935340235,39.781568451305439]
[7346,96,55.525794159460609,39.781568451305439]
[7347,96,50.033974032617152,39.781568451305439]
[7348,96,41.210455786142489,39.781568451305439]
[7349,96,36.720819861654675,39.781568451305439]
[7350,96,54.977385055556645,39.781568451305439]
[7351,97,70.227631570670738,78.813899616121134]
[7352,97,99.767689120691983,78.813899616121134]
[7353,97,114.20395205098831,78.813899616121134]
[7354,98,116.50066909408345,96.823217898821412]
[7355,98,117.22990593727097,96.823217898821412]
[7356,99,119.43482235670542,96.727998423562752]
[7357,99,114.65109677917077,96.727998423562752]
[7358,100,112.56079602248928,89.021280320312073]
[7359,100,108.17205061967562,89.021280320312073]
[7360,100,104.49027189913363,89.021280320312073]
[7361,100,102.32190949908087,89.021280320312073]
[7362,101,98.654983636240786,{"$f":"VLOOKUP(B7364,$F$3:$G$122,2,FALSE)","v":92.975795449941415}]
[7363,101,109.9762761571526,92.975795449941415]
[7364,101,120.52656987517349,92.975795449941415]
[7365,102,103.42687099044434,69.952527262961922]
[7366,102,89.102500818977049,69.952527262961922]
[7367,102,78.357852541755662,69.952527262961922]
[7368,102,68.0002966872391,69.952527262961922]
[7369,96,54.171192215409285,39.781568451305439]
[7370,96,52.655611220048797,39.781568451305439]
[7371,96,48.306729767241585,39.781568451305439]
[7372,96,30.328465539258957,39.781568451305439]
[7373,96,22.396620089228854,39.781568451305439]
[7374,96,49.296412932340395,39.781568451305439]
[7375,97,62.098896825200953,78.813899616121134]
[7376,97,94.166425444383862,78.813899616121134]
[7377,97,107.17759644569085,78.813899616121134]
[7378,98,108.20338107281982,96.823217898821412]
[7379,98,105.29491323309001,96.823217898821412]
[7380,99,106.26647614246703,96.727998423562752]
[7381,99,106.45703929209567,96.727998423562752]
[7382,100,101.85812285806701,89.021280320312073]
[7383,100,101.1602847926691,89.021280320312073]
[7384,100,98.026144118164524,89.021280320312073]
[7385,100,93.715139761346094,89.021280320312073]
[7386,101,91.311558584966193,92.975795449941415]
[7387,101,105.36719785135239,92.975795449941415]
[7388,101,118.08820546799966,92.975795449941415]
[7389,102,95.880546531965436,69.952527262961922]
[7390,102,79.807365462637378,69.952527262961922]
[7391,102,74.682545397877377,69.952527262961922]
[7392,102,60.228858952899373,69.952527262961922]
[7393,86,53.319116250601212,39.247146471266376]
[7394,86,50.277249035218183,39.247146471266376]
[7395,86,46.915989659708487,39.247146471266376]
[7396,86,28.215727191571201,39.247146471266376]
[7397,87,24.895146220581928,29.579877140383346]
[7398,87,46.514310910082152,29.579877140383346]
[7399,88,62.519348918867394,55.611495709192049]
[7400,88,85.528648254683787,55.611495709192049]
[7401,89,97.103318183659411,75.492960183974958]
[7402,89,98.041353556399017,75.492960183974958]
[7403,90,99.901368057219699,82.267944222347396]
[7404,90,100.75593215666419,82.267944222347396]
[7405,91,98.904355224419177,80.039585270431076]
[7406,91,96.616796818675851,80.039585270431076]
[7407,92,90.882850520077099,69.169866661795552]
[7408,92,87.749901816567842,69.169866661795552]
[7409,92,80.259410540948295,69.169866661795552]
[7410,93,76.876497345400168,77.242134697061232]
[7411,93,88.54891363970718,77.242134697061232]
[7412,93,99.194282117766278,77.242134697061232]
[7413,94,87.784445170279625,72.967687837997147]
[7414,94,69.560671080805534,72.967687837997147]
[7415,95,69.154822207695688,59.462244704521183]
[7416,95,58.754742044588539,59.462244704521183]
[7417,86,53.329162181318502,39.247146471266376]
[7418,86,51.650434816214002,39.247146471266376]
[7419,86,45.450774504625187,39.247146471266376]
[7420,86,40.923545286861739,39.247146471266376]
[7421,87,22.932135466581013,29.579877140383346]
[7422,87,38.929726051482142,29.579877140383346]
[7423,88,42.935707141188807,55.611495709192049]
[7424,88,54.097020638250065,55.611495709192049]
[7425,89,61.226029029049386,75.492960183974958]
[7426,89,67.707694306269559,{"$f":"VLOOKUP(B7428,$F$3:$G$122,2,FALSE)","v":75.492960183974958}]
[7427,90,70.374927206826072,82.267944222347396]
[7428,90,71.772248107883414,82.267944222347396]
[7429,91,72.214093273454566,80.039585270431076]
[7430,91,67.556538060090389,80.039585270431076]
[7431,92,64.018196905628756,69.169866661795552]
[7432,92,57.712143554879653,69.169866661795552]
[7433,92,52.871466359418299,69.169866661795552]
[7434,93,53.753969340819275,77.242134697061232]
[7435,93,62.842446996235005,77.242134697061232]
[7436,93,71.029775863423509,77.242134697061232]
[7437,94,72.049176521651987,72.967687837997147]
[7438,94,62.36721833195292,72.967687837997147]
[7439,95,62.983805650565138,59.462244704521183]
[7440,95,54.801114426574891,59.462244704521183]
[7441,86,37.983665032515603,39.247146471266376]
[7442,86,34.844405189135287,39.247146471266376]
[7443,86,28.75198311900489,39.247146471266376]
[7444,86,21.496435625130989,39.247146471266376]
[7445,87,16.967652903654656,29.579877140383346]
[7446,87,17.804101637821759,29.579877140383346]
[7447,88,20.991330919205183,55.611495709192049]
[7448,88,29.408872746280824,55.611495709192049]
[7449,89,33.802786169876619,75.492960183974958]
[7450,89,41.282863561610718,75.492960183974958]
[7451,90,45.771446616670318,82.267944222347396]
[7452,90,49.553844353682386,82.267944222347396]
[7453,91,49.600829200831001,80.039585270431076]
[7454,91,44.004373370740367,80.039585270431076]
[7455,92,40.973846008425539,69.169866661795552]
[7456,92,37.323202934002069,69.169866661795552]
[7457,92,19.913763029405196,69.169866661795552]
[7458,93,40.0864783504461,77.242134697061232]
[7459,93,49.273807131720972,77.242134697061232]
[7460,93,59.233590237253885,77.242134697061232]
[7461,94,55.276412554080366,72.967687837997147]
[7462,94,50.399694822074352,72.967687837997147]
[7463,95,49.270445947228012,59.462244704521183]
[7464,95,46.097759177191264,59.462244704521183]
[7465,86,46.008416401060011,39.247146471266376]
[7466,86,45.787185312756804,39.247146471266376]
[7467,86,41.045546063281556,39.247146471266376]
[7468,86,35.316710900500276,39.247146471266376]
[7469,87,22.763719720219022,29.579877140383346]
[7470,87,49.924273122272503,29.579877140383346]
[7471,88,59.809458768187177,55.611495709192049]
[7472,88,85.303687166361854,55.611495709192049]
[7473,89,90.494095223417858,75.492960183974958]
[7474,89,94.789207894005528,75.492960183974958]
[7475,90,98.401904205563511,82.267944222347396]
[7476,90,100.25297845411826,82.267944222347396]
[7477,91,98.566543886727857,80.039585270431076]
[7478,91,95.371003845609593,80.039585270431076]
[7479,92,91.467425747631736,69.169866661795552]
[7480,92,85.31394751883866,69.169866661795552]
[7481,92,87.447135604645808,69.169866661795552]
[7482,93,89.318332231379657,77.242134697061232]
[7483,93,100.57165677465558,77.242134697061232]
[7484,93,107.98900164081938,77.242134697061232]
[7485,94,94.971624728084976,72.967687837997147]
[7486,94,83.172994341503113,72.967687837997147]
[7487,95,75.817643735075222,59.462244704521183]
[7488,95,62.094240111909592,59.462244704521183]
[7489,86,47.086929129748867,39.247146471266376]
[7490,86,43.424660674291829,{"$f":"VLOOKUP(B7492,$F$3:$G$122,2,FALSE)","v":39.247146471266376}]
[7491,86,41.459144288053345,39.247146471266376]
[7492,86,33.521752211387145,39.247146471266376]
[7493,87,29.395534765633595,29.579877140383346]
[7494,87,45.182686493541567,29.579877140383346]
[7495,88,64.501082012414855,55.611495709192049]
[7496,88,92.53394089641337,55.611495709192049]
[7497,89,107.99084212570254,75.492960183974958]
[7498,89,116.68079126486283,75.492960183974958]
[7499,90,118.48831716635131,82.267944222347396]
[7500,90,123.18751880185198,82.267944222347396]
[7501,91,117.86144764804313,80.039585270431076]
[7502,91,113.58705767652908,80.039585270431076]
[7503,92,110.19237250279188,69.169866661795552]
[7504,92,105.11976074289106,69.169866661795552]
[7505,92,102.69370861542461,69.169866661795552]
[7506,93,101.06612026895957,77.242134697061232]
[7507,93,110.16538358049792,77.242134697061232]
[7508,93,124.65480174088991,77.242134697061232]
[7509,94,108.29125352065954,72.967687837997147]
[7510,94,90.71666813452444,72.967687837997147]
[7511,95,81.848780698286717,59.462244704521183]
[7512,95,67.236918753331139,59.462244704521183]
[7513,96,53.627476723340308,39.781568451305439]
[7514,96,50.73225655202026,39.781568451305439]
[7515,96,45.71454484109104,39.781568451305439]
[7516,96,37.652760257046239,39.781568451305439]
[7517,96,33.550714262131379,39.781568451305439]
[7518,96,50.231191564551203,39.781568451305439]
[7519,97,64.164885452196401,78.813899616121134]
[7520,97,91.154752069597677,78.813899616121134]
[7521,97,104.34473351369788,78.813899616121134]
[7522,98,106.44317514828452,96.823217898821412]
[7523,98,107.10945702999034,96.823217898821412]
[7524,99,109.12402318180919,96.727998423562752]
[7525,99,104.7532762713375,96.727998423562752]
[7526,100,102.84343102078059,89.021280320312073]
[7527,100,98.833565676439392,89.021280320312073]
[7528,100,95.469634634194591,89.021280320312073]
[7529,100,93.488466796030721,89.021280320312073]
[7530,101,90.1381063654065,92.975795449941415]
[7531,101,100.48203255981478,92.975795449941415]
[7532,101,110.12152021963438,92.975795449941415]
[7533,102,94.498037045471335,69.952527262961922]
[7534,102,81.410288666798806,69.952527262961922]
[7535,102,71.593225062165189,69.952527262961922]
[7536,102,62.129836220680545,69.952527262961922]
[7537,96,36.198004986022546,39.781568451305439]
[7538,96,35.185270981413098,39.781568451305439]
[7539,96,32.279283018542351,39.781568451305439]
[7540,96,20.265936596762312,39.781568451305439]
[7541,96,14.965758228768451,39.781568451305439]
[7542,96,32.940604187225048,39.781568451305439]
[7543,97,41.495416382320442,78.813899616121134]
[7544,97,62.923421072171315,78.813899616121134]
[7545,97,71.617681130293676,78.813899616121134]
[7546,98,72.303125838612985,96.823217898821412]
[7547,98,70.359643905529779,96.823217898821412]
[7548,99,71.008856846939977,96.727998423562752]
[7549,99,71.136194008230078,96.727998423562752]
[7550,100,68.0631289121675,89.021280320312073]
[7551,100,67.596823026370075,89.021280320312073]
[7552,100,65.502543112583325,89.021280320312073]
[7553,100,62.621865194653175,89.021280320312073]
[7554,101,61.015756119908453,{"$f":"VLOOKUP(B7556,$F$3:$G$122,2,FALSE)","v":92.975795449941415}]
[7555,101,70.407945574096885,92.975795449941415]
[7556,101,78.908314096605494,92.975795449941415]
[7557,102,64.068822551027367,69.952527262961922]
[7558,102,53.328481334699475,69.952527262961922]
[7559,102,49.903999526749125,69.952527262961922]
[7560,102,40.245828964040058,69.952527262961922]
[7561,86,48.100706778833121,39.247146471266376]
[7562,86,45.356550962378932,39.247146471266376]
[7563,86,42.324262301233453,39.247146471266376]
[7564,86,25.454218217242328,39.247146471266376]
[7565,87,22.458626713620458,29.579877140383346]
[7566,87,41.96189635982784,29.579877140383346]
[7567,88,56.4005010176081,55.611495709192049]
[7568,88,77.15785107076141,55.611495709192049]
[7569,89,87.59969338672731,75.492960183974958]
[7570,89,88.445922048887724,75.492960183974958]
[7571,90,90.123894573560705,82.267944222347396]
[7572,90,90.894821401715575,82.267944222347396]
[7573,91,89.224460650089938,80.039585270431076]
[7574,91,87.160788484239404,80.039585270431076]
[7575,92,81.988030775762496,69.169866661795552]
[7576,92,79.161707731840607,69.169866661795552]
[7577,92,72.40432032908295,69.169866661795552]
[7578,93,69.352497134705246,77.242134697061232]
[7579,93,79.882519255366418,77.242134697061232]
[7580,93,89.486012030998836,77.242134697061232]
[7581,94,79.192870283752356,72.967687837997147]
[7582,94,62.752680057013436,72.967687837997147]
[7583,95,62.386552127393877,59.462244704521183]
[7584,95,53.004340988507373,59.462244704521183]
[7585,86,54.083674949586857,39.247146471266376]
[7586,86,52.381196578848581,39.247146471266376]
[7587,86,46.093822103513553,39.247146471266376]
[7588,86,41.502540646600615,39.247146471266376]
[7589,87,23.256584385436447,29.579877140383346]
[7590,87,39.480512416195019,29.579877140383346]
[7591,88,43.543171011378881,55.611495709192049]
[7592,88,54.862397237605954,55.611495709192049]
[7593,89,62.092268414092054,75.492960183974958]
[7594,89,68.66563772361404,75.492960183974958]
[7595,90,71.370607224505164,82.267944222347396]
[7596,90,72.787697730373296,82.267944222347396]
[7597,91,73.235794218961459,80.039585270431076]
[7598,91,68.512342885469792,80.039585270431076]
[7599,92,64.923940498648022,69.169866661795552]
[7600,92,58.52866771192982,69.169866661795552]
[7601,92,53.619503546082115,69.169866661795552]
[7602,93,54.51449237463062,77.242134697061232]
[7603,93,63.73155581978402,77.242134697061232]
[7604,93,72.034720824568353,77.242134697061232]
[7605,94,73.068544188520193,72.967687837997147]
[7606,94,63.249603515369941,72.967687837997147]
[7607,95,63.874914447585233,59.462244704521183]
[7608,95,55.57645270039967,59.462244704521183]
[7609,86,48.327642367126082,39.247146471266376]
[7610,86,44.333477325956636,39.247146471266376]
[7611,86,36.581924264849938,39.247146471266376]
[7612,86,27.350495329241163,39.247146471266376]
[7613,87,21.588402820933439,29.579877140383346]
[7614,87,22.652639124846154,29.579877140383346]
[7615,88,26.707836976893162,55.611495709192049]
[7616,88,37.417702669974616,55.611495709192049]
[7617,89,43.00819732987312,75.492960183974958]
[7618,89,52.525301715579367,{"$f":"VLOOKUP(B7620,$F$3:$G$122,2,FALSE)","v":75.492960183974958}]
[7619,90,58.236247103139178,82.267944222347396]
[7620,90,63.048693847498022,82.267944222347396]
[7621,91,63.108473936852981,80.039585270431076]
[7622,91,55.987952111260057,80.039585270431076]
[7623,92,52.132130340918344,69.169866661795552]
[7624,92,47.487318610409083,69.169866661795552]
[7625,92,25.336818262401735,69.169866661795552]
[7626,93,51.003108515713386,77.242134697061232]
[7627,93,62.692394930559658,77.242134697061232]
[7628,93,75.364495834100637,77.242134697061232]
[7629,94,70.329671846160764,72.967687837997147]
[7630,94,64.124892231659203,72.967687837997147]
[7631,95,62.688118404796114,59.462244704521183]
[7632,95,58.651423382501847,59.462244704521183]
[7633,86,44.634718811676848,39.247146471266376]
[7634,86,44.420093136827774,39.247146471266376]
[7635,86,39.820027514880785,39.247146471266376]
[7636,86,34.262241209432155,39.247146471266376]
[7637,87,22.084051317106187,29.579877140383346]
[7638,87,48.433657730472312,29.579877140383346]
[7639,88,58.023696167362743,55.611495709192049]
[7640,88,82.756729922616628,55.611495709192049]
[7641,89,87.79216522482406,75.492960183974958]
[7642,89,91.959036447797388,75.492960183974958]
[7643,90,95.463866577413782,82.267944222347396]
[7644,90,97.259672324422127,82.267944222347396]
[7645,91,95.623590524657601,80.039585270431076]
[7646,91,92.523461410379241,80.039585270431076]
[7647,92,88.736434505479139,69.169866661795552]
[7648,92,82.766683926330174,69.169866661795552]
[7649,92,84.83618028874416,69.169866661795552]
[7650,93,86.651507609457994,77.242134697061232]
[7651,93,97.568835698022482,77.242134697061232]
[7652,93,104.76471698079639,77.242134697061232]
[7653,94,92.136006766112132,72.967687837997147]
[7654,94,80.689654318826967,72.967687837997147]
[7655,95,73.55391630043168,59.462244704521183]
[7656,95,60.240259587721319,59.462244704521183]
[7657,86,41.818320173831573,39.247146471266376]
[7658,86,38.565827015681066,39.247146471266376]
[7659,86,36.820234447515396,39.247146471266376]
[7660,86,29.770966012688682,39.247146471266376]
[7661,87,26.106435633612506,29.579877140383346]
[7662,87,40.127145367546156,29.579877140383346]
[7663,88,57.28398409081214,55.611495709192049]
[7664,88,82.180215165228361,55.611495709192049]
[7665,89,95.907626496738004,75.492960183974958]
[7666,89,103.62524754597577,75.492960183974958]
[7667,90,105.23052736073404,82.267944222347396]
[7668,90,109.403930090253,82.267944222347396]
[7669,91,104.67379897117198,80.039585270431076]
[7670,91,100.87767525530923,80.039585270431076]
[7671,92,97.86282518739489,69.169866661795552]
[7672,92,93.357793608279735,69.169866661795552]
[7673,92,91.20319515601625,69.169866661795552]
[7674,93,89.757719482796546,77.242134697061232]
[7675,93,97.838856085682465,77.242134697061232]
[7676,93,110.70703710666538,77.242134697061232]
[7677,94,96.174424526050174,72.967687837997147]
[7678,94,80.566279077138006,72.967687837997147]
[7679,95,72.690629445108897,59.462244704521183]
[7680,95,59.713705011021567,59.462244704521183]
[7681,96,49.910277191477071,39.781568451305439]
[7682,96,47.215739799266572,{"$f":"VLOOKUP(B7684,$F$3:$G$122,2,FALSE)","v":39.781568451305439}]
[7683,96,42.545831803196322,39.781568451305439]
[7684,96,35.042851468629671,39.781568451305439]
[7685,96,31.225139631941996,39.781568451305439]
[7686,96,46.749406234020888,39.781568451305439]
[7687,97,59.717283276255245,78.813899616121134]
[7688,97,84.836341761608239,78.813899616121134]
[7689,97,97.112056940632513,78.813899616121134]
[7690,98,99.065044663561736,96.823217898821412]
[7691,98,99.685143080184091,96.823217898821412]
[7692,99,101.56006916661109,96.727998423562752]
[7693,99,97.492281473357735,96.727998423562752]
[7694,100,95.714817537475099,89.021280320312073]
[7695,100,91.982896830688219,89.021280320312073]
[7696,100,88.852137357562015,89.021280320312073]
[7697,100,87.008294573839123,89.021280320312073]
[7698,101,83.890165062609796,92.975795449941415]
[7699,101,93.517099894440179,92.975795449941415]
[7700,101,102.4884244929743,92.975795449941415]
[7701,102,87.947886254682089,69.952527262961922]
[7702,102,75.767317835218236,69.952527262961922]
[7703,102,66.63072600485205,69.952527262961922]
[7704,102,57.823293898995345,69.952527262961922]
[7705,96,50.165847456406155,39.781568451305439]
[7706,96,48.762326472065418,39.781568451305439]
[7707,96,44.734995437887768,39.781568451305439]
[7708,96,28.086019775591168,39.781568451305439]
[7709,96,20.740644261023625,39.781568451305439]
[7710,96,45.651502766969543,39.781568451305439]
[7711,97,57.507388298867596,78.813899616121134]
[7712,97,87.203887179988158,78.813899616121134]
[7713,97,99.253029777501681,78.813899616121134]
[7714,98,100.2029692752896,96.823217898821412]
[7715,98,97.50954961785321,96.823217898821412]
[7716,99,98.409276478438059,96.727998423562752]
[7717,99,98.58574964626257,96.727998423562752]
[7718,100,94.326870879540223,89.021280320312073]
[7719,100,93.680630017813968,89.021280320312073]
[7720,100,90.778223470088207,89.021280320312073]
[7721,100,86.785968950599568,89.021280320312073]
[7722,101,84.56010531880257,92.975795449941415]
[7723,101,97.576489609108606,92.975795449941415]
[7724,101,109.35692311056994,92.975795449941415]
[7725,102,88.791268470388587,69.952527262961922]
[7726,102,73.906516692048669,69.952527262961922]
[7727,102,69.160618898476599,69.952527262961922]
[7728,102,55.7756185001424,69.952527262961922]
[7729,86,51.464614600403522,39.247146471266376]
[7730,86,48.528547108783663,39.247146471266376]
[7731,86,45.284196292473034,39.247146471266376]
[7732,86,27.23435097384916,39.247146471266376]
[7733,87,24.029263719248057,29.579877140383346]
[7734,87,44.89648840276363,29.579877140383346]
[7735,88,60.344852342547689,55.611495709192049]
[7736,88,82.553861152399421,55.611495709192049]
[7737,89,93.725950431259008,75.492960183974958]
[7738,89,94.631359829132265,75.492960183974958]
[7739,90,96.426680835316773,82.267944222347396]
[7740,90,97.25152218907337,82.267944222347396]
[7741,91,95.464345282893632,80.039585270431076]
[7742,91,93.256350852262656,80.039585270431076]
[7743,92,87.721837958053385,69.169866661795552]
[7744,92,84.697856899719184,69.169866661795552]
[7745,92,77.467893731244899,69.169866661795552]
[7746,93,74.20264224025567,{"$f":"VLOOKUP(B7748,$F$3:$G$122,2,FALSE)","v":77.242134697061232}]
[7747,93,85.469078150757213,77.242134697061232]
[7748,93,95.744188177480851,77.242134697061232]
[7749,94,84.731198794911649,72.967687837997147]
[7750,94,67.141269028042544,72.967687837997147]
[7751,95,66.749536056654989,59.462244704521183]
[7752,95,56.711182928445076,59.462244704521183]
[7753,86,50.816057968891386,39.247146471266376]
[7754,86,49.21643960607004,39.247146471266376]
[7755,86,43.308934502014729,39.247146471266376]
[7756,86,38.995048197442031,39.247146471266376]
[7757,87,21.851472581890086,29.579877140383346]
[7758,87,37.095186476381045,29.579877140383346]
[7759,88,40.912388152730053,55.611495709192049]
[7760,88,51.547731564787597,55.611495709192049]
[7761,89,58.340789787151266,75.492960183974958]
[7762,89,64.517010544985567,75.492960183974958]
[7763,90,67.058551723344706,82.267944222347396]
[7764,90,68.390024729949488,82.267944222347396]
[7765,91,68.811048211822282,80.039585270431076]
[7766,91,64.372977444632625,80.039585270431076]
[7767,92,61.001378457056106,69.169866661795552]
[7768,92,54.992494020862146,69.169866661795552]
[7769,92,50.379930783192833,69.169866661795552]
[7770,93,51.220846350328834,77.242134697061232]
[7771,93,59.881035044393215,77.242134697061232]
[7772,93,67.682541036759488,77.242134697061232]
[7773,94,68.653903061273169,72.967687837997147]
[7774,94,59.428201240806906,72.967687837997147]
[7775,95,60.015732258431967,59.462244704521183]
[7776,95,52.218645363159332,59.462244704521183]
[7777,86,44.035201860480605,39.247146471266376]
[7778,86,40.39579684842041,39.247146471266376]
[7779,86,33.332733411867366,39.247146471266376]
[7780,86,24.921236042470905,39.247146471266376]
[7781,87,19.670930124078087,29.579877140383346]
[7782,87,20.64064141506228,29.579877140383346]
[7783,88,24.335658329865204,55.611495709192049]
[7784,88,34.094278336834179,55.611495709192049]
[7785,89,39.188227654254796,75.492960183974958]
[7786,89,47.860026902564826,75.492960183974958]
[7787,90,53.063728565579183,82.267944222347396]
[7788,90,57.448735850246692,82.267944222347396]
[7789,91,57.503206297656178,80.039585270431076]
[7790,91,51.015126172414426,80.039585270431076]
[7791,92,47.501776841089907,69.169866661795552]
[7792,92,43.269515300104104,69.169866661795552]
[7793,92,23.086412910680551,69.169866661795552]
[7794,93,46.473034251080854,77.242134697061232]
[7795,93,57.124083250584114,77.242134697061232]
[7796,93,68.670653576625654,77.242134697061232]
[7797,94,64.08302049995531,72.967687837997147]
[7798,94,58.429346754632498,72.967687837997147]
[7799,95,57.120186564008158,59.462244704521183]
[7800,95,53.442029065540147,59.462244704521183]
[7801,86,44.191133747263422,39.247146471266376]
[7802,86,43.978641047513946,39.247146471266376]
[7803,86,39.424291416605833,39.247146471266376]
[7804,86,33.92173904254367,39.247146471266376]
[7805,87,21.864577428016847,29.579877140383346]
[7806,87,47.952318366046235,29.579877140383346]
[7807,88,57.44704987749811,55.611495709192049]
[7808,88,81.934283845869658,55.611495709192049]
[7809,89,86.919676402153144,75.492960183974958]
[7810,89,91.045136770772402,{"$f":"VLOOKUP(B7812,$F$3:$G$122,2,FALSE)","v":75.492960183974958}]
[7811,90,94.515135487977233,82.267944222347396]
[7812,90,96.293094307096965,82.267944222347396]
[7813,91,94.673272079922029,80.039585270431076]
[7814,91,91.603952411954936,80.039585270431076]
[7815,92,87.854561424077929,69.169866661795552]
[7816,92,81.944138925528208,69.169866661795552]
[7817,92,83.993068390655395,69.169866661795552]
[7818,93,85.790354775794228,77.242134697061232]
[7819,93,96.599185178872631,77.242134697061232]
[7820,93,103.72355295047605,77.242134697061232]
[7821,94,91.220348337332027,72.967687837997147]
[7822,94,79.887751081583986,72.967687837997147]
[7823,95,72.822928863552136,59.462244704521183]
[7824,95,59.641584830919449,59.462244704521183]
[7825,86,41.311769980063836,39.247146471266376]
[7826,86,38.098674651205393,39.247146471266376]
[7827,86,36.374226649583008,39.247146471266376]
[7828,86,29.410346826176809,39.247146471266376]
[7829,87,25.790205331347362,29.579877140383346]
[7830,87,39.641080571619803,29.579877140383346]
[7831,88,56.590096504692731,55.611495709192049]
[7832,88,81.184756625937979,55.611495709192049]
[7833,89,94.745886221572036,75.492960183974958]
[7834,89,102.37002282615332,75.492960183974958]
[7835,90,103.9558576991292,82.267944222347396]
[7836,90,108.07870751421925,82.267944222347396]
[7837,91,103.40587302553747,80.039585270431076]
[7838,91,99.655732199370988,80.039585270431076]
[7839,92,96.677401362256319,69.169866661795552]
[7840,92,92.226939756536666,69.169866661795552]
[7841,92,90.098440206834297,69.169866661795552]
[7842,93,88.670473749176381,77.242134697061232]
[7843,93,96.653722601070882,77.242134697061232]
[7844,93,109.3660298432286,77.242134697061232]
[7845,94,95.009452495211491,72.967687837997147]
[7846,94,79.590370334079338,72.967687837997147]
[7847,95,71.810119365376906,59.462244704521183]
[7848,95,58.990385931771449,59.462244704521183]
[7849,96,49.196825537307035,39.781568451305439]
[7850,96,46.54080570636593,39.781568451305439]
[7851,96,41.937652570659132,39.781568451305439]
[7852,96,34.541924971042555,39.781568451305439]
[7853,96,30.778786119685734,39.781568451305439]
[7854,96,46.08113823219891,39.781568451305439]
[7855,97,58.863643566491007,78.813899616121134]
[7856,97,83.623633041691733,78.813899616121134]
[7857,97,95.723870748070539,78.813899616121134]
[7858,98,97.648941128121606,96.823217898821412]
[7859,98,98.260175433663406,96.823217898821412]
[7860,99,100.10830004365947,96.727998423562752]
[7861,99,96.098660091149569,96.727998423562752]
[7862,100,94.346604441027779,89.021280320312073]
[7863,100,90.668030362456847,89.021280320312073]
[7864,100,87.582024107517356,89.021280320312073]
[7865,100,85.764538474227237,89.021280320312073]
[7866,101,82.690981639867005,92.975795449941415]
[7867,101,92.180302477809789,92.975795449941415]
[7868,101,101.02338482374401,92.975795449941415]
[7869,102,86.690698988651889,69.952527262961922]
[7870,102,74.684247948946506,69.952527262961922]
[7871,102,65.678260814079053,69.952527262961922]
[7872,102,56.996728169385577,69.952527262961922]
[7873,96,49.33887006196592,39.781568451305439]
[7874,96,47.958485936375176,{"$f":"VLOOKUP(B7876,$F$3:$G$122,2,FALSE)","v":39.781568451305439}]
[7875,96,43.997544924375198,39.781568451305439]
[7876,96,27.623025435180615,39.781568451305439]
[7877,96,20.398737469457949,39.781568451305439]
[7878,96,44.898943750732123,39.781568451305439]
[7879,97,56.559386569647586,78.813899616121134]
[7880,97,85.766342574211606,78.813899616121134]
[7881,97,97.616856641444841,78.813899616121134]
[7882,98,98.551136511605847,96.823217898821412]
[7883,98,95.902117522819111,96.823217898821412]
[7884,99,96.787012504494285,96.727998423562752]
[7885,99,96.96057653536775,96.727998423562752]
[7886,100,92.771904824726761,89.021280320312073]
[7887,100,92.13631715857295,89.021280320312073]
[7888,100,89.281756400884547,89.021280320312073]
[7889,100,85.355313671844328,89.021280320312073]
[7890,101,83.166143109135874,92.975795449941415]
[7891,101,95.967954017126701,92.975795449941415]
[7892,101,107.55418862239911,92.975795449941415]
[7893,102,87.327556092909205,69.952527262961922]
[7894,102,72.688177489082847,69.952527262961922]
[7895,102,68.020515196167224,69.952527262961922]
[7896,102,54.856164768186154,69.952527262961922]
[7897,86,50.502960101051904,39.247146471266376]
[7898,86,47.621755208436021,39.247146471266376]
[7899,86,44.438027493730353,39.247146471266376]
[7900,86,26.725456923941756,39.247146471266376]
[7901,87,23.580259102170047,29.579877140383346]
[7902,87,44.057564213535031,29.579877140383346]
[7903,88,59.217264013780422,55.611495709192049]
[7904,88,81.0112810197692,55.611495709192049]
[7905,89,91.974611523194596,75.492960183974958]
[7906,89,92.863102674851859,75.492960183974958]
[7907,90,94.624876776298365,82.267944222347396]
[7908,90,95.434305357507256,82.267944222347396]
[7909,91,93.680523177515795,80.039585270431076]
[7910,91,91.513786760672474,80.039585270431076]
[7911,92,86.082690345295518,69.169866661795552]
[7912,92,83.115214616172068,69.169866661795552]
[7913,92,76.020348672559848,69.169866661795552]
[7914,93,72.816110827785693,77.242134697061232]
[7915,93,83.872025026056136,77.242134697061232]
[7916,93,93.955137000035123,77.242134697061232]
[7917,94,83.147933493320423,72.967687837997147]
[7918,94,65.886684612044846,72.967687837997147]
[7919,95,65.502271461808249,59.462244704521183]
[7920,95,55.65149240807218,59.462244704521183]
[7921,86,49.754032466639636,39.247146471266376]
[7922,86,48.187845179802714,39.247146471266376]
[7923,86,42.403803432134268,39.247146471266376]
[7924,86,38.18007479528297,39.247146471266376]
[7925,87,21.394789752263101,29.579877140383346]
[7926,87,36.319919058494783,29.579877140383346]
[7927,88,40.057343481558959,55.611495709192049]
[7928,88,50.470414517909511,55.611495709192049]
[7929,89,57.121501848417545,75.492960183974958]
[7930,89,63.168643251919157,75.492960183974958]
[7931,90,65.657067725552949,82.267944222347396]
[7932,90,66.96071373523796,82.267944222347396]
[7933,91,67.372938075802523,80.039585270431076]
[7934,91,63.02762035802175,80.039585270431076]
[7935,92,59.726485791561196,69.169866661795552]
[7936,92,53.843183479726989,69.169866661795552]
[7937,92,49.327020080710106,69.169866661795552]
[7938,93,50.150361010748405,{"$f":"VLOOKUP(B7940,$F$3:$G$122,2,FALSE)","v":77.242134697061232}]
[7939,93,58.629556892402199,77.242134697061232]
[7940,93,66.268016032040634,77.242134697061232]
[7941,94,67.219077165788974,72.967687837997147]
[7942,94,58.186187046999841,72.967687837997147]
[7943,95,58.76143901447773,59.462244704521183]
[7944,95,51.127306615422043,59.462244704521183]
[7945,86,43.016755449164428,39.247146471266376]
[7946,86,39.46152261793361,39.247146471266376]
[7947,86,32.561813754675072,39.247146471266376]
[7948,86,24.344857546615842,39.247146471266376]
[7949,87,19.215980734823713,29.579877140383346]
[7950,87,20.163264537285322,29.579877140383346]
[7951,88,23.772823078840482,55.611495709192049]
[7952,88,33.305745664074337,55.611495709192049]
[7953,89,38.281882091294278,75.492960183974958]
[7954,89,46.753119914858758,75.492960183974958]
[7955,90,51.836470334768826,82.267944222347396]
[7956,90,56.120061144798292,82.267944222347396]
[7957,91,56.173271799375151,80.039585270431076]
[7958,91,49.835248029973897,80.039585270431076]
[7959,92,46.403155462942728,69.169866661795552]
[7960,92,42.268777692123926,69.169866661795552]
[7961,92,22.552470215162963,69.169866661795552]
[7962,93,45.39820563769225,77.242134697061232]
[7963,93,55.802917112397381,77.242134697061232]
[7964,93,67.08243829105848,77.242134697061232]
[7965,94,62.600908019552378,72.967687837997147]
[7966,94,57.077992474337734,72.967687837997147]
[7967,95,55.799110548411804,59.462244704521183]
[7968,95,52.20602149850999,59.462244704521183]
[7969,86,43.069840204556883,39.247146471266376]
[7970,86,42.862739235498545,39.247146471266376]
[7971,86,38.42395040603018,39.247146471266376]
[7972,86,33.061018266215179,39.247146471266376]
[7973,87,21.309791718642263,29.579877140383346]
[7974,87,46.735589570420224,29.579877140383346]
[7975,88,55.989404404006081,55.611495709192049]
[7976,88,79.855306105038366,55.611495709192049]
[7977,89,84.714200696522212,75.492960183974958]
[7978,89,88.734982780613166,75.492960183974958]
[7979,90,92.116934715016384,82.267944222347396]
[7980,90,93.849780101326758,82.267944222347396]
[7981,91,92.271058793038648,80.039585270431076]
[7982,91,89.279619189065315,80.039585270431076]
[7983,92,85.625364205795776,69.169866661795552]
[7984,92,79.864911124645346,69.169866661795552]
[7985,92,81.861851623120359,69.169866661795552]
[7986,93,83.613534163162655,77.242134697061232]
[7987,93,94.14810430841429,77.242134697061232]
[7988,93,101.09170035273293,77.242134697061232]
[7989,94,88.905748577591183,72.967687837997147]
[7990,94,77.860701494184013,72.967687837997147]
[7991,95,70.975140111114086,59.462244704521183]
[7992,95,58.128255837593137,59.462244704521183]
[7993,86,40.169962561241263,39.247146471266376]
[7994,86,37.045673305946003,39.247146471266376]
[7995,86,35.368886964005014,39.247146471266376]
[7996,86,28.597480366751835,39.247146471266376]
[7997,87,25.07739520981298,29.579877140383346]
[7998,87,38.545448989902013,29.579877140383346]
[7999,88,55.026014596507117,55.611495709192049]
[8000,88,78.940908021641064,55.611495709192049]
[8001,89,92.127224376705144,75.492960183974958]
[8002,89,99.540639055272877,{"$f":"VLOOKUP(B8004,$F$3:$G$122,2,FALSE)","v":75.492960183974958}]
[8003,90,101.08264336800249,82.267944222347396]
[8004,90,105.09154259448709,82.267944222347396]
[8005,91,100.54785960642322,80.039585270431076]
[8006,91,96.901368142630048,80.039585270431076]
[8007,92,94.005354772115496,69.169866661795552]
[8008,92,89.677898549148694,69.169866661795552]
[8009,92,87.608228155834041,69.169866661795552]
[8010,93,86.219728966123512,77.242134697061232]
[8011,93,93.982330463285962,77.242134697061232]
[8012,93,106.34328488937088,77.242134697061232]
[8013,94,92.38350599692167,72.967687837997147]
[8014,94,77.390588640916746,72.967687837997147]
[8015,95,69.825374410670534,59.462244704521183]
[8016,95,57.359962923301765,59.462244704521183]
[8017,96,47.273305109879779,39.781568451305439]
[8018,96,44.721131580903688,39.781568451305439]
[8019,96,40.297954673142598,39.781568451305439]
[8020,96,33.191388680157786,39.781568451305439]
[8021,96,29.575382786522812,39.781568451305439]
[8022,96,44.279436400004123,39.781568451305439]
[8023,97,56.562165379710827,78.813899616121134]
[8024,97,80.354077239775251,78.813899616121134]
[8025,97,92.843764189091829,78.813899616121134]
[8026,98,94.710913720510774,96.823217898821412]
[8027,98,95.30375742067163,96.823217898821412]
[8028,99,97.096276299626282,96.727998423562752]
[8029,99,93.207277000655779,96.727998423562752]
[8030,100,91.507936592094694,89.021280320312073]
[8031,100,87.940042172093598,89.021280320312073]
[8032,100,84.946886600964149,89.021280320312073]
[8033,100,83.184084843831357,89.021280320312073]
[8034,101,80.203004119440948,92.975795449941415]
[8035,101,89.406813569555069,92.975795449941415]
[8036,101,97.983828326840012,92.975795449941415]
[8037,102,83.301225612038039,69.952527262961922]
[8038,102,71.764208394201205,69.952527262961922]
[8039,102,63.110341544207174,69.952527262961922]
[8040,102,54.768243511423393,69.952527262961922]
[8041,96,47.358905326358091,39.781568451305439]
[8042,96,46.033915900460102,39.781568451305439]
[8043,96,42.231927120518399,39.781568451305439]
[8044,96,26.514515731092015,39.781568451305439]
[8045,96,19.580137838178928,39.781568451305439]
[8046,96,43.097152887243773,39.781568451305439]
[8047,97,54.28966310952643,78.813899616121134]
[8048,97,82.324546408516568,78.813899616121134]
[8049,97,94.578163471535277,78.813899616121134]
[8050,98,95.483360353799313,96.823217898821412]
[8051,98,92.916802081175092,96.823217898821412]
[8052,99,93.77415136603706,96.727998423562752]
[8053,99,93.94231256123949,96.727998423562752]
[8054,100,89.884029069969955,89.021280320312073]
[8055,100,89.268226469290212,89.021280320312073]
[8056,100,86.50252469124851,89.021280320312073]
[8057,100,82.698307314604136,89.021280320312073]
[8058,101,80.577282949853114,92.975795449941415]
[8059,101,92.980589166062359,92.975795449941415]
[8060,101,104.20615848081708,92.975795449941415]
[8061,102,83.823108559075962,69.952527262961922]
[8062,102,69.771206996178663,69.952527262961922]
[8063,102,65.290857601310634,69.952527262961922]
[8064,102,52.654791456732305,69.952527262961922]
[8065,86,48.460249877185838,39.247146471266376]
[8066,86,45.695582048524685,{"$f":"VLOOKUP(B8068,$F$3:$G$122,2,FALSE)","v":39.247146471266376}]
[8067,86,42.640627640172191,39.247146471266376]
[8068,86,25.644483373346038,39.247146471266376]
[8069,87,22.626500426380858,29.579877140383346]
[8070,87,42.275553086315007,29.579877140383346]
[8071,88,56.822083406776649,55.611495709192049]
[8072,88,77.734590472196288,55.611495709192049]
[8073,89,89.082086175326566,75.492960183974958]
[8074,89,89.942635016220436,75.492960183974958]
[8075,90,91.649002781491575,82.267944222347396]
[8076,90,92.43297550428845,82.267944222347396]
[8077,91,90.734348321162429,80.039585270431076]
[8078,91,88.635753969874756,80.039585270431076]
[8079,92,83.375461038068181,69.169866661795552]
[8080,92,80.501309962602093,69.169866661795552]
[8081,92,73.62957167608738,69.169866661795552]
[8082,93,70.526104457392691,77.242134697061232]
[8083,93,81.234319311977544,77.242134697061232]
[8084,93,91.000325766432042,77.242134697061232]
[8085,94,79.784821044064145,72.967687837997147]
[8086,94,63.221743705524396,72.967687837997147]
[8087,95,62.852879043348821,59.462244704521183]
[8088,95,53.400537765256985,59.462244704521183]
[8089,86,48.944115930369463,39.247146471266376]
[8090,86,47.403423682218204,39.247146471266376]
[8091,86,41.713536937183065,39.247146471266376]
[8092,86,37.558563886524652,39.247146471266376]
[8093,87,21.046516594263291,29.579877140383346]
[8094,87,35.728688527357576,29.579877140383346]
[8095,88,39.405273623572626,55.611495709192049]
[8096,88,49.648836420940718,55.611495709192049]
[8097,89,56.191654625388118,75.492960183974958]
[8098,89,62.140358182205766,75.492960183974958]
[8099,90,64.588275062172514,82.267944222347396]
[8100,90,65.870699787705448,82.267944222347396]
[8101,91,66.276213771470296,80.039585270431076]
[8102,91,62.001630916785039,80.039585270431076]
[8103,92,58.754233572038565,69.169866661795552]
[8104,92,52.966702066991253,69.169866661795552]
[8105,92,48.524054627104199,69.169866661795552]
[8106,93,49.333992875969408,77.242134697061232]
[8107,93,57.675160931166523,77.242134697061232]
[8108,93,65.189278101679847,77.242134697061232]
[8109,94,66.124857472422462,72.967687837997147]
[8110,94,57.239008441859177,72.967687837997147]
[8111,95,57.804896221996181,59.462244704521183]
[8112,95,50.295035359608747,59.462244704521183]
[8113,86,42.36654018198773,39.247146471266376]
[8114,86,38.865046100718338,39.247146471266376]
[8115,86,32.069629065030725,39.247146471266376]
[8116,86,23.976875398990643,39.247146471266376]
[8117,87,18.925523588135349,29.579877140383346]
[8118,87,19.858488821372514,29.579877140383346]
[8119,88,23.413487458374647,55.611495709192049]
[8120,88,32.802316149473285,55.611495709192049]
[8121,89,37.703236307061815,75.492960183974958]
[8122,89,46.04642802144739,75.492960183974958]
[8123,90,51.052941589834781,82.267944222347396]
[8124,90,55.271784231064991,82.267944222347396]
[8125,91,55.324190585558746,80.039585270431076]
[8126,91,49.081968551447908,80.039585270431076]
[8127,92,45.701753420595885,69.169866661795552]
[8128,92,41.629868404490736,69.169866661795552]
[8129,92,22.21158071075169,69.169866661795552]
[8130,93,44.711993809305085,{"$f":"VLOOKUP(B8132,$F$3:$G$122,2,FALSE)","v":77.242134697061232}]
[8131,93,54.95943395611063,77.242134697061232]
[8132,93,66.068460712302439,77.242134697061232]
[8133,94,61.654670542819858,72.967687837997147]
[8134,94,56.215236049798236,72.967687837997147]
[8135,95,54.955684929844793,59.462244704521183]
[8136,95,51.416906841617717,59.462244704521183]
[8137,86,41.474881030259482,39.247146471266376]
[8138,86,41.275449409149417,39.247146471266376]
[8139,86,37.001037483163984,39.247146471266376]
[8140,86,31.8367050543511,39.247146471266376]
[8141,87,20.520649069340788,29.579877140383346]
[8142,87,45.004880633551373,29.579877140383346]
[8143,88,53.916008872620566,55.611495709192049]
[8144,88,76.898110246320456,55.611495709192049]
[8145,89,82.342056167695588,75.492960183974958]
[8146,89,86.250249380688672,75.492960183974958]
[8147,90,89.537500796029107,82.267944222347396]
[8148,90,91.221823506464105,82.267944222347396]
[8149,91,89.687309132588481,80.039585270431076]
[8150,91,86.779635025208833,80.039585270431076]
[8151,92,83.227705518591705,69.169866661795552]
[8152,92,77.62855511335232,69.169866661795552]
[8153,92,79.569577814823973,69.169866661795552]
[8154,93,81.272210206019466,77.242134697061232]
[8155,93,91.511794118406542,77.242134697061232]
[8156,93,98.260957432067443,77.242134697061232]
[8157,94,85.613397394765002,72.967687837997147]
[8158,94,74.97736968762112,72.967687837997147]
[8159,95,68.346793910394084,59.462244704521183]
[8160,95,55.975654516256768,59.462244704521183]
[8161,86,38.788036140471043,39.247146471266376]
[8162,86,35.771228635038973,39.247146471266376]
[8163,86,34.152127070483132,39.247146471266376]
[8164,86,27.613670296577578,39.247146471266376]
[8165,87,24.214683053890418,29.579877140383346]
[8166,87,37.219409059484157,29.579877140383346]
[8167,88,53.133010507079078,55.611495709192049]
[8168,88,76.225184144418549,55.611495709192049]
[8169,89,89.792063701126864,75.492960183974958]
[8170,89,97.01756959869887,75.492960183974958]
[8171,90,98.520488528611182,82.267944222347396]
[8172,90,102.42777366773585,82.267944222347396]
[8173,91,97.9992600002263,80.039585270431076]
[8174,91,94.445196627344274,80.039585270431076]
[8175,92,91.622588882414647,69.169866661795552]
[8176,92,87.404821252212102,69.169866661795552]
[8177,92,85.387611062128087,69.169866661795552]
[8178,93,84.034306341021392,77.242134697061232]
[8179,93,91.600148173719873,77.242134697061232]
[8180,93,103.64778788872241,77.242134697061232]
[8181,94,89.205330075400838,72.967687837997147]
[8182,94,74.728198826667011,72.967687837997147]
[8183,95,67.423242977484136,59.462244704521183]
[8184,95,55.386666380212787,59.462244704521183]
[8185,96,46.244913386271058,39.781568451305439]
[8186,96,43.74826028533171,39.781568451305439]
[8187,96,39.421305939403901,39.781568451305439]
[8188,96,32.469337422383106,39.781568451305439]
[8189,96,28.931994751573182,39.781568451305439]
[8190,96,43.316173818427053,39.781568451305439]
[8191,97,55.331702169857408,78.813899616121134]
[8192,97,78.606040630117278,78.813899616121134]
[8193,97,90.824024751394091,78.813899616121134]
[8194,98,92.650555986284189,{"$f":"VLOOKUP(B8196,$F$3:$G$122,2,FALSE)","v":96.823217898821412}]
[8195,98,93.23050286120251,96.823217898821412]
[8196,99,94.98402697185729,96.727998423562752]
[8197,99,91.179629641860302,96.727998423562752]
[8198,100,89.517256980904264,89.021280320312073]
[8199,100,86.026979158340353,89.021280320312073]
[8200,100,83.098937215497912,89.021280320312073]
[8201,100,81.374483755214357,89.021280320312073]
[8202,101,78.458253980789195,92.975795449941415]
[8203,101,87.46184215502322,92.975795449941415]
[8204,101,95.852271037486005,92.975795449941415]
[8205,102,81.489076222720655,69.952527262961922]
[8206,102,70.203037289443728,69.952527262961922]
[8207,102,61.737428168099299,69.952527262961922]
[8208,102,53.57680559074447,69.952527262961922]
[8209,96,46.467597721726989,39.781568451305439]
[8210,96,45.167544960712206,39.781568451305439]
[8211,96,41.437110653766268,39.781568451305439]
[8212,96,26.015505263232228,39.781568451305439]
[8213,96,19.211634266683134,39.781568451305439]
[8214,96,42.286052633941033,39.781568451305439]
[8215,97,53.267916739990937,78.813899616121134]
[8216,97,80.775175835948076,78.813899616121134]
[8217,97,92.798176460574837,78.813899616121134]
[8218,98,93.686337288916377,96.823217898821412]
[8219,98,91.168082347848369,96.823217898821412]
[8220,99,92.009296083711561,96.727998423562752]
[8221,99,92.174292439037401,96.727998423562752]
[8222,100,88.192386957618211,89.021280320312073]
[8223,100,87.58817393100388,89.021280320312073]
[8224,100,84.87452341998204,89.021280320312073]
[8225,100,81.141902459135437,89.021280320312073]
[8226,101,79.060796355435471,92.975795449941415]
[8227,101,91.230668942279934,92.975795449941415]
[8228,101,102.2449699596024,92.975795449941415]
[8229,102,82.245534635277082,69.952527262961922]
[8230,102,68.4580937189304,69.952527262961922]
[8231,102,64.062065730132275,69.952527262961922]
[8232,102,51.66381382069455,69.952527262961922]
[8233,86,47.691988660374001,39.247146471266376]
[8234,86,44.971150301752949,39.247146471266376]
[8235,86,41.964627401636868,39.247146471266376]
[8236,86,25.237930331402421,39.247146471266376]
[8237,87,22.267792768169866,29.579877140383346]
[8238,87,41.605340531947306,29.579877140383346]
[8239,88,55.92125844094366,55.611495709192049]
[8240,88,76.502230523250688,55.611495709192049]
[8241,89,87.669829488771342,75.492960183974958]
[8242,89,88.516735678186791,75.492960183974958]
[8243,90,90.196051660212945,82.267944222347396]
[8244,90,90.967595725718752,82.267944222347396]
[8245,91,89.295897611054528,80.039585270431076]
[8246,91,87.230573180041731,80.039585270431076]
[8247,92,82.053673938090597,69.169866661795552]
[8248,92,79.225088017738983,69.169866661795552]
[8249,92,72.462290358459768,69.169866661795552]
[8250,93,69.408023742481987,77.242134697061232]
[8251,93,79.946476654135992,77.242134697061232]
[8252,93,89.557658401307592,77.242134697061232]
[8253,94,78.519957906672772,72.967687837997147]
[8254,94,62.219462168155808,72.967687837997147]
[8255,95,61.856445276367722,59.462244704521183]
[8256,95,52.553956036398489,59.462244704521183]
[8257,86,48.314835178497965,39.247146471266376]
[8258,86,46.793951807428044,{"$f":"VLOOKUP(B8260,$F$3:$G$122,2,FALSE)","v":39.247146471266376}]
[8259,86,41.177220663243332,39.247146471266376]
[8260,86,37.075668631958202,39.247146471266376]
[8261,87,20.775918841398457,29.579877140383346]
[8262,87,35.26932021407832,29.579877140383346]
[8263,88,38.898634985971711,55.611495709192049]
[8264,88,49.010494987683195,55.611495709192049]
[8265,89,55.469191342531538,75.492960183974958]
[8266,89,61.341411657681888,75.492960183974958]
[8267,90,63.757855357564317,82.267944222347396]
[8268,90,65.023791784551818,82.267944222347396]
[8269,91,65.424092023216829,80.039585270431076]
[8270,91,61.204468026437191,80.039585270431076]
[8271,92,57.998822884256491,69.169866661795552]
[8272,92,52.285702411214686,69.169866661795552]
[8273,92,47.900174657078004,69.169866661795552]
[8274,93,48.699699426395625,77.242134697061232]
[8275,93,56.933624018196078,77.242134697061232]
[8276,93,64.351131224205417,77.242134697061232]
[8277,94,65.274681731443934,72.967687837997147]
[8278,94,56.503079197168866,72.967687837997147]
[8279,95,57.061691285815876,59.462244704521183]
[8280,95,49.648385664035025,59.462244704521183]
[8281,86,41.949866063680055,39.247146471266376]
[8282,86,38.482809110219669,39.247146471266376]
[8283,86,31.754224872058483,39.247146471266376]
[8284,86,23.74106328467278,39.247146471266376]
[8285,87,18.739391422970957,29.579877140383346]
[8286,87,19.66318096085276,29.579877140383346]
[8287,88,23.183216253756111,55.611495709192049]
[8288,88,32.479705992936545,55.611495709192049]
[8289,89,37.332425693825343,75.492960183974958]
[8290,89,45.593562276105935,75.492960183974958]
[8291,90,50.550836878603214,82.267944222347396]
[8292,90,54.728187282556966,82.267944222347396]
[8293,91,54.780078221549289,80.039585270431076]
[8294,91,48.599248322627474,80.039585270431076]
[8295,92,45.252277543409726,69.169866661795552]
[8296,92,41.220439439128107,69.169866661795552]
[8297,92,21.993130236176306,69.169866661795552]
[8298,93,44.272252199104152,77.242134697061232]
[8299,93,54.418908966626425,77.242134697061232]
[8300,93,65.418678655589957,77.242134697061232]
[8301,94,61.048298028622881,72.967687837997147]
[8302,94,55.6623602705656,72.967687837997147]
[8303,95,54.41519681196273,59.462244704521183]
[8304,95,50.911222539045205,59.462244704521183]
[8305,86,41.193236606402287,39.247146471266376]
[8306,86,40.995159270166141,39.247146471266376]
[8307,86,36.74977369107593,39.247146471266376]
[8308,86,31.620510812684632,39.247146471266376]
[8309,87,20.381299028044868,29.579877140383346]
[8310,87,44.69926496059621,29.579877140383346]
[8311,88,53.549880197181338,55.611495709192049]
[8312,88,76.375916489086279,55.611495709192049]
[8313,89,81.782894082296309,75.492960183974958]
[8314,89,85.664547838190202,75.492960183974958]
[8315,90,88.929476440108431,82.267944222347396]
[8316,90,90.602361381764197,82.267944222347396]
[8317,91,89.078267469768051,80.039585270431076]
[8318,91,86.190338571497961,80.039585270431076]
[8319,92,82.662529233875233,69.169866661795552]
[8320,92,77.101401107441731,69.169866661795552]
[8321,92,79.029242861629868,69.169866661795552]
[8322,93,80.720313148077935,{"$f":"VLOOKUP(B8324,$F$3:$G$122,2,FALSE)","v":77.242134697061232}]
[8323,93,90.890362883635504,77.242134697061232]
[8324,93,97.593694499512679,77.242134697061232]
[8325,94,85.03202053762314,72.967687837997147]
[8326,94,74.468219147259319,72.967687837997147]
[8327,95,67.882669772718202,59.462244704521183]
[8328,95,55.595539358005723,59.462244704521183]
[8329,86,38.643427043861251,39.247146471266376]
[8330,86,35.637866764414696,39.247146471266376]
[8331,86,34.02480151512168,39.247146471266376]
[8332,86,27.51072133826457,39.247146471266376]
[8333,87,24.124406159529631,29.579877140383346]
[8334,87,37.080648099765781,29.579877140383346]
[8335,88,52.934920647057247,55.611495709192049]
[8336,88,75.941002316338356,55.611495709192049]
[8337,89,89.457301993482645,75.492960183974958]
[8338,89,96.655869845606517,75.492960183974958]
[8339,90,98.153185610977445,82.267944222347396]
[8340,90,102.04590365595691,82.267944222347396]
[8341,91,97.633900320614302,80.039585270431076]
[8342,91,94.093087164675083,80.039585270431076]
[8343,92,91.281002632485567,69.169866661795552]
[8344,92,87.078959633571529,69.169866661795552]
[8345,92,85.069269982609526,69.169866661795552]
[8346,93,83.72101063612422,77.242134697061232]
[8347,93,91.258645586974978,77.242134697061232]
[8348,93,103.2613694343848,77.242134697061232]
[8349,94,88.872755821105898,72.967687837997147]
[8350,94,74.449598041505666,72.967687837997147]
[8351,95,67.171876442138881,59.462244704521183]
[8352,95,55.180174467075851,59.462244704521183]
[8353,96,46.2147941453782,39.781568451305439]
[8354,96,43.719767110759804,39.781568451305439]
[8355,96,39.395630903536009,39.781568451305439]
[8356,96,32.44819019290756,39.781568451305439]
[8357,96,28.913151387933272,39.781568451305439]
[8358,96,43.287962061105837,39.781568451305439]
[8359,97,55.295664717419214,78.813899616121134]
[8360,97,78.554844636871564,78.813899616121134]
[8361,97,90.764871203900185,78.813899616121134]
[8362,98,92.590212821809004,96.823217898821412]
[8363,98,93.169781978220541,96.823217898821412]
[8364,99,94.922164021321677,96.727998423562752]
[8365,99,91.120244489448694,96.727998423562752]
[8366,100,89.458954529247464,89.021280320312073]
[8367,100,85.970949919255986,89.021280320312073]
[8368,100,83.044815005623107,89.021280320312073]
[8369,100,81.321484679223374,89.021280320312073]
[8370,101,78.407154240760661,92.975795449941415]
[8371,101,87.404878391878142,92.975795449941415]
[8372,101,95.789842600927116,92.975795449941415]
[8373,102,81.436002512832005,69.952527262961922]
[8374,102,70.157314159337076,69.952527262961922]
[8375,102,61.697218676180285,69.952527262961922]
[8376,102,53.541911099746535,69.952527262961922]
[8377,96,46.58079064797564,39.781568451305439]
[8378,96,45.27757101835752,39.781568451305439]
[8379,96,41.538049545384411,39.781568451305439]
[8380,96,26.078877834937295,39.781568451305439]
[8381,96,19.258432922247113,39.781568451305439]
[8382,96,42.38905950909313,39.781568451305439]
[8383,97,53.397674929925287,78.813899616121134]
[8384,97,80.971940441165543,78.813899616121134]
[8385,97,93.024228541145362,78.813899616121134]
[8386,98,93.914552888327322,{"$f":"VLOOKUP(B8388,$F$3:$G$122,2,FALSE)","v":96.823217898821412}]
[8387,98,91.390163594295188,96.823217898821412]
[8388,99,92.23342648804541,96.727998423562752]
[8389,99,92.398824766887756,96.727998423562752]
[8390,100,88.407219547251259,89.021280320312073]
[8391,100,87.801534685553719,89.021280320312073]
[8392,100,85.081273846965601,89.021280320312073]
[8393,100,81.339560393503689,89.021280320312073]
[8394,101,79.253384811258229,92.975795449941415]
[8395,101,91.452902646786029,92.975795449941415]
[8396,101,102.49403399371151,92.975795449941415]
[8397,102,82.4458809667574,69.952527262961922]
[8398,102,68.624854479834269,69.952527262961922]
[8399,102,64.218117969478769,69.952527262961922]
[8400,102,51.789664489854388,69.952527262961922]
[8401,86,47.955702611543323,39.247146471266376]
[8402,86,45.21981931447035,39.247146471266376]
[8403,86,42.196671776641693,39.247146471266376]
[8404,86,25.377484049206604,39.247146471266376]
[8405,87,22.390923041820894,29.579877140383346]
[8406,87,41.835398221920322,29.579877140383346]
[8407,88,56.230476329147905,55.611495709192049]
[8408,88,76.925251371222046,55.611495709192049]
[8409,89,88.154601832769501,75.492960183974958]
[8410,89,89.006191009490678,75.492960183974958]
[8411,90,90.694792807967801,82.267944222347396]
[8412,90,91.470603144177133,82.267944222347396]
[8413,91,89.789661336235227,80.039585270431076]
[8414,91,87.71291664615066,80.039585270431076]
[8415,92,82.507391620451614,69.169866661795552]
[8416,92,79.663164969020599,69.169866661795552]
[8417,92,72.862972264120899,69.169866661795552]
[8418,93,69.791817010452618,77.242134697061232]
[8419,93,80.388542540519225,77.242134697061232]
[8420,93,90.052869538814718,77.242134697061232]
[8421,94,78.95413582474356,72.967687837997147]
[8422,94,62.563506119118728,72.967687837997147]
[8423,95,62.198481917055609,59.462244704521183]
[8424,95,52.844554348300129,59.462244704521183]
[8425,86,48.731566429689423,39.247146471266376]
[8426,86,47.197564942252122,39.247146471266376]
[8427,86,41.532387655414233,39.247146471266376]
[8428,86,37.395458396751444,39.247146471266376]
[8429,87,20.955117934626063,29.579877140383346]
[8430,87,35.573529633135308,29.579877140383346]
[8431,88,39.234148431634004,55.611495709192049]
[8432,88,49.43322653219272,55.611495709192049]
[8433,89,55.947631254938379,75.492960183974958]
[8434,89,61.870501390380234,75.492960183974958]
[8435,90,64.307787707292505,82.267944222347396]
[8436,90,65.584643249893233,82.267944222347396]
[8437,91,65.98839620900516,80.039585270431076]
[8438,91,61.732376575538801,80.039585270431076]
[8439,92,58.499081695838747,69.169866661795552]
[8440,92,52.736683690665402,69.169866661795552]
[8441,92,48.313329325688294,69.169866661795552]
[8442,93,49.119750257566452,77.242134697061232]
[8443,93,57.424695141264415,77.242134697061232]
[8444,93,64.90618077227019,77.242134697061232]
[8445,94,65.837697204612184,72.967687837997147]
[8446,94,56.99043673037815,72.967687837997147]
[8447,95,57.553867030942321,59.462244704521183]
[8448,95,50.076619224202844,59.462244704521183]
[8449,86,42.441487675505392,39.247146471266376]
[8450,86,38.933799361621524,{"$f":"VLOOKUP(B8452,$F$3:$G$122,2,FALSE)","v":39.247146471266376}]
[8451,86,32.12636105933899,39.247146471266376]
[8452,86,24.019291105012911,39.247146471266376]
[8453,87,18.959003323566829,29.579877140383346]
[8454,87,19.893618996171238,29.579877140383346]
[8455,88,23.454906516715852,55.611495709192049]
[8456,88,32.860344285979522,55.611495709192049]
[8457,89,37.769934296715462,75.492960183974958]
[8458,89,46.127885330701936,75.492960183974958]
[8459,90,51.143255549682017,82.267944222347396]
[8460,90,55.369561431482431,82.267944222347396]
[8461,91,55.422060494158096,80.039585270431076]
[8462,91,49.168795809563456,80.039585270431076]
[8463,92,45.782600991663124,69.169866661795552]
[8464,92,41.703512706786483,69.169866661795552]
[8465,92,22.250873565305906,69.169866661795552]
[8466,93,44.791090470297242,77.242134697061232]
[8467,93,55.056658600900285,77.242134697061232]
[8468,93,66.185337509645038,77.242134697061232]
[8469,94,61.763739232427113,72.967687837997147]
[8470,94,56.314682240620968,72.967687837997147]
[8471,95,55.052902942511068,59.462244704521183]
[8472,95,51.507864665307309,59.462244704521183]
[8473,86,41.803194651667063,39.247146471266376]
[8474,86,41.602184337234114,39.247146471266376]
[8475,86,37.293936324828465,39.247146471266376]
[8476,86,32.088723231870475,39.247146471266376]
[8477,87,20.683089766992794,29.579877140383346]
[8478,87,45.361137601016502,29.579877140383346]
[8479,88,54.342806001029409,55.611495709192049]
[8480,88,77.506832837614908,55.611495709192049]
[8481,89,82.993872833181342,75.492960183974958]
[8482,89,86.933003158832619,75.492960183974958]
[8483,90,90.246276334569686,82.267944222347396]
[8484,90,91.943932081168867,82.267944222347396]
[8485,91,90.397270548370201,80.039585270431076]
[8486,91,87.46657940049873,80.039585270431076]
[8487,92,83.886532951521929,69.169866661795552]
[8488,92,78.243059879147978,69.169866661795552]
[8489,92,80.19944764440099,69.169866661795552]
[8490,93,81.915558010515113,77.242134697061232]
[8491,93,92.236198089730735,77.242134697061232]
[8492,93,99.038787530096201,77.242134697061232]
[8493,94,86.291109876186567,72.967687837997147]
[8494,94,75.570887767824857,72.967687837997147]
[8495,95,68.887824598437462,59.462244704521183]
[8496,95,56.418755723261647,59.462244704521183]
[8497,86,39.334570971638868,39.247146471266376]
[8498,86,36.275255761648715,39.247146471266376]
[8499,86,34.633340580104807,39.247146471266376]
[8500,86,28.002755028240937,39.247146471266376]
[8501,87,24.555875056154019,29.579877140383346]
[8502,87,37.743841473974634,29.579877140383346]
[8503,88,53.88167024385357,55.611495709192049]
[8504,88,77.299219395809857,55.611495709192049]
[8505,89,91.057260273528257,75.492960183974958]
[8506,89,98.384575673172762,75.492960183974958]
[8507,90,99.908671172598531,82.267944222347396]
[8508,90,103.87101110790061,82.267944222347396]
[8509,91,99.380098381030805,80.039585270431076]
[8510,91,95.775957210489125,80.039585270431076]
[8511,92,92.913578092712953,69.169866661795552]
[8512,92,88.636380876765742,69.169866661795552]
[8513,92,86.590747602133831,69.169866661795552]
[8514,93,85.21837441969565,{"$f":"VLOOKUP(B8516,$F$3:$G$122,2,FALSE)","v":77.242134697061232}]
[8515,93,92.890821187836096,77.242134697061232]
[8516,93,105.10821568789049,77.242134697061232]
[8517,94,90.462259398542301,72.967687837997147]
[8518,94,75.781141114884434,72.967687837997147]
[8519,95,68.373256290456126,59.462244704521183]
[8520,95,56.167080790713811,59.462244704521183]
[8521,96,47.18294738720121,39.781568451305439]
[8522,96,44.635652057187997,39.781568451305439]
[8523,96,40.220929565538938,39.781568451305439]
[8524,96,33.12794699173115,39.781568451305439]
[8525,96,29.518852695603098,39.781568451305439]
[8526,96,44.194801128040481,39.781568451305439]
[8527,97,56.454053022396273,78.813899616121134]
[8528,97,80.200489260038111,78.813899616121134]
[8529,97,92.666303546610138,78.813899616121134]
[8530,98,94.529884227085248,96.823217898821412]
[8531,98,95.121594771725739,96.823217898821412]
[8532,99,96.910687448019416,96.727998423562752]
[8533,99,93.029121543420999,96.727998423562752]
[8534,100,91.333029237124322,89.021280320312073]
[8535,100,87.771954454840539,89.021280320312073]
[8536,100,84.784519971339748,89.021280320312073]
[8537,100,83.025087615858425,89.021280320312073]
[8538,101,80.049704899355362,92.975795449941415]
[8539,101,89.235922280119837,92.975795449941415]
[8540,101,97.796543017163401,92.975795449941415]
[8541,102,83.142004482372116,69.952527262961922]
[8542,102,71.627039003881279,69.952527262961922]
[8543,102,62.989713068450158,69.952527262961922]
[8544,102,54.663560038429594,69.952527262961922]
[8545,96,47.698484105104022,39.781568451305439]
[8546,96,46.36399407339605,39.781568451305439]
[8547,96,42.534743795372805,39.781568451305439]
[8548,96,26.704633446207204,39.781568451305439]
[8549,96,19.720533804870858,39.781568451305439]
[8550,96,43.406173512700072,39.781568451305439]
[8551,97,54.678937679329465,78.813899616121134]
[8552,97,82.914840224168969,78.813899616121134]
[8553,97,95.256319713246839,78.813899616121134]
[8554,98,96.168007152032104,96.823217898821412]
[8555,98,93.583045820515522,96.823217898821412]
[8556,99,94.446542579038592,96.727998423562752]
[8557,99,94.615909544790512,96.727998423562752]
[8558,100,90.528526838869112,89.021280320312073]
[8559,100,89.908308732939673,89.021280320312073]
[8560,100,87.12277597219915,89.021280320312073]
[8561,100,83.291281117708891,89.021280320312073]
[8562,101,81.155048317321331,92.975795449941415]
[8563,101,93.647290279580602,92.975795449941415]
[8564,101,104.95335058314436,92.975795449941415]
[8565,102,84.424147553516903,69.952527262961922]
[8566,102,70.271489278890243,69.952527262961922]
[8567,102,65.759014319350058,69.952527262961922]
[8568,102,53.032343464211813,69.952527262961922]
[8569,86,49.251391730693825,39.247146471266376]
[8570,86,46.441589086676913,39.247146471266376]
[8571,86,43.336760765186703,39.247146471266376]
[8572,86,26.063144526758602,39.247146471266376]
[8573,87,22.995891247333958,29.579877140383346]
[8574,87,42.965726156234069,29.579877140383346]
[8575,88,57.749737071389426,55.611495709192049]
[8576,88,79.003653016110434,55.611495709192049]
[8577,89,90.536403207321172,75.492960183974958]
[8578,89,91.411001010132154,{"$f":"VLOOKUP(B8580,$F$3:$G$122,2,FALSE)","v":75.492960183974958}]
[8579,90,93.1452262247562,82.267944222347396]
[8580,90,93.941997759663721,82.267944222347396]
[8581,91,92.215639496704611,80.039585270431076]
[8582,91,90.082784368201629,80.039585270431076]
[8583,92,84.736614085151274,69.169866661795552]
[8584,92,81.815540816447054,69.169866661795552]
[8585,92,74.831617393070829,69.169866661795552]
[8586,93,71.677484261304656,77.242134697061232]
[8587,93,82.560516971127328,77.242134697061232]
[8588,93,92.485959178953493,77.242134697061232]
[8589,94,81.087354798276579,72.967687837997147]
[8590,94,64.253875558413228,72.967687837997147]
[8591,95,63.878988965412553,59.462244704521183]
[8592,95,54.272332700961961,59.462244704521183]
[8593,86,50.194309683943807,39.247146471266376]
[8594,86,48.614263086690421,39.247146471266376]
[8595,86,42.779037913695753,39.247146471266376]
[8596,86,38.517933180904343,39.247146471266376]
[8597,87,21.584113873946102,29.579877140383346]
[8598,87,36.64131678452852,29.579877140383346]
[8599,88,40.411813960559499,55.611495709192049]
[8600,88,50.917031054469291,55.611495709192049]
[8601,89,57.626974362608614,75.492960183974958]
[8602,89,63.72762738030076,75.492960183974958]
[8603,90,66.23807211135707,82.267944222347396]
[8604,90,67.553254183729635,82.267944222347396]
[8605,91,67.969126328835273,80.039585270431076]
[8606,91,63.585356564089864,80.039585270431076]
[8607,92,60.255010006785305,69.169866661795552]
[8608,92,54.319645905343386,69.169866661795552]
[8609,92,49.76351863293506,69.169866661795552]
[8610,93,50.594145369481872,77.242134697061232]
[8611,93,59.148374300371529,77.242134697061232]
[8612,93,66.854426745874093,77.242134697061232]
[8613,94,67.813903891927225,72.967687837997147]
[8614,94,58.701081041487022,72.967687837997147]
[8615,95,59.281423457375496,59.462244704521183]
[8616,95,51.579736040112159,59.462244704521183]
[8617,86,43.841405017463735,39.247146471266376]
[8618,86,40.218016854923881,39.247146471266376]
[8619,86,33.186037626872228,39.247146471266376]
[8620,86,24.81155886001104,39.247146471266376]
[8621,87,19.584359289922951,29.579877140383346]
[8622,87,20.549802927327946,29.579877140383346]
[8623,88,24.228558247253854,55.611495709192049]
[8624,88,33.944231028602204,55.611495709192049]
[8625,89,39.015762115732159,75.492960183974958]
[8626,89,47.649397185235344,75.492960183974958]
[8627,90,52.830197603071149,82.267944222347396]
[8628,90,57.195906677841343,82.267944222347396]
[8629,91,57.250137403385146,80.039585270431076]
[8630,91,50.790611012255852,80.039585270431076]
[8631,92,47.292723765356044,69.169866661795552]
[8632,92,43.079088207465844,69.169866661795552]
[8633,92,22.984810698140475,69.169866661795552]
[8634,93,46.268508622884355,77.242134697061232]
[8635,93,56.872682858932194,77.242134697061232]
[8636,93,68.368437274467666,77.242134697061232]
[8637,94,63.800994154232534,72.967687837997147]
[8638,94,58.172201959964305,72.967687837997147]
[8639,95,56.868803321489771,59.462244704521183]
[8640,95,53.206833220403979,59.462244704521183]
[8641,86,43.304755166053809,39.247146471266376]
[8642,86,43.096524610353377,{"$f":"VLOOKUP(B8644,$F$3:$G$122,2,FALSE)","v":39.247146471266376}]
[8643,86,38.633525384421617,39.247146471266376]
[8644,86,33.24134231190866,39.247146471266376]
[8645,87,21.426021286184582,29.579877140383346]
[8646,87,46.99049855481227,29.579877140383346]
[8647,88,56.294786284164807,55.611495709192049]
[8648,88,80.290859291906372,55.611495709192049]
[8649,89,85.974992420350745,75.492960183974958]
[8650,89,90.055615342615951,75.492960183974958]
[8651,90,93.4879004794129,82.267944222347396]
[8652,90,95.246535604678158,82.267944222347396]
[8653,91,93.64431836839502,80.039585270431076]
[8654,91,90.608357512211171,80.039585270431076]
[8655,92,86.899716671531834,69.169866661795552]
[8656,92,81.053531428471103,69.169866661795552]
[8657,92,83.080192163137383,69.169866661795552]
[8658,93,84.857944793331058,77.242134697061232]
[8659,93,95.549299736692333,77.242134697061232]
[8660,93,102.59623652381804,77.242134697061232]
[8661,94,89.39066541045537,72.967687837997147]
[8662,94,78.28537554931772,72.967687837997147]
[8663,95,71.362258387551933,59.462244704521183]
[8664,95,58.44530361202456,59.462244704521183]
[8665,86,40.861467923803886,39.247146471266376]
[8666,86,37.683395626741039,39.247146471266376]
[8667,86,35.977744265432499,39.247146471266376]
[8668,86,29.089771366506675,39.247146471266376]
[8669,87,25.509089743763571,29.579877140383346]
[8670,87,39.208989182110685,29.579877140383346]
[8671,88,55.973259297468012,55.611495709192049]
[8672,88,80.299835382833024,55.611495709192049]
[8673,89,94.591938541263644,75.492960183974958]
[8674,89,102.20368708139763,75.492960183974958]
[8675,90,103.78694521347444,82.267944222347396]
[8676,90,107.90309602356696,82.267944222347396]
[8677,91,103.23785418147583,80.039585270431076]
[8678,91,99.493806764786427,80.039585270431076]
[8679,92,96.520315263096762,69.169866661795552]
[8680,92,92.077084981794712,69.169866661795552]
[8681,92,89.952043920700987,69.169866661795552]
[8682,93,88.526397691735653,77.242134697061232]
[8683,93,96.496674976303211,77.242134697061232]
[8684,93,109.18832664923949,77.242134697061232]
[8685,94,93.973840807710033,72.967687837997147]
[8686,94,78.722828046803272,72.967687837997147]
[8687,95,71.027382522435857,59.462244704521183]
[8688,95,58.347385351126668,59.462244704521183]
[8689,96,49.149373111740097,39.781568451305439]
[8690,96,46.495915124616261,39.781568451305439]
[8691,96,41.897201925412681,39.781568451305439]
[8692,96,34.508607818853861,39.781568451305439]
[8693,96,30.749098674582648,39.781568451305439]
[8694,96,46.036691019230979,39.781568451305439]
[8695,97,58.80686708478855,78.813899616121134]
[8696,97,83.542974499616918,78.813899616121134]
[8697,97,96.528321779523921,78.813899616121134]
[8698,98,98.469570202112877,96.823217898821412]
[8699,98,99.085941241718075,96.823217898821412]
[8700,99,100.94959725195054,96.727998423562752]
[8701,99,96.906260803777172,96.727998423562752]
[8702,100,95.139481104534823,89.021280320312073]
[8703,100,91.429992765093957,89.021280320312073]
[8704,100,88.318052112647806,89.021280320312073]
[8705,100,86.485292565119508,89.021280320312073]
[8706,101,83.385905956573296,{"$f":"VLOOKUP(B8708,$F$3:$G$122,2,FALSE)","v":92.975795449941415}]
[8707,101,92.954973819748318,92.975795449941415]
[8708,101,101.8723722861948,92.975795449941415]
[8709,102,86.60708213134096,69.952527262961922]
[8710,102,74.612211823076308,69.952527262961922]
[8711,102,65.61491134490889,69.952527262961922]
[8712,102,56.941752406793633,69.952527262961922]
[8713,96,49.820678093112129,39.781568451305439]
[8714,96,48.426814125827789,39.781568451305439]
[8715,96,44.427193403731465,39.781568451305439]
[8716,96,27.892772097041963,39.781568451305439]
[8717,96,20.597936914554371,39.781568451305439]
[8718,96,45.337394644761837,39.781568451305439]
[8719,97,57.111704988203478,78.813899616121134]
[8720,97,86.603875184958326,78.813899616121134]
[8721,97,99.494449976879253,78.813899616121134]
[8722,98,100.44670008003074,96.823217898821412]
[8723,98,97.746729026509371,96.823217898821412]
[8724,99,98.648644356691108,96.727998423562752]
[8725,99,98.825546772745696,96.727998423562752]
[8726,100,94.556308832471743,89.021280320312073]
[8727,100,93.908496073161771,89.021280320312073]
[8728,100,90.999029795682702,89.021280320312073,null,null,null,null,null,null,null,null,null,null,1349,{"$f":"O8730/24","v":56.208333333333336}]
[8729,100,86.997064631751044,89.021280320312073,null,null,null,null,null,null,null,null,null,null,2857,{"$f":"(O8731-O8730)/24","v":62.833333333333336}]
[8730,101,84.765786873624819,92.975795449941415,null,null,null,null,null,null,null,null,null,null,4341,{"$f":"(O8732-O8731)/24","v":61.833333333333336}]
[8731,101,97.813831840663696,92.975795449941415,null,null,null,null,null,null,null,null,null,null,5853,{"$f":"(O8733-O8732)/24","v":63}]
[8732,101,109.62291972790098,92.975795449941415,null,null,null,null,null,null,null,null,null,null,7228,{"$f":"(O8734-O8733)/24","v":57.291666666666664}]
[8733,102,88.180334395555604,69.952527262961922]
[8734,102,73.397998116098336,69.952527262961922]
[8735,102,68.684754779746186,69.952527262961922]
[8736,102,55.391850743766824,69.952527262961922]
[8737,1,51.579056017825472,49.666295767382252]
[8738,1,48.636459618372605,49.666295767382252]
[8739,1,45.384894367271869,49.666295767382252]
[8740,1,27.294911764058398,49.666295767382252]
[8741,2,24.082697384709046,42.734448810669306]
[8742,2,44.996324334888534,42.734448810669306]
[8743,3,60.479040667668173,57.396518808760078]
[8744,3,82.73743545791578,57.396518808760078]
[8745,4,94.81523361242624,78.59916545931614]
[8746,4,95.731165680111175,78.59916545931614]
[8747,5,97.547351910578115,84.481101727651378]
[8748,5,98.381779572178417,84.481101727651378]
[8749,6,96.573832092462595,79.254738953433161]
[8750,6,94.340176346194596,79.254738953433161]
[8751,7,88.741341332189521,67.845992637923729]
[8752,7,85.682215560018264,67.845992637923729]
[8753,7,78.368225745309502,67.845992637923729]
[8754,8,75.065025495038029,84.125777406658472]
[8755,8,86.462399945960215,84.125777406658472]
[8756,8,96.85692732172383,84.125777406658472]
[8757,9,84.919614827271772,68.764662401462914]
[8758,9,67.290570486039243,68.764662401462914]
[8759,10,66.897966421438511,60.961279267706196]
[8760,10,56.837291094383929,60.961279267706196]